Workbook
Name ffjor: Resultat!$F$6
Name ffjor: #REF!
Name fjor: Resultat!#REF!
Name fjor: #REF!
Name note_1: 'Noter '!$6:$82
Name note_10: [1]Noter!#REF!
Name note_11: [1]Noter!#REF!
Name note_12: [1]Noter!#REF!
Name note_13: [1]Noter!#REF!
Name note_14: 'Noter '!$93:$124
Name note_15: 'Noter '!#REF!
Name note_16: [1]Noter!#REF!
Name note_17: [1]Noter!#REF!
Name note_18: [1]Noter!#REF!
Name note_19: 'Noter '!$127:$140
Name note_2: [1]Noter!#REF!
Name note_20: [1]Noter!#REF!
Name note_21: [1]Noter!#REF!
Name note_22: [1]Noter!#REF!
Name note_23: [1]Noter!#REF!
Name note_24: [1]Noter!#REF!
Name note_25: [1]Noter!#REF!
Name note_3: [1]Noter!#REF!
Name note_4: 'Noter '!$85:$92
Name note_5: [1]Noter!#REF!
Name note_6: [1]Noter!#REF!
Name note_7: [1]Noter!#REF!
Name note_8: [1]Noter!#REF!
Name note_9: [1]Noter!#REF!
Name områdebal: #REF!
Name områderes: Resultat!$A$1:$E$32
Name områderes: #REF!
Name text_1: 'Noter '!$A$6
Name text_10: [1]Noter!#REF!
Name text_11: [1]Noter!#REF!
Name text_12: [1]Noter!#REF!
Name text_13: [1]Noter!#REF!
Name text_14: 'Noter '!#REF!
Name text_15: 'Noter '!#REF!
Name text_16: [1]Noter!#REF!
Name text_17: [1]Noter!#REF!
Name text_18: [1]Noter!#REF!
Name text_19: [1]Noter!#REF!
Name text_2: [1]Noter!#REF!
Name text_20: [1]Noter!#REF!
Name text_21: [1]Noter!#REF!
Name text_22: [1]Noter!#REF!
Name text_23: [1]Noter!#REF!
Name text_24: [1]Noter!#REF!
Name text_25: [1]Noter!#REF!
Name text_3: [1]Noter!#REF!
Name text_4: 'Noter '!#REF!
Name text_5: [1]Noter!#REF!
Name text_6: [1]Noter!#REF!
Name text_7: [1]Noter!#REF!
Name text_8: [1]Noter!#REF!
Name text_9: [1]Noter!#REF!
Name år: Resultat!#REF!
Name år: #REF!
Name åår: Resultat!#REF!

Sheet Forside
B10: Årsregnskap
B12: Siggerud IL
B22: 2021

Sheet Resultat
A1: =+Forside!B12 -> Siggerud IL
A3: Resultatregnskap
A6: DRIFTSINNTEKTER OG DRIFTSKOSTNADER | B6: NOTE | C6: =+Forside!B22 -> 2021 | E6: =+C6-1 -> 2020
A8: Driftsinntekter
A9: Sponsor- og salgsinntekter | B9: 2 | C9: 155837 | E9: 130925
A10: Offentlige tilskudd og annen støtte | B10: 3 | C10: 335446 | E10: 644041
A11: Medlemskontigent og treningsavgift | B11: 4 | C11: 258829 | E11: 280880
A12: Andre inntekter | B12: 4 | C12: 271127 | E12: 247975
A13: Sum driftsinntekter | C13: =SUM(C9:C12) -> 1021239 | E13: =SUM(E9:E12) -> 1303821
A15: Driftskostnader
A16: Honorar | B16: 5 | C16: 156435 | E16: 183872
A17: Varekostnad | B17: 6 | C17: 28996 | E17: 42243
A18: Andre driftskostnader | B18: 7 | C18: 751574 | E18: 752721
A19: Sum driftskostnader | C19: =SUM(C16:C18) -> 937005 | E19: =SUM(E16:E18) -> 978836
A21: Driftsresultat | C21: =C13-C19 -> 84234 | E21: =E13-E19 -> 324985
A23: Finansposter
A24: Finansinntekter | C24: 6231 | E24: 9517
A25: Finanskostnader | C25: 154 | E25: 239
A26: Sum finansposter | C26: =C24-C25 -> 6077 | E26: =E24-E25 -> 9278
A28: ÅRSRESULTAT | C28: =+C21+C26 -> 90311 | E28: =+E21+E26 -> 334263
A31: Disponering av årets resultat
A32: Til (fra) egenkapital | C32: 0 | E32: 0
A33: Avsetning til annet | C33: 0 | E33: 0
A34: Sum disponering | C34: =+C32+C33 -> 0 | E34: =+E32+E33 -> 0

Sheet Balanse
B1: =+Forside!B12 -> Siggerud IL
B3: Balanse
B6: EIENDELER | D6: NOTE | E6: =+Resultat!C6 -> 2021 | G6: =+Resultat!E6 -> 2020
B8: Anleggsmidler | E8: 173755 | G8: 173755
B9: Varige driftsmidler
B10: Inventar og utstyr | E10: 0 | G10: 0
B11: Sum varige driftsmidler | E11: =SUM(E8:E10) -> 173755 | G11: =SUM(G8) -> 173755
B13: Finansielle anleggsmidler
B14: Investeringer i aksjer og andeler | E14: 0 | G14: 0
B15: Sum finansielle anleggsmidler | E15: =SUM(E14) -> 0 | G15: =SUM(G14) -> 0
B17: Sum anleggsmider | E17: =+E15+E11 -> 173755 | G17: =+G15+G11 -> 173755
B20: Omløpsmidler
B21: Varer
B22: Varelager | E22: 9833 | G22: 5781
B23: Sum varelager | E23: =SUM(E20:E22) -> 9833 | G23: =SUM(G20:G22) -> 5781
B25: Fordringer
B26: Lagkasser | E26: 198423 | G26: 163651
B27: Kundefordringer | D27: 8 | E27: 30000 | G27: 10000
B28: Andre kortsiktige fordringer | D28: 9 | E28: 90200 | G28: 73184
B29: Sum fordringer | E29: =SUM(E26:E28) -> 318623 | G29: =SUM(G26:G28) -> 246835
B31: Bankinnskudd, kontanter o.l. | E31: 3209104 | G31: 3098299
B33: Sum omløpsmidler | E33: =+E31+E29+E23 -> 3537560 | G33: =+G31+G29+G23 -> 3350915
B36: SUM EIENDELER | E36: =+E17+E33 -> 3711315 | G36: =+G17+G33 -> 3524670
B38: EGENKAPITAL OG GJELD | D38: NOTE | E38: =+E6 -> 2021 | G38: =+G6 -> 2020
B40: Egenkapital med selvpålagte restriksjoner
B41: Ingen | E41: 0 | G41: 0
B42: Sum egenkapital med selvpålagte restriksjoner | E42: =SUM(E41:E41) -> 0 | G42: =SUM(G41:G41) -> 0
B44: Annen egenkapital
B45: Egenkapital | D45: 10 | E45: 2969866 | G45: 2965600
B46: Årsresultat | E46: 90311
B47: Sum annen egenkapital | E47: =SUM(E45:E46) -> 3060177 | G47: =SUM(G45:G46) -> 2965600
B49: Sum egenkapital | E49: =E47+E42 -> 3060177 | G49: =G47+G42 -> 2965600
B52: Kortsiktig gjeld
B53: Leverandørgjeld | E53: 44838 | G53: 66536
B54: Lagkasser | E54: 198423 | G54: 163651
B55: Annen kortsiktig gjeld | E55: 407877 | G55: 328883
B56: Sum kortsiktig gjeld | E56: =SUM(E53:E55) -> 651138 | G56: =SUM(G53:G55) -> 559070
B58: Sum gjeld | E58: =SUM(E56) -> 651138 | G58: =SUM(G56) -> 559070
B61: SUM EGENKAPITAL OG GJELD | E61: =E49+E58 -> 3711315 | G61: =G49+G58 -> 3524670
C64: Siggerud IL 20.3.2022
...

Sheet Noter 
A1: =+Forside!B12 -> Siggerud IL
A3: Noter til regnskapet
A6: Note 1 | B6: Regnskapsprinsipper
B7: Årsregnskapet er satt opp i samsvar med Regnskaps- og revisjonsbestemmelsene for små
B8: organisasjonsledd tilknyttet NIF.
B10: Hovedregel for vurdering og klassifisering av eiendeler og gjeld
B11: Regnskapet er ført etter regnskapsprinsippet. Dette innebærer at inntekter er registrert i den periode de er
B12: inntjent og utgifter er registrert i den periode de er påløpt.
B14: Eiendeler bestemt til varig eie eller bruk, er klassifisert som anleggsmidler. Andre eiendeler er klassifisert
B15: som omløpsmidler. Fordringer som skal tilbakebetales innen et år er klassifisert som omløpsmidler.
B16: Ved klassfisering av kortsiktig og langsiktig gjeld er tilvsvarende kriterier lagt til grunn.
B18: Fordringer
B19: Kundefordringer og andre fordringer er oppført i balansen til pålydende etter fradrag for avsetning til
B20: forventet tap. Avsetning til tap gjøres på grunnlag av individuelle vurderinger av de enkelte fordringene.
B22: Bankinnskudd, kontanter o.l.
... B33: inntektsavsetninger.
A36: Note 2 | B36: Salgs- og sponsorinntekter
B37: Regnskapsposten består av: | F37: =F47 -> 2021 | G37: =G47 -> 2020
B38: Salgsinntekter | F38: 91837 | G38: 112925
B39: Sponsorinntekter | F39: 64000 | G39: 18000
B40: Sum | F40: =SUM(F38:F39) -> 155837 | G40: =SUM(G38:G39) -> 130925
B42: Salgsinntektene består i hovedsak av inntekter fra salg av kioskvarer og billettinntekter
B43: Sponsorinntekter består av klubbens hovedsponsorer.
A46: Note 3 | B46: Offentlige tilskudd og annen støtte
B47: Regnskapsposten består av: | F47: =+Resultat!C6 -> 2021 | G47: =+F47-1 -> 2020
B48: Offentlig/Privat tilskudd | F48: 9800 | G48: 190521
B49: Lokale aktivitetsmidler | F49: 128763 | G49: 206381
B50: Lotteri- og Stiftelsestilsynet/Grasrot | F50: 118006 | G50: 133157
B51: Tilskudd fra Norges Idrettsforbund | F51: 78877 | G51: 113982
B52: Sum | F52: =SUM(F48:F51) -> 335446 | G52: =SUM(G48:G51) -> 644041
B54: Tilskuddsmidler fra Nordre Follo kommune er gitt til følgende formål:
C55: - Tilskudd til idrett og friluftsliv
B57: Innbetalingene fra Norges Idrettsforbund gjelder momskompensasjon, kompensasjon knyttet til krisepakke og
B58: stimuleringsordningen for frivillighets- og idrettssektoren som følge av covid-19-utruddet. Kompensasjonen er
B59: gitt som følge av tapte inntekter som følge av avlyste arrangementer i 2021.
A62: Note 4 | B62: Andre inntekter
B63: Regnskapsposten består av: | F63: =+F47 -> 2021 | G63: =+G47 -> 2020
B64: Medlemskontingenter | F64: 78046 | G64: 93600
B65: Treningsavgifter, FFO, fotballskoler etc | F65: 180783 | G65: 187280
B66: Dugnadsinntekter | F66: 35000 | G66: 61738
...

Sheet Alle lag
A1: Resultat detaljert
A2: • Konto | • Koststed | B2: Allidrett | C2: Fotball | D2: Håndball | E2: Hovedlag | F2: Klubbhus | G2: Sykkel | H2: Totalt
A3: Driftsinntekter | B3: 1126.37 | C3: 5002.18 | D3: 153483.1 | E3: 395446.24 | F3: 60395.06 | G3: 4146.66 | H3: 619599.61
A4: • 3120 - Sponsorinntekter | B4: 0 | C4: -6000 | D4: 10000 | E4: 60000 | F4: 0 | G4: 0 | H4: 64000
A5: • Fotball | B5: 0 | C5: -6000 | D5: 0 | E5: 0 | F5: 0 | G5: 0 | H5: -6000
A6: • Hovedlag | B6: 0 | C6: 0 | D6: 0 | E6: 60000 | F6: 0 | G6: 0 | H6: 60000
A7: • Håndball | B7: 0 | C7: 0 | D7: 10000 | E7: 0 | F7: 0 | G7: 0 | H7: 10000
A8: • 3210 - Kiosksalg | B8: 0 | C8: 0 | D8: 48411.57 | E8: 0 | F8: 0 | G8: 0 | H8: 48411.57
A9: • Håndball | B9: 0 | C9: 0 | D9: 48411.57 | E9: 0 | F9: 0 | G9: 0 | H9: 48411.57
A10: • 3211 - Billettinntekter | B10: 0 | C10: 0 | D10: 43425 | E10: 0 | F10: 0 | G10: 0 | H10: 43425
A11: • Håndball | B11: 0 | C11: 0 | D11: 43425 | E11: 0 | F11: 0 | G11: 0 | H11: 43425
A12: • 3400 - LAM/offentlige tilskud | B12: 0 | C12: 0 | D12: 0 | E12: 138563 | F12: 0 | G12: 0 | H12: 138563
A13: • Hovedlag | B13: 0 | C13: 0 | D13: 0 | E13: 138563 | F13: 0 | G13: 0 | H13: 138563
A14: • 3440 - Momskompensasjon | B14: 1126.37 | C14: 11002.18 | D14: 51646.53 | E14: 78877 | F14: 0 | G14: 4146.66 | H14: 146798.74
... A182: Resultat før skatt/eord.poster | B182: -33376.03 | C182: -3872.89 | D182: 55525.85 | E182: 84949.24 | F182: -9116.82 | G182: -3798.7 | H182: 90310.65
