Workbook
Name lag: Baneoversikt!$B$7
Name lagsoversik: Lagsoversikt!$A$1:$A$96
Name lagsoversikt: Lagsoversikt!$A$1:$A$96

Sheet Baneoversikt
A1: Miniserien 2017 HØST
A2: Utleira G2010-1 | B2: utleira G-2 | C2: Utleira G2010-3 | D2: Utleira G2010-4 | E2: Utleira G2010-5 | F2: Utleira G2010-6
A3: Runde 1 Uke 34 23. august
A4: Othillienborg
B5: Bane 1 | D5: Bane 2 | F5: Bane 3
A6: Klokken | B6: Hjemmelag | C6: Bortelag | D6: Hjemmelag | E6: Bortelag | F6: Hjemmelag | G6: Bortelag
A7: 17.00-17.30 | B7: Nidelv J09-2 | C7: Ottis J09-1 | D7: Utleira J09-2 | E7: Nardo J09-1 | F7: Utleira J09-1 | G7: Nidelv J09-3
A9: 17.30-18.00 | B9: Utleira G09-1 | C9: Nardo G09-2 | D9: Ottis G09-1 | E9: Nardo G09-3 | F9: Nidelv G09-1 | G9: Utleira G09-2
A11: 18.00-18.30 | B11: Nidelv J09-2 | C11: Utleira J09-1 | D11: Nidelv J09-3 | E11: Nardo J09-1 | F11: Ottis J09-1 | G11: Utleira J09-2
A13: 18.30-19.00 | B13: Utleira G09-1 | C13: Ottis G09-1 | D13: Nardo G09-2 | E13: Nidelv G09-1 | F13: Nardo G09-3 | G13: Utleira G09-2
A16: Bratsberg | G16: Nidarvoll Skole
B17: Bane 1 | D17: Bane 2 | H17: Bane 1 | J17: Bane 2
A18: Klokken | B18: Hjemmelag | C18: Bortelag | D18: Hjemmelag | E18: Bortelag | G18: Klokken | H18: Hjemmelag | I18: Bortelag | J18: Hjemmelag | K18: Bortelag
A19: 17.00-17.30 | B19: Utleira G08-2 | C19: Nardo G08-1 | D19: Nardo G08-3 | E19: Bratsberg G08-2 | G19: 17.00-17.30 | H19: Nidelv J07-1 | I19: Nardo J07-1 | J19: Utleira J07-1 | K19: Ottis J07-1
A21: 17.30-18.00 | B21: Utleira G08-4 | C21: Bratsberg G08-1 | D21: Nidelv G08-2 | E21: Ottis G08-2 | G21: 17.30-18.00 | H21: Nidelv J07-2 | I21: Bratsberg J07-1 | J21: Ottis J07-2 | K21: Utleira J07-2
A23: 18.00-18.30 | B23: Utleira G08-2 | C23: Nardo G08-3 | D23: Nardo G08-1 | E23: Bratsberg G08-2 | G23: 18.00-18.30 | H23: Nardo J07-1 | I23: Utleira J07-1 | J23: Nidelv J07-1 | K23: Ottis J07-1
A25: 18.30-19.00 | B25: Ottis G08-2 | C25: Utleira G08-4 | D25: Bratsberg G08-1 | E25: Nidelv G08-2 | G25: 18.30-19.00 | H25: Nidelv J07-2 | I25: Ottis J07-2 | J25: Bratsberg J07-1 | K25: Utleira J07-2
A28: Utleira Stordalen | G28: Nissekollen
B29: Bane 1 | D29: Bane 2 | H29: Bane 1 | J29: Bane 2
A30: Klokken | B30: Hjemmelag | C30: Bortelag | D30: Hjemmelag | E30: Bortelag | G30: Klokken | H30: Hjemmelag | I30: Bortelag | J30: Hjemmelag | K30: Bortelag
A31: 17.00-17.30 | B31: Nidelv J08-3 | C31: Utleira J08-1 | D31: Nidelv J08-1 | E31: Nardo J08-1 | G31: 17.00-17.30
A33: 17.30-18.00 | B33: Nidelv G07-3 | C33: Ottis G07-2 | D33: Ottis G07-3 | E33: Utleira G07-2 | G33: 17.30-18.00
A35: 18.00-18.30 | B35: Nidelv J08-3 | C35: Nardo J08-1 | D35: Utleira J08-1 | E35: Nidelv J08-1 | G35: 18.00-18.30
A37: 18.30-19.00 | B37: Ottis G07-2 | C37: Utleira G07-2 | D37: Ottis G07-3 | E37: Nidelv G07-3 | G37: 18.30-19.00
A51: Runde 2 Uke 35 kampdag 30. august
A52: Othillienborg
B53: Bane 1 | D53: Bane 2 | F53: Bane 3
A54: Klokken | B54: Hjemmelag | C54: Bortelag | D54: Hjemmelag | E54: Bortelag | F54: Hjemmelag | G54: Bortelag
A55: 17.00-17.30 | B55: Utleira G08-1 | C55: Nardo G08-3 | D55: Nidelv G08-2 | E55: Nardo G08-2 | F55: Ottis G08-2 | G55: Bratsberg G08-1
A57: 17.30-18.00 | B57: Nidelv G08-1 | C57: Nardo G08-1 | D57: Utleira G08-3 | E57: Nidelv G08-3 | F57: Utleira G08-4 | G57: Ottis G08-1
A59: 18.00-18.30 | B59: Utleira G08-1 | C59: Ottis G08-2 | D59: Nardo G08-3 | E59: Nidelv G08-2 | F59: Nardo G08-2 | G59: Bratsberg G08-1
A61: 18.30-19.00 | B61: Nardo G08-1 | C61: Utleira G08-4 | D61: Nidelv G08-1 | E61: Utleira G08-3 | F61: Nidelv G08-3 | G61: Ottis G08-1
A64: Bratsberg | G64: Nidarvoll Skole
B65: Bane 1 | D65: Bane 2 | H65: Bane 1 | J65: Bane 2 | L65: Bane 3 | N65: Bane 4
A66: Klokken | B66: Hjemmelag | C66: Bortelag | D66: Hjemmelag | E66: Bortelag | G66: Klokken | H66: Hjemmelag | I66: Bortelag | J66: Hjemmelag | K66: Bortelag | L66: Hjemmelag | M66: Bortelag | N66: Hjemmelag | O66: Bortelag | P66: Klokken
A67: 17.00-17.30 | B67: Nidelv J09-1 | C67: Ottis J09-1 | D67: Bratsberg J09-1 | E67: Nardo J09-1 | G67: 17.00-17.15 | H67: Utleira J2010-1 | I67: Nidelv J2010-1 | J67: Utleira J2010-2 | K67: Nidelv J2010-2 | L67: Nardo G2010-2 | M67: Nidelv G2010-3 | N67: Utleira G2010-4 | O67: Ottis G2010-6 | P67: 17.00-17.15
G68: 17.15-17.20 | H68: Nidelv J2010-3 | I68: Ottis J2010-1 | J68: Bratsberg J2010-2 | K68: Ottis J2010-2 | L68: Nidelv G2010-2 | M68: Ottis G2010-2 | N68: Utleira G2010-1 | O68: Nidelv G2010-7 | P68: 17.15-17.20
A69: 17.30-18.00 | B69: Nidelv J09-3 | C69: Utleira J09-1 | D69: Nardo J09-2 | E69: Utleira J09-3 | G69: 17.30-17.45 | H69: Nidelv J2010-4 | I69: Bratsberg J2010-1 | J69: Utleira J2010-3 | K69: Nidelv J2010-2 | L69: Nardo G2010-2 | M69: Nidelv G2010-6 | N69: Nidelv G2010-3 | O69: Ottis G2010-6 | P69: 17.30-17.45
G70: 17.45-18.00 | H70: Nidelv J2010-1 | I70: Utleira J2010-2 | J70: Utleira J2010-1 | K70: Ottis J2010-1 | L70: Nidelv G2010-2 | M70: Utleira G2010-4 | N70: Ottis G2010-3 | O70: Nidelv G2010-7 | P70: 17.45-18.00
A71: 18.00-18.30 | B71: Ottis J09-1 | C71: Bratsberg J09-1 | D71: Nidelv J09-1 | E71: Nardo J09-1 | G71: 18.00-18.15 | H71: Nidelv J2010-3 | I71: Ottis J2010-2 | J71: Bratsberg J2010-2 | K71: Nidelv J2010-4 | L71: Bratsberg G2010-1 | M71: Utleira G2010-1 | N71: Ottis G2010-2 | O71: Utleira G2010-5 | P71: 18.00-18.15
G72: 18.15-18.30 | H72: Utleira J2010-3 | I72: Nidelv J2010-1 | J72: Bratsberg J2010-1 | K72: Nidelv J2010-2 | L72: Nidelv G2010-6 | M72: Utleira G2010-4 | N72: Ottis G2010-3 | O72: Nidelv G2010-3 | P72: 18.15-18.30
A73: 18.30-19.00 | B73: Utleira J09-1 | C73: Nardo J09-2 | D73: Nidelv J09-3 | E73: Utleira J09-3 | G73: 18.30-18.45 | H73: Utleira J2010-1 | I73: Nidelv J2010-3 | J73: Utleira J2010-2 | K73: Ottis J2010-1 | L73: Nidelv G2010-2 | M73: Utleira G2010-1 | N73: Ottis G2010-2 | O73: Nidelv G2010-7 | P73: 18.30-18.45
G74: 18.45-19.00 | H74: Bratsberg J2010-2 | I74: Utleira J2010-3 | J74: Ottis J2010-2 | K74: Nidelv J2010-4 | L74: Ottis G2010-3 | M74: Bratsberg G2010-1 | N74: Utleira G2010-5 | O74: Nidelv G2010-6 | P74: 18.45-19.00
A76: Utleira Stordalen | G76: Nissekollen
B77: Bane 1 | D77: Bane 2 | H77: Bane 1 | J77: Bane 2
A78: Klokken | B78: Hjemmelag | C78: Bortelag | D78: Hjemmelag | E78: Bortelag | G78: Klokken | H78: Hjemmelag | I78: Bortelag | J78: Hjemmelag | K78: Bortelag
A79: 17.00-17.30 | B79: Utleira G09-3 | C79: Nidelv G09-2 | D79: Ottis G09-1 | E79: Nardo G09-1 | G79: 17.00-17.30 | H79: Nidelv J08-3 | I79: Utleira J08-1 | J79: Nidelv J08-1 | K79: Nardo J08-1
A81: 17.30-18.00 | B81: Utleira G09-1 | C81: Nardo G09-3 | D81: Nidelv G09-1 | E81: Ottis G09-2 | G81: 17.30-18.00 | H81: Nidelv J07-1 | I81: Ottis J07-2 | J81: Nardo J07-2 | K81: Utleira J07-1
A83: 18.00-18.30 | B83: Utleira G09-3 | C83: Ottis G09-1 | D83: Nidelv G09-2 | E83: Nardo G09-1 | G83: 18.00-18.30 | H83: Nidelv J08-3 | I83: Nardo J08-1 | J83: Utleira J08-1 | K83: Nidelv J08-1
A85: 18.30-19.00 | B85: Utleira G09-1 | C85: Nidelv G09-1 | D85: Nardo G09-3 | E85: Ottis G09-2 | G85: 18.30-19.00 | H85: Ottis J07-2 | I85: Nardo J07-2 | J85: Nidelv J07-1 | K85: Utleira J07-1
A87: Utleira Stadion
B88: Bane 1 | D88: Bane 2
A89: Klokken | B89: Hjemmelag | C89: Bortelag | D89: Hjemmelag | E89: Bortelag
A90: 17.00-17.30 | B90: Nardo G07-1 | C90: Nidelv G07-1 | D90: Utleira G07-2 | E90: Nidelv G07-3
A92: 17.30-18.00 | B92: Nidelv G07-2 | C92: Ottis G07-2 | D92: Utleira G07-1 | E92: Ottis G07-3
A94: 18.00-18.30 | B94: Nardo G07-1 | C94: Nidelv G07-3 | D94: Nidelv G07-1 | E94: Utleira G07-2
A96: 18.30-19.00 | B96: Ottis G07-2 | C96: Utleira G07-1 | D96: Nidelv G07-2 | E96: Ottis G07-3
A99: Runde 3 Uke 36 kampdag 6. september
A100: Othillienborg
B101: Bane 1 | D101: Bane 2 | F101: Bane 3
A102: Klokken | B102: Hjemmelag | C102: Bortelag | D102: Hjemmelag | E102: Bortelag | F102: Hjemmelag | G102: Bortelag
A103: 17.00-17.30 | B103: Nidelv G07-1 | C103: Ottis G07-2 | D103: Nidelv G07-2 | E103: Ottis G07-1 | F103: Utleira G07-1 | G103: Nardo G07-1
A105: 17.30-18.00 | B105: Nardo J07-2 | C105: Bratsberg J07-1 | D105: Nardo J07-1 | E105: Ottis J07-1 | F105: Nidelv J07-2 | G105: Utleira J07-2
A107: 18.00-18.30 | B107: Nidelv G07-1 | C107: Ottis G07-1 | D107: Nidelv G07-2 | E107: Utleira G07-1 | F107: Nardo G07-1 | G107: Ottis G07-2
A109: 18.30-19.00 | B109: Nardo J07-2 | C109: Nidelv J07-2 | D109: Ottis J07-1 | E109: Bratsberg J07-1 | F109: Nardo J07-1 | G109: Utleira J07-2
A112: Bratsberg | G112: Nidarvoll Skole
B113: Bane 1 | D113: Bane 2 | H113: Bane 1 | J113: Bane 2
A114: Klokken | B114: Hjemmelag | C114: Bortelag | D114: Hjemmelag | E114: Bortelag | G114: Klokken | H114: Hjemmelag | I114: Bortelag | J114: Hjemmelag | K114: Bortelag
A115: 17.00-17.15 | B115: Nidelv J2010-1 | C115: Ottis J2010-1 | D115: Nidelv J2010-5 | E115: Bratsberg J2010-1 | G115: 17.00-17.30 | H115: Nidelv G08-3 | I115: Nardo G08-3 | J115: Utleira G08-1 | K115: Nidelv G08-1
A116: 17.15-17.20 | B116: Utleira J2010-3 | C116: Ottis J2010-2 | D116: Utleira J2010-4 | E116: Nidelv J2010-2
A117: 17.30-17.45 | B117: Utleira J2010-1 | C117: Nidelv J2010-4 | D117: Bratsberg J2010-2 | E117: Nidelv J2010-5 | G117: 17.30-18.00 | H117: Utleira G08-3 | I117: Nardo G08-1 | J117: Bratsberg G08-1 | K117: Nidelv G08-2
A118: 17.45-18.00 | B118: Nidelv J2010-1 | C118: Bratsberg J2010-1 | D118: Ottis J2010-1 | E118: Utleira J2010-3
A119: 18.00-18.15 | B119: Ottis J2010-2 | C119: Utleira J2010-4 | D119: Nidelv J2010-2 | E119: Utleira J2010-1 | G119: 18.00-18.30 | H119: Nidelv G08-3 | I119: Utleira G08-1 | J119: Nardo G08-3 | K119: Nidelv G08-1
A120: 18.15-18.30 | B120: Nidelv J2010-4 | C120: Bratsberg J2010-1 | D120: Bratsberg J2010-2 | E120: Utleira J2010-3
A121: 18.30-18.45 | B121: Nidelv J2010-1 | C121: Utleira J2010-1 | D121: Ottis J2010-1 | E121: Nidelv J2010-5 | G121: 18.30-19.00 | H121: Utleira G08-3 | I121: Bratsberg G08-1 | J121: Nardo G08-1 | K121: Nidelv G08-2
A122: 18.45-19.00 | B122: Nidelv J2010-2 | C122: Ottis J2010-2 | D122: Utleira J2010-4 | E122: Nidelv J2010-4
A124: Utleira Stordalen | G124: Nissekollen
B125: Bane 1 | D125: Bane 2 | H125: Bane 1 | J125: Bane 2
A126: Klokken | B126: Hjemmelag | C126: Bortelag | D126: Hjemmelag | E126: Bortelag | G126: Klokken | H126: Hjemmelag | I126: Bortelag | J126: Hjemmelag | K126: Bortelag
A127: 17.00-17.30 | B127: Nidelv J09-1 | C127: Utleira J09-2 | D127: Nidelv J09-2 | E127: Nardo J09-1 | G127: 17.00-17.15 | H127: Ottis G2010-1 | I127: Utleira G2010-3 | J127: Nardo G2010-1 | K127: Nidelv G2010-5
G128: 17.15-17.20 | H128: Nidelv G2010-2 | I128: Ottis G2010-5 | J128: Utleira G2010-4 | K128: Nidelv G2010-1
A129: 17.30-18.00 | B129: Utleira J09-1 | C129: Bratsberg J09-1 | D129: Utleira J09-3 | E129: Nardo J09-2 | G129: 17.30-17.45 | H129: Ottis G2010-1 | I129: Nardo G2010-1 | J129: Ottis G2010-6 | K129: Nidelv G2010-5
G130: 17.45-18.00 | H130: Nidelv G2010-2 | I130: Utleira G2010-3 | J130: Nardo G2010-2 | K130: Ottis G2010-5
A131: 18.00-18.30 | B131: Nidelv J09-1 | C131: Nardo J09-1 | D131: Utleira J09-2 | E131: Nidelv J09-2 | G131: 18.00-18.15 | H131: Nardo G2010-1 | I131: Utleira G2010-4 | J131: Ottis G2010-2 | K131: Nidelv G2010-1
G132: 18.15-18.30 | H132: Ottis G2010-6 | I132: Nidelv G2010-2 | J132: Utleira G2010-3 | K132: Nardo G2010-2
A133: 18.30-19.00 | B133: Bratsberg J09-1 | C133: Utleira J09-3 | D133: Utleira J09-1 | E133: Nardo J09-2 | G133: 18.30-18.45 | H133: Nidelv G2010-6 | I133: Utleira G2010-4 | J133: Ottis G2010-5 | K133: Nidelv G2010-1
G134: 18.45-19.00 | H134: Nardo G2010-2 | I134: Ottis G2010-6 | J134: Nidelv G2010-6 | K134: Ottis G2010-2
A135: Utleira Stadion
B136: Bane 1 | D136: Bane 2
A137: Klokken | B137: Hjemmelag | C137: Bortelag | D137: Hjemmelag | E137: Bortelag
A138: 17.00-17.30 | B138: Ottis G09-2 | C138: Utleira G09-1 | D138: Nardo G09-1 | E138: Nidelv G09-1
A140: 17.30-18.00 | B140: Utleira G09-2 | C140: Nardo G09-2 | D140: Ottis G09-1 | E140: Nidelv G09-2
A142: 18.00-18.30 | B142: Utleira G09-1 | C142: Nardo G09-1 | D142: Ottis G09-2 | E142: Nidelv G09-1
A144: 18.30-19.00 | B144: Utleira G09-2 | C144: Ottis G09-1 | D144: Nardo G09-2 | E144: Nidelv G09-2
A147: Runde 4 Uke 37 kampdag 13. september
A148: Othillienborg
B149: Bane 1 | D149: Bane 2 | F149: Bane 3
A150: Klokken | B150: Hjemmelag | C150: Bortelag | D150: Hjemmelag | E150: Bortelag | F150: Hjemmelag | G150: Bortelag
A151: 17.00-17.30 | B151: Nardo G08-1 | C151: Utleira G08-1 | D151: Nardo G08-2 | E151: Ottis G08-1 | F151: Bratsberg G08-1 | G151: Utleira G08-2
A153: 17.30-18.00 | B153: Utleira G08-3 | C153: Nidelv G08-3 | D153: Utleira G08-4 | E153: Nidelv G08-1 | F153: Bratsberg G08-2 | G153: Ottis G08-2
...

Sheet Lag høst 2017
B1: Nidelv | C1: Utleira | D1: Othilienborg | E1: Bratsberg | F1: Nardo
A2: J2010 | B2: 5 | C2: 4 | D2: 2 | E2: 2
A3: J2009 | B3: 3 | C3: 3 | D3: 1 | E3: 1 | F3: 2
A4: J2008 | B4: 3 | C4: 2 | D4: 1 | F4: 1
A5: J007 | B5: 2 | C5: 2 | D5: 2 | E5: 1 | F5: 2
A7: G2010 | B7: 8 | C7: 6 | D7: 6 | E7: 2 | F7: 2
A8: G2009 | B8: 2 | C8: 3 | D8: 2 | F8: 3
A9: G2008 | B9: 3 | C9: 4 | D9: 2 | E9: 2 | F9: 3
A10: G2007 | B10: 3 | C10: 2 | D10: 3 | F10: 1

Sheet Lagsoversikt
A1: Nidelv J2010-1
A2: Nidelv J2010-2
A3: Nidelv J2010-3
A4: Nidelv J2010-4
A5: Nidelv J2010-5
A6: Utleira J2010-1
A7: Utleira J2010-2
A8: Utleira J2010-3
A9: Utleira J2010-4
A10: Bratsberg J2010-1
A11: Bratsberg J2010-2
A12: Ottis J2010-1
... A96: Ottis G07-3

Sheet Oppsummering
A1: Runde 1 HØST 2016 | K1: Totaloversikt
A2: Oversikt over antall kamper Miniserien | K2: Oversikt over antall kamper Miniserien
A3: Nidelv | B3: Antall kamper | D3: Nardo | E3: Antall kamper | G3: Utleira | H3: Antall kamper | K3: Nidelv | L3: Antall kamper | N3: Nardo | O3: Antall kamper | Q3: Utleira | R3: Antall kamper
A4: Nidelv G2010-1 | B4: =COUNTIF(Baneoversikt!$A$3:$P$50,Oppsummering!A4) -> 0 | D4: Nardo G2010-1 | E4: =COUNTIF(Baneoversikt!$A$3:$P$50,Oppsummering!D4) -> 0 | G4: Utleira G2010-1 | H4: =COUNTIF(Baneoversikt!$A$3:$P$50,Oppsummering!G4) -> 0 | K4: Nidelv G2010-1 | L4: =COUNTIF(Baneoversikt!$A$4:$P$379,Oppsummering!K4) -> 8 | N4: Nardo G2010-1 | O4: =COUNTIF(Baneoversikt!$A$4:$K$379,Oppsummering!N4) -> 8 | Q4: Utleira G2010-1 | R4: =COUNTIF(Baneoversikt!$A$4:$P$379,Oppsummering!Q4) -> 8
A5: Nidelv G2010-2 | B5: =COUNTIF(Baneoversikt!$A$3:$P$50,Oppsummering!A5) -> 0 | D5: Nardo G2010-2 | E5: =COUNTIF(Baneoversikt!$A$3:$P$50,Oppsummering!D5) -> 0 | G5: Utleira G2010-2 | H5: =COUNTIF(Baneoversikt!$A$3:$P$50,Oppsummering!G5) -> 0 | K5: Nidelv G2010-2 | L5: =COUNTIF(Baneoversikt!$A$4:$P$379,Oppsummering!K5) -> 8 | N5: Nardo G2010-2 | O5: =COUNTIF(Baneoversikt!$A$4:$K$379,Oppsummering!N5) -> 6 | Q5: Utleira G2010-2 | R5: =COUNTIF(Baneoversikt!$A$4:$P$379,Oppsummering!Q5) -> 8
A6: Nidelv G2010-3 | B6: =COUNTIF(Baneoversikt!$A$3:$P$50,Oppsummering!A6) -> 0 | D6: Nardo G09-1 | E6: =COUNTIF(Baneoversikt!$A$3:$P$50,Oppsummering!D6) -> 0 | G6: Utleira G2010-3 | H6: =COUNTIF(Baneoversikt!$A$3:$P$50,Oppsummering!G6) -> 0 | K6: Nidelv G2010-3 | L6: =COUNTIF(Baneoversikt!$A$4:$P$379,Oppsummering!K6) -> 8 | N6: Nardo G09-1 | O6: =COUNTIF(Baneoversikt!$A$4:$K$379,Oppsummering!N6) -> 8 | Q6: Utleira G2010-3 | R6: =COUNTIF(Baneoversikt!$A$4:$P$379,Oppsummering!Q6) -> 8
A7: Nidelv G2010-4 | B7: =COUNTIF(Baneoversikt!$A$3:$P$50,Oppsummering!A7) -> 0 | D7: Nardo G09-2 | E7: =COUNTIF(Baneoversikt!$A$3:$P$50,Oppsummering!D7) -> 2 | G7: Utleira G2010-4 | H7: =COUNTIF(Baneoversikt!$A$3:$P$50,Oppsummering!G7) -> 0 | K7: Nidelv G2010-4 | L7: =COUNTIF(Baneoversikt!$A$4:$P$379,Oppsummering!K7) -> 8 | N7: Nardo G09-2 | O7: =COUNTIF(Baneoversikt!$A$4:$K$379,Oppsummering!N7) -> 8 | Q7: Utleira G2010-4 | R7: =COUNTIF(Baneoversikt!$A$4:$P$379,Oppsummering!Q7) -> 8
A8: Nidelv G2010-5 | B8: =COUNTIF(Baneoversikt!$A$3:$P$50,Oppsummering!A8) -> 0 | D8: Nardo G09-3 | E8: =COUNTIF(Baneoversikt!$A$3:$P$50,Oppsummering!D8) -> 2 | G8: Utleira G2010-5 | H8: =COUNTIF(Baneoversikt!$A$3:$P$50,Oppsummering!G8) -> 0 | K8: Nidelv G2010-5 | L8: =COUNTIF(Baneoversikt!$A$4:$P$379,Oppsummering!K8) -> 8 | N8: Nardo G09-3 | O8: =COUNTIF(Baneoversikt!$A$4:$K$379,Oppsummering!N8) -> 8 | Q8: Utleira G2010-5 | R8: =COUNTIF(Baneoversikt!$A$4:$P$379,Oppsummering!Q8) -> 8
A9: Nidelv G2010-6 | B9: =COUNTIF(Baneoversikt!$A$3:$P$50,Oppsummering!A9) -> 0 | D9: Nardo G08-1 | E9: =COUNTIF(Baneoversikt!$A$3:$P$50,Oppsummering!D9) -> 2 | G9: Utleira G2010-6 | H9: =COUNTIF(Baneoversikt!$A$3:$P$50,Oppsummering!G9) -> 0 | K9: Nidelv G2010-6 | L9: =COUNTIF(Baneoversikt!$A$4:$P$379,Oppsummering!K9) -> 8 | N9: Nardo G08-1 | O9: =COUNTIF(Baneoversikt!$A$4:$K$379,Oppsummering!N9) -> 8 | Q9: Utleira G2010-6 | R9: =COUNTIF(Baneoversikt!$A$4:$P$379,Oppsummering!Q9) -> 8
A10: Nidelv G2010-7 | B10: =COUNTIF(Baneoversikt!$A$3:$P$50,Oppsummering!A10) -> 0 | D10: Nardo G08-2 | E10: =COUNTIF(Baneoversikt!$A$3:$P$50,Oppsummering!D10) -> 0 | G10: Utleira G09-1 | H10: =COUNTIF(Baneoversikt!$A$3:$P$50,Oppsummering!G10) -> 2 | K10: Nidelv G2010-7 | L10: =COUNTIF(Baneoversikt!$A$4:$P$379,Oppsummering!K10) -> 8 | N10: Nardo G08-2 | O10: =COUNTIF(Baneoversikt!$A$4:$K$379,Oppsummering!N10) -> 8 | Q10: Utleira G09-1 | R10: =COUNTIF(Baneoversikt!$A$4:$P$379,Oppsummering!Q10) -> 8
A11: Nidelv G2010-8 | B11: =COUNTIF(Baneoversikt!$A$3:$P$50,Oppsummering!A11) -> 0 | D11: Nardo G08-3 | E11: =COUNTIF(Baneoversikt!$A$3:$P$50,Oppsummering!D11) -> 2 | G11: Utleira G09-2 | H11: =COUNTIF(Baneoversikt!$A$3:$P$50,Oppsummering!G11) -> 2 | K11: Nidelv G2010-8 | L11: =COUNTIF(Baneoversikt!$A$4:$P$379,Oppsummering!K11) -> 8 | N11: Nardo G08-3 | O11: =COUNTIF(Baneoversikt!$A$4:$K$379,Oppsummering!N11) -> 8 | Q11: Utleira G09-2 | R11: =COUNTIF(Baneoversikt!$A$4:$P$379,Oppsummering!Q11) -> 8
A12: Nidelv G09-1 | B12: =COUNTIF(Baneoversikt!$A$3:$P$50,Oppsummering!A12) -> 2 | D12: Nardo G07-1 | E12: =COUNTIF(Baneoversikt!$A$3:$P$50,Oppsummering!D12) -> 0 | G12: Utleira G09-3 | H12: =COUNTIF(Baneoversikt!$A$3:$P$50,Oppsummering!G12) -> 0 | K12: Nidelv G09-1 | L12: =COUNTIF(Baneoversikt!$A$4:$P$379,Oppsummering!K12) -> 10 | N12: Nardo G07-1 | O12: =COUNTIF(Baneoversikt!$A$4:$K$379,Oppsummering!N12) -> 8 | Q12: Utleira G09-3 | R12: =COUNTIF(Baneoversikt!$A$4:$P$379,Oppsummering!Q12) -> 8
A13: Nidelv G09-2 | B13: =COUNTIF(Baneoversikt!$A$3:$P$50,Oppsummering!A13) -> 0 | D13: Nardo J09-1 | E13: =COUNTIF(Baneoversikt!$A$3:$P$50,Oppsummering!D13) -> 2 | G13: Utleira G08-1 | H13: =COUNTIF(Baneoversikt!$A$3:$P$50,Oppsummering!G13) -> 0 | K13: Nidelv G09-2 | L13: =COUNTIF(Baneoversikt!$A$4:$P$379,Oppsummering!K13) -> 10 | N13: Nardo J09-1 | O13: =COUNTIF(Baneoversikt!$A$4:$K$379,Oppsummering!N13) -> 8 | Q13: Utleira G08-1 | R13: =COUNTIF(Baneoversikt!$A$4:$P$379,Oppsummering!Q13) -> 8
A14: Nidelv G08-1 | B14: =COUNTIF(Baneoversikt!$A$3:$P$50,Oppsummering!A14) -> 0 | D14: Nardo J09-2 | E14: =COUNTIF(Baneoversikt!$A$3:$P$50,Oppsummering!D14) -> 0 | G14: Utleira G08-2 | H14: =COUNTIF(Baneoversikt!$A$3:$P$50,Oppsummering!G14) -> 2 | K14: Nidelv G08-1 | L14: =COUNTIF(Baneoversikt!$A$4:$P$379,Oppsummering!K14) -> 8 | N14: Nardo J09-2 | O14: =COUNTIF(Baneoversikt!$A$4:$K$379,Oppsummering!N14) -> 8 | Q14: Utleira G08-2 | R14: =COUNTIF(Baneoversikt!$A$4:$P$379,Oppsummering!Q14) -> 8
A15: Nidelv G08-2 | B15: =COUNTIF(Baneoversikt!$A$3:$P$50,Oppsummering!A15) -> 2 | D15: Nardo J08-1 | E15: =COUNTIF(Baneoversikt!$A$3:$P$50,Oppsummering!D15) -> 2 | G15: Utleira G08-3 | H15: =COUNTIF(Baneoversikt!$A$3:$P$50,Oppsummering!G15) -> 0 | K15: Nidelv G08-2 | L15: =COUNTIF(Baneoversikt!$A$4:$P$379,Oppsummering!K15) -> 8 | N15: Nardo J08-1 | O15: =COUNTIF(Baneoversikt!$A$4:$K$379,Oppsummering!N15) -> 8 | Q15: Utleira G08-3 | R15: =COUNTIF(Baneoversikt!$A$4:$P$379,Oppsummering!Q15) -> 8
... A17: Nidelv G07-1 | B17: =COUNTIF(Baneoversikt!$A$3:$P$50,Oppsummering!A17) -> 0 | D17: Nardo J07-2 | E17: =COUNTIF(Baneoversikt!$A$3:$P$50,Oppsummering!D17) -> 0 | G17: Utleira G07-1 | H17: =COUNTIF(Baneoversikt!$A$3:$P$50,Oppsummering!G17) -> 0 | K17: Nidelv G07-1 | L17: =COUNTIF(Baneoversikt!$A$4:$P$379,Oppsummering!K17) -> 8 | N17: Nardo J07-2 | O17: =COUNTIF(Baneoversikt!$A$4:$K$379,Oppsummering!N17) -> 8 | Q17: Utleira G07-1 | R17: =COUNTIF(Baneoversikt!$A$4:$P$379,Oppsummering!Q17) -> 8
A18: Nidelv G07-2 | B18: =COUNTIF(Baneoversikt!$A$3:$P$50,Oppsummering!A18) -> 0 | G18: Utleira G07-2 | H18: =COUNTIF(Baneoversikt!$A$3:$P$50,Oppsummering!G18) -> 2 | K18: Nidelv G07-2 | L18: =COUNTIF(Baneoversikt!$A$4:$P$379,Oppsummering!K18) -> 8 | Q18: Utleira G07-2 | R18: =COUNTIF(Baneoversikt!$A$4:$P$379,Oppsummering!Q18) -> 8
A19: Nidelv G07-3 | B19: =COUNTIF(Baneoversikt!$A$3:$P$50,Oppsummering!A19) -> 2 | G19: Utleira J2010-1 | H19: =COUNTIF(Baneoversikt!$A$3:$P$50,Oppsummering!G19) -> 0 | K19: Nidelv G07-3 | L19: =COUNTIF(Baneoversikt!$A$4:$P$379,Oppsummering!K19) -> 8 | Q19: Utleira J2010-1 | R19: =COUNTIF(Baneoversikt!$A$4:$P$379,Oppsummering!Q19) -> 9
A20: Nidelv J2010-1 | B20: =COUNTIF(Baneoversikt!$A$3:$P$50,Oppsummering!A20) -> 0 | G20: Utleira J2010-2 | H20: =COUNTIF(Baneoversikt!$A$3:$P$50,Oppsummering!G20) -> 0 | K20: Nidelv J2010-1 | L20: =COUNTIF(Baneoversikt!$A$4:$P$379,Oppsummering!K20) -> 9 | Q20: Utleira J2010-2 | R20: =COUNTIF(Baneoversikt!$A$4:$P$379,Oppsummering!Q20) -> 9
A21: Nidelv J2010-2 | B21: =COUNTIF(Baneoversikt!$A$3:$P$50,Oppsummering!A21) -> 0 | G21: Utleira J2010-3 | H21: =COUNTIF(Baneoversikt!$A$3:$P$50,Oppsummering!G21) -> 0 | K21: Nidelv J2010-2 | L21: =COUNTIF(Baneoversikt!$A$4:$P$379,Oppsummering!K21) -> 9 | Q21: Utleira J2010-3 | R21: =COUNTIF(Baneoversikt!$A$4:$P$379,Oppsummering!Q21) -> 9
A22: Nidelv J2010-3 | B22: =COUNTIF(Baneoversikt!$A$3:$P$50,Oppsummering!A22) -> 0 | G22: Utleira J2010-4 | H22: =COUNTIF(Baneoversikt!$A$3:$P$50,Oppsummering!G22) -> 0 | K22: Nidelv J2010-3 | L22: =COUNTIF(Baneoversikt!$A$4:$P$379,Oppsummering!K22) -> 9 | Q22: Utleira J2010-4 | R22: =COUNTIF(Baneoversikt!$A$4:$P$379,Oppsummering!Q22) -> 9
A23: Nidelv J2010-4 | B23: =COUNTIF(Baneoversikt!$A$3:$P$50,Oppsummering!A23) -> 0 | G23: Utleira J09-1 | H23: =COUNTIF(Baneoversikt!$A$3:$P$50,Oppsummering!G23) -> 2 | K23: Nidelv J2010-4 | L23: =COUNTIF(Baneoversikt!$A$4:$P$379,Oppsummering!K23) -> 9 | Q23: Utleira J09-1 | R23: =COUNTIF(Baneoversikt!$A$4:$P$379,Oppsummering!Q23) -> 8
A24: Nidelv J2010-5 | B24: =COUNTIF(Baneoversikt!$A$3:$P$50,Oppsummering!A24) -> 0 | G24: Utleira J09-2 | H24: =COUNTIF(Baneoversikt!$A$3:$P$50,Oppsummering!G24) -> 2 | K24: Nidelv J2010-5 | L24: =COUNTIF(Baneoversikt!$A$4:$P$379,Oppsummering!K24) -> 9 | Q24: Utleira J09-2 | R24: =COUNTIF(Baneoversikt!$A$4:$P$379,Oppsummering!Q24) -> 6
A25: Nidelv J09-1 | B25: =COUNTIF(Baneoversikt!$A$3:$P$50,Oppsummering!A25) -> 0 | G25: Utleira J09-3 | H25: =COUNTIF(Baneoversikt!$A$3:$P$50,Oppsummering!G25) -> 0 | K25: Nidelv J09-1 | L25: =COUNTIF(Baneoversikt!$A$4:$P$379,Oppsummering!K25) -> 8 | Q25: Utleira J09-3 | R25: =COUNTIF(Baneoversikt!$A$4:$P$379,Oppsummering!Q25) -> 8
A26: Nidelv J09-2 | B26: =COUNTIF(Baneoversikt!$A$3:$P$50,Oppsummering!A26) -> 2 | G26: Utleira J08-1 | H26: =COUNTIF(Baneoversikt!$A$3:$P$50,Oppsummering!G26) -> 2 | K26: Nidelv J09-2 | L26: =COUNTIF(Baneoversikt!$A$4:$P$379,Oppsummering!K26) -> 6 | Q26: Utleira J08-1 | R26: =COUNTIF(Baneoversikt!$A$4:$P$379,Oppsummering!Q26) -> 8
A27: Nidelv J09-3 | B27: =COUNTIF(Baneoversikt!$A$3:$P$50,Oppsummering!A27) -> 2 | G27: Utleira J08-2 | H27: =COUNTIF(Baneoversikt!$A$3:$P$50,Oppsummering!G27) -> 0 | K27: Nidelv J09-3 | L27: =COUNTIF(Baneoversikt!$A$4:$P$379,Oppsummering!K27) -> 8 | Q27: Utleira J08-2 | R27: =COUNTIF(Baneoversikt!$A$4:$P$379,Oppsummering!Q27) -> 8
A28: Nidelv J08-1 | B28: =COUNTIF(Baneoversikt!$A$3:$P$50,Oppsummering!A28) -> 2 | G28: Utleira J07-1 | H28: =COUNTIF(Baneoversikt!$A$3:$P$50,Oppsummering!G28) -> 2 | K28: Nidelv J08-1 | L28: =COUNTIF(Baneoversikt!$A$4:$P$379,Oppsummering!K28) -> 8 | Q28: Utleira J07-1 | R28: =COUNTIF(Baneoversikt!$A$4:$P$379,Oppsummering!Q28) -> 8
A29: Nidelv J08-2 | B29: =COUNTIF(Baneoversikt!$A$3:$P$50,Oppsummering!A29) -> 0 | G29: Utleira J07-2 | H29: =COUNTIF(Baneoversikt!$A$3:$P$50,Oppsummering!G29) -> 2 | K29: Nidelv J08-2 | L29: =COUNTIF(Baneoversikt!$A$4:$P$379,Oppsummering!K29) -> 8 | Q29: Utleira J07-2 | R29: =COUNTIF(Baneoversikt!$A$4:$P$379,Oppsummering!Q29) -> 8
A30: Nidelv J08-3 | B30: =COUNTIF(Baneoversikt!$A$3:$P$50,Oppsummering!A30) -> 2 | K30: Nidelv J08-3 | L30: =COUNTIF(Baneoversikt!$A$4:$P$379,Oppsummering!K30) -> 8
A31: Nidelv J07-1 | B31: =COUNTIF(Baneoversikt!$A$3:$P$50,Oppsummering!A31) -> 2 | K31: Nidelv J07-1 | L31: =COUNTIF(Baneoversikt!$A$4:$P$379,Oppsummering!K31) -> 8
A32: Nidelv J07-2 | B32: =COUNTIF(Baneoversikt!$A$3:$P$50,Oppsummering!A32) -> 2 | K32: Nidelv J07-2 | L32: =COUNTIF(Baneoversikt!$A$4:$P$379,Oppsummering!K32) -> 8
A34: Othillienborg | B34: Antall kamper | D34: Bratsberg | E34: Antall kamper | K34: Othillienborg | L34: Antall kamper | N34: Brattsberg | O34: Antall kamper
A35: Ottis G2010-1 | B35: =COUNTIF(Baneoversikt!$A$3:$P$50,Oppsummering!A35) -> 0 | D35: Bratsberg G2010-1 | E35: =COUNTIF(Baneoversikt!$A$3:$P$50,Oppsummering!D35) -> 0 | K35: Ottis G2010-1 | L35: =COUNTIF(Baneoversikt!$A$4:$P$379,Oppsummering!K35) -> 8 | N35: Bratsberg G2010-1 | O35: =COUNTIF(Baneoversikt!$A$4:$P$379,Oppsummering!N35) -> 8
A36: Ottis G2010-2 | B36: =COUNTIF(Baneoversikt!$A$3:$P$50,Oppsummering!A36) -> 0 | D36: Bratsberg G2010-2 | E36: =COUNTIF(Baneoversikt!$A$3:$P$50,Oppsummering!D36) -> 0 | K36: Ottis G2010-2 | L36: =COUNTIF(Baneoversikt!$A$4:$P$379,Oppsummering!K36) -> 8 | N36: Bratsberg G2010-2 | O36: =COUNTIF(Baneoversikt!$A$4:$P$379,Oppsummering!N36) -> 8
A37: Ottis G2010-3 | B37: =COUNTIF(Baneoversikt!$A$3:$P$50,Oppsummering!A37) -> 0 | D37: Bratsberg G08-1 | E37: =COUNTIF(Baneoversikt!$A$3:$P$50,Oppsummering!D37) -> 2 | K37: Ottis G2010-3 | L37: =COUNTIF(Baneoversikt!$A$4:$P$379,Oppsummering!K37) -> 8 | N37: Bratsberg G08-1 | O37: =COUNTIF(Baneoversikt!$A$4:$P$379,Oppsummering!N37) -> 8
A38: Ottis G2010-4 | B38: =COUNTIF(Baneoversikt!$A$3:$P$50,Oppsummering!A38) -> 0 | D38: Bratsberg G08-2 | E38: =COUNTIF(Baneoversikt!$A$3:$P$50,Oppsummering!D38) -> 2 | K38: Ottis G2010-4 | L38: =COUNTIF(Baneoversikt!$A$4:$P$379,Oppsummering!K38) -> 8 | N38: Bratsberg G08-2 | O38: =COUNTIF(Baneoversikt!$A$4:$P$379,Oppsummering!N38) -> 8
A39: Ottis G2010-5 | B39: =COUNTIF(Baneoversikt!$A$3:$P$50,Oppsummering!A39) -> 0 | D39: Bratsberg J2010-1 | E39: =COUNTIF(Baneoversikt!$A$3:$P$50,Oppsummering!D39) -> 0 | K39: Ottis G2010-5 | L39: =COUNTIF(Baneoversikt!$A$4:$P$379,Oppsummering!K39) -> 8 | N39: Bratsberg J2010-1 | O39: =COUNTIF(Baneoversikt!$A$4:$P$379,Oppsummering!N39) -> 11
A40: Ottis G2010-6 | B40: =COUNTIF(Baneoversikt!$A$3:$P$50,Oppsummering!A40) -> 0 | D40: Bratsberg J2010-2 | E40: =COUNTIF(Baneoversikt!$A$3:$P$50,Oppsummering!D40) -> 0 | K40: Ottis G2010-6 | L40: =COUNTIF(Baneoversikt!$A$4:$P$379,Oppsummering!K40) -> 8 | N40: Bratsberg J2010-2 | O40: =COUNTIF(Baneoversikt!$A$4:$P$379,Oppsummering!N40) -> 10
A41: Ottis G09-1 | B41: =COUNTIF(Baneoversikt!$A$3:$P$50,Oppsummering!A41) -> 2 | D41: Bratsberg J09-1 | E41: =COUNTIF(Baneoversikt!$A$3:$P$50,Oppsummering!D41) -> 0 | K41: Ottis G09-1 | L41: =COUNTIF(Baneoversikt!$A$4:$P$379,Oppsummering!K41) -> 10 | N41: Bratsberg J09-1 | O41: =COUNTIF(Baneoversikt!$A$4:$P$379,Oppsummering!N41) -> 8
A42: Ottis G09-2 | B42: =COUNTIF(Baneoversikt!$A$3:$P$50,Oppsummering!A42) -> 0 | D42: Bratsberg J07-1 | E42: =COUNTIF(Baneoversikt!$A$3:$P$50,Oppsummering!D42) -> 2 | K42: Ottis G09-2 | L42: =COUNTIF(Baneoversikt!$A$4:$P$379,Oppsummering!K42) -> 10 | N42: Bratsberg J07-1 | O42: =COUNTIF(Baneoversikt!$A$4:$P$379,Oppsummering!N42) -> 8
A43: Ottis G08-1 | B43: =COUNTIF(Baneoversikt!$A$3:$P$50,Oppsummering!A43) -> 0 | K43: Ottis G08-1 | L43: =COUNTIF(Baneoversikt!$A$4:$P$379,Oppsummering!K43) -> 8
A44: Ottis G08-2 | B44: =COUNTIF(Baneoversikt!$A$3:$P$50,Oppsummering!A44) -> 2 | K44: Ottis G08-2 | L44: =COUNTIF(Baneoversikt!$A$4:$P$379,Oppsummering!K44) -> 8
A45: Ottis G07-1 | B45: =COUNTIF(Baneoversikt!$A$3:$P$50,Oppsummering!A45) -> 0 | K45: Ottis G07-1 | L45: =COUNTIF(Baneoversikt!$A$4:$P$379,Oppsummering!K45) -> 8
A46: Ottis G07-2 | B46: =COUNTIF(Baneoversikt!$A$3:$P$50,Oppsummering!A46) -> 2 | K46: Ottis G07-2 | L46: =COUNTIF(Baneoversikt!$A$4:$P$379,Oppsummering!K46) -> 8
A47: Ottis G07-3 | B47: =COUNTIF(Baneoversikt!$A$3:$P$50,Oppsummering!A47) -> 2 | K47: Ottis G07-3 | L47: =COUNTIF(Baneoversikt!$A$4:$P$379,Oppsummering!K47) -> 8
A48: Ottis J2010-1 | B48: =COUNTIF(Baneoversikt!$A$3:$P$50,Oppsummering!A48) -> 0 | K48: Ottis J2010-1 | L48: =COUNTIF(Baneoversikt!$A$4:$P$379,Oppsummering!K48) -> 10
A49: Ottis J2010-2 | B49: =COUNTIF(Baneoversikt!$A$3:$P$50,Oppsummering!A49) -> 0 | K49: Ottis J2010-2 | L49: =COUNTIF(Baneoversikt!$A$4:$P$379,Oppsummering!K49) -> 12
A50: Ottis J09-1 | B50: =COUNTIF(Baneoversikt!$A$3:$P$50,Oppsummering!A50) -> 2 | K50: Ottis J09-1 | L50: =COUNTIF(Baneoversikt!$A$4:$P$379,Oppsummering!K50) -> 8
A51: Ottis J08-1 | B51: =COUNTIF(Baneoversikt!$A$3:$P$50,Oppsummering!A51) -> 0 | K51: Ottis J08-1 | L51: =COUNTIF(Baneoversikt!$A$4:$P$379,Oppsummering!K51) -> 8
A52: Ottis J07-1 | B52: =COUNTIF(Baneoversikt!$A$3:$P$50,Oppsummering!A52) -> 2 | K52: Ottis J07-1 | L52: =COUNTIF(Baneoversikt!$A$4:$P$379,Oppsummering!K52) -> 8
A53: Ottis J07-2 | B53: =COUNTIF(Baneoversikt!$A$3:$P$50,Oppsummering!A53) -> 2 | K53: Ottis J07-2 | L53: =COUNTIF(Baneoversikt!$A$4:$P$379,Oppsummering!K53) -> 8
A55: Runde 2 VÅR 2016
A56: Oversikt over antall kamper Miniserien
A57: Nidelv | B57: Antall kamper | D57: Nardo | E57: Antall kamper | G57: Utleira | H57: Antall kamper
A58: Nidelv G2010-1 | B58: =COUNTIF(Baneoversikt!$A$51:$P$98,Oppsummering!A58) -> 0 | D58: Nardo G2010-1 | E58: =COUNTIF(Baneoversikt!$A$51:$P$98,Oppsummering!D58) -> 0 | G58: Utleira G2010-1 | H58: =COUNTIF(Baneoversikt!$A$51:$P$98,Oppsummering!G58) -> 3
A59: Nidelv G2010-2 | B59: =COUNTIF(Baneoversikt!$A$51:$P$98,Oppsummering!A59) -> 3 | D59: Nardo G2010-2 | E59: =COUNTIF(Baneoversikt!$A$51:$P$98,Oppsummering!D59) -> 2 | G59: Utleira G2010-2 | H59: =COUNTIF(Baneoversikt!$A$51:$P$98,Oppsummering!G59) -> 0
A60: Nidelv G2010-3 | B60: =COUNTIF(Baneoversikt!$A$51:$P$98,Oppsummering!A60) -> 3 | D60: Nardo G09-1 | E60: =COUNTIF(Baneoversikt!$A$51:$P$98,Oppsummering!D60) -> 2 | G60: Utleira G2010-3 | H60: =COUNTIF(Baneoversikt!$A$51:$P$98,Oppsummering!G60) -> 0
A61: Nidelv G2010-4 | B61: =COUNTIF(Baneoversikt!$A$51:$P$98,Oppsummering!A61) -> 0 | D61: Nardo G09-2 | E61: =COUNTIF(Baneoversikt!$A$51:$P$98,Oppsummering!D61) -> 0 | G61: Utleira G2010-4 | H61: =COUNTIF(Baneoversikt!$A$51:$P$98,Oppsummering!G61) -> 3
A62: Nidelv G2010-5 | B62: =COUNTIF(Baneoversikt!$A$51:$P$98,Oppsummering!A62) -> 0 | D62: Nardo G09-3 | E62: =COUNTIF(Baneoversikt!$A$51:$P$98,Oppsummering!D62) -> 2 | G62: Utleira G2010-5 | H62: =COUNTIF(Baneoversikt!$A$51:$P$98,Oppsummering!G62) -> 2
A63: Nidelv G2010-6 | B63: =COUNTIF(Baneoversikt!$A$51:$P$98,Oppsummering!A63) -> 3 | D63: Nardo G08-1 | E63: =COUNTIF(Baneoversikt!$A$51:$P$98,Oppsummering!D63) -> 2 | G63: Utleira G2010-6 | H63: =COUNTIF(Baneoversikt!$A$51:$P$98,Oppsummering!G63) -> 0
A64: Nidelv G2010-7 | B64: =COUNTIF(Baneoversikt!$A$51:$P$98,Oppsummering!A64) -> 3 | D64: Nardo G08-2 | E64: =COUNTIF(Baneoversikt!$A$51:$P$98,Oppsummering!D64) -> 2 | G64: Utleira G09-1 | H64: =COUNTIF(Baneoversikt!$A$51:$P$98,Oppsummering!G64) -> 2
A65: Nidelv G2010-8 | B65: =COUNTIF(Baneoversikt!$A$51:$P$98,Oppsummering!A65) -> 0 | D65: Nardo G08-3 | E65: =COUNTIF(Baneoversikt!$A$51:$P$98,Oppsummering!D65) -> 2 | G65: Utleira G09-2 | H65: =COUNTIF(Baneoversikt!$A$51:$P$98,Oppsummering!G65) -> 0
A66: Nidelv G09-1 | B66: =COUNTIF(Baneoversikt!$A$51:$P$98,Oppsummering!A66) -> 2 | D66: Nardo G07-1 | E66: =COUNTIF(Baneoversikt!$A$51:$P$98,Oppsummering!D66) -> 2 | G66: Utleira G09-3 | H66: =COUNTIF(Baneoversikt!$A$51:$P$98,Oppsummering!G66) -> 2
A67: Nidelv G09-2 | B67: =COUNTIF(Baneoversikt!$A$51:$P$98,Oppsummering!A67) -> 2 | D67: Nardo J09-1 | E67: =COUNTIF(Baneoversikt!$A$51:$P$98,Oppsummering!D67) -> 2 | G67: Utleira G08-1 | H67: =COUNTIF(Baneoversikt!$A$51:$P$98,Oppsummering!G67) -> 2
A68: Nidelv G08-1 | B68: =COUNTIF(Baneoversikt!$A$51:$P$98,Oppsummering!A68) -> 2 | D68: Nardo J09-2 | E68: =COUNTIF(Baneoversikt!$A$51:$P$98,Oppsummering!D68) -> 2 | G68: Utleira G08-2 | H68: =COUNTIF(Baneoversikt!$A$51:$P$98,Oppsummering!G68) -> 0
A69: Nidelv G08-2 | B69: =COUNTIF(Baneoversikt!$A$51:$P$98,Oppsummering!A69) -> 2 | D69: Nardo J08-1 | E69: =COUNTIF(Baneoversikt!$A$51:$P$98,Oppsummering!D69) -> 2 | G69: Utleira G08-3 | H69: =COUNTIF(Baneoversikt!$A$51:$P$98,Oppsummering!G69) -> 2
... A71: Nidelv G07-1 | B71: =COUNTIF(Baneoversikt!$A$51:$P$98,Oppsummering!A71) -> 2 | D71: Nardo J07-2 | E71: =COUNTIF(Baneoversikt!$A$51:$P$98,Oppsummering!D71) -> 2 | G71: Utleira G07-1 | H71: =COUNTIF(Baneoversikt!$A$51:$P$98,Oppsummering!G71) -> 2
A72: Nidelv G07-2 | B72: =COUNTIF(Baneoversikt!$A$51:$P$98,Oppsummering!A72) -> 2 | G72: Utleira G07-2 | H72: =COUNTIF(Baneoversikt!$A$51:$P$98,Oppsummering!G72) -> 2
A73: Nidelv G07-3 | B73: =COUNTIF(Baneoversikt!$A$51:$P$98,Oppsummering!A73) -> 2 | G73: Utleira J2010-1 | H73: =COUNTIF(Baneoversikt!$A$51:$P$98,Oppsummering!G73) -> 3
A74: Nidelv J2010-1 | B74: =COUNTIF(Baneoversikt!$A$51:$P$98,Oppsummering!A74) -> 3 | G74: Utleira J2010-2 | H74: =COUNTIF(Baneoversikt!$A$51:$P$98,Oppsummering!G74) -> 3
A75: Nidelv J2010-2 | B75: =COUNTIF(Baneoversikt!$A$51:$P$98,Oppsummering!A75) -> 3 | G75: Utleira J2010-3 | H75: =COUNTIF(Baneoversikt!$A$51:$P$98,Oppsummering!G75) -> 3
A76: Nidelv J2010-3 | B76: =COUNTIF(Baneoversikt!$A$51:$P$98,Oppsummering!A76) -> 3 | G76: Utleira J2010-4 | H76: =COUNTIF(Baneoversikt!$A$51:$P$98,Oppsummering!G76) -> 0
A77: Nidelv J2010-4 | B77: =COUNTIF(Baneoversikt!$A$51:$P$98,Oppsummering!A77) -> 3 | G77: Utleira J09-1 | H77: =COUNTIF(Baneoversikt!$A$51:$P$98,Oppsummering!G77) -> 2
A78: Nidelv J2010-5 | B78: =COUNTIF(Baneoversikt!$A$51:$P$98,Oppsummering!A78) -> 0 | G78: Utleira J09-2 | H78: =COUNTIF(Baneoversikt!$A$51:$P$98,Oppsummering!G78) -> 0
A79: Nidelv J09-1 | B79: =COUNTIF(Baneoversikt!$A$51:$P$98,Oppsummering!A79) -> 2 | G79: Utleira J09-3 | H79: =COUNTIF(Baneoversikt!$A$51:$P$98,Oppsummering!G79) -> 2
A80: Nidelv J09-2 | B80: =COUNTIF(Baneoversikt!$A$51:$P$98,Oppsummering!A80) -> 0 | G80: Utleira J08-1 | H80: =COUNTIF(Baneoversikt!$A$51:$P$98,Oppsummering!G80) -> 2
A81: Nidelv J09-3 | B81: =COUNTIF(Baneoversikt!$A$51:$P$98,Oppsummering!A81) -> 2 | G81: Utleira J08-2 | H81: =COUNTIF(Baneoversikt!$A$51:$P$98,Oppsummering!G81) -> 0
A82: Nidelv J08-1 | B82: =COUNTIF(Baneoversikt!$A$51:$P$98,Oppsummering!A82) -> 2 | G82: Utleira J07-1 | H82: =COUNTIF(Baneoversikt!$A$51:$P$98,Oppsummering!G82) -> 2
A83: Nidelv J08-2 | B83: =COUNTIF(Baneoversikt!$A$51:$P$98,Oppsummering!A83) -> 0 | G83: Utleira J07-2 | H83: =COUNTIF(Baneoversikt!$A$51:$P$98,Oppsummering!G83) -> 0
A84: Nidelv J08-3 | B84: =COUNTIF(Baneoversikt!$A$51:$P$98,Oppsummering!A84) -> 2
A85: Nidelv J07-1 | B85: =COUNTIF(Baneoversikt!$A$51:$P$98,Oppsummering!A85) -> 2
A86: Nidelv J07-2 | B86: =COUNTIF(Baneoversikt!$A$51:$P$98,Oppsummering!A86) -> 0
A88: Othillienborg | B88: Antall kamper | D88: Bratsberg | E88: Antall kamper
A89: Ottis G2010-1 | B89: =COUNTIF(Baneoversikt!$A$51:$P$98,Oppsummering!A89) -> 0 | D89: Bratsberg G2010-1 | E89: =COUNTIF(Baneoversikt!$A$51:$P$98,Oppsummering!D89) -> 2
A90: Ottis G2010-2 | B90: =COUNTIF(Baneoversikt!$A$51:$P$98,Oppsummering!A90) -> 3 | D90: Bratsberg G2010-2 | E90: =COUNTIF(Baneoversikt!$A$51:$P$98,Oppsummering!D90) -> 0
A91: Ottis G2010-3 | B91: =COUNTIF(Baneoversikt!$A$51:$P$98,Oppsummering!A91) -> 3 | D91: Bratsberg G08-1 | E91: =COUNTIF(Baneoversikt!$A$51:$P$98,Oppsummering!D91) -> 2
A92: Ottis G2010-4 | B92: =COUNTIF(Baneoversikt!$A$51:$P$98,Oppsummering!A92) -> 0 | D92: Bratsberg G08-2 | E92: =COUNTIF(Baneoversikt!$A$51:$P$98,Oppsummering!D92) -> 0
A93: Ottis G2010-5 | B93: =COUNTIF(Baneoversikt!$A$51:$P$98,Oppsummering!A93) -> 0 | D93: Bratsberg J2010-1 | E93: =COUNTIF(Baneoversikt!$A$51:$P$98,Oppsummering!D93) -> 2
A94: Ottis G2010-6 | B94: =COUNTIF(Baneoversikt!$A$51:$P$98,Oppsummering!A94) -> 2 | D94: Bratsberg J2010-2 | E94: =COUNTIF(Baneoversikt!$A$51:$P$98,Oppsummering!D94) -> 3
A95: Ottis G09-1 | B95: =COUNTIF(Baneoversikt!$A$51:$P$98,Oppsummering!A95) -> 2 | D95: Bratsberg J09-1 | E95: =COUNTIF(Baneoversikt!$A$51:$P$98,Oppsummering!D95) -> 2
A96: Ottis G09-2 | B96: =COUNTIF(Baneoversikt!$A$51:$P$98,Oppsummering!A96) -> 2 | D96: Bratsberg J07-1 | E96: =COUNTIF(Baneoversikt!$A$51:$P$98,Oppsummering!D96) -> 0
A97: Ottis G08-1 | B97: =COUNTIF(Baneoversikt!$A$51:$P$98,Oppsummering!A97) -> 2
A98: Ottis G08-2 | B98: =COUNTIF(Baneoversikt!$A$51:$P$98,Oppsummering!A98) -> 2
A99: Ottis G07-1 | B99: =COUNTIF(Baneoversikt!$A$51:$P$98,Oppsummering!A99) -> 0
A100: Ottis G07-2 | B100: =COUNTIF(Baneoversikt!$A$51:$P$98,Oppsummering!A100) -> 2
A101: Ottis G07-3 | B101: =COUNTIF(Baneoversikt!$A$51:$P$98,Oppsummering!A101) -> 2
A102: Ottis J2010-1 | B102: =COUNTIF(Baneoversikt!$A$51:$P$98,Oppsummering!A102) -> 3
A103: Ottis J2010-2 | B103: =COUNTIF(Baneoversikt!$A$51:$P$98,Oppsummering!A103) -> 3
A104: Ottis J09-1 | B104: =COUNTIF(Baneoversikt!$A$51:$P$98,Oppsummering!A104) -> 2
A105: Ottis J08-1 | B105: =COUNTIF(Baneoversikt!$A$51:$P$98,Oppsummering!A105) -> 0
...
