Workbook
Name lag: Baneoversikt!$B$7
Name lagsoversik: Lagsoversikt!$A$1:$A$96
Name lagsoversikt: Lagsoversikt!$A$1:$A$96

Sheet Baneoversikt
A1: Miniserien 2017 HØST
A2: Utleira G2010-1 | B2: utleira G-2 | C2: Utleira G2010-3 | D2: Utleira G2010-4 | E2: Utleira G2010-5 | F2: Utleira G2010-6
A3: Runde 1 Uke 34 23. august
A4: Othillienborg
B5: Bane 1 | D5: Bane 2 | F5: Bane 3
A6: Klokken | B6: Hjemmelag | C6: Bortelag | D6: Hjemmelag | E6: Bortelag | F6: Hjemmelag | G6: Bortelag
A7: 17.00-17.30 | B7: Nidelv J09-2 | C7: Ottis J09-1 | D7: Utleira J09-2 | E7: Nardo J09-1 | F7: Utleira J09-1 | G7: Nidelv J09-3
A9: 17.30-18.00 | B9: Utleira G09-1 | C9: Nardo G09-2 | D9: Ottis G09-1 | E9: Nardo G09-3 | F9: Nidelv G09-1 | G9: Utleira G09-2
A11: 18.00-18.30 | B11: Nidelv J09-2 | C11: Utleira J09-1 | D11: Nidelv J09-3 | E11: Nardo J09-1 | F11: Ottis J09-1 | G11: Utleira J09-2
A13: 18.30-19.00 | B13: Utleira G09-1 | C13: Ottis G09-1 | D13: Nardo G09-2 | E13: Nidelv G09-1 | F13: Nardo G09-3 | G13: Utleira G09-2
A16: Bratsberg | G16: Nidarvoll Skole
B17: Bane 1 | D17: Bane 2 | H17: Bane 1 | J17: Bane 2
A18: Klokken | B18: Hjemmelag | C18: Bortelag | D18: Hjemmelag | E18: Bortelag | G18: Klokken | H18: Hjemmelag | I18: Bortelag | J18: Hjemmelag | K18: Bortelag
A19: 17.00-17.30 | B19: Utleira G08-2 | C19: Nardo G08-1 | D19: Nardo G08-3 | E19: Bratsberg G08-2 | G19: 17.00-17.30 | H19: Nidelv J07-1 | I19: Nardo J07-1 | J19: Utleira J07-1 | K19: Ottis J07-1
A21: 17.30-18.00 | B21: Utleira G08-4 | C21: Bratsberg G08-1 | D21: Nidelv G08-2 | E21: Ottis G08-2 | G21: 17.30-18.00 | H21: Nidelv J07-2 | I21: Bratsberg J07-1 | J21: Ottis J07-2 | K21: Utleira J07-2
A23: 18.00-18.30 | B23: Utleira G08-2 | C23: Nardo G08-3 | D23: Nardo G08-1 | E23: Bratsberg G08-2 | G23: 18.00-18.30 | H23: Nardo J07-1 | I23: Utleira J07-1 | J23: Nidelv J07-1 | K23: Ottis J07-1
A25: 18.30-19.00 | B25: Ottis G08-2 | C25: Utleira G08-4 | D25: Bratsberg G08-1 | E25: Nidelv G08-2 | G25: 18.30-19.00 | H25: Nidelv J07-2 | I25: Ottis J07-2 | J25: Bratsberg J07-1 | K25: Utleira J07-2
A28: Utleira Stordalen | G28: Nissekollen
B29: Bane 1 | D29: Bane 2 | H29: Bane 1 | J29: Bane 2
A30: Klokken | B30: Hjemmelag | C30: Bortelag | D30: Hjemmelag | E30: Bortelag | G30: Klokken | H30: Hjemmelag | I30: Bortelag | J30: Hjemmelag | K30: Bortelag
A31: 17.00-17.30 | B31: Nidelv J08-3 | C31: Utleira J08-1 | D31: Nidelv J08-1 | E31: Nardo J08-1 | G31: 17.00-17.30
A33: 17.30-18.00 | B33: Nidelv G07-3 | C33: Ottis G07-2 | D33: Ottis G07-3 | E33: Utleira G07-2 | G33: 17.30-18.00
A35: 18.00-18.30 | B35: Nidelv J08-3 | C35: Nardo J08-1 | D35: Utleira J08-1 | E35: Nidelv J08-1 | G35: 18.00-18.30
A37: 18.30-19.00 | B37: Ottis G07-2 | C37: Utleira G07-2 | D37: Ottis G07-3 | E37: Nidelv G07-3 | G37: 18.30-19.00
A51: Runde 2 Uke 35 kampdag 30. august
A52: Othillienborg
B53: Bane 1 | D53: Bane 2 | F53: Bane 3
A54: Klokken | B54: Hjemmelag | C54: Bortelag | D54: Hjemmelag | E54: Bortelag | F54: Hjemmelag | G54: Bortelag
A55: 17.00-17.30 | B55: Utleira G08-1 | C55: Nardo G08-3 | D55: Nidelv G08-2 | E55: Nardo G08-2 | F55: Ottis G08-2 | G55: Bratsberg G08-1
A57: 17.30-18.00 | B57: Nidelv G08-1 | C57: Nardo G08-1 | D57: Utleira G08-3 | E57: Nidelv G08-3 | F57: Utleira G08-4 | G57: Ottis G08-1
A59: 18.00-18.30 | B59: Utleira G08-1 | C59: Ottis G08-2 | D59: Nardo G08-3 | E59: Nidelv G08-2 | F59: Nardo G08-2 | G59: Bratsberg G08-1
A61: 18.30-19.00 | B61: Nardo G08-1 | C61: Utleira G08-4 | D61: Nidelv G08-1 | E61: Utleira G08-3 | F61: Nidelv G08-3 | G61: Ottis G08-1
A64: Bratsberg | G64: Nidarvoll Skole
B65: Bane 1 | D65: Bane 2 | H65: Bane 1 | J65: Bane 2 | L65: Bane 3 | N65: Bane 4
A66: Klokken | B66: Hjemmelag | C66: Bortelag | D66: Hjemmelag | E66: Bortelag | G66: Klokken | H66: Hjemmelag | I66: Bortelag | J66: Hjemmelag | K66: Bortelag | L66: Hjemmelag | M66: Bortelag | N66: Hjemmelag | O66: Bortelag | P66: Klokken
A67: 17.00-17.30 | B67: Nidelv J09-1 | C67: Ottis J09-1 | D67: Bratsberg J09-1 | E67: Nardo J09-1 | G67: 17.00-17.15 | H67: Utleira J2010-1 | I67: Nidelv J2010-1 | J67: Utleira J2010-2 | K67: Nidelv J2010-2 | L67: Nardo G2010-2 | M67: Nidelv G2010-3 | N67: Utleira G2010-4 | O67: Ottis G2010-6 | P67: 17.00-17.15
G68: 17.15-17.20 | H68: Nidelv J2010-3 | I68: Ottis J2010-1 | J68: Bratsberg J2010-2 | K68: Ottis J2010-2 | L68: Nidelv G2010-2 | M68: Ottis G2010-2 | N68: Utleira G2010-1 | O68: Nidelv G2010-7 | P68: 17.15-17.20
A69: 17.30-18.00 | B69: Nidelv J09-3 | C69: Utleira J09-1 | D69: Nardo J09-2 | E69: Utleira J09-3 | G69: 17.30-17.45 | H69: Nidelv J2010-4 | I69: Bratsberg J2010-1 | J69: Utleira J2010-3 | K69: Nidelv J2010-2 | L69: Nardo G2010-2 | M69: Nidelv G2010-6 | N69: Nidelv G2010-3 | O69: Ottis G2010-6 | P69: 17.30-17.45
G70: 17.45-18.00 | H70: Nidelv J2010-1 | I70: Utleira J2010-2 | J70: Utleira J2010-1 | K70: Ottis J2010-1 | L70: Nidelv G2010-2 | M70: Utleira G2010-4 | N70: Ottis G2010-3 | O70: Nidelv G2010-7 | P70: 17.45-18.00
A71: 18.00-18.30 | B71: Ottis J09-1 | C71: Bratsberg J09-1 | D71: Nidelv J09-1 | E71: Nardo J09-1 | G71: 18.00-18.15 | H71: Nidelv J2010-3 | I71: Ottis J2010-2 | J71: Bratsberg J2010-2 | K71: Nidelv J2010-4 | L71: Bratsberg G2010-1 | M71: Utleira G2010-1 | N71: Ottis G2010-2 | O71: Utleira G2010-5 | P71: 18.00-18.15
...

Sheet Lag høst 2017
B1: Nidelv | C1: Utleira | D1: Othilienborg | E1: Bratsberg | F1: Nardo
A2: J2010 | B2: 5 | C2: 4 | D2: 2 | E2: 2
A3: J2009 | B3: 3 | C3: 3 | D3: 1 | E3: 1 | F3: 2
A4: J2008 | B4: 3 | C4: 2 | D4: 1 | F4: 1
A5: J007 | B5: 2 | C5: 2 | D5: 2 | E5: 1 | F5: 2
A7: G2010 | B7: 8 | C7: 6 | D7: 6 | E7: 2 | F7: 2
A8: G2009 | B8: 2 | C8: 3 | D8: 2 | F8: 3
A9: G2008 | B9: 3 | C9: 4 | D9: 2 | E9: 2 | F9: 3
A10: G2007 | B10: 3 | C10: 2 | D10: 3 | F10: 1

Sheet Lagsoversikt
A1: Nidelv J2010-1
A2: Nidelv J2010-2
A3: Nidelv J2010-3
A4: Nidelv J2010-4
A5: Nidelv J2010-5
A6: Utleira J2010-1
A7: Utleira J2010-2
A8: Utleira J2010-3
A9: Utleira J2010-4
A10: Bratsberg J2010-1
A11: Bratsberg J2010-2
A12: Ottis J2010-1
... A96: Ottis G07-3

Sheet Oppsummering
A1: Runde 1 HØST 2016 | K1: Totaloversikt
A2: Oversikt over antall kamper Miniserien | K2: Oversikt over antall kamper Miniserien
A3: Nidelv | B3: Antall kamper | D3: Nardo | E3: Antall kamper | G3: Utleira | H3: Antall kamper | K3: Nidelv | L3: Antall kamper | N3: Nardo | O3: Antall kamper | Q3: Utleira | R3: Antall kamper
A4: Nidelv G2010-1 | B4: =COUNTIF(Baneoversikt!$A$3:$P$50,Oppsummering!A4) -> 0 | D4: Nardo G2010-1 | E4: =COUNTIF(Baneoversikt!$A$3:$P$50,Oppsummering!D4) -> 0 | G4: Utleira G2010-1 | H4: =COUNTIF(Baneoversikt!$A$3:$P$50,Oppsummering!G4) -> 0 | K4: Nidelv G2010-1 | L4: =COUNTIF(Baneoversikt!$A$4:$P$379,Oppsummering!K4) -> 8 | N4: Nardo G2010-1 | O4: =COUNTIF(Baneoversikt!$A$4:$K$379,Oppsummering!N4) -> 8 | Q4: Utleira G2010-1 | R4: =COUNTIF(Baneoversikt!$A$4:$P$379,Oppsummering!Q4) -> 8
A5: Nidelv G2010-2 | B5: =COUNTIF(Baneoversikt!$A$3:$P$50,Oppsummering!A5) -> 0 | D5: Nardo G2010-2 | E5: =COUNTIF(Baneoversikt!$A$3:$P$50,Oppsummering!D5) -> 0 | G5: Utleira G2010-2 | H5: =COUNTIF(Baneoversikt!$A$3:$P$50,Oppsummering!G5) -> 0 | K5: Nidelv G2010-2 | L5: =COUNTIF(Baneoversikt!$A$4:$P$379,Oppsummering!K5) -> 8 | N5: Nardo G2010-2 | O5: =COUNTIF(Baneoversikt!$A$4:$K$379,Oppsummering!N5) -> 6 | Q5: Utleira G2010-2 | R5: =COUNTIF(Baneoversikt!$A$4:$P$379,Oppsummering!Q5) -> 8
A6: Nidelv G2010-3 | B6: =COUNTIF(Baneoversikt!$A$3:$P$50,Oppsummering!A6) -> 0 | D6: Nardo G09-1 | E6: =COUNTIF(Baneoversikt!$A$3:$P$50,Oppsummering!D6) -> 0 | G6: Utleira G2010-3 | H6: =COUNTIF(Baneoversikt!$A$3:$P$50,Oppsummering!G6) -> 0 | K6: Nidelv G2010-3 | L6: =COUNTIF(Baneoversikt!$A$4:$P$379,Oppsummering!K6) -> 8 | N6: Nardo G09-1 | O6: =COUNTIF(Baneoversikt!$A$4:$K$379,Oppsummering!N6) -> 8 | Q6: Utleira G2010-3 | R6: =COUNTIF(Baneoversikt!$A$4:$P$379,Oppsummering!Q6) -> 8
A7: Nidelv G2010-4 | B7: =COUNTIF(Baneoversikt!$A$3:$P$50,Oppsummering!A7) -> 0 | D7: Nardo G09-2 | E7: =COUNTIF(Baneoversikt!$A$3:$P$50,Oppsummering!D7) -> 2 | G7: Utleira G2010-4 | H7: =COUNTIF(Baneoversikt!$A$3:$P$50,Oppsummering!G7) -> 0 | K7: Nidelv G2010-4 | L7: =COUNTIF(Baneoversikt!$A$4:$P$379,Oppsummering!K7) -> 8 | N7: Nardo G09-2 | O7: =COUNTIF(Baneoversikt!$A$4:$K$379,Oppsummering!N7) -> 8 | Q7: Utleira G2010-4 | R7: =COUNTIF(Baneoversikt!$A$4:$P$379,Oppsummering!Q7) -> 8
A8: Nidelv G2010-5 | B8: =COUNTIF(Baneoversikt!$A$3:$P$50,Oppsummering!A8) -> 0 | D8: Nardo G09-3 | E8: =COUNTIF(Baneoversikt!$A$3:$P$50,Oppsummering!D8) -> 2 | G8: Utleira G2010-5 | H8: =COUNTIF(Baneoversikt!$A$3:$P$50,Oppsummering!G8) -> 0 | K8: Nidelv G2010-5 | L8: =COUNTIF(Baneoversikt!$A$4:$P$379,Oppsummering!K8) -> 8 | N8: Nardo G09-3 | O8: =COUNTIF(Baneoversikt!$A$4:$K$379,Oppsummering!N8) -> 8 | Q8: Utleira G2010-5 | R8: =COUNTIF(Baneoversikt!$A$4:$P$379,Oppsummering!Q8) -> 8
A9: Nidelv G2010-6 | B9: =COUNTIF(Baneoversikt!$A$3:$P$50,Oppsummering!A9) -> 0 | D9: Nardo G08-1 | E9: =COUNTIF(Baneoversikt!$A$3:$P$50,Oppsummering!D9) -> 2 | G9: Utleira G2010-6 | H9: =COUNTIF(Baneoversikt!$A$3:$P$50,Oppsummering!G9) -> 0 | K9: Nidelv G2010-6 | L9: =COUNTIF(Baneoversikt!$A$4:$P$379,Oppsummering!K9) -> 8 | N9: Nardo G08-1 | O9: =COUNTIF(Baneoversikt!$A$4:$K$379,Oppsummering!N9) -> 8 | Q9: Utleira G2010-6 | R9: =COUNTIF(Baneoversikt!$A$4:$P$379,Oppsummering!Q9) -> 8
A10: Nidelv G2010-7 | B10: =COUNTIF(Baneoversikt!$A$3:$P$50,Oppsummering!A10) -> 0 | D10: Nardo G08-2 | E10: =COUNTIF(Baneoversikt!$A$3:$P$50,Oppsummering!D10) -> 0 | G10: Utleira G09-1 | H10: =COUNTIF(Baneoversikt!$A$3:$P$50,Oppsummering!G10) -> 2 | K10: Nidelv G2010-7 | L10: =COUNTIF(Baneoversikt!$A$4:$P$379,Oppsummering!K10) -> 8 | N10: Nardo G08-2 | O10: =COUNTIF(Baneoversikt!$A$4:$K$379,Oppsummering!N10) -> 8 | Q10: Utleira G09-1 | R10: =COUNTIF(Baneoversikt!$A$4:$P$379,Oppsummering!Q10) -> 8
A11: Nidelv G2010-8 | B11: =COUNTIF(Baneoversikt!$A$3:$P$50,Oppsummering!A11) -> 0 | D11: Nardo G08-3 | E11: =COUNTIF(Baneoversikt!$A$3:$P$50,Oppsummering!D11) -> 2 | G11: Utleira G09-2 | H11: =COUNTIF(Baneoversikt!$A$3:$P$50,Oppsummering!G11) -> 2 | K11: Nidelv G2010-8 | L11: =COUNTIF(Baneoversikt!$A$4:$P$379,Oppsummering!K11) -> 8 | N11: Nardo G08-3 | O11: =COUNTIF(Baneoversikt!$A$4:$K$379,Oppsummering!N11) -> 8 | Q11: Utleira G09-2 | R11: =COUNTIF(Baneoversikt!$A$4:$P$379,Oppsummering!Q11) -> 8
A12: Nidelv G09-1 | B12: =COUNTIF(Baneoversikt!$A$3:$P$50,Oppsummering!A12) -> 2 | D12: Nardo G07-1 | E12: =COUNTIF(Baneoversikt!$A$3:$P$50,Oppsummering!D12) -> 0 | G12: Utleira G09-3 | H12: =COUNTIF(Baneoversikt!$A$3:$P$50,Oppsummering!G12) -> 0 | K12: Nidelv G09-1 | L12: =COUNTIF(Baneoversikt!$A$4:$P$379,Oppsummering!K12) -> 10 | N12: Nardo G07-1 | O12: =COUNTIF(Baneoversikt!$A$4:$K$379,Oppsummering!N12) -> 8 | Q12: Utleira G09-3 | R12: =COUNTIF(Baneoversikt!$A$4:$P$379,Oppsummering!Q12) -> 8
A13: Nidelv G09-2 | B13: =COUNTIF(Baneoversikt!$A$3:$P$50,Oppsummering!A13) -> 0 | D13: Nardo J09-1 | E13: =COUNTIF(Baneoversikt!$A$3:$P$50,Oppsummering!D13) -> 2 | G13: Utleira G08-1 | H13: =COUNTIF(Baneoversikt!$A$3:$P$50,Oppsummering!G13) -> 0 | K13: Nidelv G09-2 | L13: =COUNTIF(Baneoversikt!$A$4:$P$379,Oppsummering!K13) -> 10 | N13: Nardo J09-1 | O13: =COUNTIF(Baneoversikt!$A$4:$K$379,Oppsummering!N13) -> 8 | Q13: Utleira G08-1 | R13: =COUNTIF(Baneoversikt!$A$4:$P$379,Oppsummering!Q13) -> 8
A14: Nidelv G08-1 | B14: =COUNTIF(Baneoversikt!$A$3:$P$50,Oppsummering!A14) -> 0 | D14: Nardo J09-2 | E14: =COUNTIF(Baneoversikt!$A$3:$P$50,Oppsummering!D14) -> 0 | G14: Utleira G08-2 | H14: =COUNTIF(Baneoversikt!$A$3:$P$50,Oppsummering!G14) -> 2 | K14: Nidelv G08-1 | L14: =COUNTIF(Baneoversikt!$A$4:$P$379,Oppsummering!K14) -> 8 | N14: Nardo J09-2 | O14: =COUNTIF(Baneoversikt!$A$4:$K$379,Oppsummering!N14) -> 8 | Q14: Utleira G08-2 | R14: =COUNTIF(Baneoversikt!$A$4:$P$379,Oppsummering!Q14) -> 8
A15: Nidelv G08-2 | B15: =COUNTIF(Baneoversikt!$A$3:$P$50,Oppsummering!A15) -> 2 | D15: Nardo J08-1 | E15: =COUNTIF(Baneoversikt!$A$3:$P$50,Oppsummering!D15) -> 2 | G15: Utleira G08-3 | H15: =COUNTIF(Baneoversikt!$A$3:$P$50,Oppsummering!G15) -> 0 | K15: Nidelv G08-2 | L15: =COUNTIF(Baneoversikt!$A$4:$P$379,Oppsummering!K15) -> 8 | N15: Nardo J08-1 | O15: =COUNTIF(Baneoversikt!$A$4:$K$379,Oppsummering!N15) -> 8 | Q15: Utleira G08-3 | R15: =COUNTIF(Baneoversikt!$A$4:$P$379,Oppsummering!Q15) -> 8
... A17: Nidelv G07-1 | B17: =COUNTIF(Baneoversikt!$A$3:$P$50,Oppsummering!A17) -> 0 | D17: Nardo J07-2 | E17: =COUNTIF(Baneoversikt!$A$3:$P$50,Oppsummering!D17) -> 0 | G17: Utleira G07-1 | H17: =COUNTIF(Baneoversikt!$A$3:$P$50,Oppsummering!G17) -> 0 | K17: Nidelv G07-1 | L17: =COUNTIF(Baneoversikt!$A$4:$P$379,Oppsummering!K17) -> 8 | N17: Nardo J07-2 | O17: =COUNTIF(Baneoversikt!$A$4:$K$379,Oppsummering!N17) -> 8 | Q17: Utleira G07-1 | R17: =COUNTIF(Baneoversikt!$A$4:$P$379,Oppsummering!Q17) -> 8
A18: Nidelv G07-2 | B18: =COUNTIF(Baneoversikt!$A$3:$P$50,Oppsummering!A18) -> 0 | G18: Utleira G07-2 | H18: =COUNTIF(Baneoversikt!$A$3:$P$50,Oppsummering!G18) -> 2 | K18: Nidelv G07-2 | L18: =COUNTIF(Baneoversikt!$A$4:$P$379,Oppsummering!K18) -> 8 | Q18: Utleira G07-2 | R18: =COUNTIF(Baneoversikt!$A$4:$P$379,Oppsummering!Q18) -> 8
A19: Nidelv G07-3 | B19: =COUNTIF(Baneoversikt!$A$3:$P$50,Oppsummering!A19) -> 2 | G19: Utleira J2010-1 | H19: =COUNTIF(Baneoversikt!$A$3:$P$50,Oppsummering!G19) -> 0 | K19: Nidelv G07-3 | L19: =COUNTIF(Baneoversikt!$A$4:$P$379,Oppsummering!K19) -> 8 | Q19: Utleira J2010-1 | R19: =COUNTIF(Baneoversikt!$A$4:$P$379,Oppsummering!Q19) -> 9
A20: Nidelv J2010-1 | B20: =COUNTIF(Baneoversikt!$A$3:$P$50,Oppsummering!A20) -> 0 | G20: Utleira J2010-2 | H20: =COUNTIF(Baneoversikt!$A$3:$P$50,Oppsummering!G20) -> 0 | K20: Nidelv J2010-1 | L20: =COUNTIF(Baneoversikt!$A$4:$P$379,Oppsummering!K20) -> 9 | Q20: Utleira J2010-2 | R20: =COUNTIF(Baneoversikt!$A$4:$P$379,Oppsummering!Q20) -> 9
A21: Nidelv J2010-2 | B21: =COUNTIF(Baneoversikt!$A$3:$P$50,Oppsummering!A21) -> 0 | G21: Utleira J2010-3 | H21: =COUNTIF(Baneoversikt!$A$3:$P$50,Oppsummering!G21) -> 0 | K21: Nidelv J2010-2 | L21: =COUNTIF(Baneoversikt!$A$4:$P$379,Oppsummering!K21) -> 9 | Q21: Utleira J2010-3 | R21: =COUNTIF(Baneoversikt!$A$4:$P$379,Oppsummering!Q21) -> 9
A22: Nidelv J2010-3 | B22: =COUNTIF(Baneoversikt!$A$3:$P$50,Oppsummering!A22) -> 0 | G22: Utleira J2010-4 | H22: =COUNTIF(Baneoversikt!$A$3:$P$50,Oppsummering!G22) -> 0 | K22: Nidelv J2010-3 | L22: =COUNTIF(Baneoversikt!$A$4:$P$379,Oppsummering!K22) -> 9 | Q22: Utleira J2010-4 | R22: =COUNTIF(Baneoversikt!$A$4:$P$379,Oppsummering!Q22) -> 9
A23: Nidelv J2010-4 | B23: =COUNTIF(Baneoversikt!$A$3:$P$50,Oppsummering!A23) -> 0 | G23: Utleira J09-1 | H23: =COUNTIF(Baneoversikt!$A$3:$P$50,Oppsummering!G23) -> 2 | K23: Nidelv J2010-4 | L23: =COUNTIF(Baneoversikt!$A$4:$P$379,Oppsummering!K23) -> 9 | Q23: Utleira J09-1 | R23: =COUNTIF(Baneoversikt!$A$4:$P$379,Oppsummering!Q23) -> 8
A24: Nidelv J2010-5 | B24: =COUNTIF(Baneoversikt!$A$3:$P$50,Oppsummering!A24) -> 0 | G24: Utleira J09-2 | H24: =COUNTIF(Baneoversikt!$A$3:$P$50,Oppsummering!G24) -> 2 | K24: Nidelv J2010-5 | L24: =COUNTIF(Baneoversikt!$A$4:$P$379,Oppsummering!K24) -> 9 | Q24: Utleira J09-2 | R24: =COUNTIF(Baneoversikt!$A$4:$P$379,Oppsummering!Q24) -> 6
A25: Nidelv J09-1 | B25: =COUNTIF(Baneoversikt!$A$3:$P$50,Oppsummering!A25) -> 0 | G25: Utleira J09-3 | H25: =COUNTIF(Baneoversikt!$A$3:$P$50,Oppsummering!G25) -> 0 | K25: Nidelv J09-1 | L25: =COUNTIF(Baneoversikt!$A$4:$P$379,Oppsummering!K25) -> 8 | Q25: Utleira J09-3 | R25: =COUNTIF(Baneoversikt!$A$4:$P$379,Oppsummering!Q25) -> 8
A26: Nidelv J09-2 | B26: =COUNTIF(Baneoversikt!$A$3:$P$50,Oppsummering!A26) -> 2 | G26: Utleira J08-1 | H26: =COUNTIF(Baneoversikt!$A$3:$P$50,Oppsummering!G26) -> 2 | K26: Nidelv J09-2 | L26: =COUNTIF(Baneoversikt!$A$4:$P$379,Oppsummering!K26) -> 6 | Q26: Utleira J08-1 | R26: =COUNTIF(Baneoversikt!$A$4:$P$379,Oppsummering!Q26) -> 8
A27: Nidelv J09-3 | B27: =COUNTIF(Baneoversikt!$A$3:$P$50,Oppsummering!A27) -> 2 | G27: Utleira J08-2 | H27: =COUNTIF(Baneoversikt!$A$3:$P$50,Oppsummering!G27) -> 0 | K27: Nidelv J09-3 | L27: =COUNTIF(Baneoversikt!$A$4:$P$379,Oppsummering!K27) -> 8 | Q27: Utleira J08-2 | R27: =COUNTIF(Baneoversikt!$A$4:$P$379,Oppsummering!Q27) -> 8
A28: Nidelv J08-1 | B28: =COUNTIF(Baneoversikt!$A$3:$P$50,Oppsummering!A28) -> 2 | G28: Utleira J07-1 | H28: =COUNTIF(Baneoversikt!$A$3:$P$50,Oppsummering!G28) -> 2 | K28: Nidelv J08-1 | L28: =COUNTIF(Baneoversikt!$A$4:$P$379,Oppsummering!K28) -> 8 | Q28: Utleira J07-1 | R28: =COUNTIF(Baneoversikt!$A$4:$P$379,Oppsummering!Q28) -> 8
A29: Nidelv J08-2 | B29: =COUNTIF(Baneoversikt!$A$3:$P$50,Oppsummering!A29) -> 0 | G29: Utleira J07-2 | H29: =COUNTIF(Baneoversikt!$A$3:$P$50,Oppsummering!G29) -> 2 | K29: Nidelv J08-2 | L29: =COUNTIF(Baneoversikt!$A$4:$P$379,Oppsummering!K29) -> 8 | Q29: Utleira J07-2 | R29: =COUNTIF(Baneoversikt!$A$4:$P$379,Oppsummering!Q29) -> 8
A30: Nidelv J08-3 | B30: =COUNTIF(Baneoversikt!$A$3:$P$50,Oppsummering!A30) -> 2 | K30: Nidelv J08-3 | L30: =COUNTIF(Baneoversikt!$A$4:$P$379,Oppsummering!K30) -> 8
A31: Nidelv J07-1 | B31: =COUNTIF(Baneoversikt!$A$3:$P$50,Oppsummering!A31) -> 2 | K31: Nidelv J07-1 | L31: =COUNTIF(Baneoversikt!$A$4:$P$379,Oppsummering!K31) -> 8
A32: Nidelv J07-2 | B32: =COUNTIF(Baneoversikt!$A$3:$P$50,Oppsummering!A32) -> 2 | K32: Nidelv J07-2 | L32: =COUNTIF(Baneoversikt!$A$4:$P$379,Oppsummering!K32) -> 8
A34: Othillienborg | B34: Antall kamper | D34: Bratsberg | E34: Antall kamper | K34: Othillienborg | L34: Antall kamper | N34: Brattsberg | O34: Antall kamper
A35: Ottis G2010-1 | B35: =COUNTIF(Baneoversikt!$A$3:$P$50,Oppsummering!A35) -> 0 | D35: Bratsberg G2010-1 | E35: =COUNTIF(Baneoversikt!$A$3:$P$50,Oppsummering!D35) -> 0 | K35: Ottis G2010-1 | L35: =COUNTIF(Baneoversikt!$A$4:$P$379,Oppsummering!K35) -> 8 | N35: Bratsberg G2010-1 | O35: =COUNTIF(Baneoversikt!$A$4:$P$379,Oppsummering!N35) -> 8
A36: Ottis G2010-2 | B36: =COUNTIF(Baneoversikt!$A$3:$P$50,Oppsummering!A36) -> 0 | D36: Bratsberg G2010-2 | E36: =COUNTIF(Baneoversikt!$A$3:$P$50,Oppsummering!D36) -> 0 | K36: Ottis G2010-2 | L36: =COUNTIF(Baneoversikt!$A$4:$P$379,Oppsummering!K36) -> 8 | N36: Bratsberg G2010-2 | O36: =COUNTIF(Baneoversikt!$A$4:$P$379,Oppsummering!N36) -> 8
A37: Ottis G2010-3 | B37: =COUNTIF(Baneoversikt!$A$3:$P$50,Oppsummering!A37) -> 0 | D37: Bratsberg G08-1 | E37: =COUNTIF(Baneoversikt!$A$3:$P$50,Oppsummering!D37) -> 2 | K37: Ottis G2010-3 | L37: =COUNTIF(Baneoversikt!$A$4:$P$379,Oppsummering!K37) -> 8 | N37: Bratsberg G08-1 | O37: =COUNTIF(Baneoversikt!$A$4:$P$379,Oppsummering!N37) -> 8
A38: Ottis G2010-4 | B38: =COUNTIF(Baneoversikt!$A$3:$P$50,Oppsummering!A38) -> 0 | D38: Bratsberg G08-2 | E38: =COUNTIF(Baneoversikt!$A$3:$P$50,Oppsummering!D38) -> 2 | K38: Ottis G2010-4 | L38: =COUNTIF(Baneoversikt!$A$4:$P$379,Oppsummering!K38) -> 8 | N38: Bratsberg G08-2 | O38: =COUNTIF(Baneoversikt!$A$4:$P$379,Oppsummering!N38) -> 8
A39: Ottis G2010-5 | B39: =COUNTIF(Baneoversikt!$A$3:$P$50,Oppsummering!A39) -> 0 | D39: Bratsberg J2010-1 | E39: =COUNTIF(Baneoversikt!$A$3:$P$50,Oppsummering!D39) -> 0 | K39: Ottis G2010-5 | L39: =COUNTIF(Baneoversikt!$A$4:$P$379,Oppsummering!K39) -> 8 | N39: Bratsberg J2010-1 | O39: =COUNTIF(Baneoversikt!$A$4:$P$379,Oppsummering!N39) -> 11
A40: Ottis G2010-6 | B40: =COUNTIF(Baneoversikt!$A$3:$P$50,Oppsummering!A40) -> 0 | D40: Bratsberg J2010-2 | E40: =COUNTIF(Baneoversikt!$A$3:$P$50,Oppsummering!D40) -> 0 | K40: Ottis G2010-6 | L40: =COUNTIF(Baneoversikt!$A$4:$P$379,Oppsummering!K40) -> 8 | N40: Bratsberg J2010-2 | O40: =COUNTIF(Baneoversikt!$A$4:$P$379,Oppsummering!N40) -> 10
A41: Ottis G09-1 | B41: =COUNTIF(Baneoversikt!$A$3:$P$50,Oppsummering!A41) -> 2 | D41: Bratsberg J09-1 | E41: =COUNTIF(Baneoversikt!$A$3:$P$50,Oppsummering!D41) -> 0 | K41: Ottis G09-1 | L41: =COUNTIF(Baneoversikt!$A$4:$P$379,Oppsummering!K41) -> 10 | N41: Bratsberg J09-1 | O41: =COUNTIF(Baneoversikt!$A$4:$P$379,Oppsummering!N41) -> 8
A42: Ottis G09-2 | B42: =COUNTIF(Baneoversikt!$A$3:$P$50,Oppsummering!A42) -> 0 | D42: Bratsberg J07-1 | E42: =COUNTIF(Baneoversikt!$A$3:$P$50,Oppsummering!D42) -> 2 | K42: Ottis G09-2 | L42: =COUNTIF(Baneoversikt!$A$4:$P$379,Oppsummering!K42) -> 10 | N42: Bratsberg J07-1 | O42: =COUNTIF(Baneoversikt!$A$4:$P$379,Oppsummering!N42) -> 8
...
