Workbook

Sheet Regnskap PDSK 2024 
A1: Regnskap PDSK 2024
C2: PDSK | D2: Diskgolf | E2: Ultimate | F2: Heistad | G2: Kjølnes | H2: 2023 | I2: Totalt 2024
B4: INNTEKTER:
A5: 3100 | B5: Salgs og sponsorinntekter | C5: =SUM(C6:C7) -> 31250 | D5: =SUM(D6:D7) -> 10098.88 | E5: =SUM(E6:E7) -> 0 | F5: =SUM(F6:F7) -> 0 | G5: =SUM(G6:G7) -> 0 | H5: 36593.94 | I5: =SUM(C5:G5) -> 41348.88
A6: 3110 | B6: Kiosksalg | C6: =Inntekter!C4 -> 0 | D6: =Inntekter!D4 -> 10098.88 | E6: =Inntekter!E4 -> 0 | F6: =Inntekter!F4 -> 0 | G6: =Inntekter!G4 -> 0
A7: 3120 | B7: Sponsoravtaler | C7: =Inntekter!C11 -> 31250 | D7: =Inntekter!D11 -> 0 | E7: =Inntekter!E11 -> 0 | F7: =Inntekter!F11 -> 0 | G7: =Inntekter!G11 -> 0
A8: 3400 | B8: Offentlige tilskudd | C8: =SUM(C9:C13) -> 53277.47 | D8: =SUM(D9:D13) -> 0 | E8: =SUM(E9:E13) -> 0 | F8: =SUM(F9:F13) -> 0 | G8: =SUM(G9:G13) -> 0 | H8: 62715.93 | I8: =SUM(C8:G8) -> 53277.47
A9: 3410 | B9: Momskompensasjon | C9: =Inntekter!C23 -> 0 | D9: =Inntekter!D23 -> 0 | E9: =Inntekter!E23 -> 0 | F9: =Inntekter!F23 -> 0 | G9: =Inntekter!G23 -> 0
A10: 3411 | B10: Norges Idrettsforbund og Olympiske komite | C10: =Inntekter!C24 -> 28954
A11: 3415 | B11: LAM midler NIF og Olympiske komite | C11: =Inntekter!C29 -> 0
A12: 3420 | B12: Grasrot | C12: =Inntekter!C30 -> 24323.47
A13: 3425 | B13: Inkluderingsmidler | C13: =Inntekter!C36 -> 0
A14: 3440 | B14: Andre tilskudd | C14: =SUM(C15:C17) -> 0 | H14: 5327.5 | I14: =SUM(C14:G14) -> 0
A15: 3441 | B15: Søknader
A16: 3442 | B16: Gjensidige stiftelsen | C16: =Inntekter!C39 -> 110925
A17: 3443 | B17: Gjensidige stiftelsen overført til Øremerkede | C17: -110925
B18: Porsgrunn Kommune | C18: =Inntekter!C41 -> 0
A19: 3920 | B19: Medlemskontingenter | C19: =Inntekter!C45 -> 43426.62 | H19: 53352.61 | I19: =SUM(C19:G19) -> 43426.62
A20: 3990 | B20: Annen driftsrelatert inntekt | C20: =Inntekter!C78 -> 59031.06 | H20: 54932.09 | I20: =SUM(C20:G20) -> 59031.06
B22: SUM INNTEKTER | C22: =C5+C8+C14+C19+C20 -> 186985.15 | D22: =D5+D8+D14+D19+D20 -> 10098.88 | E22: =E5+E8+E14+E19+E20 -> 0 | F22: =F5+F8+F14+F19+F20 -> 0 | G22: =G5+G8+G14+G19+G20 -> 0 | H22: =SUM(H5:H21) -> 212922.07 | I22: =SUM(I5:I21) -> 197084.03
C23: PDSK | D23: Diskgolf | E23: Ultimate | F23: Heistad | G23: Kjølnes | I23: Totalt
B24: KOSTNADER
A25: 4200 | B25: Innkjøp av utstyr | C25: =SUM(C26:C27) -> 0 | D25: =SUM(D26:D27) -> 25759.68 | E25: =SUM(E26:E27) -> 2366.4 | F25: =SUM(F26:F27) -> 2869.93 | G25: =SUM(G26:G27) -> 1612.5 | H25: 20927.48 | I25: =SUM(C25:G25) -> 32608.51
A26: 4210 | B26: Innkjøp av utstyr | C26: =Utgifter!C4 -> 0 | D26: =Utgifter!D4 -> 25759.68 | E26: =Utgifter!E4 -> 2366.4 | F26: =Utgifter!F4 -> 2869.93 | G26: =Utgifter!G4 -> 1612.5
A27: 4220
A28: 4300 | B28: Varekostnader | C28: =C29 -> 16800 | D28: =D29 -> 0 | E28: =E29 -> 0 | F28: =F29 -> 0 | G28: =G29 -> 0 | I28: =SUM(C28:G28) -> 16800
A29: 4310 | B29: Varer til videresalg | C29: =Utgifter!C38 -> 16800 | D29: =Utgifter!D38 -> 0 | E29: =Utgifter!E38 -> 0 | F29: =Utgifter!F38 -> 0 | G29: =Utgifter!G38 -> 0
A31: 6300 | B31: Leie av lokaler (sum) | C31: =SUM(C32:C33) -> 3500 | D31: =SUM(D32:D33) -> 6400 | E31: =SUM(E32:E33) -> 8402 | F31: =SUM(F32:F33) -> 40000 | G31: =SUM(G32:G33) -> 0 | H31: 46226 | I31: =SUM(C31:G31) -> 58302
A32: 6310 | B32: Leie av anlegg IL Hei og Porsgrunn Kommune | C32: =Utgifter!C42 -> 3500 | D32: =Utgifter!D42 -> 6400 | E32: =Utgifter!E42 -> 8402 | F32: =Utgifter!F42 -> 40000 | G32: =Utgifter!G42 -> 0
A33: 6320
A34: 6890 | B34: Annen kontorkostnad | C34: =SUM(C35:C36) -> 7360 | D34: =SUM(D35:D36) -> 0 | E34: =SUM(E35:E36) -> 0 | F34: =SUM(F35:F36) -> 0 | G34: =SUM(G35:G36) -> 0 | I34: =SUM(C34:G34) -> 7360
A35: 6890 | B35: NIF og Idretten Online | C35: =Utgifter!C61 -> 7360
A37: 7400 | B37: Medlemskontingenter | C37: =SUM(C38:C39) -> 19200 | D37: =SUM(D38:D40) -> 0 | E37: =SUM(E38:E40) -> 0 | F37: =SUM(F38:F40) -> 0 | G37: =SUM(G38:G40) -> 0 | H37: 28012.69 | I37: =SUM(C37:G37) -> 19200
A38: 7400 | B38: Medlemskontingenter lisens NAIF | C38: =Utgifter!C65 -> 19200 | D38: =Utgifter!D65 -> 0 | E38: =Utgifter!E65 -> 0 | F38: =Utgifter!F65 -> 0 | G38: =Utgifter!G65 -> 0
A40: 7420 | B40: Gaver og premier | C40: =SUM(C41:C42) -> 10197 | D40: =SUM(D41:D42) -> 0 | E40: =SUM(E41:E42) -> 0 | F40: =SUM(F41:F42) -> 0 | G40: =SUM(G41:G42) -> 0 | H40: 27589.86 | I40: =SUM(C40:G40) -> 10197
A41: 7420 | B41: Gaver og premier | C41: =Utgifter!C77 -> 10197 | D41: =Utgifter!D77 -> 0 | E41: =Utgifter!E77 -> 0 | F41: =Utgifter!F77 -> 0 | G41: =Utgifter!G77 -> 0
A43: 7421 | B43: Vipps konto SPB Sør 20.5-31.12 | C43: =SUM(C44:C45) -> 9906 | D43: =SUM(D44:D45) -> 0 | E43: =SUM(E44:E45) -> 0 | F43: =SUM(F44:F45) -> 0 | G43: =SUM(G44:G45) -> 0 | H43: 6968.75 | I43: =SUM(C43:G43) -> 9906
A44: 7421 | B44: Vipps konto SPB Sør 20.5-31.12 | C44: =Utgifter!C90 -> 9906 | D44: =Utgifter!D90 -> 0 | E44: =Utgifter!E90 -> 0 | F44: =Utgifter!F90 -> 0 | G44: =Utgifter!G90 -> 0
A46: 7500 | B46: Forsikringer | C46: =SUM(C47:C48) -> 7882 | D46: =SUM(D47:D48) -> 0 | E46: =SUM(E47:E48) -> 0 | F46: =SUM(F47:F48) -> 0 | G46: =SUM(G47:G48) -> 0 | H46: 7578 | I46: =SUM(C46:G46) -> 7882
B47: Forsikringer | C47: =Utgifter!H121 -> 7882
A49: 7790 | B49: Diverse kostnader | C49: =SUM(C50:C53) -> 41715.98 | D49: =SUM(D50:D53) -> 0 | E49: =SUM(E50:E53) -> 0 | F49: =SUM(F50:F53) -> 1463 | G49: =SUM(G50:G53) -> 425.1 | H49: 36186.94 | I49: =SUM(C49:G49) -> 43604.08
B50: Diverse kostnader | C50: =Utgifter!C127 -> 28467.18 | D50: =Utgifter!D127 -> 0 | E50: =Utgifter!E127 -> 0 | F50: =Utgifter!F127 -> 1463 | G50: =Utgifter!G127 -> 425.1
B51: Klubbtur | C51: =Utgifter!C152 -> 13248.8 | D51: =Utgifter!D152 -> 0 | E51: =Utgifter!E152 -> 0 | F51: =Utgifter!F152 -> 0 | G51: =Utgifter!G152 -> 0
C52: =Utgifter!C158 -> 0 | D52: =Utgifter!D158 -> 0 | E52: =Utgifter!E158 -> 0 | F52: =Utgifter!F158 -> 0 | G52: =Utgifter!G158 -> 0
B54: SUM KOSTNADER | C54: =C25+C28+C31+C37+C40+C43+C46+C49 -> 109200.98 | D54: =D25+D28+D31+D37+D40+D43+D46+D49 -> 32159.68 | E54: =E25+E28+E31+E37+E40+E43+E46+E49 -> 10768.4 | F54: =F25+F28+F31+F37+F40+F43+F46+F49 -> 44332.93 | G54: =G25+G28+G31+G37+G40+G43+G46+G49 -> 2037.6 | H54: =H25+H28+H31+H37+H40+H43+H46+H49 -> 173489.72 | I54: =I25+I28+I31+I34+I37+I40+I43+I46+I49 -> 205859.59
A56: 8800 | B56: RESULTAT DRIFT | C56: =C22-C54 -> 77784.17 | D56: =D22-D54 -> -22060.8 | E56: =E22-E54 -> -10768.4 | F56: =F22-F54 -> -44332.93 | G56: =G22-G54 -> -2037.6 | H56: =H22-H54 -> 39432.35 | I56: =I22-I54 -> -8775.56
B58: FINANS-/EKSTRAORDINÆRE POSTER
A59: 8040 | B59: Renteinntekter | C59: ='Renter og gebyrer'!C4 -> 12.48 | D59: ='Renter og gebyrer'!D4 -> 0 | E59: ='Renter og gebyrer'!E4 -> 0 | F59: ='Renter og gebyrer'!F4 -> 0 | G59: ='Renter og gebyrer'!G4 -> 0 | H59: 13.06 | I59: =SUM(C59:G59) -> 12.48
A60: 8140 | B60: Renteutgifter | C60: ='Renter og gebyrer'!C9 -> 0 | D60: ='Renter og gebyrer'!D9 -> 0 | E60: ='Renter og gebyrer'!E9 -> 0 | F60: ='Renter og gebyrer'!F9 -> 0 | G60: ='Renter og gebyrer'!G9 -> 0 | I60: =SUM(C60:G60) -> 0
A61: 8170 | B61: Gebyrer i bank | C61: ='Renter og gebyrer'!C13 -> -1846.5 | D61: ='Renter og gebyrer'!D13 -> 0 | E61: ='Renter og gebyrer'!E13 -> 0 | F61: ='Renter og gebyrer'!F13 -> 0 | G61: ='Renter og gebyrer'!G13 -> 0 | H61: -1679.5 | I61: =SUM(C61:G61) -> -1846.5
A63: 8800 | B63: ÅRSOVERSKUDD/UNDERSKUDD | C63: =C56+C59+C60+C61 -> 75950.15 | D63: =D56+D59+D60+D61 -> -22060.8 | E63: =E56+E59+E60+E61 -> -10768.4 | F63: =F56+F59+F60+F61 -> -44332.93 | G63: =G56+G59+G60+G61 -> -2037.6 | H63: =H56+H59+H60+H61 -> 37765.91 | I63: =I56+I59+I60+I61 -> -10609.58

Sheet Balanse
A1: Balanse PDSK 2024
D5: Note | E5: 45291 | F5: 45657
A6: 1920 | B6: Foreningskonto 2801.59.02894 | E6: 32417.88 | F6: 18847.04
A7: 1921 | B7: Driftskonto 2801.59.22879 | E7: 35190 | F7: 38151.26
A8: 1922 | B8: Øremerkede midler 3000.58.24555 | E8: 126441.5 | F8: 69518.7
A9: 1923 | F9: 0
B10: Sum Bank | E10: =SUM(E6:E9) -> 194049.38 | F10: =SUM(F6:F9) -> 126517 | H10: =E10-F10 -> 67532.38
B11: SUM EIENDELER | E11: =E10 -> 194049.38 | F11: =F10 -> 126517
A13: 2050 | B13: Annen egenkapital | D13: 7 | E13: 67607.88 | F13: =F10-F16 -> 56998.3
B14: Sum egenkapital | E14: =E13 -> 67607.88 | F14: =F13 -> 56998.3
A16: 2990 | B16: Kortsiktig gjeld (øremerkede midler) | D16: 7 | E16: 126441.5 | F16: 69518.7
B17: Sum kortsiktig gjeld | E17: =E16 -> 126441.5 | F17: =F16 -> 69518.7
B19: SUM EGENKAPITAL OG GJELD | E19: =E14+E17 -> 194049.38 | F19: =F14+F17 -> 126517
B21: Balanse | E21: =E11-E19 -> 0 | F21: =F11-F19 -> 0
A24: Porsgrunn, den 03.02.2025
B26: Tore Kaarstein
B27: Kasserer
A29: Porsgrunn, den 03.02.2025
B32: Kontrollutvalg
B36: Balanse: kontobeløp inn + resultat inneværende år - kontobeløp ut = 0

Sheet Noter
A1: Porsgrunn Disksportklubb
A3: Noter til regnskapet
A6: Note 1 | B6: Regnskapsprinsipper
B7: Årsregnskapet er satt opp i samsvar med Regnskaps- og revisjonsbestemmelsene for små
B8: organisasjonsledd tilknyttet NIF.
B10: Hovedregel for vurdering og klassifisering av eiendeler og gjeld
B11: Regnskapet er ført etter regnskapsprinsippet. Dette innebærer at inntekter er registrert i den periode de
B12: er inntjent og utgifter er registrert i den periode de er påløpt.
B14: Bankinnskudd, kontanter o.l.
B15: Bankinnskudd, kontanter o.l. inkluderer kontanter, bankinnskudd og andre betalingsmidler med
B16: forfallsdato som er kortere enn tre måneder fra anskaffelse.
B18: Inntektsføringsprinsipper
B19: Driftsinntekter og offentlige tilskudd inntektsføres når de er opptjent.
B20: Sponsorinntekter inntektsføres over avtaleperioden.
B21: Barteravtaler inntektsføres på grunnlag av de mottatte verdier i den perioden verdien mottas.
... B27: inntektsavsetninger.
A29: Note 2 | B29: Salgs- og sponsorinntekter
B30: Regnskapsposten består av: | F30: 2024 | G30: 2023
B31: Salgsinntekter | F31: 10098.88 | G31: 6494
B32: Sponsorinntekter | F32: 31250 | G32: 30100
B33: Andre inntekter
B34: Sum | F34: =SUM(F31:F33) -> 41348.88 | G34: =SUM(G31:G33) -> 36594
A37: Note 3 | B37: Offentlige tilskudd
B38: Regnskapsposten består av: | F38: 2024 | G38: 2023
B39: Tilskudd fra NIF og olympiske komite | F39: 28954 | G39: 10919
B40: Inkluderingsmidler, Porsgrunn Kommune | G40: 21452
B41: Lokale aktivitetsmidler
B42: Grasrotandel | F42: 24323.47 | G42: 17299
B43: Andre tilskudd | G43: 13046
B44: Sum | F44: =SUM(F39:F43) -> 53277.47 | G44: =SUM(G39:G43) -> 62716
A47: Note 4 | B47: Andre inntekter
B48: Regnskapsposten består av: | F48: 2024 | G48: 2023
B49: Medlemskontingenter | F49: 43426.62 | G49: 53353
B50: Dugnadsinntekter | G50: 0
B51: Resterende Melkeveien | G51: 5327
B52: Andre inntekter | F52: 59031.06 | G52: 54932
B53: Sum | F53: =SUM(F49:F52) -> 102457.68 | G53: =SUM(G49:G52) -> 113612
A56: Note 5 | B56: Andre driftskostnader
B57: Regnskapsposten består av: | F57: 2024 | G57: 2023
B58: Innkjøp av utstyr, varekostnad | F58: 354389.31 | G58: 20927
B59: Leie av lokale (IL Hei m.m) | F59: 58302 | G59: 46226
B60: Annen kontorkostnad. (NIF og Idretten online) | F60: 7360
B61: Medlemskontigent (NAIF) | F61: 19200 | G61: 28013
B62: Gave og premier | F62: 10197 | G62: 27590
B63: Vippskonto | F63: 9906 | G63: 6969
B64: Forsikringer | F64: 7882 | G64: 7578
B65: Andre kostnader | F65: 43604.08 | G65: 36187
B66: Sum | F66: =SUM(F58:F65) -> 510840.39 | G66: =SUM(G58:G65) -> 173490
A71: Note 6 | B71: Bankinnskudd
B72: Av kr. 126 517,- er kr. 69 518,70 øremerkede midler og avsatt på egen konto.
A75: Note 7 | B75: Egenkapital | F75: Annen | G75: Sum
F76: egenkapital | G76: egenkapital
B77: Egenkapital pr 01.01 | F77: 67608.88 | G77: 67608.88
B79: Årets endring i egenkapital:
B80: Årets resultat til annen egenkapital | F80: -10609.58 | G80: -10609.58
B82: Egenkapital pr. 31.12 | F82: =SUM(F77:F81) -> 56999.3 | G82: =SUM(G77:G81) -> 56999.3
A85: Note 8 | B85: Antall medlemmer
B86: Ved utgangen av året var totalt antall medlemmer 219.
A88: Note 9 | B88: Ansatte i foreningen
B89: Porsgrunn Disksportklubb har ikke hatt ansatte i regnskapsperioden og aktivitetene er basert på frivillig innsats.

Sheet Inntekter
A1: Inntekter PDSK 2024
A2: INNTEKTER | C2: PDSK | D2: Diskgolf | E2: Ultimate | F2: Heistad | G2: Kjølnes | H2: TOTALT | I2: Dato | J2: Ktrl
A3: 3100 | B3: Salgs og sponsorinntekter
A4: 3110 | B4: Kiosksalg | C4: =SUM(C5:C9) -> 0 | D4: =SUM(D5:D9) -> 10098.88 | E4: =SUM(E5:E9) -> 0 | F4: =SUM(F5:F9) -> 0 | G4: =SUM(G5:G9) -> 0 | H4: =SUM(C4:G4) -> 10098.88
A5: 3110-1 | B5: Tilbakeført etter VT Tour. Bespisning | D5: 3380 | I5: 45502
A6: 3110-2 | B6: Young future Pargolfturnering, for pizza | D6: 6718.88 | I6: 45560
B7: Salg av birdiebadge
B8: Salg av bagtag
A11: 3120 | B11: Sponsoravtaler | C11: =SUM(C12:C21) -> 31250 | D11: =SUM(D12:D21) -> 0 | E11: =SUM(E12:E21) -> 0 | F11: =SUM(F12:F21) -> 0 | G11: =SUM(G12:G21) -> 0 | H11: =SUM(C11:G11) -> 31250
A12: 3120-1 | B12: Verner Jenssen | C12: 6250 | I12: 45306
A13: 3120-2 | B13: Reklameservice | C13: 5000 | I13: 45428
A14: 3120-3 | B14: Sparebanken Sør Sponsor | C14: 20000 | I14: 45505
B15: Anleggsgartner Nordengen
B16: Wimp AS. Pizzabakeren
B17: Beveo Kiropraktikk og Fysioterapi
B18: XL bygg Salingstrand
A22: 3400 | B22: Offentlige tilskudd
A23: 3410 | B23: Momskompensasjon | H23: =SUM(C23:G23) -> 0
A24: 3411 | B24: Norges Idrettsforbund og Olympiske komite | C24: =SUM(C25:C28) -> 28954 | D24: =SUM(D25:D28) -> 0 | E24: =SUM(E25:E28) -> 0 | F24: =SUM(F25:F28) -> 0 | G24: =SUM(G25:G28) -> 0 | H24: =SUM(C24:G24) -> 28954
A25: 3411-1 | B25: Utbetaling april | C25: 2424 | I25: 45405
A26: 3411-2 | B26: Utbetaling oktober | C26: 4608 | I26: 45574
A27: 3411-3 | B27: Utbetaling oktober | C27: 8102 | I27: 45595
A28: 3411-4 | B28: Utbetaling desember momskompensasjon | C28: 13820 | I28: 46014
A29: 3415 | B29: LAM midler NIF og OL komite | H29: =SUM(C29:G29) -> 0
A30: 3420 | B30: Norsk Tipping Grasrot | C30: =SUM(C31:C34) -> 24323.47 | D30: =SUM(D31:D34) -> 0 | E30: =SUM(E31:E34) -> 0 | F30: =SUM(F31:F34) -> 0 | G30: =SUM(G31:G34) -> 0 | H30: =SUM(C30:G30) -> 24323.47
A31: 3420-1 | B31: Januar | C31: 7324.48 | I31: 45299
A32: 3420-2 | B32: Mai | C32: 8212.01 | I32: 45425
A33: 3420-3 | B33: September | C33: 8786.98 | I33: 45546
A36: 3425 | B36: Inkluderingsmidler | C36: =SUM(C37) -> 0 | H36: =SUM(C36:G36) -> 0
B37: Porsgrunn Kommune
A38: 3440 | B38: Andre tilskudd
A39: 3440-1 | B39: Gjensidige stiftelsen | C39: 110925 | H39: =SUM(C39:G39) -> 110925 | I39: 45366
A40: 3440-1 | B40: Gjensidige stiftelsen overført til Øremerkede | C40: -110925 | H40: =SUM(C40:G40) -> -110925 | I40: 45366
H41: =SUM(C41:G41) -> 0
H42: =SUM(C42:G42) -> 0
A44: 3920 | B44: Medlemskontingenter
A45: 3920 | B45: Medlemskontingenter | C45: =SUM(C46:C76) -> 43426.62 | D45: =SUM(D46:D76) -> 0 | E45: =SUM(E46:E76) -> 0 | F45: =SUM(F46:F76) -> 0 | G45: =SUM(G46:G76) -> 0 | H45: =SUM(C45:G45) -> 43426.62
A46: 3920-1 | B46: Utbetalinger fra NIF | C46: 194.02 | I46: 45328
A47: 3920-2 | B47: Utbetalinger fra NIF | C47: 0.6 | I47: 45334
A48: 3920-3 | B48: Bloc AS | C48: 12940 | I48: 45362
A49: 3920-4 | B49: Bloc AS | C49: 1686 | I49: 45362
A50: 3920-5 | B50: Utbetalinger fra NIF | C50: 286 | I50: 45370
A51: 3920-6 | B51: Bloc AS | C51: 280 | I51: 45398
A52: 3920-7 | B52: Bucky payments | C52: 26490 | I52: 45610
A53: 3920-8 | B53: Bucky payments | C53: 535 | I53: 45622
A54: 3920-9 | B54: Bucky payments | C54: 1015 | I54: 46002
A77: 3990 | B77: Annen driftsrelatert inntekt
B78: Annen driftsrelatert inntekt | C78: =SUM(C79:C91) -> 59031.06 | D78: =SUM(D79:D93) -> 0 | E78: =SUM(E79:E93) -> 0 | F78: =SUM(F79:F93) -> 0 | G78: =SUM(G79:G93) -> 0 | H78: =SUM(C78:G78) -> 59031.06
A79: 3990-1 | B79: Vipps innbetalinger i Februar | C79: 1075.25 | I79: 45335
A80: 3990-2 | B80: Vipps innbetalinger i april | C80: 39.1 | I80: 45411
A81: 3990-3 | B81: Kundeutbytte Sparebanken Sør | C81: 653 | I81: 45390
A82: 3990-4 | B82: Vipps innbetalinger i Mai | C82: 12433.65 | I82: 45443
A83: 3990-5 | B83: Vipps innbetalinger i Juni | C83: 11426.85 | I83: 45470
A84: 3990-6 | B84: Vipps innbetalinger i Juli | C84: 10463.96 | I84: 45503
A85: 3990-7 | B85: Vipps innbetalinger i August | C85: 4867.87 | I85: 45534
A86: 3990-8 | B86: Vipps innbetalinger i September | C86: 7702.52 | I86: 45559
A87: 3990-9 | B87: Vestfold og Telemark diskgolfkomite | C87: 3425 | I87: 45607
A88: 3990-10 | B88: Vipps innbetalinger i Oktober | C88: 1554.21 | I88: 45945
A89: 3990-11 | B89: Vipps innbetalinger i November | C89: 488.75 | I89: 45973
A90: 3990-12 | B90: Vipps innbetalinger i Desember | C90: 351.9
A91: 3990-13 | B91: Porsgrunn Kommune Driftstilskudd | C91: 4549
H94: =SUM(H4:H93) -> 197084.03
C97: 10463.96
C99: =C84-C97 -> 0

Sheet Utgifter
A1: Utgifter PDSK 2024
A2: UTGIFTER | C2: PDSK | D2: Diskgolf | E2: Ultimate | F2: Heistad | G2: Kjølnes | H2: TOTALT | I2: Dato | J2: Ktrl
A3: 4200 | B3: Innkjøp av utstyr
A4: 4200 | B4: Innkjøp av utstyr | C4: =SUM(C5:C36) -> 0 | D4: =SUM(D5:D36) -> 25759.68 | E4: =SUM(E5:E36) -> 2366.4 | F4: =SUM(F5:F36) -> 2869.93 | G4: =SUM(G5:G36) -> 1612.5 | H4: =SUM(C4:G4) -> 32608.51
A5: 4200-1 | B5: Bitema Salt til Tee Heistad Thomas Aske | F5: 199.7 | I5: 45327
A6: 4200-2 | B6: Circle K diesel til fliskutter | F6: 446.53 | I6: 45408
A7: 4200-3 | B7: Jone utlegg vårdugnad | F7: 1192.55 | I7: 45408
A8: 4200-4 | B8: Biltema Hørselvern og bensin dugnad Kjølnes | G8: 418.8 | I8: 45461
A9: 4200-5 | B9: Staypro. Gresstrimmer | D9: 3692 | I9: 45464
A10: 4200-6 | B10: Uno X Bensin til gresstrimmer | D10: 997.68 | I10: 45470
A11: 4200-7 | B11: Reklameservice Vestfold-Telemark | D11: 3177 | I11: 45476
A12: 4200-8 | B12: OBS Bygg maling | D12: 309 | I12: 45502
A13: 4200-9 | B13: Plantehallen, plenfrø | G13: 358 | I13: 45502
A14: 4200-10 | B14: Jula Plastglass for teesigns | G14: 447 | I14: 45502
A15: 4200-11 | B15: Miles Bag Tags | D15: 6828 | I15: 45525
A16: 4200-12 | B16: Reklameservice Vestfold-Telemark | D16: 9723 | I16: 45533
A17: 4200-13 | B17: Circle K bensin til gressklipper | F17: 166.2 | I17: 45551
A18: 4200-14 | B18: OBS Bygg bensin til kantklipper | D18: 458 | I18: 45566
A19: 4200-15 | B19: Clas Ohlson Batterier til glow | D19: 200 | I19: 45596
A20: 4200-16 | B20: Jysk lys til glow | D20: 375 | I20: 45596
A21: 4200-17 | B21: Beha Sport | E21: 618.6 | I21: 45614
A22: 4200-18 | B22: DG shop, disker Ultimate | E22: 1312.5 | I22: 45628
A23: 4200-19 | B23: Clas Ohlson Hengelås (del av utb Jone kr 2327,95) | F23: 479.9 | I23: 45629
A24: 4200-20 | B24: Automat 1 Bensin (del av utb Jone kr 2327,95) | F24: 385.05 | I24: 45629
A25: 4200-21 | B25: Jula skruer teepads | G25: 388.7 | I25: 45629
A26: 4200-22 | B26: Beha Sport Markeringer og isposer Ultimate | E26: 435.3 | I26: 46018
A37: 4300 | B37: Varekostnad av varer for videresalg
A38: 4300 | B38: Varekostnad av varer for videresalg | C38: =SUM(C39:C40) -> 16800 | D38: =SUM(D39:D40) -> 0 | E38: =SUM(E39:E40) -> 0 | F38: =SUM(F39:F40) -> 0 | G38: =SUM(G39:G40) -> 0 | H38: =SUM(C38:G38) -> 16800
A39: 4300-1 | B39: Lattitude 64 Disker til Trilogy Challenge TK lagt ut | C39: 16800 | I39: 45433
A41: 6300 | B41: Leie av lokaler
A42: 6300 | B42: Leie av lokaler | C42: =SUM(C43:C59) -> 3500 | D42: =SUM(D43:D59) -> 6400 | E42: =SUM(E43:E59) -> 8402 | F42: =SUM(F43:F59) -> 40000 | G42: =SUM(G43:G59) -> 0 | H42: =SUM(C42:G42) -> 58302
A43: 6300-1 | B43: Porsgrunn Komm Heistadhallen Ultimate Des 23 | E43: 788 | I43: 45315
A44: 6300-2 | B44: Porsgrunn Komm Heistadhallen Ultimate Jan 24 | E44: 1050 | I44: 45348
A45: 6300-3 | B45: Porsgrunn Komm Heistadhallen Ultimate Nov 23 | E45: 1313 | I45: 45348
A46: 6300-4 | B46: Porsgrunn Komm Heistadhallen Ultimate Nov 23 | E46: -1313 | I46: 45352 | J46: Refusjon
A47: 6300-5 | B47: Porsgrunn Komm Heistadhallen Ultimate feb 24 | E47: 1313 | I47: 45371
A48: 6300-6 | B48: Herøya Idrettsforening. Leie Hydrohallen | D48: 6400 | I48: 45385
A49: 6300-7 | B49: Porsgrunn Komm Heistadhallen Ultimate April 24 | E49: 1050 | I49: 45433
A50: 6300-8 | B50: Porsgrunn Komm Heistadhallen Ultimate Mai 24 | E50: 263 | I50: 45463
A51: 6300-9 | B51: Hei Anleggsleie | F51: 40000 | I51: 45464
A52: 6300-10 | B52: Porsgrunn Komm Heistadhallen Ultimate Aug 24 | E52: 525 | I52: 45555
A53: 6300-11 | B53: Porsgrunn Komm Heistadhallen Ultimate Sept 24 | E53: 1050 | I53: 45586
A54: 6300-12 | B54: Eidanger Idrettslag Leie av lokale til årsfest | C54: 3500 | I54: 45596
A55: 6300-13 | B55: Porsgrunn Komm Heistadhallen Ultimate Okt 24 | E55: 1313 | I55: 45616
A56: 6300-14 | B56: Porsgrunn Komm Heistadhallen Ultimate Nov 24 | E56: 1050 | I56: 46011
A60: 6890 | B60: Annen kontorkostnad
A61: 6890 | B61: Annen kontorkostnad | C61: =SUM(C62:C63) -> 7360 | D61: =SUM(D62:D63) -> 0 | E61: =SUM(E62:E63) -> 0 | F61: =SUM(F62:F63) -> 0 | G61: =SUM(G62:G63) -> 0 | H61: =SUM(C61:G61) -> 7360
A62: 6890-1 | B62: Idrettens office 3. kvartal 2024 | C62: 625 | I62: 45614
B63: Idretten Online Des 24 des 25 | C63: 6735 | I63: 45995
A64: 7400 | B64: Medlemskontingenter
A65: 7400 | B65: Medlemskontingenter | C65: =SUM(C66:C75) -> 19200 | D65: =SUM(D66:D75) -> 0 | E65: =SUM(E66:E75) -> 0 | F65: =SUM(F66:F75) -> 0 | G65: =SUM(G66:G75) -> 0 | H65: =SUM(C65:G65) -> 19200
A66: 7400-1 | B66: NAIF for 2023 | C66: 500 | I66: 45409
A67: 7400-2 | B67: NAIF for 2024 | C67: 18400 | I67: 45614
A68: 7400-3 | B68: NAIF Klubbledersamling | C68: 300 | I68: 46010
A76: 7420 | B76: Gaver og premier
A77: 7420 | B77: Gaver og premier | C77: =SUM(C78:C88) -> 10197 | D77: =SUM(D78:D88) -> 0 | E77: =SUM(E78:E88) -> 0 | F77: =SUM(F78:F88) -> 0 | G77: =SUM(G78:G88) -> 0 | H77: =SUM(C77:G77) -> 10197
A78: 7420-1 | B78: Blomster til utvalgte personer på årsmøtet V.J. | C78: 800 | I78: 45363
A79: 7420-2 | B79: Discgolfshop gave til årets ildsjel | C79: 1000 | I79: 45370
A80: 7420-3 | B80: Cara Sportsservice Pokaler pargolf | C80: 2028 | I80: 45426
A81: 7420-4 | B81: Rema 1000 premier pargolf | C81: 239.4 | I81: 45427
A82: 7420-5 | B82: Lattitude 64 Disker til Trilogy Challenge TK lagt ut | I82: 45433 | K82: Flyttet
A83: 7420-6 | B83: Sponse for film Heistad banen, til Stian Sandersen | C83: 100 | I83: 45433
A84: 7420-7 | B84: UPS Fortolling varer | C84: 849.5 | I84: 45489
A85: 7420-8 | B85: Cara Sportservice | C85: 5180.1 | I85: 45567
A89: 7421 | B89: Vipps konto SPB Sør
B90: Vipps konto SPB Sør | C90: =SUM(C91:C119) -> 9906 | D90: =SUM(D91:D119) -> 0 | E90: =SUM(E91:E119) -> 0 | F90: =SUM(F91:F119) -> 0 | G90: =SUM(G91:G119) -> 0 | H90: =SUM(C90:G90) -> 9906
A91: 7421-1 | B91: Sander Svardal vinner CTP | C91: 190 | I91: 45414
A92: 7421-2 | B92: Jørgen Strømstad vinner CTP | C92: 250 | I92: 45420
A93: 7421-3 | B93: Kim Vonka Nilsen vinner Ace pot | C93: 2250 | I93: 45420
A94: 7421-4 | B94: Jesper Braathen vinner CTP | C94: 210 | I94: 45427
A95: 7421-5 | B95: Thomas Olsen vinner CTP | C95: 210 | I95: 45435
A96: 7421-6 | B96: Oskar Lunde vinner Ace pot | C96: 893 | I96: 45435
A97: 7421-7 | B97: Jesper Braathen vinner CTP | C97: 140 | I97: 45442
A98: 7421-8 | B98: Jon Daniel Hegna Hagen vinner Ace pot | C98: 329 | I98: 45442
A99: 7421-9 | B99: Ardian Bujupaj vinner CTP | C99: 200 | I99: 45454
A100: 7421-10 | B100: Kim Vonka Nilsen vinner Ace pot | C100: 434 | I100: 45457
A101: 7421-11 | B101: Tor Erik Kristiansen vinner CTP | C101: 270 | I101: 45461
A102: 7421-12 | B102: Robin Oprann Hansen | C102: 280 | I102: 45464
... A118: 7421-28 | B118: Espen Esse vinner CTP | C118: 290 | I118: 45555
A120: 7500 | B120: Forsikringer
A121: 7500 | B121: Forsikringer | C121: =SUM(C122:C125) -> 7882 | D121: =SUM(D122:D125) -> 0 | E121: =SUM(E122:E125) -> 0 | F121: =SUM(F122:F125) -> 0 | G121: =SUM(G122:G125) -> 0 | H121: =SUM(C121:G121) -> 7882
A122: 7500-1 | B122: IF forsikring tilhenger | C122: 1787 | I122: 45358
A123: 7500-2 | B123: IF forsikringer | C123: 6095 | I123: 45630
A126: 7790 | B126: Diverse kostnader | C126: =C127+C152+C158 -> 41715.98 | D126: =D127+D152+D158 -> 0 | E126: =E127+E152+E158 -> 0 | F126: =F127+F152+F158 -> 1463 | G126: =G127+G152+G158 -> 425.1 | H126: =SUM(C126:G126) -> 43604.08
B127: Diverse kostnader | C127: =SUM(C128:C151) -> 28467.18 | D127: =SUM(D128:D151) -> 0 | E127: =SUM(E128:E151) -> 0 | F127: =SUM(F128:F151) -> 1463 | G127: =SUM(G128:G151) -> 425.1
A128: 7790-1 | B128: Rema 100 Bevertning arbeidsmøte for ny webside KF | C128: 352.15 | I128: 45304
A129: 7790-2 | B129: Rema 1000 Utlegg bevertning årsmøte Jone | C129: 511.6 | I129: 45349
A130: 7790-3 | B130: Kjetil Fosse | C130: 97.85 | I130: 45370
A131: 7790-4 | B131: Louise R. Holte Foredrag årsmøte | C131: 10000 | I131: 45384
A132: 7790-5 | B132: Rema 1000 Utlegg bevertning vårdugnad | C132: 204.75 | I132: 45406
A133: 7790-6 | B133: Kiwi bevertning dugnad | C133: 133.85 | I133: 45408
A134: 7790-7 | B134: Rema 1000 Drikke til dugnad | C134: 188.1 | I134: 45461
A135: 7790-8 | B135: Rema 1000 Drikke til dugnad | C135: 180.8 | I135: 45489
A136: 7790-9 | B136: Pizzabakeren | C136: 208 | I136: 45489
A137: 7790-10 | B137: Rema 1000 Toalettpapir VT Tour | C137: 109.9 | I137: 45502
A138: 7790-11 | B138: Rema 1000 Kaffe VT Tour | C138: 367.1 | I138: 45502
A139: 7790-12 | B139: Rema 1000 Bevertning VT Tour | C139: 242.53 | I139: 45502
... A145: 7790-18 | B145: Spar Bevertning utvidet ledermøte | C145: 241.6 | I145: 45601
A146: 7790-19 | B146: Rema bevertning dugnad Kjølnes | G146: 159.1 | I146: 45608
A147: 7790-20 | B147: Pizzabakeren dugnad Kjølnes | G147: 266 | I147: 45628
...

Sheet Renter og gebyrer
A1: Renter og gebyrer PDSK 2024
A2: INNTEKTER | C2: PDSK | D2: Diskgolf | E2: Ultimate | F2: Heistad | G2: Kjølnes | H2: TOTALT | I2: Dato | J2: Ktrl
A3: 8040 | B3: Rente inntekter
A4: 8040 | B4: Renteinnttekter | C4: =SUM(C5:C7) -> 12.48 | D4: =SUM(D5:D7) -> 0 | E4: =SUM(E5:E7) -> 0 | F4: =SUM(F5:F7) -> 0 | G4: =SUM(G5:G7) -> 0 | H4: =SUM(C4:G4) -> 12.48
A7: 8040-2 | B7: Renter Vipps | C7: 12.48 | I7: 46022
A8: 8140 | B8: Renteutgifter
A9: 8140 | B9: Renteutgifter | C9: =SUM(C10:C11) -> 0 | D9: =SUM(D10:D11) -> 0 | E9: =SUM(E10:E11) -> 0 | F9: =SUM(F10:F11) -> 0 | G9: =SUM(G10:G11) -> 0 | H9: =SUM(C9:G9) -> 0
A12: 8170 | B12: Gebyrer i bank
A13: 8170 | B13: Gebyrer i bank | C13: =SUM(C14:C35) -> -1846.5 | D13: =SUM(D14:D35) -> 0 | E13: =SUM(E14:E35) -> 0 | F13: =SUM(F14:F35) -> 0 | G13: =SUM(G14:G35) -> 0 | H13: =SUM(C13:G13) -> -1846.5
A14: 8170-1 | B14: Nettbedrift betalingsformidling Vipps Januar | C14: -136 | I14: 45310
A15: 8170-2 | B15: Nettbedrift betalingsformidling Vipps Februar | C15: -126.5 | I15: 45338
A16: 8170-3 | B16: Nettbedrift betalingsformidling Vipps Mars | C16: -134.5 | I16: 45366
A17: 8170-4 | B17: Nettbedrift betalingsformidling Vipps April | C17: -138 | I17: 45401
A18: 8170-5 | B18: Nettbedrift betalingsformidling Vipps Mai | C18: -165 | I18: 45433
A19: 8170-6 | B19: Nettbedrift betalingsformidling Vipps Juni | C19: -183 | I19: 45457
A20: 8170-7 | B20: Nettbedrift betalingsformidling Vipps Juli | C20: -176 | I20: 45492
A21: 8170-8 | B21: Nettbedrift betalingsformidling Vipps August | C21: -229 | I21: 45524
A22: 8170-9 | B22: Nettbedrift betalingsformidling Vipps September | C22: -131.5 | I22: 45555
A23: 8170-10 | B23: Nettbedrift betalingsformidling Vipps Oktober | C23: -170 | I23: 45598
A24: 8170-11 | B24: Nettbedrift betalingsformidling Vipps November | C24: -151 | I24: 45611
A25: 8170-12 | B25: Nettbedrift betalingsformidling Vipps Desember | C25: -85 | I25: 46011
... A32: 8171-7 | B32: Avtale giro | C32: -3 | I32: 46022
