Workbook

Sheet Regnskap PDSK 2024 
A1: Regnskap PDSK 2024 Øremerkede midler
C2: PDSK | D2: Diskgolf | E2: Ultimate | F2: Heistad | G2: Kjølnes | H2: Totalt 2024
B4: INNTEKTER:
A5: 3440 | B5: Andre tilskudd | C5: =SUM(C6:C8) -> 184258 | D5: =SUM(D6:D8) -> 0 | E5: =SUM(E6:E8) -> 0 | F5: =SUM(F6:F8) -> 0 | G5: =SUM(G6:G8) -> 63800 | H5: =SUM(C5:G5) -> 248058
A6: 3441 | B6: Gjensidige stiftelsen | C6: =Inntekter!C4 -> 110925
A7: 3442 | B7: Sparebankstiftelsen Telemark | G7: =Inntekter!G5 -> 63800
A8: 3443 | B8: Sparebankstiftelsen Telemark | C8: =Inntekter!C6 -> 73333
B10: SUM INNTEKTER | C10: =C5 -> 184258 | D10: =D5 -> 0 | E10: =E5 -> 0 | F10: =F5 -> 0 | G10: =G5 -> 63800 | H10: =SUM(H5:H9) -> 248058 | I10: =SUM(I5:I9) -> 0
C11: PDSK | D11: Diskgolf | E11: Ultimate | F11: Heistad | G11: Kjølnes | H11: Totalt
B12: KOSTNADER
A13: 4200 | B13: Innkjøp av utstyr | C13: =SUM(C14:C15) -> 111304.75 | D13: =SUM(D14:D15) -> 0 | E13: =SUM(E14:E15) -> 0 | F13: =SUM(F14:F15) -> 0 | G13: =SUM(G14:G15) -> 193676.05 | H13: =SUM(C13:G13) -> 304980.8
A14: 4210 | B14: Innkjøp av utstyr | C14: =Utgifter!C4 -> 111304.75 | D14: =Utgifter!D4 -> 0 | E14: =Utgifter!E4 -> 0 | F14: =Utgifter!F4 -> 0 | G14: =Utgifter!G4 -> 193676.05
A15: 4220
B16: SUM KOSTNADER | C16: =C13 -> 111304.75 | D16: =D13 -> 0 | E16: =E13 -> 0 | F16: =F13 -> 0 | G16: =G13 -> 193676.05 | H16: =H13 -> 304980.8
A18: 8800 | B18: RESULTAT DRIFT | C18: =C10-C16 -> 72953.25 | D18: =D10-D16 -> 0 | E18: =E10-E16 -> 0 | F18: =F10-F16 -> 0 | G18: =G10-G16 -> -129876.05 | H18: =H10-H16 -> -56922.8 | I18: =I10-I16 -> 0
B20: FINANS-/EKSTRAORDINÆRE POSTER
A21: 8040 | B21: Renteinntekter | C21: ='Renter og gebyrer'!C4 -> 0 | D21: ='Renter og gebyrer'!D4 -> 0 | E21: ='Renter og gebyrer'!E4 -> 0 | F21: ='Renter og gebyrer'!F4 -> 0 | G21: ='Renter og gebyrer'!G4 -> 0 | H21: =SUM(C21:G21) -> 0
A22: 8140 | B22: Renteutgifter | C22: ='Renter og gebyrer'!C9 -> 0 | D22: ='Renter og gebyrer'!D9 -> 0 | E22: ='Renter og gebyrer'!E9 -> 0 | F22: ='Renter og gebyrer'!F9 -> 0 | G22: ='Renter og gebyrer'!G9 -> 0 | H22: =SUM(C22:G22) -> 0
A23: 8170 | B23: Gebyrer i bank | C23: ='Renter og gebyrer'!C13 -> 0 | D23: ='Renter og gebyrer'!D13 -> 0 | E23: ='Renter og gebyrer'!E13 -> 0 | F23: ='Renter og gebyrer'!F13 -> 0 | G23: ='Renter og gebyrer'!G13 -> 0 | H23: =SUM(C23:G23) -> 0
A25: 8800 | B25: ÅRSOVERSKUDD/UNDERSKUDD | C25: =C18+C21+C22+C23 -> 72953.25 | D25: =D18+D21+D22+D23 -> 0 | E25: =E18+E21+E22+E23 -> 0 | F25: =F18+F21+F22+F23 -> 0 | G25: =G18+G21+G22+G23 -> -129876.05 | H25: =H18+H21+H22+H23 -> -56922.8 | I25: =I18+I21+I22+I23 -> 0

Sheet Balanse
A1: Balanse PDSK 2024
D5: Note | E5: 45291 | F5: 45657
A6: 1920 | B6: Foreningskonto 2801.59.02894 | E6: 32417.88 | F6: 18847.04
A7: 1921 | B7: Driftskonto 2801.59.22879 | E7: 35190 | F7: 38151.26
A8: 1922 | B8: Øremerkede midler 3000.58.24555 | E8: 126441.5 | F8: 69518.7
A9: 1923 | F9: 0
B10: Sum Bank | E10: =SUM(E6:E9) -> 194049.38 | F10: =SUM(F6:F9) -> 126517
B11: SUM EIENDELER | E11: =E10 -> 194049.38 | F11: =F10 -> 126517
A13: 2050 | B13: Annen egenkapital | D13: 7 | E13: =E10-E16 -> 67607.88 | F13: =F10-F16 -> 56998.3
B14: Sum egenkapital | E14: =E13 -> 67607.88 | F14: =F13 -> 56998.3
A16: 2990 | B16: Kortsiktig gjeld (øremerkede midler) | D16: 7 | E16: 126441.5 | F16: 69518.7
B17: Sum kortsiktig gjeld | E17: =E16 -> 126441.5 | F17: =F16 -> 69518.7
B19: SUM EGENKAPITAL OG GJELD | E19: =E14+E17 -> 194049.38 | F19: =F14+F17 -> 126517
B21: Balanse | E21: =E11-E19 -> 0 | F21: =F11-F19 -> 0
A24: Porsgrunn, den 09.01.2025
B26: Tore Kaarstein
B27: Kasserer
A29: Porsgrunn, den 09.01.2025
B32: Kontrollutvalg
B36: Balanse: kontobeløp inn + resultat inneværende år - kontobeløp ut = 0

Sheet Inntekter
A1: Inntekter PDSK 2024 Øremerkede midler
A2: INNTEKTER | C2: PDSK | D2: Diskgolf | E2: Ultimate | F2: Heistad | G2: Kjølnes | H2: TOTALT | I2: Dato | J2: Ktrl
A3: 3440 | B3: Andre tilskudd
A4: 3440-1 | B4: Gjensidige stiftelsen | C4: 110925 | H4: =SUM(C4:G4) -> 110925 | I4: 45369
A5: 3440-2 | B5: Sparebankstiftelsen Telemark | G5: 63800 | H5: =SUM(C5:G5) -> 63800 | I5: 45385
A6: 3440-3 | B6: Sparebankstiftelsen Telemark | C6: 73333 | H6: =SUM(C6:G6) -> 73333
H7: =SUM(C7:G7) -> 0
H8: =SUM(C8:G8) -> 0
H10: =SUM(H3:H9) -> 248058

Sheet Utgifter
A1: Utgifter PDSK 2024 Øremerkede midler
A2: UTGIFTER | C2: PDSK | D2: Diskgolf | E2: Ultimate | F2: Heistad | G2: Kjølnes | H2: TOTALT | I2: Dato | J2: Ktrl
A3: 4200 | B3: Innkjøp av utstyr
A4: 4200 | B4: Innkjøp av utstyr | C4: =SUM(C5:C36) -> 111304.75 | D4: =SUM(D5:D36) -> 0 | E4: =SUM(E5:E36) -> 0 | F4: =SUM(F5:F36) -> 0 | G4: =SUM(G5:G36) -> 193676.05 | H4: =SUM(C4:G4) -> 304980.8
A5: 4200-1 | B5: Jons Dekk&felg. Tilhenger innkjøp | C5: 108758.75 | I5: 45370
A6: 4200-2 | B6: Jula Verktøy tilhenger | C6: 2546 | I6: 45405
A7: 4200-3 | B7: Svea XL Bygg Materialer teepads Kjølnes | G7: 10185.26 | I7: 45426
A8: 4200-4 | B8: XL Bygg Kjølnes bane | G8: 3579 | I8: 45447
A9: 4200-5 | B9: Svea XL Bygg Materialer teepads Kjølnes | G9: 7954.34 | I9: 45453
A10: 4200-6 | B10: Discgolfkonsulenten kurver Kjølnes | G10: 104360 | I10: 45453
A11: 4200-7 | B11: Jula materiell Kjølnes | G11: 2316.1 | I11: 45464
A12: 4200-8 | B12: All Sports recycled gress til teepads Kjølnes | G12: 39875 | I12: 45469
A13: 4200-9 | B13: XL Bygg Kjølnes bane | G13: 5265 | I13: 45474
A14: 4200-10 | B14: Clas Ohlson Skruer til tee | G14: 445 | I14: 45489
A15: 4200-11 | B15: Jula Skruer til tee | G15: 1533.8 | I15: 45489
A16: 4200-12 | B16: XL Bygg Kjølnes bane | G16: 1453 | I16: 45495
A17: 4200-13 | B17: Discgolfkonsulenten kurver Kjølnes | G17: 838.75 | I17: 45500
A18: 4200-14 | B18: Biltema Materiell dugnad Kjølnes | G18: 686.8 | I18: 45502
... A21: 4200-17 | B21: Biltema Materiell Kjølnes | G21: 1016 | I21: 45586
H37: =SUM(H4:H36) -> 304980.8

Sheet Renter og gebyrer
A1: Renter og gebyrer PDSK 2024
A2: INNTEKTER | C2: PDSK | D2: Diskgolf | E2: Ultimate | F2: Heistad | G2: Kjølnes | H2: TOTALT | I2: Dato | J2: Ktrl
A3: 8040 | B3: Rente inntekter
A4: 8040 | B4: Renteinnttekter | C4: =SUM(C5:C7) -> 0 | D4: =SUM(D5:D7) -> 0 | E4: =SUM(E5:E7) -> 0 | F4: =SUM(F5:F7) -> 0 | G4: =SUM(G5:G7) -> 0 | H4: =SUM(C4:G4) -> 0
B7: Renter Vipps
A8: 8140 | B8: Renteutgifter
A9: 8140 | B9: Renteutgifter | C9: =SUM(C10:C11) -> 0 | D9: =SUM(D10:D11) -> 0 | E9: =SUM(E10:E11) -> 0 | F9: =SUM(F10:F11) -> 0 | G9: =SUM(G10:G11) -> 0 | H9: =SUM(C9:G9) -> 0
A12: 8170 | B12: Gebyrer i bank
A13: 8170 | B13: Gebyrer i bank | C13: =SUM(C14:C28) -> 0 | D13: =SUM(D14:D28) -> 0 | E13: =SUM(E14:E28) -> 0 | F13: =SUM(F14:F28) -> 0 | G13: =SUM(G14:G28) -> 0 | H13: =SUM(C13:G13) -> 0
