Workbook

Sheet Detaljert
A1: Gruppe | B1: Kontonr | C1: Kontonavn | D1: Resultat 2025 | E1: Budsjett 2025 | F1: Budsjett 2026 (fyll inn) | G1: Avvik kr (2025) | H1: Avvik % (2025)
A2: Driftsinntekter | B2: 3150 | C2: Sponsorinntekter | D2: 4000 | E2: 0 | F2: 5000 | G2: =D2-E2 -> 4000 | H2: =IF(E2=0,"",G2/E2)
A3: Driftsinntekter | B3: 3180 | C3: Salg dopapir | D3: 44595.21 | E3: 80000 | F3: 80000 | G3: =D3-E3 -> -35404.79 | H3: =IF(E3=0,"",G3/E3) -> -0.44255987
A4: Andre driftsinntekter | B4: 3521 | C4: Inntekter lysløypeserien | D4: 3271.62 | E4: 5000 | F4: 6000 | G4: =D4-E4 -> -1728.38 | H4: =IF(E4=0,"",G4/E4) -> -0.345676
A5: Andre driftsinntekter | B5: 3522 | C5: Albygdsprinten (inntekter) | D5: 17475.23 | E5: 10000 | F5: 20000 | G5: =D5-E5 -> 7475.23 | H5: =IF(E5=0,"",G5/E5) -> 0.747523
A6: Andre driftsinntekter | B6: 3524 | C6: Inntekter Svenhukrennet | D6: 0 | E6: 30000 | F6: 35000 | G6: =D6-E6 -> -30000 | H6: =IF(E6=0,"",G6/E6) -> -1
A7: Andre driftsinntekter | B7: 3525 | C7: Hessdalslia opp | D7: 2947.5 | E7: 0 | F7: 3000 | G7: =D7-E7 -> 2947.5 | H7: =IF(E7=0,"",G7/E7)
A8: Andre driftsinntekter | B8: 3901 | C8: Samlinger (inntekter) | D8: 9150 | E8: 0 | F8: 25000 | G8: =D8-E8 -> 9150 | H8: =IF(E8=0,"",G8/E8)
A9: Andre driftsinntekter | B9: 3490 | C9: Overført fra hovedlaget | D9: 0 | E9: 0 | G9: =D9-E9 -> 0 | H9: =IF(E9=0,"",G9/E9)
A10: Varekostnader | B10: 4110 | C10: Varekjøp drakter/utstyr/premier | D10: 9950.5 | E10: 15000 | F10: 10000 | G10: =D10-E10 -> -5049.5 | H10: =IF(E10=0,"",G10/E10) -> -0.33663333
A11: Varekostnader | B11: 4210 | C11: Påmeldingsavgift / startkontingenter | D11: 17080 | E11: 4000 | F11: 14000 | G11: =D11-E11 -> 13080 | H11: =IF(E11=0,"",G11/E11) -> 3.27
A12: Varekostnader | B12: 4250 | C12: Hall-/baneleie | D12: 1790 | E12: 2000 | F12: 1800 | G12: =D12-E12 -> -210 | H12: =IF(E12=0,"",G12/E12) -> -0.105
A13: Varekostnader | B13: 4300 | C13: Varekjøp dopapir | D13: 0 | E13: 0 | F13: 75000 | G13: =D13-E13 -> 0 | H13: =IF(E13=0,"",G13/E13)
A14: Varekostnader | B14: 4521 | C14: Utgifter lysløperenn | D14: 1430 | E14: 2500 | F14: 2500 | G14: =D14-E14 -> -1070 | H14: =IF(E14=0,"",G14/E14) -> -0.428
A15: Varekostnader | B15: 4522 | C15: Albygdsprinten (utgifter) | D15: 5442 | E15: 12000 | F15: 6000 | G15: =D15-E15 -> -6558 | H15: =IF(E15=0,"",G15/E15) -> -0.5465
A16: Varekostnader | B16: 4524 | C16: Utgifter Svenhukrennet | D16: 472 | E16: 14000 | F16: 15000 | G16: =D16-E16 -> -13528 | H16: =IF(E16=0,"",G16/E16) -> -0.96628571
A17: Varekostnader | B17: 4570 | C17: Startkontingent | D17: 0 | E17: 4500 | F17: 0 | G17: =D17-E17 -> -4500 | H17: =IF(E17=0,"",G17/E17) -> -1
A18: Lønnskostnader | B18: 5950 | C18: Kurs / møter | D18: 0 | E18: 500 | F18: 500 | G18: =D18-E18 -> -500 | H18: =IF(E18=0,"",G18/E18) -> -1
A19: Andre driftskostnader | B19: 6630 | C19: Løypekjøring | D19: 0 | E19: 1500 | F19: 1500 | G19: =D19-E19 -> -1500 | H19: =IF(E19=0,"",G19/E19) -> -1
A20: Andre driftskostnader | B20: 6610 | C20: Vedlikehold maskiner/anlegg | D20: 28946 | E20: 2000 | F20: 10000 | G20: =D20-E20 -> 26946 | H20: =IF(E20=0,"",G20/E20) -> 13.473
A21: Andre driftskostnader | B21: 6800 | C21: Kontorekvisita | D21: 0 | E21: 0 | F21: 0 | G21: =D21-E21 -> 0 | H21: =IF(E21=0,"",G21/E21)
... A24: Finans | B24: 8070 | C24: Renteinntekter | D24: 4802 | E24: 0 | F24: 2500 | G24: =D24-E24 -> 4802 | H24: =IF(E24=0,"",G24/E24)
A26: Driftsinntekter | D26: =D2+D3 -> 48595.21 | E26: =E2+E3 -> 80000 | F26: =F2+F3 -> 85000
A27: Andre driftsinntekter | D27: =D4+D5+D6+D7+D8+D9 -> 32844.35 | E27: =E4+E5+E6+E7+E8+E9 -> 45000 | F27: =F5+F6+F7+F8+F9 -> 83000
A28: Varekostnad | D28: =D10+D11+D12+D14+D15+D16+D17 -> 36164.5 | E28: =E10+E11+E12+E13+E14+E15+E16+E17+E18 -> 54500 | F28: =F10+F11+F12+F13+F14+F15+F17+F16+F18 -> 124800
A29: Andre driftskostnader | D29: =D19+D20+D21+D22+D23 -> 63127.83 | E29: =E19+E20+E21+E22+E23 -> 43700 | F29: =F20+F21+F22+F23 -> 45100
A30: Finans | D30: =D24 -> 4802 | E30: =E24 -> 0 | F30: =F24 -> 2500
A32: Resultat | D32: =D26+D27+D30-D28-D29 -> -13050.77 | E32: =E26+E27+E30-E28-E29 -> 26800 | F32: =F26+F27+F30-F28-F29 -> 600

Sheet Sammendrag
A1: Post | B1: Resultat 2025 | C1: Budsjett 2025 | D1: Budsjett 2026 (fyll inn) | E1: Avvik kr (2025) | F1: Avvik % (2025)
A2: Sum salgsinntekter | B2: =SUMIF(Detaljert!A:A,"Driftsinntekter",Detaljert!D:D) -> 97190.42 | C2: =SUMIF(Detaljert!A:A,"Driftsinntekter",Detaljert!E:E) -> 160000 | D2: =SUMIF(Detaljert!A:A,"Driftsinntekter",Detaljert!F:F) -> 170000 | E2: =B2-C2 -> -62809.58 | F2: =IF(C2=0,"",E2/C2) -> -0.39255988
A3: Sum andre driftsinntekter | B3: =SUMIF(Detaljert!A:A,"Andre driftsinntekter",Detaljert!D:D) -> 65688.7 | C3: =SUMIF(Detaljert!A:A,"Andre driftsinntekter",Detaljert!E:E) -> 90000 | D3: =SUMIF(Detaljert!A:A,"Andre driftsinntekter",Detaljert!F:F) -> 172000 | E3: =B3-C3 -> -24311.3 | F3: =IF(C3=0,"",E3/C3) -> -0.27012556
A4: Sum driftsinntekter | B4: =B2+B3 -> 162879.12 | C4: =C2+C3 -> 250000 | D4: =D2+D3 -> 342000 | E4: =B4-C4 -> -87120.88 | F4: =IF(C4=0,"",E4/C4) -> -0.34848352
A5: Sum varekostnader | B5: =SUMIF(Detaljert!A:A,"Varekostnader",Detaljert!D:D) -> 36164.5 | C5: =SUMIF(Detaljert!A:A,"Varekostnader",Detaljert!E:E) -> 54000 | D5: =SUMIF(Detaljert!A:A,"Varekostnader",Detaljert!F:F) -> 124300 | E5: =B5-C5 -> -17835.5 | F5: =IF(C5=0,"",E5/C5) -> -0.33028704
A6: Sum lønnskostnader | B6: =SUMIF(Detaljert!A:A,"Lønnskostnader",Detaljert!D:D) -> 0 | C6: =SUMIF(Detaljert!A:A,"Lønnskostnader",Detaljert!E:E) -> 500 | D6: =SUMIF(Detaljert!A:A,"Lønnskostnader",Detaljert!F:F) -> 500 | E6: =B6-C6 -> -500 | F6: =IF(C6=0,"",E6/C6) -> -1
A7: Sum andre driftskostnader | B7: =SUMIF(Detaljert!A:A,"Andre driftskostnader",Detaljert!D:D) -> 126255.66 | C7: =SUMIF(Detaljert!A:A,"Andre driftskostnader",Detaljert!E:E) -> 87400 | D7: =SUMIF(Detaljert!A:A,"Andre driftskostnader",Detaljert!F:F) -> 91700 | E7: =B7-C7 -> 38855.66 | F7: =IF(C7=0,"",E7/C7) -> 0.44457277
A8: Sum driftskostnader | B8: =B5+B6+B7 -> 162420.16 | C8: =C5+C6+C7 -> 141900 | D8: =D5+D6+D7 -> 216500 | E8: =B8-C8 -> 20520.16 | F8: =IF(C8=0,"",E8/C8) -> 0.14461001
A9: Driftsresultat | B9: =B4-B8 -> 458.96 | C9: =C4-C8 -> 108100 | D9: =D4-D8 -> 125500 | E9: =B9-C9 -> -107641.04 | F9: =IF(C9=0,"",E9/C9) -> -0.9957543
A10: Sum finansinntekter | B10: =SUMIF(Detaljert!A:A,"Finans",Detaljert!D:D) -> 9604 | C10: =SUMIF(Detaljert!A:A,"Finans",Detaljert!E:E) -> 0 | D10: =SUMIF(Detaljert!A:A,"Finans",Detaljert!F:F) -> 5000 | E10: =B10-C10 -> 9604 | F10: =IF(C10=0,"",E10/C10)
A11: Netto finans | B11: =B10 -> 9604 | C11: =C10 -> 0 | D11: =D10 -> 5000 | E11: =B11-C11 -> 9604 | F11: =IF(C11=0,"",E11/C11)
A12: Årsresultat | B12: =B9+B11 -> 10062.96 | C12: =C9+C11 -> 108100 | D12: =D9+D11 -> 130500 | E12: =B12-C12 -> -98037.04 | F12: =IF(C12=0,"",E12/C12) -> -0.90691064
A14: NB: Budsjett 2025 kan endres i kolonnen «Budsjett 2025» (Detaljert). Budsjett 2026 fylles inn av deg.
