Workbook
Name lagsoversikt: Lagsoversikt!$A$1:$A$93

Sheet Baneoversikt
A1: Miniserien 2017 VÅR
A3: Runde 1 Uke 17 26. april
A4: Othillienborg
B5: Bane 1 | D5: Bane 2 | F5: Bane 3a (3v3) | H5: Bane 3b (3v3)
A6: Klokken | B6: Hjemmelag | C6: Bortelag | D6: Hjemmelag | E6: Bortelag | F6: Hjemmelag | G6: Bortelag | H6: Hjemmelag | I6: Bortelag | J6: Klokken
A7: 17.00-17.30 | B7: Nardo J07-1 | C7: Ottis J07-2 | D7: Nardo J07-2 | E7: Utleira J07-1 | F7: Utleira J2010-3 | G7: Bratsberg J2010-1 | H7: Nidelv J2010-1 | I7: Ottis J2010-2 | J7: 17.00-17.15
F8: Nidelv J2010-3 | G8: Utleira J2010-4 | H8: Bratsberg J2010-2 | I8: Ottis J2010-1 | J8: 17.15-17.30
A9: 17.30-18.00 | B9: Nardo J07-3 | C9: Ottis J07-1 | D9: Utleira J07-2 | E9: Nidelv J07-1 | F9: Bratsberg J2010-1 | G9: Nidelv J2010-1 | H9: Utleira J2010-3 | I9: Ottis J2010-2 | J9: 17.30-17.45
F10: Utleira J2010-1 | G10: Nidelv J2010-2 | H10: Utleira J2010-2 | I10: Bratsberg J2010-2 | J10: 17.45-18.00
A11: 18.00-18.30 | B11: Ottis J07-2 | C11: Nardo J07-2 | D11: Nardo J07-1 | E11: Utleira J07-1 | F11: Utleira J2010-3 | G11: Nidelv J2010-1 | H11: Bratsberg J2010-1 | I11: Ottis J2010-2 | J11: 18.00-18.15
F12: Utleira J2010-4 | G12: Bratsberg J2010-2 | H12: Nidelv J2010-3 | I12: Ottis J2010-1 | J12: 18.15-18.30
A13: 18.30-19.00 | B13: Ottis J07-1 | C13: Utleira J07-2 | D13: Nardo J07-3 | E13: Nidelv J07-1 | F13: Utleira J2010-1 | G13: Bratsberg J2010-1 | H13: Nidelv J2010-2 | I13: Utleira J2010-2 | J13: 18.30-18.45
F14: Nidelv J2010-3 | G14: Bratsberg J2010-2 | H14: Utleira J2010-4 | I14: Ottis J2010-1 | J14: 18.45-19.00
A16: Bratsberg | G16: Nidarvoll Skole
B17: Bane 1 | D17: Bane 2 | H17: Bane 1 | J17: Bane 2
A18: Klokken | B18: Hjemmelag | C18: Bortelag | D18: Hjemmelag | E18: Bortelag | G18: Klokken | H18: Hjemmelag | I18: Bortelag | J18: Hjemmelag | K18: Bortelag
A19: 17.00-17.30 | B19: Utleira G08-1 | C19: Nardo G08-1 | D19: Nardo G08-3 | E19: Bratsberg G08-2 | G19: 17.00-17.30 | H19: Nidelv J09-1 | I19: Nardo J09-1 | J19: Utleira J09-1 | K19: Bratsberg J09-1
A20: 17.30-18.00 | B20: Utleira G08-3 | C20: Nidelv G08-1 | D20: Bratsberg G08-1 | E20: Ottis G08-2 | G20: 17.30-18.00 | H20: Nidelv J09-2 | I20: Nardo J09-2 | J20: Utleira J09-2 | K20: Ottis J09-1
A21: 18.00-18.30 | B21: Utleira G08-1 | C21: Nardo G08-3 | D21: Nardo G08-1 | E21: Bratsberg G08-2 | G21: 18.00-18.30 | H21: Nardo J09-1 | I21: Utleira J09-1 | J21: Nidelv J09-1 | K21: Bratsberg J09-1
A22: 18.30-19.00 | B22: Utleira G08-3 | C22: Ottis G08-2 | D22: Nidelv G08-1 | E22: Bratsberg G08-1 | G22: 18.30-19.00 | H22: Nardo J09-2 | I22: Utleira J09-2 | J22: Nidelv J09-2 | K22: Ottis J09-1
A24: Utleira Stordalen | G24: Utleira Stadion
B25: Bane 1 | D25: Bane 2 | H25: Bane 1 | J25: Bane 2
A26: Klokken | B26: Hjemmelag | C26: Bortelag | D26: Hjemmelag | E26: Bortelag | G26: Klokken | H26: Hjemmelag | I26: Bortelag | J26: Hjemmelag | K26: Bortelag
A27: 17.00-17.30 | B27: Nardo G09-1 | C27: Utleira G09-1 | D27: Nidelv G09-1 | E27: Ottis G09-1 | G27: 17.00-17.30 | H27: Nidelv J08-1 | I27: Utleira J08-1 | J27: Nidelv J08-2 | K27: Ottis J08-1
A28: 17.30-18.00 | B28: Nardo G09-2 | C28: Utleira G09-2 | D28: Nidelv G09-2 | E28: Ottis G09-2 | G28: 17.30-18.00 | H28: Ottis G07-2 | I28: Utleira G07-1 | J28: Nardo G07-1 | K28: Ottis G07-1
A29: 18.00-18.30 | B29: Utleira G09-1 | C29: Nidelv G09-1 | D29: Nardo G09-1 | E29: Ottis G09-1 | G29: 18.00-18.30 | H29: Utleira J08-1 | I29: Nidelv J08-2 | J29: Nidelv J08-1 | K29: Ottis J08-1
A30: 18.30-19.00 | B30: Utleira G09-2 | C30: Nidelv G09-2 | D30: Nardo G09-2 | E30: Ottis G09-2 | G30: 18.30-19.00 | H30: Ottis G07-2 | I30: Nardo G07-1 | J30: Utleira G07-1 | K30: Ottis G07-1
A32: Nissekollen
B33: Bane 1 | D33: Bane 2
A34: Klokken | B34: Hjemmelag | C34: Bortelag | D34: Hjemmelag | E34: Bortelag
A35: 17.00-17.15 | B35: Nidelv G2010-1 | C35: Utleira G2010-1 | D35: Ottis G2010-1 | E35: Nardo G2010-1
A36: 17.15-17.30 | B36: Nidelv G2010-2 | C36: Utleira G2010-2 | D36: Ottis G2010-2 | E36: Bratsberg G2010-1
A37: 17.30-17.45 | B37: Nidelv G2010-1 | C37: Nardo G2010-1 | D37: Utleira G2010-1 | E37: Ottis G2010-1
A38: 17.45-18.00 | B38: Nidelv G2010-2 | C38: Nardo G2010-2 | D38: Utleira G2010-2 | E38: Ottis G2010-3
A39: 18.00-18.15 | B39: Nardo G2010-1 | C39: Utleira G2010-1 | D39: Nidelv G2010-1 | E39: Ottis G2010-1
A40: 18.15-18.30 | B40: Utleira G2010-2 | C40: Ottis G2010-2 | D40: Nidelv G2010-2 | E40: Bratsberg G2010-1
A41: 18.30-18.45 | B41: Nidelv G2010-1 | C41: Ottis G2010-3 | D41: Utleira G2010-1 | E41: Nardo G2010-2
A42: 18.45-19.00 | B42: Ottis G2010-2 | C42: Nidelv G2010-2 | D42: Utleira G2010-2 | E42: Bratsberg G2010-1
A44: Runde 2 Uke 18 kampdag 3. mai
A45: Othillienborg
B46: Bane 1 | D46: Bane 2 | F46: Bane 3a (3v3) | H46: Bane 3b (3v3)
A47: Klokken | B47: Hjemmelag | C47: Bortelag | D47: Hjemmelag | E47: Bortelag | F47: Hjemmelag | G47: Bortelag | H47: Hjemmelag | I47: Bortelag | J47: Klokken
A48: 17.00-17.30 | B48: Nardo G09-3 | C48: Utleira G09-3 | D48: Nardo G09-1 | E48: Ottis G09-2 | F48: Nidelv G2010-3 | G48: Utleira G2010-3 | H48: Ottis G2010-5 | I48: Bratsberg G2010-2 | J48: 17.00-17.15
F49: Nidelv G2010-4 | G49: Utleira G2010-4 | H49: Ottis G2010-4 | I49: Nardo G2010-2 | J49: 17.15-17.30
A50: 17.30-18.00 | B50: Nidelv G09-2 | C50: Ottis G09-1 | D50: Utleira G09-1 | E50: Nardo G09-2 | F50: Nidelv G2010-3 | G50: Ottis G2010-5 | H50: Utleira G2010-3 | I50: Bratsberg G2010-2 | J50: 17.30-17.45
F51: Ottis G2010-4 | G51: Nidelv G2010-5 | H51: Utleira G2010-4 | I51: Nidelv G2010-6 | J51: 17.45-18.00
A52: 18.00-18.30 | B52: Nardo G09-1 | C52: Utleira G09-3 | D52: Nardo G09-3 | E52: Ottis G09-2 | F52: Ottis G2010-5 | G52: Utleira G2010-3 | H52: Nidelv G2010-3 | I52: Bratsberg G2010-2 | J52: 18.00-18.15
F53: Nidelv G2010-4 | G53: Ottis G2010-4 | H53: Utleira G2010-4 | I53: Nardo G2010-2 | J53: 18.15-18.30
A54: 18.30-19.00 | B54: Nidelv G09-2 | C54: Nardo G09-2 | D54: Ottis G09-1 | E54: Utleira G09-1 | F54: Ottis G2010-5 | G54: Nidelv G2010-6 | H54: Utleira G2010-3 | I54: Nidelv G2010-5 | J54: 18.30-18.45
F55: Ottis G2010-4 | G55: Utleira G2010-4 | H55: Nidelv G2010-4 | I55: Nardo G2010-2 | J55: 18.45-19.00
A57: Bratsberg | G57: Nidarvoll Skole
B58: Bane 1 | D58: Bane 2 | H58: Bane 1 | J58: Bane 2
A59: Klokken | B59: Hjemmelag | C59: Bortelag | D59: Hjemmelag | E59: Bortelag | G59: Klokken | H59: Hjemmelag | I59: Bortelag | J59: Hjemmelag | K59: Bortelag
A60: 17.00-17.30 | B60: Nidelv J09-3 | C60: Utleira J09-1 | D60: Ottis J09-1 | E60: Nidelv J09-1 | G60: 17.00-17.30 | H60: Nidelv J07-2 | I60: Bratsberg J07-1 | J60: Nardo J07-3 | K60: Utleira J07-2
A61: 17.30-18.00 | B61: Nardo J09-1 | C61: Utleira J09-2 | D61: Bratsberg J09-1 | E61: Nardo J09-2 | G61: 17.30-18.00 | H61: Ottis J07-1 | I61: Nardo J07-1 | J61: Nidelv J07-2 | K61: Utleira J07-1
A62: 18.00-18.30 | B62: Nidelv J09-3 | C62: Ottis J09-1 | D62: Utleira J09-1 | E62: Nidelv J09-1 | G62: 18.00-18.30 | H62: Bratsberg J07-1 | I62: Nardo J07-3 | J62: Nidelv J07-2 | K62: Utleira J07-2
A63: 18.30-19.00 | B63: Nardo J09-1 | C63: Bratsberg J09-1 | D63: Utleira J09-2 | E63: Nardo J09-2 | G63: 18.30-19.00 | H63: Nardo J07-1 | I63: Nidelv J07-2 | J63: Ottis J07-1 | K63: Utleira J07-1
A65: Utleira Stordalen | G65: Nissekollen
B66: Bane 1 | D66: Bane 2 | H66: Bane 1 | J66: Bane 2
A67: Klokken | B67: Hjemmelag | C67: Bortelag | D67: Hjemmelag | E67: Bortelag | G67: Klokken | H67: Hjemmelag | I67: Bortelag | J67: Hjemmelag | K67: Bortelag
A68: 17.00-17.30 | B68: Nidelv G08-1 | C68: Utleira G08-4 | D68: Nardo G08-3 | E68: Utleira G08-2 | G68: 17.00-17.30 | H68: Nidelv G07-1 | I68: Ottis G07-3 | J68: Nardo G07-2 | K68: Nidelv G07-2
A69: 17.30-18.00 | B69: Nardo G08-2 | C69: Nidelv G08-3 | D69: Nidelv G08-2 | E69: Ottis G08-1 | G69: 17.30-18.00 | H69: Nidelv G07-3 | I69: Ottis G07-2 | J69: Nardo G07-1 | K69: Ottis G07-1
A70: 18.00-18.30 | B70: Utleira G08-4 | C70: Nardo G08-3 | D70: Nidelv G08-1 | E70: Utleira G08-2 | G70: 18.00-18.30 | H70: Nidelv G07-1 | I70: Nardo G07-2 | J70: Ottis G07-3 | K70: Nidelv G07-2
A71: 18.30-19.00 | B71: Nidelv G08-3 | C71: Ottis G08-1 | D71: Nidelv G08-2 | E71: Nardo G08-2 | G71: 18.30-19.00 | H71: Ottis G07-2 | I71: Nardo G07-1 | J71: Nidelv G07-3 | K71: Ottis G07-1
A73: Runde 3 Uke 19 kampdag 10. mai
A74: Othillienborg
B75: Bane 1 | D75: Bane 2 | F75: Bane 3a (3v3) | H75: Bane 3b (3v3)
A76: Klokken | B76: Hjemmelag | C76: Bortelag | D76: Hjemmelag | E76: Bortelag | F76: Hjemmelag | G76: Bortelag | H76: Hjemmelag | I76: Bortelag | J76: Klokken
A77: 17.00-17.30 | B77: Nidelv J09-2 | C77: Nardo J09-1 | D77: Utleira J09-1 | E77: Ottis J09-1 | F77: Utleira J2010-2 | G77: Nidelv J2010-1 | H77: Utleira J2010-3 | I77: Nidelv J2010-2 | J77: 17.00-17.15
F78: Nidelv J2010-3 | G78: Utleira J2010-4 | H78: Utleira J2010-1 | I78: Ottis J2010-2 | J78: 17.15-17.30
A79: 17.30-18.00 | B79: Nidelv J09-3 | C79: Nardo J09-2 | D79: Utleira J09-2 | E79: Bratsberg J09-1 | F79: Utleira J2010-3 | G79: Bratsberg J2010-2 | H79: Nidelv J2010-2 | I79: Ottis J2010-1 | J79: 17.30-17.45
F80: Utleira J2010-2 | G80: Nidelv J2010-3 | H80: Nidelv J2010-1 | I80: Utleira J2010-4 | J80: 17.45-18.00
A81: 18.00-18.30 | B81: Nidelv J09-2 | C81: Utleira J09-1 | D81: Nardo J09-1 | E81: Ottis J09-1 | F81: Utleira J2010-3 | G81: Ottis J2010-2 | H81: Utleira J2010-1 | I81: Nidelv J2010-2 | J81: 18.00-18.15
F82: Utleira J2010-2 | G82: Ottis J2010-1 | H82: Nidelv J2010-3 | I82: Bratsberg J2010-2 | J82: 18.15-18.30
A83: 18.30-19.00 | B83: Nidelv J09-3 | C83: Utleira J09-2 | D83: Nardo J09-2 | E83: Bratsberg J09-1 | F83: Utleira J2010-4 | G83: Ottis J2010-2 | H83: Nidelv J2010-1 | I83: Utleira J2010-3 | J83: 18.30-18.45
F84: Utleira J2010-1 | G84: Bratsberg J2010-2 | H84: Utleira J2010-2 | I84: Nidelv J2010-2 | J84: 18.45-19.00
A86: Bratsberg | G86: Nidarvoll Skole
B87: Bane 1 | D87: Bane 2 | H87: Bane 1 | J87: Bane 2
A88: Klokken | B88: Hjemmelag | C88: Bortelag | D88: Hjemmelag | E88: Bortelag | G88: Klokken | H88: Hjemmelag | I88: Bortelag | J88: Hjemmelag | K88: Bortelag
A89: 17.00-17.30 | B89: Utleira G08-4 | C89: Bratsberg G08-1 | D89: Nidelv G08-1 | E89: Bratsberg G08-2 | G89: 17.00-17.30 | H89: Nardo G09-1 | I89: Utleira G09-2 | J89: Nidelv G09-2 | K89: Ottis G09-2
A90: 17.30-18.00 | B90: Utleira J08-2 | C90: Ottis J08-1 | D90: Utleira J08-1 | E90: Nidelv J08-1 | G90: 17.30-18.00 | H90: Nardo G09-2 | I90: Utleira G09-3 | J90: Ottis G09-1 | K90: Nardo G09-3
A91: 18.00-18.30 | B91: Bratsberg G08-1 | C91: Nidelv G08-1 | D91: Utleira G08-4 | E91: Bratsberg G08-2 | G91: 18.00-18.30 | H91: Nardo G09-1 | I91: Nidelv G09-2 | J91: Utleira G09-2 | K91: Ottis G09-2
A92: 18.30-19.00 | B92: Ottis J08-1 | C92: Utleira J08-1 | D92: Utleira J08-2 | E92: Nidelv J08-1 | G92: 18.30-19.00 | H92: Nardo G09-2 | I92: Ottis G09-1 | J92: Utleira G09-3 | K92: Nardo G09-3
A94: Utleira Stordalen | G94: Utleira Stadion
B95: Bane 1 | D95: Bane 2 | H95: Bane 1 | J95: Bane 2
A96: Klokken | B96: Hjemmelag | C96: Bortelag | D96: Hjemmelag | E96: Bortelag | G96: Klokken | H96: Hjemmelag | I96: Bortelag | J96: Hjemmelag | K96: Bortelag
A97: 17.00-17.30 | B97: Nidelv G07-3 | C97: Ottis G07-3 | D97: Nidelv G07-2 | E97: Utleira G07-2 | G97: 17.00-17.30 | H97: Nardo J07-2 | I97: Nidelv J07-2 | J97: Ottis J07-2 | K97: Bratsberg J07-1
A98: 17.30-18.00 | B98: Nidelv G07-1 | C98: Ottis G07-1 | D98: Nardo G07-2 | E98: Utleira G07-1 | G98: 17.30-18.00 | H98: Nidelv J07-1 | I98: Nardo J07-3 | J98: Utleira J07-1 | K98: Ottis J07-1
A99: 18.00-18.30 | B99: Ottis G07-3 | C99: Nidelv G07-2 | D99: Nidelv G07-3 | E99: Utleira G07-2 | G99: 18.00-18.30 | H99: Nidelv J07-2 | I99: Ottis J07-2 | J99: Nardo J07-2 | K99: Bratsberg J07-1
A100: 18.30-19.00 | B100: Ottis G07-1 | C100: Nardo G07-2 | D100: Nidelv G07-1 | E100: Utleira G07-1 | G100: 18.30-19.00 | H100: Nardo J07-3 | I100: Utleira J07-1 | J100: Nidelv J07-1 | K100: Ottis J07-1
A102: Nissekollen
B103: Bane 1 | D103: Bane 2
A104: Klokken | B104: Hjemmelag | C104: Bortelag | D104: Hjemmelag | E104: Bortelag
A105: 17.00-17.15 | B105: Nidelv G2010-7 | C105: Utleira G2010-5 | D105: Ottis G2010-3 | E105: Nardo G2010-1
A106: 17.15-17.30 | B106: Nidelv G2010-8 | C106: Utleira G2010-6 | D106: Ottis G2010-6 | E106: Bratsberg G2010-1
A107: 17.30-17.45 | B107: Utleira G2010-5 | C107: Ottis G2010-3 | D107: Nidelv G2010-7 | E107: Nardo G2010-1
A108: 17.45-18.00 | B108: Nidelv G2010-8 | C108: Utleira G2010-1 | D108: Ottis G2010-6 | E108: Utleira G2010-2
A109: 18.00-18.15 | B109: Ottis G2010-3 | C109: Nidelv G2010-7 | D109: Utleira G2010-5 | E109: Nardo G2010-1
A110: 18.15-18.30 | B110: Utleira G2010-6 | C110: Ottis G2010-6 | D110: Nidelv G2010-8 | E110: Bratsberg G2010-1
A111: 18.30-18.45 | B111: Ottis G2010-3 | C111: Utleira G2010-1 | D111: Nidelv G2010-7 | E111: Utleira G2010-2
...

Sheet Lagsoversikt
A1: Nidelv J2010-1
A2: Nidelv J2010-2
A3: Nidelv J2010-3
A4: Utleira J2010-1
A5: Utleira J2010-2
A6: Utleira J2010-3
A7: Utleira J2010-4
A8: Bratsberg J2010-1
A9: Bratsberg J2010-2
A10: Ottis J2010-1
A11: Ottis J2010-2
A12: Nidelv J09-1
... A93: Ottis G07-3

Sheet Oppsummering
A1: Runde 1 HØST 2016 | K1: Totaloversikt
A2: Oversikt over antall kamper Miniserien | K2: Oversikt over antall kamper Miniserien
A3: Nidelv | B3: Antall kamper | D3: Nardo | E3: Antall kamper | G3: Utleira | H3: Antall kamper | K3: Nidelv | L3: Antall kamper | N3: Nardo | O3: Antall kamper | Q3: Utleira | R3: Antall kamper
A4: Nidelv G2010-1 | B4: =COUNTIF(Baneoversikt!$A$3:$K$41,Oppsummering!A4) -> 4 | D4: Nardo G2010-1 | E4: =COUNTIF(Baneoversikt!$A$3:$K$41,Oppsummering!D4) -> 3 | G4: Utleira G2010-1 | H4: =COUNTIF(Baneoversikt!$A$3:$K$41,Oppsummering!G4) -> 4 | K4: Nidelv G2010-1 | L4: =COUNTIF(Baneoversikt!$A$7:$K$254,Oppsummering!K4) -> 10 | N4: Nardo G2010-1 | O4: =COUNTIF(Baneoversikt!$A$7:$K$254,Oppsummering!N4) -> 11 | Q4: Utleira G2010-1 | R4: =COUNTIF(Baneoversikt!$A$7:$K$254,Oppsummering!Q4) -> 10
A5: Nidelv G2010-2 | B5: =COUNTIF(Baneoversikt!$A$3:$K$41,Oppsummering!A5) -> 3 | D5: Nardo G2010-2 | E5: =COUNTIF(Baneoversikt!$A$3:$K$41,Oppsummering!D5) -> 2 | G5: Utleira G2010-2 | H5: =COUNTIF(Baneoversikt!$A$3:$K$41,Oppsummering!G5) -> 3 | K5: Nidelv G2010-2 | L5: =COUNTIF(Baneoversikt!$A$7:$K$254,Oppsummering!K5) -> 10 | N5: Nardo G2010-2 | O5: =COUNTIF(Baneoversikt!$A$7:$K$254,Oppsummering!N5) -> 11 | Q5: Utleira G2010-2 | R5: =COUNTIF(Baneoversikt!$A$7:$K$254,Oppsummering!Q5) -> 10
A6: Nidelv G2010-3 | B6: =COUNTIF(Baneoversikt!$A$3:$K$41,Oppsummering!A6) -> 0 | D6: Nardo G09-1 | E6: =COUNTIF(Baneoversikt!$A$3:$K$41,Oppsummering!D6) -> 2 | G6: Utleira G2010-3 | H6: =COUNTIF(Baneoversikt!$A$3:$K$41,Oppsummering!G6) -> 0 | K6: Nidelv G2010-3 | L6: =COUNTIF(Baneoversikt!$A$7:$K$254,Oppsummering!K6) -> 8 | N6: Nardo G09-1 | O6: =COUNTIF(Baneoversikt!$A$7:$K$254,Oppsummering!N6) -> 8 | Q6: Utleira G2010-3 | R6: =COUNTIF(Baneoversikt!$A$7:$K$254,Oppsummering!Q6) -> 8
A7: Nidelv G2010-4 | B7: =COUNTIF(Baneoversikt!$A$3:$K$41,Oppsummering!A7) -> 0 | D7: Nardo G09-2 | E7: =COUNTIF(Baneoversikt!$A$3:$K$41,Oppsummering!D7) -> 2 | G7: Utleira G2010-4 | H7: =COUNTIF(Baneoversikt!$A$3:$K$41,Oppsummering!G7) -> 0 | K7: Nidelv G2010-4 | L7: =COUNTIF(Baneoversikt!$A$7:$K$254,Oppsummering!K7) -> 8 | N7: Nardo G09-2 | O7: =COUNTIF(Baneoversikt!$A$7:$K$254,Oppsummering!N7) -> 10 | Q7: Utleira G2010-4 | R7: =COUNTIF(Baneoversikt!$A$7:$K$254,Oppsummering!Q7) -> 8
A8: Nidelv G2010-5 | B8: =COUNTIF(Baneoversikt!$A$3:$K$41,Oppsummering!A8) -> 0 | D8: Nardo G09-3 | E8: =COUNTIF(Baneoversikt!$A$3:$K$41,Oppsummering!D8) -> 0 | G8: Utleira G2010-5 | H8: =COUNTIF(Baneoversikt!$A$3:$K$41,Oppsummering!G8) -> 0 | K8: Nidelv G2010-5 | L8: =COUNTIF(Baneoversikt!$A$7:$K$254,Oppsummering!K8) -> 9 | N8: Nardo G09-3 | O8: =COUNTIF(Baneoversikt!$A$7:$K$254,Oppsummering!N8) -> 10 | Q8: Utleira G2010-5 | R8: =COUNTIF(Baneoversikt!$A$7:$K$254,Oppsummering!Q8) -> 9
A9: Nidelv G2010-6 | B9: =COUNTIF(Baneoversikt!$A$3:$K$41,Oppsummering!A9) -> 0 | D9: Nardo G08-1 | E9: =COUNTIF(Baneoversikt!$A$3:$K$41,Oppsummering!D9) -> 2 | G9: Utleira G2020-6 | H9: =COUNTIF(Baneoversikt!$A$3:$K$41,Oppsummering!G9) -> 0 | K9: Nidelv G2010-6 | L9: =COUNTIF(Baneoversikt!$A$7:$K$254,Oppsummering!K9) -> 9 | N9: Nardo G08-1 | O9: =COUNTIF(Baneoversikt!$A$7:$K$254,Oppsummering!N9) -> 8 | Q9: Utleira G2010-6 | R9: =COUNTIF(Baneoversikt!$A$7:$K$254,Oppsummering!Q9) -> 9
A10: Nidelv G2010-7 | B10: =COUNTIF(Baneoversikt!$A$3:$K$41,Oppsummering!A10) -> 0 | D10: Nardo G08-2 | E10: =COUNTIF(Baneoversikt!$A$3:$K$41,Oppsummering!D10) -> 0 | G10: Utleira G09-1 | H10: =COUNTIF(Baneoversikt!$A$3:$K$41,Oppsummering!G10) -> 2 | K10: Nidelv G2010-7 | L10: =COUNTIF(Baneoversikt!$A$7:$K$254,Oppsummering!K10) -> 9 | N10: Nardo G08-2 | O10: =COUNTIF(Baneoversikt!$A$7:$K$254,Oppsummering!N10) -> 8 | Q10: Utleira G09-1 | R10: =COUNTIF(Baneoversikt!$A$7:$K$254,Oppsummering!Q10) -> 10
A11: Nidelv G2010-8 | B11: =COUNTIF(Baneoversikt!$A$3:$K$41,Oppsummering!A11) -> 0 | D11: Nardo G08-3 | E11: =COUNTIF(Baneoversikt!$A$3:$K$41,Oppsummering!D11) -> 2 | G11: Utleira G09-2 | H11: =COUNTIF(Baneoversikt!$A$3:$K$41,Oppsummering!G11) -> 2 | K11: Nidelv G2010-8 | L11: =COUNTIF(Baneoversikt!$A$7:$K$254,Oppsummering!K11) -> 9 | N11: Nardo G08-3 | O11: =COUNTIF(Baneoversikt!$A$7:$K$254,Oppsummering!N11) -> 8 | Q11: Utleira G09-2 | R11: =COUNTIF(Baneoversikt!$A$7:$K$254,Oppsummering!Q11) -> 10
A12: Nidelv G09-1 | B12: =COUNTIF(Baneoversikt!$A$3:$K$41,Oppsummering!A12) -> 2 | D12: Nardo G07-1 | E12: =COUNTIF(Baneoversikt!$A$3:$K$41,Oppsummering!D12) -> 2 | G12: Utleira G09-3 | H12: =COUNTIF(Baneoversikt!$A$3:$K$41,Oppsummering!G12) -> 0 | K12: Nidelv G09-1 | L12: =COUNTIF(Baneoversikt!$A$7:$K$254,Oppsummering!K12) -> 10 | N12: Nardo G07-1 | O12: =COUNTIF(Baneoversikt!$A$7:$K$254,Oppsummering!N12) -> 10 | Q12: Utleira G09-3 | R12: =COUNTIF(Baneoversikt!$A$7:$K$254,Oppsummering!Q12) -> 8
A13: Nidelv G09-2 | B13: =COUNTIF(Baneoversikt!$A$3:$K$41,Oppsummering!A13) -> 2 | D13: Nardo G07-2 | E13: =COUNTIF(Baneoversikt!$A$3:$K$41,Oppsummering!D13) -> 0 | G13: Utleira G08-1 | H13: =COUNTIF(Baneoversikt!$A$3:$K$41,Oppsummering!G13) -> 2 | K13: Nidelv G09-2 | L13: =COUNTIF(Baneoversikt!$A$7:$K$254,Oppsummering!K13) -> 10 | N13: Nardo G07-2 | O13: =COUNTIF(Baneoversikt!$A$7:$K$254,Oppsummering!N13) -> 10 | Q13: Utleira G08-1 | R13: =COUNTIF(Baneoversikt!$A$7:$K$254,Oppsummering!Q13) -> 8
A14: Nidelv G08-1 | B14: =COUNTIF(Baneoversikt!$A$3:$K$41,Oppsummering!A14) -> 2 | D14: Nardo J09-1 | E14: =COUNTIF(Baneoversikt!$A$3:$K$41,Oppsummering!D14) -> 2 | G14: Utleira G08-2 | H14: =COUNTIF(Baneoversikt!$A$3:$K$41,Oppsummering!G14) -> 0 | K14: Nidelv G08-1 | L14: =COUNTIF(Baneoversikt!$A$7:$K$254,Oppsummering!K14) -> 8 | N14: Nardo J09-1 | O14: =COUNTIF(Baneoversikt!$A$7:$K$254,Oppsummering!N14) -> 10 | Q14: Utleira G08-2 | R14: =COUNTIF(Baneoversikt!$A$7:$K$254,Oppsummering!Q14) -> 8
A15: Nidelv G08-2 | B15: =COUNTIF(Baneoversikt!$A$3:$K$41,Oppsummering!A15) -> 0 | D15: Nardo J09-2 | E15: =COUNTIF(Baneoversikt!$A$3:$K$41,Oppsummering!D15) -> 2 | G15: Utleira G08-3 | H15: =COUNTIF(Baneoversikt!$A$3:$K$41,Oppsummering!G15) -> 2 | K15: Nidelv G08-2 | L15: =COUNTIF(Baneoversikt!$A$7:$K$254,Oppsummering!K15) -> 8 | N15: Nardo J09-2 | O15: =COUNTIF(Baneoversikt!$A$7:$K$254,Oppsummering!N15) -> 10 | Q15: Utleira G08-3 | R15: =COUNTIF(Baneoversikt!$A$7:$K$254,Oppsummering!Q15) -> 8
... A18: Nidelv G07-2 | B18: =COUNTIF(Baneoversikt!$A$3:$K$41,Oppsummering!A18) -> 0 | D18: Nardo J07-3 | E18: =COUNTIF(Baneoversikt!$A$3:$K$41,Oppsummering!D18) -> 2 | G18: Utleira G07-2 | H18: =COUNTIF(Baneoversikt!$A$3:$K$41,Oppsummering!G18) -> 0 | K18: Nidelv G07-2 | L18: =COUNTIF(Baneoversikt!$A$7:$K$254,Oppsummering!K18) -> 10 | N18: Nardo J07-3 | O18: =COUNTIF(Baneoversikt!$A$7:$K$254,Oppsummering!N18) -> 10 | Q18: Utleira G07-2 | R18: =COUNTIF(Baneoversikt!$A$7:$K$254,Oppsummering!Q18) -> 10
A19: Nidelv G07-3 | B19: =COUNTIF(Baneoversikt!$A$3:$K$41,Oppsummering!A19) -> 0 | G19: Utleira J2010-1 | H19: =COUNTIF(Baneoversikt!$A$3:$K$41,Oppsummering!G19) -> 2 | K19: Nidelv G07-3 | L19: =COUNTIF(Baneoversikt!$A$7:$K$254,Oppsummering!K19) -> 10 | Q19: Utleira J2010-1 | R19: =COUNTIF(Baneoversikt!$A$7:$K$254,Oppsummering!Q19) -> 11
A20: Nidelv J2010-1 | B20: =COUNTIF(Baneoversikt!$A$3:$K$41,Oppsummering!A20) -> 3 | G20: Utleira J2010-2 | H20: =COUNTIF(Baneoversikt!$A$3:$K$41,Oppsummering!G20) -> 2 | K20: Nidelv J2010-1 | L20: =COUNTIF(Baneoversikt!$A$7:$K$254,Oppsummering!K20) -> 12 | Q20: Utleira J2010-2 | R20: =COUNTIF(Baneoversikt!$A$7:$K$254,Oppsummering!Q20) -> 12
A21: Nidelv J2010-2 | B21: =COUNTIF(Baneoversikt!$A$3:$K$41,Oppsummering!A21) -> 2 | G21: Utleira J2010-3 | H21: =COUNTIF(Baneoversikt!$A$3:$K$41,Oppsummering!G21) -> 3 | K21: Nidelv J2010-2 | L21: =COUNTIF(Baneoversikt!$A$7:$K$254,Oppsummering!K21) -> 12 | Q21: Utleira J2010-3 | R21: =COUNTIF(Baneoversikt!$A$7:$K$254,Oppsummering!Q21) -> 11
A22: Nidelv J2010-3 | B22: =COUNTIF(Baneoversikt!$A$3:$K$41,Oppsummering!A22) -> 3 | G22: Utleira J2010-4 | H22: =COUNTIF(Baneoversikt!$A$3:$K$41,Oppsummering!G22) -> 3 | K22: Nidelv J2010-3 | L22: =COUNTIF(Baneoversikt!$A$7:$K$254,Oppsummering!K22) -> 11 | Q22: Utleira J2010-4 | R22: =COUNTIF(Baneoversikt!$A$7:$K$254,Oppsummering!Q22) -> 11
A23: Nidelv J09-1 | B23: =COUNTIF(Baneoversikt!$A$3:$K$41,Oppsummering!A23) -> 2 | G23: Utleira J09-1 | H23: =COUNTIF(Baneoversikt!$A$3:$K$41,Oppsummering!G23) -> 2 | K23: Nidelv J09-1 | L23: =COUNTIF(Baneoversikt!$A$7:$K$254,Oppsummering!K23) -> 10 | Q23: Utleira J09-1 | R23: =COUNTIF(Baneoversikt!$A$7:$K$254,Oppsummering!Q23) -> 10
A24: Nidelv J09-2 | B24: =COUNTIF(Baneoversikt!$A$3:$K$41,Oppsummering!A24) -> 2 | G24: Utleira J09-2 | H24: =COUNTIF(Baneoversikt!$A$3:$K$41,Oppsummering!G24) -> 2 | K24: Nidelv J09-2 | L24: =COUNTIF(Baneoversikt!$A$7:$K$254,Oppsummering!K24) -> 10 | Q24: Utleira J09-2 | R24: =COUNTIF(Baneoversikt!$A$7:$K$254,Oppsummering!Q24) -> 10
A25: Nidelv J09-3 | B25: =COUNTIF(Baneoversikt!$A$3:$K$41,Oppsummering!A25) -> 0 | G25: Utleira J08-1 | H25: =COUNTIF(Baneoversikt!$A$3:$K$41,Oppsummering!G25) -> 2 | K25: Nidelv J09-3 | L25: =COUNTIF(Baneoversikt!$A$7:$K$254,Oppsummering!K25) -> 8 | Q25: Utleira J08-1 | R25: =COUNTIF(Baneoversikt!$A$7:$K$254,Oppsummering!Q25) -> 8
A26: Nidelv J08-1 | B26: =COUNTIF(Baneoversikt!$A$3:$K$41,Oppsummering!A26) -> 2 | G26: Utleira J08-2 | H26: =COUNTIF(Baneoversikt!$A$3:$K$41,Oppsummering!G26) -> 0 | K26: Nidelv J08-1 | L26: =COUNTIF(Baneoversikt!$A$7:$K$254,Oppsummering!K26) -> 10 | Q26: Utleira J08-2 | R26: =COUNTIF(Baneoversikt!$A$7:$K$254,Oppsummering!Q26) -> 10
A27: Nidelv J08-2 | B27: =COUNTIF(Baneoversikt!$A$3:$K$41,Oppsummering!A27) -> 2 | G27: Utleira J07-1 | H27: =COUNTIF(Baneoversikt!$A$3:$K$41,Oppsummering!G27) -> 2 | K27: Nidelv J08-2 | L27: =COUNTIF(Baneoversikt!$A$7:$K$254,Oppsummering!K27) -> 8 | Q27: Utleira J07-1 | R27: =COUNTIF(Baneoversikt!$A$7:$K$254,Oppsummering!Q27) -> 10
A28: Nidelv J07-1 | B28: =COUNTIF(Baneoversikt!$A$3:$K$41,Oppsummering!A28) -> 2 | G28: Utleira J07-2 | H28: =COUNTIF(Baneoversikt!$A$3:$K$41,Oppsummering!G28) -> 2 | K28: Nidelv J07-1 | L28: =COUNTIF(Baneoversikt!$A$7:$K$254,Oppsummering!K28) -> 10 | Q28: Utleira J07-2 | R28: =COUNTIF(Baneoversikt!$A$7:$K$254,Oppsummering!Q28) -> 10
A29: Nidelv J07-2 | B29: =COUNTIF(Baneoversikt!$A$3:$K$41,Oppsummering!A29) -> 0 | K29: Nidelv J07-2 | L29: =COUNTIF(Baneoversikt!$A$7:$K$254,Oppsummering!K29) -> 10
A31: Othillienborg | B31: Antall kamper | D31: Bratsberg | E31: Antall kamper | K31: Othillienborg | L31: Antall kamper | N31: Brattsberg | O31: Antall kamper
A32: Ottis G2010-1 | B32: =COUNTIF(Baneoversikt!$A$3:$K$41,Oppsummering!A32) -> 3 | D32: Bratsberg G2010-1 | E32: =COUNTIF(Baneoversikt!$A$3:$K$41,Oppsummering!D32) -> 2 | K32: Ottis G2010-1 | L32: =COUNTIF(Baneoversikt!$A$7:$K$254,Oppsummering!K32) -> 9 | N32: Bratsberg G2010-1 | O32: =COUNTIF(Baneoversikt!$A$7:$K$254,Oppsummering!N32) -> 11
A33: Ottis G2010-2 | B33: =COUNTIF(Baneoversikt!$A$3:$K$41,Oppsummering!A33) -> 2 | D33: Bratsberg G2010-2 | E33: =COUNTIF(Baneoversikt!$A$3:$K$41,Oppsummering!D33) -> 0 | K33: Ottis G2010-2 | L33: =COUNTIF(Baneoversikt!$A$7:$K$254,Oppsummering!K33) -> 10 | N33: Bratsberg G2010-2 | O33: =COUNTIF(Baneoversikt!$A$7:$K$254,Oppsummering!N33) -> 12
A34: Ottis G2010-3 | B34: =COUNTIF(Baneoversikt!$A$3:$K$41,Oppsummering!A34) -> 2 | D34: Bratsberg G08-1 | E34: =COUNTIF(Baneoversikt!$A$3:$K$41,Oppsummering!D34) -> 2 | K34: Ottis G2010-3 | L34: =COUNTIF(Baneoversikt!$A$7:$K$254,Oppsummering!K34) -> 10 | N34: Bratsberg G08-1 | O34: =COUNTIF(Baneoversikt!$A$7:$K$254,Oppsummering!N34) -> 8
A35: Ottis G2010-4 | B35: =COUNTIF(Baneoversikt!$A$3:$K$41,Oppsummering!A35) -> 0 | D35: Bratsberg G08-2 | E35: =COUNTIF(Baneoversikt!$A$3:$K$41,Oppsummering!D35) -> 2 | K35: Ottis G2010-4 | L35: =COUNTIF(Baneoversikt!$A$7:$K$254,Oppsummering!K35) -> 8 | N35: Bratsberg G08-2 | O35: =COUNTIF(Baneoversikt!$A$7:$K$254,Oppsummering!N35) -> 8
A36: Ottis G2010-5 | B36: =COUNTIF(Baneoversikt!$A$3:$K$41,Oppsummering!A36) -> 0 | D36: Bratsberg J2010-1 | E36: =COUNTIF(Baneoversikt!$A$3:$K$41,Oppsummering!D36) -> 4 | K36: Ottis G2010-5 | L36: =COUNTIF(Baneoversikt!$A$7:$K$254,Oppsummering!K36) -> 8 | N36: Bratsberg J2010-1 | O36: =COUNTIF(Baneoversikt!$A$7:$K$254,Oppsummering!N36) -> 11
A37: Ottis G2010-6 | B37: =COUNTIF(Baneoversikt!$A$3:$K$41,Oppsummering!A37) -> 0 | D37: Bratsberg J2010-2 | E37: =COUNTIF(Baneoversikt!$A$3:$K$41,Oppsummering!D37) -> 4 | K37: Ottis G2010-6 | L37: =COUNTIF(Baneoversikt!$A$7:$K$254,Oppsummering!K37) -> 8 | N37: Bratsberg J2010-2 | O37: =COUNTIF(Baneoversikt!$A$7:$K$254,Oppsummering!N37) -> 13
A38: Ottis G09-1 | B38: =COUNTIF(Baneoversikt!$A$3:$K$41,Oppsummering!A38) -> 2 | D38: Bratsberg J09-1 | E38: =COUNTIF(Baneoversikt!$A$3:$K$41,Oppsummering!D38) -> 2 | K38: Ottis G09-1 | L38: =COUNTIF(Baneoversikt!$A$7:$K$254,Oppsummering!K38) -> 10 | N38: Bratsberg J09-1 | O38: =COUNTIF(Baneoversikt!$A$7:$K$254,Oppsummering!N38) -> 10
A39: Ottis G09-2 | B39: =COUNTIF(Baneoversikt!$A$3:$K$41,Oppsummering!A39) -> 2 | D39: Bratsberg J07-1 | E39: =COUNTIF(Baneoversikt!$A$3:$K$41,Oppsummering!D39) -> 0 | K39: Ottis G09-2 | L39: =COUNTIF(Baneoversikt!$A$7:$K$254,Oppsummering!K39) -> 10 | N39: Bratsberg J07-1 | O39: =COUNTIF(Baneoversikt!$A$7:$K$254,Oppsummering!N39) -> 10
A40: Ottis G08-1 | B40: =COUNTIF(Baneoversikt!$A$3:$K$41,Oppsummering!A40) -> 0 | K40: Ottis G08-1 | L40: =COUNTIF(Baneoversikt!$A$7:$K$254,Oppsummering!K40) -> 8
A41: Ottis G08-2 | B41: =COUNTIF(Baneoversikt!$A$3:$K$41,Oppsummering!A41) -> 2 | K41: Ottis G08-2 | L41: =COUNTIF(Baneoversikt!$A$7:$K$254,Oppsummering!K41) -> 8
A42: Ottis G07-1 | B42: =COUNTIF(Baneoversikt!$A$3:$K$41,Oppsummering!A42) -> 2 | K42: Ottis G07-1 | L42: =COUNTIF(Baneoversikt!$A$7:$K$254,Oppsummering!K42) -> 10
A43: Ottis G07-2 | B43: =COUNTIF(Baneoversikt!$A$3:$K$41,Oppsummering!A43) -> 2 | K43: Ottis G07-2 | L43: =COUNTIF(Baneoversikt!$A$7:$K$254,Oppsummering!K43) -> 10
A44: Ottis G07-3 | B44: =COUNTIF(Baneoversikt!$A$3:$K$41,Oppsummering!A44) -> 0 | K44: Ottis G07-3 | L44: =COUNTIF(Baneoversikt!$A$7:$K$254,Oppsummering!K44) -> 10
A45: Ottis J2010-1 | B45: =COUNTIF(Baneoversikt!$A$3:$K$41,Oppsummering!A45) -> 3 | K45: Ottis J2010-1 | L45: =COUNTIF(Baneoversikt!$A$7:$K$254,Oppsummering!K45) -> 12
A46: Ottis J2010-2 | B46: =COUNTIF(Baneoversikt!$A$3:$K$41,Oppsummering!A46) -> 3 | K46: Ottis J2010-2 | L46: =COUNTIF(Baneoversikt!$A$7:$K$254,Oppsummering!K46) -> 12
A47: Ottis J09-1 | B47: =COUNTIF(Baneoversikt!$A$3:$K$41,Oppsummering!A47) -> 2 | K47: Ottis J09-1 | L47: =COUNTIF(Baneoversikt!$A$7:$K$254,Oppsummering!K47) -> 10
A48: Ottis J08-1 | B48: =COUNTIF(Baneoversikt!$A$3:$K$41,Oppsummering!A48) -> 2 | K48: Ottis J08-1 | L48: =COUNTIF(Baneoversikt!$A$7:$K$254,Oppsummering!K48) -> 12
A49: Ottis J07-1 | B49: =COUNTIF(Baneoversikt!$A$3:$K$41,Oppsummering!A49) -> 2 | K49: Ottis J07-1 | L49: =COUNTIF(Baneoversikt!$A$7:$K$254,Oppsummering!K49) -> 10
A50: Ottis J07-2 | B50: =COUNTIF(Baneoversikt!$A$3:$K$41,Oppsummering!A50) -> 2 | K50: Ottis J07-2 | L50: =COUNTIF(Baneoversikt!$A$7:$K$254,Oppsummering!K50) -> 10
A52: Runde 2 VÅR 2016
A53: Oversikt over antall kamper Miniserien
A54: Nidelv | B54: Antall kamper | D54: Nardo | E54: Antall kamper | G54: Utleira | H54: Antall kamper
A55: Nidelv G2010-1 | B55: =COUNTIF(Baneoversikt!$A$44:$K$71,Oppsummering!A55) -> 0 | D55: Nardo G2010-1 | E55: =COUNTIF(Baneoversikt!$A$44:$K$71,Oppsummering!D55) -> 0 | G55: Utleira G2010-1 | H55: =COUNTIF(Baneoversikt!$A$44:$K$71,Oppsummering!G55) -> 0
A56: Nidelv G2010-2 | B56: =COUNTIF(Baneoversikt!$A$44:$K$71,Oppsummering!A56) -> 0 | D56: Nardo G2010-2 | E56: =COUNTIF(Baneoversikt!$A$44:$K$71,Oppsummering!D56) -> 3 | G56: Utleira G2010-2 | H56: =COUNTIF(Baneoversikt!$A$44:$K$71,Oppsummering!G56) -> 0
A57: Nidelv G2010-3 | B57: =COUNTIF(Baneoversikt!$A$44:$K$71,Oppsummering!A57) -> 3 | D57: Nardo G09-1 | E57: =COUNTIF(Baneoversikt!$A$44:$K$71,Oppsummering!D57) -> 2 | G57: Utleira G2010-3 | H57: =COUNTIF(Baneoversikt!$A$44:$K$71,Oppsummering!G57) -> 4
A58: Nidelv G2010-4 | B58: =COUNTIF(Baneoversikt!$A$44:$K$71,Oppsummering!A58) -> 3 | D58: Nardo G09-2 | E58: =COUNTIF(Baneoversikt!$A$44:$K$71,Oppsummering!D58) -> 2 | G58: Utleira G2010-4 | H58: =COUNTIF(Baneoversikt!$A$44:$K$71,Oppsummering!G58) -> 4
A59: Nidelv G2010-5 | B59: =COUNTIF(Baneoversikt!$A$44:$K$71,Oppsummering!A59) -> 2 | D59: Nardo G09-3 | E59: =COUNTIF(Baneoversikt!$A$44:$K$71,Oppsummering!D59) -> 2 | G59: Utleira G2010-5 | H59: =COUNTIF(Baneoversikt!$A$44:$K$71,Oppsummering!G59) -> 0
A60: Nidelv G2010-6 | B60: =COUNTIF(Baneoversikt!$A$44:$K$71,Oppsummering!A60) -> 2 | D60: Nardo G08-1 | E60: =COUNTIF(Baneoversikt!$A$44:$K$71,Oppsummering!D60) -> 0 | G60: Utleira G2020-6 | H60: =COUNTIF(Baneoversikt!$A$44:$K$71,Oppsummering!G60) -> 0
A61: Nidelv G2010-7 | B61: =COUNTIF(Baneoversikt!$A$44:$K$71,Oppsummering!A61) -> 0 | D61: Nardo G08-2 | E61: =COUNTIF(Baneoversikt!$A$44:$K$71,Oppsummering!D61) -> 2 | G61: Utleira G09-1 | H61: =COUNTIF(Baneoversikt!$A$44:$K$71,Oppsummering!G61) -> 2
A62: Nidelv G2010-8 | B62: =COUNTIF(Baneoversikt!$A$44:$K$71,Oppsummering!A62) -> 0 | D62: Nardo G08-3 | E62: =COUNTIF(Baneoversikt!$A$44:$K$71,Oppsummering!D62) -> 2 | G62: Utleira G09-2 | H62: =COUNTIF(Baneoversikt!$A$44:$K$71,Oppsummering!G62) -> 0
A63: Nidelv G09-1 | B63: =COUNTIF(Baneoversikt!$A$44:$K$71,Oppsummering!A63) -> 0 | D63: Nardo G07-1 | E63: =COUNTIF(Baneoversikt!$A$44:$K$71,Oppsummering!D63) -> 2 | G63: Utleira G09-3 | H63: =COUNTIF(Baneoversikt!$A$44:$K$71,Oppsummering!G63) -> 2
A64: Nidelv G09-2 | B64: =COUNTIF(Baneoversikt!$A$44:$K$71,Oppsummering!A64) -> 2 | D64: Nardo G07-2 | E64: =COUNTIF(Baneoversikt!$A$44:$K$71,Oppsummering!D64) -> 2 | G64: Utleira G08-1 | H64: =COUNTIF(Baneoversikt!$A$44:$K$71,Oppsummering!G64) -> 0
A65: Nidelv G08-1 | B65: =COUNTIF(Baneoversikt!$A$44:$K$71,Oppsummering!A65) -> 2 | D65: Nardo J09-1 | E65: =COUNTIF(Baneoversikt!$A$44:$K$71,Oppsummering!D65) -> 2 | G65: Utleira G08-2 | H65: =COUNTIF(Baneoversikt!$A$44:$K$71,Oppsummering!G65) -> 2
A66: Nidelv G08-2 | B66: =COUNTIF(Baneoversikt!$A$44:$K$71,Oppsummering!A66) -> 2 | D66: Nardo J09-2 | E66: =COUNTIF(Baneoversikt!$A$44:$K$71,Oppsummering!D66) -> 2 | G66: Utleira G08-3 | H66: =COUNTIF(Baneoversikt!$A$44:$K$71,Oppsummering!G66) -> 0
... A69: Nidelv G07-2 | B69: =COUNTIF(Baneoversikt!$A$44:$K$71,Oppsummering!A69) -> 2 | D69: Nardo J07-3 | E69: =COUNTIF(Baneoversikt!$A$44:$K$71,Oppsummering!D69) -> 2 | G69: Utleira G07-2 | H69: =COUNTIF(Baneoversikt!$A$44:$K$71,Oppsummering!G69) -> 0
A70: Nidelv G07-3 | B70: =COUNTIF(Baneoversikt!$A$44:$K$71,Oppsummering!A70) -> 2 | G70: Utleira J2010-1 | H70: =COUNTIF(Baneoversikt!$A$44:$K$71,Oppsummering!G70) -> 0
A71: Nidelv J2010-1 | B71: =COUNTIF(Baneoversikt!$A$44:$K$71,Oppsummering!A71) -> 0 | G71: Utleira J2010-2 | H71: =COUNTIF(Baneoversikt!$A$44:$K$71,Oppsummering!G71) -> 0
A72: Nidelv J2010-2 | B72: =COUNTIF(Baneoversikt!$A$44:$K$71,Oppsummering!A72) -> 0 | G72: Utleira J2010-3 | H72: =COUNTIF(Baneoversikt!$A$44:$K$71,Oppsummering!G72) -> 0
A73: Nidelv J2010-3 | B73: =COUNTIF(Baneoversikt!$A$44:$K$71,Oppsummering!A73) -> 0 | G73: Utleira J2010-4 | H73: =COUNTIF(Baneoversikt!$A$44:$K$71,Oppsummering!G73) -> 0
A74: Nidelv J09-1 | B74: =COUNTIF(Baneoversikt!$A$44:$K$71,Oppsummering!A74) -> 2 | G74: Utleira J09-1 | H74: =COUNTIF(Baneoversikt!$A$44:$K$71,Oppsummering!G74) -> 2
A75: Nidelv J09-2 | B75: =COUNTIF(Baneoversikt!$A$44:$K$71,Oppsummering!A75) -> 0 | G75: Utleira J09-2 | H75: =COUNTIF(Baneoversikt!$A$44:$K$71,Oppsummering!G75) -> 2
A76: Nidelv J09-3 | B76: =COUNTIF(Baneoversikt!$A$44:$K$71,Oppsummering!A76) -> 2 | G76: Utleira J08-1 | H76: =COUNTIF(Baneoversikt!$A$44:$K$71,Oppsummering!G76) -> 0
A77: Nidelv J08-1 | B77: =COUNTIF(Baneoversikt!$A$44:$K$71,Oppsummering!A77) -> 0 | G77: Utleira J08-2 | H77: =COUNTIF(Baneoversikt!$A$44:$K$71,Oppsummering!G77) -> 0
A78: Nidelv J08-2 | B78: =COUNTIF(Baneoversikt!$A$44:$K$71,Oppsummering!A78) -> 0 | G78: Utleira J07-1 | H78: =COUNTIF(Baneoversikt!$A$44:$K$71,Oppsummering!G78) -> 2
A79: Nidelv J07-1 | B79: =COUNTIF(Baneoversikt!$A$44:$K$71,Oppsummering!A79) -> 0 | G79: Utleira J07-2 | H79: =COUNTIF(Baneoversikt!$A$44:$K$71,Oppsummering!G79) -> 2
A80: Nidelv J07-2 | B80: =COUNTIF(Baneoversikt!$A$44:$K$71,Oppsummering!A80) -> 4
A82: Othillienborg | B82: Antall kamper | D82: Bratsberg | E82: Antall kamper
A83: Ottis G2010-1 | B83: =COUNTIF(Baneoversikt!$A$44:$K$71,Oppsummering!A83) -> 0 | D83: Bratsberg G2010-1 | E83: =COUNTIF(Baneoversikt!$A$44:$K$71,Oppsummering!D83) -> 0
A84: Ottis G2010-2 | B84: =COUNTIF(Baneoversikt!$A$44:$K$71,Oppsummering!A84) -> 0 | D84: Bratsberg G2010-2 | E84: =COUNTIF(Baneoversikt!$A$44:$K$71,Oppsummering!D84) -> 3
A85: Ottis G2010-3 | B85: =COUNTIF(Baneoversikt!$A$44:$K$71,Oppsummering!A85) -> 0 | D85: Bratsberg G08-1 | E85: =COUNTIF(Baneoversikt!$A$44:$K$71,Oppsummering!D85) -> 0
A86: Ottis G2010-4 | B86: =COUNTIF(Baneoversikt!$A$44:$K$71,Oppsummering!A86) -> 4 | D86: Bratsberg G08-2 | E86: =COUNTIF(Baneoversikt!$A$44:$K$71,Oppsummering!D86) -> 0
A87: Ottis G2010-5 | B87: =COUNTIF(Baneoversikt!$A$44:$K$71,Oppsummering!A87) -> 4 | D87: Bratsberg J2010-1 | E87: =COUNTIF(Baneoversikt!$A$44:$K$71,Oppsummering!D87) -> 0
A88: Ottis G2010-6 | B88: =COUNTIF(Baneoversikt!$A$44:$K$71,Oppsummering!A88) -> 0 | D88: Bratsberg J2010-2 | E88: =COUNTIF(Baneoversikt!$A$44:$K$71,Oppsummering!D88) -> 0
A89: Ottis G09-1 | B89: =COUNTIF(Baneoversikt!$A$44:$K$71,Oppsummering!A89) -> 2 | D89: Bratsberg J09-1 | E89: =COUNTIF(Baneoversikt!$A$44:$K$71,Oppsummering!D89) -> 2
A90: Ottis G09-2 | B90: =COUNTIF(Baneoversikt!$A$44:$K$71,Oppsummering!A90) -> 2 | D90: Bratsberg J07-1 | E90: =COUNTIF(Baneoversikt!$A$44:$K$71,Oppsummering!D90) -> 2
A91: Ottis G08-1 | B91: =COUNTIF(Baneoversikt!$A$44:$K$71,Oppsummering!A91) -> 2
A92: Ottis G08-2 | B92: =COUNTIF(Baneoversikt!$A$44:$K$71,Oppsummering!A92) -> 0
A93: Ottis G07-1 | B93: =COUNTIF(Baneoversikt!$A$44:$K$71,Oppsummering!A93) -> 2
A94: Ottis G07-2 | B94: =COUNTIF(Baneoversikt!$A$44:$K$71,Oppsummering!A94) -> 2
A95: Ottis G07-3 | B95: =COUNTIF(Baneoversikt!$A$44:$K$71,Oppsummering!A95) -> 2
A96: Ottis J2010-1 | B96: =COUNTIF(Baneoversikt!$A$44:$K$71,Oppsummering!A96) -> 0
A97: Ottis J2010-2 | B97: =COUNTIF(Baneoversikt!$A$44:$K$71,Oppsummering!A97) -> 0
A98: Ottis J09-1 | B98: =COUNTIF(Baneoversikt!$A$44:$K$71,Oppsummering!A98) -> 2
A99: Ottis J08-1 | B99: =COUNTIF(Baneoversikt!$A$44:$K$71,Oppsummering!A99) -> 0
A100: Ottis J07-1 | B100: =COUNTIF(Baneoversikt!$A$44:$K$71,Oppsummering!A100) -> 2
A101: Ottis J07-2 | B101: =COUNTIF(Baneoversikt!$A$44:$K$71,Oppsummering!A101) -> 0
A105: Runde 3 VÅR 2016
A106: Oversikt over antall kamper Miniserien
A107: Nidelv | B107: Antall kamper | D107: Nardo | E107: Antall kamper | G107: Utleira | H107: Antall kamper
A108: Nidelv G2010-1 | B108: =COUNTIF(Baneoversikt!$A$73:$K$111,Oppsummering!A108) -> 0 | D108: Nardo G2010-1 | E108: =COUNTIF(Baneoversikt!$A$73:$K$111,Oppsummering!D108) -> 3 | G108: Utleira G2010-1 | H108: =COUNTIF(Baneoversikt!$A$73:$K$111,Oppsummering!G108) -> 2
A109: Nidelv G2010-2 | B109: =COUNTIF(Baneoversikt!$A$73:$K$111,Oppsummering!A109) -> 0 | D109: Nardo G2010-2 | E109: =COUNTIF(Baneoversikt!$A$73:$K$111,Oppsummering!D109) -> 0 | G109: Utleira G2010-2 | H109: =COUNTIF(Baneoversikt!$A$73:$K$111,Oppsummering!G109) -> 2
A110: Nidelv G2010-3 | B110: =COUNTIF(Baneoversikt!$A$73:$K$111,Oppsummering!A110) -> 0 | D110: Nardo G09-1 | E110: =COUNTIF(Baneoversikt!$A$73:$K$111,Oppsummering!D110) -> 2 | G110: Utleira G2010-3 | H110: =COUNTIF(Baneoversikt!$A$73:$K$111,Oppsummering!G110) -> 0
...
