Workbook
Name lagsoversikt: Lagsoversikt!$A$1:$A$93

Sheet Baneoversikt
A1: Miniserien 2017 VÅR
A3: Runde 1 Uke 17 26. april
A4: Othillienborg
B5: Bane 1 | D5: Bane 2 | F5: Bane 3a (3v3) | H5: Bane 3b (3v3)
A6: Klokken | B6: Hjemmelag | C6: Bortelag | D6: Hjemmelag | E6: Bortelag | F6: Hjemmelag | G6: Bortelag | H6: Hjemmelag | I6: Bortelag | J6: Klokken
A7: 17.00-17.30 | B7: Nardo J07-1 | C7: Ottis J07-2 | D7: Nardo J07-2 | E7: Utleira J07-1 | F7: Utleira J2010-3 | G7: Bratsberg J2010-1 | H7: Nidelv J2010-1 | I7: Ottis J2010-2 | J7: 17.00-17.15
F8: Nidelv J2010-3 | G8: Utleira J2010-4 | H8: Bratsberg J2010-2 | I8: Ottis J2010-1 | J8: 17.15-17.30
A9: 17.30-18.00 | B9: Nardo J07-3 | C9: Ottis J07-1 | D9: Utleira J07-2 | E9: Nidelv J07-1 | F9: Bratsberg J2010-1 | G9: Nidelv J2010-1 | H9: Utleira J2010-3 | I9: Ottis J2010-2 | J9: 17.30-17.45
F10: Utleira J2010-1 | G10: Nidelv J2010-2 | H10: Utleira J2010-2 | I10: Bratsberg J2010-2 | J10: 17.45-18.00
A11: 18.00-18.30 | B11: Ottis J07-2 | C11: Nardo J07-2 | D11: Nardo J07-1 | E11: Utleira J07-1 | F11: Utleira J2010-3 | G11: Nidelv J2010-1 | H11: Bratsberg J2010-1 | I11: Ottis J2010-2 | J11: 18.00-18.15
F12: Utleira J2010-4 | G12: Bratsberg J2010-2 | H12: Nidelv J2010-3 | I12: Ottis J2010-1 | J12: 18.15-18.30
A13: 18.30-19.00 | B13: Ottis J07-1 | C13: Utleira J07-2 | D13: Nardo J07-3 | E13: Nidelv J07-1 | F13: Utleira J2010-1 | G13: Bratsberg J2010-1 | H13: Nidelv J2010-2 | I13: Utleira J2010-2 | J13: 18.30-18.45
F14: Nidelv J2010-3 | G14: Bratsberg J2010-2 | H14: Utleira J2010-4 | I14: Ottis J2010-1 | J14: 18.45-19.00
A16: Bratsberg | G16: Nidarvoll Skole
B17: Bane 1 | D17: Bane 2 | H17: Bane 1 | J17: Bane 2
A18: Klokken | B18: Hjemmelag | C18: Bortelag | D18: Hjemmelag | E18: Bortelag | G18: Klokken | H18: Hjemmelag | I18: Bortelag | J18: Hjemmelag | K18: Bortelag
A19: 17.00-17.30 | B19: Utleira G08-1 | C19: Nardo G08-1 | D19: Nardo G08-3 | E19: Bratsberg G08-2 | G19: 17.00-17.30 | H19: Nidelv J09-1 | I19: Nardo J09-1 | J19: Utleira J09-1 | K19: Bratsberg J09-1
A20: 17.30-18.00 | B20: Utleira G08-3 | C20: Nidelv G08-1 | D20: Bratsberg G08-1 | E20: Ottis G08-2 | G20: 17.30-18.00 | H20: Nidelv J09-2 | I20: Nardo J09-2 | J20: Utleira J09-2 | K20: Ottis J09-1
A21: 18.00-18.30 | B21: Utleira G08-1 | C21: Nardo G08-3 | D21: Nardo G08-1 | E21: Bratsberg G08-2 | G21: 18.00-18.30 | H21: Nardo J09-1 | I21: Utleira J09-1 | J21: Nidelv J09-1 | K21: Bratsberg J09-1
A22: 18.30-19.00 | B22: Utleira G08-3 | C22: Ottis G08-2 | D22: Nidelv G08-1 | E22: Bratsberg G08-1 | G22: 18.30-19.00 | H22: Nardo J09-2 | I22: Utleira J09-2 | J22: Nidelv J09-2 | K22: Ottis J09-1
A24: Utleira Stordalen | G24: Utleira Stadion
B25: Bane 1 | D25: Bane 2 | H25: Bane 1 | J25: Bane 2
A26: Klokken | B26: Hjemmelag | C26: Bortelag | D26: Hjemmelag | E26: Bortelag | G26: Klokken | H26: Hjemmelag | I26: Bortelag | J26: Hjemmelag | K26: Bortelag
A27: 17.00-17.30 | B27: Nardo G09-1 | C27: Utleira G09-1 | D27: Nidelv G09-1 | E27: Ottis G09-1 | G27: 17.00-17.30 | H27: Nidelv J08-1 | I27: Utleira J08-1 | J27: Nidelv J08-2 | K27: Ottis J08-1
A28: 17.30-18.00 | B28: Nardo G09-2 | C28: Utleira G09-2 | D28: Nidelv G09-2 | E28: Ottis G09-2 | G28: 17.30-18.00 | H28: Ottis G07-2 | I28: Utleira G07-1 | J28: Nardo G07-1 | K28: Ottis G07-1
A29: 18.00-18.30 | B29: Utleira G09-1 | C29: Nidelv G09-1 | D29: Nardo G09-1 | E29: Ottis G09-1 | G29: 18.00-18.30 | H29: Utleira J08-1 | I29: Nidelv J08-2 | J29: Nidelv J08-1 | K29: Ottis J08-1
A30: 18.30-19.00 | B30: Utleira G09-2 | C30: Nidelv G09-2 | D30: Nardo G09-2 | E30: Ottis G09-2 | G30: 18.30-19.00 | H30: Ottis G07-2 | I30: Nardo G07-1 | J30: Utleira G07-1 | K30: Ottis G07-1
A32: Nissekollen
B33: Bane 1 | D33: Bane 2
A34: Klokken | B34: Hjemmelag | C34: Bortelag | D34: Hjemmelag | E34: Bortelag
A35: 17.00-17.15 | B35: Nidelv G2010-1 | C35: Utleira G2010-1 | D35: Ottis G2010-1 | E35: Nardo G2010-1
A36: 17.15-17.30 | B36: Nidelv G2010-2 | C36: Utleira G2010-2 | D36: Ottis G2010-2 | E36: Bratsberg G2010-1
A37: 17.30-17.45 | B37: Nidelv G2010-1 | C37: Nardo G2010-1 | D37: Utleira G2010-1 | E37: Ottis G2010-1
A38: 17.45-18.00 | B38: Nidelv G2010-2 | C38: Nardo G2010-2 | D38: Utleira G2010-2 | E38: Ottis G2010-3
A39: 18.00-18.15 | B39: Nardo G2010-1 | C39: Utleira G2010-1 | D39: Nidelv G2010-1 | E39: Ottis G2010-1
A40: 18.15-18.30 | B40: Utleira G2010-2 | C40: Ottis G2010-2 | D40: Nidelv G2010-2 | E40: Bratsberg G2010-1
A41: 18.30-18.45 | B41: Nidelv G2010-1 | C41: Ottis G2010-3 | D41: Utleira G2010-1 | E41: Nardo G2010-2
A42: 18.45-19.00 | B42: Ottis G2010-2 | C42: Nidelv G2010-2 | D42: Utleira G2010-2 | E42: Bratsberg G2010-1
A44: Runde 2 Uke 18 kampdag 3. mai
A45: Othillienborg
...

Sheet Lagsoversikt
A1: Nidelv J2010-1
A2: Nidelv J2010-2
A3: Nidelv J2010-3
A4: Utleira J2010-1
A5: Utleira J2010-2
A6: Utleira J2010-3
A7: Utleira J2010-4
A8: Bratsberg J2010-1
A9: Bratsberg J2010-2
A10: Ottis J2010-1
A11: Ottis J2010-2
A12: Nidelv J09-1
... A93: Ottis G07-3

Sheet Oppsummering
A1: Runde 1 HØST 2016 | K1: Totaloversikt
A2: Oversikt over antall kamper Miniserien | K2: Oversikt over antall kamper Miniserien
A3: Nidelv | B3: Antall kamper | D3: Nardo | E3: Antall kamper | G3: Utleira | H3: Antall kamper | K3: Nidelv | L3: Antall kamper | N3: Nardo | O3: Antall kamper | Q3: Utleira | R3: Antall kamper
A4: Nidelv G2010-1 | B4: =COUNTIF(Baneoversikt!$A$3:$K$41,Oppsummering!A4) -> 4 | D4: Nardo G2010-1 | E4: =COUNTIF(Baneoversikt!$A$3:$K$41,Oppsummering!D4) -> 3 | G4: Utleira G2010-1 | H4: =COUNTIF(Baneoversikt!$A$3:$K$41,Oppsummering!G4) -> 4 | K4: Nidelv G2010-1 | L4: =COUNTIF(Baneoversikt!$A$7:$K$254,Oppsummering!K4) -> 10 | N4: Nardo G2010-1 | O4: =COUNTIF(Baneoversikt!$A$7:$K$254,Oppsummering!N4) -> 11 | Q4: Utleira G2010-1 | R4: =COUNTIF(Baneoversikt!$A$7:$K$254,Oppsummering!Q4) -> 10
A5: Nidelv G2010-2 | B5: =COUNTIF(Baneoversikt!$A$3:$K$41,Oppsummering!A5) -> 3 | D5: Nardo G2010-2 | E5: =COUNTIF(Baneoversikt!$A$3:$K$41,Oppsummering!D5) -> 2 | G5: Utleira G2010-2 | H5: =COUNTIF(Baneoversikt!$A$3:$K$41,Oppsummering!G5) -> 3 | K5: Nidelv G2010-2 | L5: =COUNTIF(Baneoversikt!$A$7:$K$254,Oppsummering!K5) -> 10 | N5: Nardo G2010-2 | O5: =COUNTIF(Baneoversikt!$A$7:$K$254,Oppsummering!N5) -> 11 | Q5: Utleira G2010-2 | R5: =COUNTIF(Baneoversikt!$A$7:$K$254,Oppsummering!Q5) -> 10
A6: Nidelv G2010-3 | B6: =COUNTIF(Baneoversikt!$A$3:$K$41,Oppsummering!A6) -> 0 | D6: Nardo G09-1 | E6: =COUNTIF(Baneoversikt!$A$3:$K$41,Oppsummering!D6) -> 2 | G6: Utleira G2010-3 | H6: =COUNTIF(Baneoversikt!$A$3:$K$41,Oppsummering!G6) -> 0 | K6: Nidelv G2010-3 | L6: =COUNTIF(Baneoversikt!$A$7:$K$254,Oppsummering!K6) -> 8 | N6: Nardo G09-1 | O6: =COUNTIF(Baneoversikt!$A$7:$K$254,Oppsummering!N6) -> 8 | Q6: Utleira G2010-3 | R6: =COUNTIF(Baneoversikt!$A$7:$K$254,Oppsummering!Q6) -> 8
A7: Nidelv G2010-4 | B7: =COUNTIF(Baneoversikt!$A$3:$K$41,Oppsummering!A7) -> 0 | D7: Nardo G09-2 | E7: =COUNTIF(Baneoversikt!$A$3:$K$41,Oppsummering!D7) -> 2 | G7: Utleira G2010-4 | H7: =COUNTIF(Baneoversikt!$A$3:$K$41,Oppsummering!G7) -> 0 | K7: Nidelv G2010-4 | L7: =COUNTIF(Baneoversikt!$A$7:$K$254,Oppsummering!K7) -> 8 | N7: Nardo G09-2 | O7: =COUNTIF(Baneoversikt!$A$7:$K$254,Oppsummering!N7) -> 10 | Q7: Utleira G2010-4 | R7: =COUNTIF(Baneoversikt!$A$7:$K$254,Oppsummering!Q7) -> 8
A8: Nidelv G2010-5 | B8: =COUNTIF(Baneoversikt!$A$3:$K$41,Oppsummering!A8) -> 0 | D8: Nardo G09-3 | E8: =COUNTIF(Baneoversikt!$A$3:$K$41,Oppsummering!D8) -> 0 | G8: Utleira G2010-5 | H8: =COUNTIF(Baneoversikt!$A$3:$K$41,Oppsummering!G8) -> 0 | K8: Nidelv G2010-5 | L8: =COUNTIF(Baneoversikt!$A$7:$K$254,Oppsummering!K8) -> 9 | N8: Nardo G09-3 | O8: =COUNTIF(Baneoversikt!$A$7:$K$254,Oppsummering!N8) -> 10 | Q8: Utleira G2010-5 | R8: =COUNTIF(Baneoversikt!$A$7:$K$254,Oppsummering!Q8) -> 9
A9: Nidelv G2010-6 | B9: =COUNTIF(Baneoversikt!$A$3:$K$41,Oppsummering!A9) -> 0 | D9: Nardo G08-1 | E9: =COUNTIF(Baneoversikt!$A$3:$K$41,Oppsummering!D9) -> 2 | G9: Utleira G2020-6 | H9: =COUNTIF(Baneoversikt!$A$3:$K$41,Oppsummering!G9) -> 0 | K9: Nidelv G2010-6 | L9: =COUNTIF(Baneoversikt!$A$7:$K$254,Oppsummering!K9) -> 9 | N9: Nardo G08-1 | O9: =COUNTIF(Baneoversikt!$A$7:$K$254,Oppsummering!N9) -> 8 | Q9: Utleira G2010-6 | R9: =COUNTIF(Baneoversikt!$A$7:$K$254,Oppsummering!Q9) -> 9
A10: Nidelv G2010-7 | B10: =COUNTIF(Baneoversikt!$A$3:$K$41,Oppsummering!A10) -> 0 | D10: Nardo G08-2 | E10: =COUNTIF(Baneoversikt!$A$3:$K$41,Oppsummering!D10) -> 0 | G10: Utleira G09-1 | H10: =COUNTIF(Baneoversikt!$A$3:$K$41,Oppsummering!G10) -> 2 | K10: Nidelv G2010-7 | L10: =COUNTIF(Baneoversikt!$A$7:$K$254,Oppsummering!K10) -> 9 | N10: Nardo G08-2 | O10: =COUNTIF(Baneoversikt!$A$7:$K$254,Oppsummering!N10) -> 8 | Q10: Utleira G09-1 | R10: =COUNTIF(Baneoversikt!$A$7:$K$254,Oppsummering!Q10) -> 10
A11: Nidelv G2010-8 | B11: =COUNTIF(Baneoversikt!$A$3:$K$41,Oppsummering!A11) -> 0 | D11: Nardo G08-3 | E11: =COUNTIF(Baneoversikt!$A$3:$K$41,Oppsummering!D11) -> 2 | G11: Utleira G09-2 | H11: =COUNTIF(Baneoversikt!$A$3:$K$41,Oppsummering!G11) -> 2 | K11: Nidelv G2010-8 | L11: =COUNTIF(Baneoversikt!$A$7:$K$254,Oppsummering!K11) -> 9 | N11: Nardo G08-3 | O11: =COUNTIF(Baneoversikt!$A$7:$K$254,Oppsummering!N11) -> 8 | Q11: Utleira G09-2 | R11: =COUNTIF(Baneoversikt!$A$7:$K$254,Oppsummering!Q11) -> 10
A12: Nidelv G09-1 | B12: =COUNTIF(Baneoversikt!$A$3:$K$41,Oppsummering!A12) -> 2 | D12: Nardo G07-1 | E12: =COUNTIF(Baneoversikt!$A$3:$K$41,Oppsummering!D12) -> 2 | G12: Utleira G09-3 | H12: =COUNTIF(Baneoversikt!$A$3:$K$41,Oppsummering!G12) -> 0 | K12: Nidelv G09-1 | L12: =COUNTIF(Baneoversikt!$A$7:$K$254,Oppsummering!K12) -> 10 | N12: Nardo G07-1 | O12: =COUNTIF(Baneoversikt!$A$7:$K$254,Oppsummering!N12) -> 10 | Q12: Utleira G09-3 | R12: =COUNTIF(Baneoversikt!$A$7:$K$254,Oppsummering!Q12) -> 8
A13: Nidelv G09-2 | B13: =COUNTIF(Baneoversikt!$A$3:$K$41,Oppsummering!A13) -> 2 | D13: Nardo G07-2 | E13: =COUNTIF(Baneoversikt!$A$3:$K$41,Oppsummering!D13) -> 0 | G13: Utleira G08-1 | H13: =COUNTIF(Baneoversikt!$A$3:$K$41,Oppsummering!G13) -> 2 | K13: Nidelv G09-2 | L13: =COUNTIF(Baneoversikt!$A$7:$K$254,Oppsummering!K13) -> 10 | N13: Nardo G07-2 | O13: =COUNTIF(Baneoversikt!$A$7:$K$254,Oppsummering!N13) -> 10 | Q13: Utleira G08-1 | R13: =COUNTIF(Baneoversikt!$A$7:$K$254,Oppsummering!Q13) -> 8
A14: Nidelv G08-1 | B14: =COUNTIF(Baneoversikt!$A$3:$K$41,Oppsummering!A14) -> 2 | D14: Nardo J09-1 | E14: =COUNTIF(Baneoversikt!$A$3:$K$41,Oppsummering!D14) -> 2 | G14: Utleira G08-2 | H14: =COUNTIF(Baneoversikt!$A$3:$K$41,Oppsummering!G14) -> 0 | K14: Nidelv G08-1 | L14: =COUNTIF(Baneoversikt!$A$7:$K$254,Oppsummering!K14) -> 8 | N14: Nardo J09-1 | O14: =COUNTIF(Baneoversikt!$A$7:$K$254,Oppsummering!N14) -> 10 | Q14: Utleira G08-2 | R14: =COUNTIF(Baneoversikt!$A$7:$K$254,Oppsummering!Q14) -> 8
A15: Nidelv G08-2 | B15: =COUNTIF(Baneoversikt!$A$3:$K$41,Oppsummering!A15) -> 0 | D15: Nardo J09-2 | E15: =COUNTIF(Baneoversikt!$A$3:$K$41,Oppsummering!D15) -> 2 | G15: Utleira G08-3 | H15: =COUNTIF(Baneoversikt!$A$3:$K$41,Oppsummering!G15) -> 2 | K15: Nidelv G08-2 | L15: =COUNTIF(Baneoversikt!$A$7:$K$254,Oppsummering!K15) -> 8 | N15: Nardo J09-2 | O15: =COUNTIF(Baneoversikt!$A$7:$K$254,Oppsummering!N15) -> 10 | Q15: Utleira G08-3 | R15: =COUNTIF(Baneoversikt!$A$7:$K$254,Oppsummering!Q15) -> 8
... A18: Nidelv G07-2 | B18: =COUNTIF(Baneoversikt!$A$3:$K$41,Oppsummering!A18) -> 0 | D18: Nardo J07-3 | E18: =COUNTIF(Baneoversikt!$A$3:$K$41,Oppsummering!D18) -> 2 | G18: Utleira G07-2 | H18: =COUNTIF(Baneoversikt!$A$3:$K$41,Oppsummering!G18) -> 0 | K18: Nidelv G07-2 | L18: =COUNTIF(Baneoversikt!$A$7:$K$254,Oppsummering!K18) -> 10 | N18: Nardo J07-3 | O18: =COUNTIF(Baneoversikt!$A$7:$K$254,Oppsummering!N18) -> 10 | Q18: Utleira G07-2 | R18: =COUNTIF(Baneoversikt!$A$7:$K$254,Oppsummering!Q18) -> 10
A19: Nidelv G07-3 | B19: =COUNTIF(Baneoversikt!$A$3:$K$41,Oppsummering!A19) -> 0 | G19: Utleira J2010-1 | H19: =COUNTIF(Baneoversikt!$A$3:$K$41,Oppsummering!G19) -> 2 | K19: Nidelv G07-3 | L19: =COUNTIF(Baneoversikt!$A$7:$K$254,Oppsummering!K19) -> 10 | Q19: Utleira J2010-1 | R19: =COUNTIF(Baneoversikt!$A$7:$K$254,Oppsummering!Q19) -> 11
A20: Nidelv J2010-1 | B20: =COUNTIF(Baneoversikt!$A$3:$K$41,Oppsummering!A20) -> 3 | G20: Utleira J2010-2 | H20: =COUNTIF(Baneoversikt!$A$3:$K$41,Oppsummering!G20) -> 2 | K20: Nidelv J2010-1 | L20: =COUNTIF(Baneoversikt!$A$7:$K$254,Oppsummering!K20) -> 12 | Q20: Utleira J2010-2 | R20: =COUNTIF(Baneoversikt!$A$7:$K$254,Oppsummering!Q20) -> 12
A21: Nidelv J2010-2 | B21: =COUNTIF(Baneoversikt!$A$3:$K$41,Oppsummering!A21) -> 2 | G21: Utleira J2010-3 | H21: =COUNTIF(Baneoversikt!$A$3:$K$41,Oppsummering!G21) -> 3 | K21: Nidelv J2010-2 | L21: =COUNTIF(Baneoversikt!$A$7:$K$254,Oppsummering!K21) -> 12 | Q21: Utleira J2010-3 | R21: =COUNTIF(Baneoversikt!$A$7:$K$254,Oppsummering!Q21) -> 11
A22: Nidelv J2010-3 | B22: =COUNTIF(Baneoversikt!$A$3:$K$41,Oppsummering!A22) -> 3 | G22: Utleira J2010-4 | H22: =COUNTIF(Baneoversikt!$A$3:$K$41,Oppsummering!G22) -> 3 | K22: Nidelv J2010-3 | L22: =COUNTIF(Baneoversikt!$A$7:$K$254,Oppsummering!K22) -> 11 | Q22: Utleira J2010-4 | R22: =COUNTIF(Baneoversikt!$A$7:$K$254,Oppsummering!Q22) -> 11
A23: Nidelv J09-1 | B23: =COUNTIF(Baneoversikt!$A$3:$K$41,Oppsummering!A23) -> 2 | G23: Utleira J09-1 | H23: =COUNTIF(Baneoversikt!$A$3:$K$41,Oppsummering!G23) -> 2 | K23: Nidelv J09-1 | L23: =COUNTIF(Baneoversikt!$A$7:$K$254,Oppsummering!K23) -> 10 | Q23: Utleira J09-1 | R23: =COUNTIF(Baneoversikt!$A$7:$K$254,Oppsummering!Q23) -> 10
A24: Nidelv J09-2 | B24: =COUNTIF(Baneoversikt!$A$3:$K$41,Oppsummering!A24) -> 2 | G24: Utleira J09-2 | H24: =COUNTIF(Baneoversikt!$A$3:$K$41,Oppsummering!G24) -> 2 | K24: Nidelv J09-2 | L24: =COUNTIF(Baneoversikt!$A$7:$K$254,Oppsummering!K24) -> 10 | Q24: Utleira J09-2 | R24: =COUNTIF(Baneoversikt!$A$7:$K$254,Oppsummering!Q24) -> 10
A25: Nidelv J09-3 | B25: =COUNTIF(Baneoversikt!$A$3:$K$41,Oppsummering!A25) -> 0 | G25: Utleira J08-1 | H25: =COUNTIF(Baneoversikt!$A$3:$K$41,Oppsummering!G25) -> 2 | K25: Nidelv J09-3 | L25: =COUNTIF(Baneoversikt!$A$7:$K$254,Oppsummering!K25) -> 8 | Q25: Utleira J08-1 | R25: =COUNTIF(Baneoversikt!$A$7:$K$254,Oppsummering!Q25) -> 8
A26: Nidelv J08-1 | B26: =COUNTIF(Baneoversikt!$A$3:$K$41,Oppsummering!A26) -> 2 | G26: Utleira J08-2 | H26: =COUNTIF(Baneoversikt!$A$3:$K$41,Oppsummering!G26) -> 0 | K26: Nidelv J08-1 | L26: =COUNTIF(Baneoversikt!$A$7:$K$254,Oppsummering!K26) -> 10 | Q26: Utleira J08-2 | R26: =COUNTIF(Baneoversikt!$A$7:$K$254,Oppsummering!Q26) -> 10
A27: Nidelv J08-2 | B27: =COUNTIF(Baneoversikt!$A$3:$K$41,Oppsummering!A27) -> 2 | G27: Utleira J07-1 | H27: =COUNTIF(Baneoversikt!$A$3:$K$41,Oppsummering!G27) -> 2 | K27: Nidelv J08-2 | L27: =COUNTIF(Baneoversikt!$A$7:$K$254,Oppsummering!K27) -> 8 | Q27: Utleira J07-1 | R27: =COUNTIF(Baneoversikt!$A$7:$K$254,Oppsummering!Q27) -> 10
A28: Nidelv J07-1 | B28: =COUNTIF(Baneoversikt!$A$3:$K$41,Oppsummering!A28) -> 2 | G28: Utleira J07-2 | H28: =COUNTIF(Baneoversikt!$A$3:$K$41,Oppsummering!G28) -> 2 | K28: Nidelv J07-1 | L28: =COUNTIF(Baneoversikt!$A$7:$K$254,Oppsummering!K28) -> 10 | Q28: Utleira J07-2 | R28: =COUNTIF(Baneoversikt!$A$7:$K$254,Oppsummering!Q28) -> 10
A29: Nidelv J07-2 | B29: =COUNTIF(Baneoversikt!$A$3:$K$41,Oppsummering!A29) -> 0 | K29: Nidelv J07-2 | L29: =COUNTIF(Baneoversikt!$A$7:$K$254,Oppsummering!K29) -> 10
A31: Othillienborg | B31: Antall kamper | D31: Bratsberg | E31: Antall kamper | K31: Othillienborg | L31: Antall kamper | N31: Brattsberg | O31: Antall kamper
A32: Ottis G2010-1 | B32: =COUNTIF(Baneoversikt!$A$3:$K$41,Oppsummering!A32) -> 3 | D32: Bratsberg G2010-1 | E32: =COUNTIF(Baneoversikt!$A$3:$K$41,Oppsummering!D32) -> 2 | K32: Ottis G2010-1 | L32: =COUNTIF(Baneoversikt!$A$7:$K$254,Oppsummering!K32) -> 9 | N32: Bratsberg G2010-1 | O32: =COUNTIF(Baneoversikt!$A$7:$K$254,Oppsummering!N32) -> 11
A33: Ottis G2010-2 | B33: =COUNTIF(Baneoversikt!$A$3:$K$41,Oppsummering!A33) -> 2 | D33: Bratsberg G2010-2 | E33: =COUNTIF(Baneoversikt!$A$3:$K$41,Oppsummering!D33) -> 0 | K33: Ottis G2010-2 | L33: =COUNTIF(Baneoversikt!$A$7:$K$254,Oppsummering!K33) -> 10 | N33: Bratsberg G2010-2 | O33: =COUNTIF(Baneoversikt!$A$7:$K$254,Oppsummering!N33) -> 12
A34: Ottis G2010-3 | B34: =COUNTIF(Baneoversikt!$A$3:$K$41,Oppsummering!A34) -> 2 | D34: Bratsberg G08-1 | E34: =COUNTIF(Baneoversikt!$A$3:$K$41,Oppsummering!D34) -> 2 | K34: Ottis G2010-3 | L34: =COUNTIF(Baneoversikt!$A$7:$K$254,Oppsummering!K34) -> 10 | N34: Bratsberg G08-1 | O34: =COUNTIF(Baneoversikt!$A$7:$K$254,Oppsummering!N34) -> 8
A35: Ottis G2010-4 | B35: =COUNTIF(Baneoversikt!$A$3:$K$41,Oppsummering!A35) -> 0 | D35: Bratsberg G08-2 | E35: =COUNTIF(Baneoversikt!$A$3:$K$41,Oppsummering!D35) -> 2 | K35: Ottis G2010-4 | L35: =COUNTIF(Baneoversikt!$A$7:$K$254,Oppsummering!K35) -> 8 | N35: Bratsberg G08-2 | O35: =COUNTIF(Baneoversikt!$A$7:$K$254,Oppsummering!N35) -> 8
A36: Ottis G2010-5 | B36: =COUNTIF(Baneoversikt!$A$3:$K$41,Oppsummering!A36) -> 0 | D36: Bratsberg J2010-1 | E36: =COUNTIF(Baneoversikt!$A$3:$K$41,Oppsummering!D36) -> 4 | K36: Ottis G2010-5 | L36: =COUNTIF(Baneoversikt!$A$7:$K$254,Oppsummering!K36) -> 8 | N36: Bratsberg J2010-1 | O36: =COUNTIF(Baneoversikt!$A$7:$K$254,Oppsummering!N36) -> 11
A37: Ottis G2010-6 | B37: =COUNTIF(Baneoversikt!$A$3:$K$41,Oppsummering!A37) -> 0 | D37: Bratsberg J2010-2 | E37: =COUNTIF(Baneoversikt!$A$3:$K$41,Oppsummering!D37) -> 4 | K37: Ottis G2010-6 | L37: =COUNTIF(Baneoversikt!$A$7:$K$254,Oppsummering!K37) -> 8 | N37: Bratsberg J2010-2 | O37: =COUNTIF(Baneoversikt!$A$7:$K$254,Oppsummering!N37) -> 13
A38: Ottis G09-1 | B38: =COUNTIF(Baneoversikt!$A$3:$K$41,Oppsummering!A38) -> 2 | D38: Bratsberg J09-1 | E38: =COUNTIF(Baneoversikt!$A$3:$K$41,Oppsummering!D38) -> 2 | K38: Ottis G09-1 | L38: =COUNTIF(Baneoversikt!$A$7:$K$254,Oppsummering!K38) -> 10 | N38: Bratsberg J09-1 | O38: =COUNTIF(Baneoversikt!$A$7:$K$254,Oppsummering!N38) -> 10
A39: Ottis G09-2 | B39: =COUNTIF(Baneoversikt!$A$3:$K$41,Oppsummering!A39) -> 2 | D39: Bratsberg J07-1 | E39: =COUNTIF(Baneoversikt!$A$3:$K$41,Oppsummering!D39) -> 0 | K39: Ottis G09-2 | L39: =COUNTIF(Baneoversikt!$A$7:$K$254,Oppsummering!K39) -> 10 | N39: Bratsberg J07-1 | O39: =COUNTIF(Baneoversikt!$A$7:$K$254,Oppsummering!N39) -> 10
A40: Ottis G08-1 | B40: =COUNTIF(Baneoversikt!$A$3:$K$41,Oppsummering!A40) -> 0 | K40: Ottis G08-1 | L40: =COUNTIF(Baneoversikt!$A$7:$K$254,Oppsummering!K40) -> 8
A41: Ottis G08-2 | B41: =COUNTIF(Baneoversikt!$A$3:$K$41,Oppsummering!A41) -> 2 | K41: Ottis G08-2 | L41: =COUNTIF(Baneoversikt!$A$7:$K$254,Oppsummering!K41) -> 8
A42: Ottis G07-1 | B42: =COUNTIF(Baneoversikt!$A$3:$K$41,Oppsummering!A42) -> 2 | K42: Ottis G07-1 | L42: =COUNTIF(Baneoversikt!$A$7:$K$254,Oppsummering!K42) -> 10
A43: Ottis G07-2 | B43: =COUNTIF(Baneoversikt!$A$3:$K$41,Oppsummering!A43) -> 2 | K43: Ottis G07-2 | L43: =COUNTIF(Baneoversikt!$A$7:$K$254,Oppsummering!K43) -> 10
...
