Workbook
Name Excel_BuiltIn__FilterDatabase: '10m LP'!$B$6:$B$14
Name Excel_BuiltIn__FilterDatabase: '10m LR Bedr'!$A$5:$G$105
Name Excel_BuiltIn__FilterDatabase: '10m LR ISSF'!$A$5:$I$105
Name Excel_BuiltIn__FilterDatabase: '50m MR 2-st'!$A$5:$G$105
Name Excel_BuiltIn__FilterDatabase: '50m MR 3-st'!$A$5:$G$105
Name Excel_BuiltIn__FilterDatabase: Mal!$A$5:$I$105
Name Excel_BuiltIn__FilterDatabase: 'MR liggende'!$A$5:$I$105
Name Excel_BuiltIn__FilterDatabase: 'Ny klassifisering'!$A$3:$R$3
Name SkytterNavn: INDIRECT('Skyttere alfabetisk'!$B$102)
Name SkytterNr: 'Skyttere registrering'!$A$4:$A$101

Sheet Veiledning
A1: Fullstendig brukerveiledning for registrering av stevner, skyttere og resultater finner dere i fila : . Første side ser slik ut:
A25: Se brukerveiledning for informasjon om å distribuere klassifisering, vedlikeholde og komme i gang med ny sesong i fila .
A26: Første side ser slik ut:

Sheet Ny klassifisering
A1: Merk: Hvis det står 0 i kolonne A, B eller C betyr det at Skytternr, Bedriftsidrettslag eller Født mangler.
A2: Legg da til manglende data i | D2: Ant. Skyttere pr. øvelse: | E2: =COUNTA(E4:E103)-COUNTBLANK(E4:E103) -> 0 | F2: =COUNTA(F4:F103)-COUNTBLANK(F4:F103) -> 0 | G2: =COUNTA(G4:G103)-COUNTBLANK(G4:G103) -> 0 | H2: =COUNTA(H4:H103)-COUNTBLANK(H4:H103) -> 0 | I2: =COUNTA(I4:I103)-COUNTBLANK(I4:I103) -> 0 | J2: =COUNTA(J4:J103)-COUNTBLANK(J4:J103) -> 0 | K2: =COUNTA(K4:K103)-COUNTBLANK(K4:K103) -> 0
A3: Skytternr | B3: Navn | C3: Bedriftsidrettslag | D3: Født | E3: 10m LR Bedr | F3: 10m LR ISSF | G3: 10m LP | H3: 15m MR stå | I3: MR liggende | J3: 50m MR 2-st | K3: 50m MR 3-st
A4: =IF(OR(ISNA('Skyttere registrering'!AD2)=TRUE,0),"",'Skyttere registrering'!AD2) | B4: =IF(OR(ISNA('Skyttere registrering'!AB2)=TRUE,0),"",'Skyttere registrering'!AB2) | C4: =IF(OR(ISNA('Skyttere registrering'!AC2)=TRUE,0),"",'Skyttere registrering'!AC2) | D4: =IF(OR(ISNA('Skyttere registrering'!AE2)=TRUE,0),"",'Skyttere registrering'!AE2) | E4: =IF(ISNA(VLOOKUP($B4,'10m LR Bedr'!$B$6:$E$105,4,0)),"",VLOOKUP($B4,'10m LR Bedr'!$B$6:$E$105,4,0)) | F4: =IF(ISNA(VLOOKUP($B4,'10m LR ISSF'!$B$6:$E$105,4,0)),"",VLOOKUP($B4,'10m LR ISSF'!$B$6:$E$105,4,0)) | G4: =IF(ISNA(VLOOKUP($B4,'10m LP'!$B$6:$E$105,4,0)),"",VLOOKUP($B4,'10m LP'!$B$6:$E$105,4,0)) | H4: =IF(ISNA(VLOOKUP($B4,'15m MR stå'!$B$6:$E$105,4,0)),"",VLOOKUP($B4,'15m MR stå'!$B$6:$E$105,4,0)) | I4: =IF(ISNA(VLOOKUP($B4,'MR liggende'!$B$6:$E$105,4,0)),"",VLOOKUP($B4,'MR liggende'!$B$6:$E$105,4,0)) | J4: =IF(ISNA(VLOOKUP($B4,'50m MR 2-st'!$B$6:$E$105,4,0)),"",VLOOKUP($B4,'50m MR 2-st'!$B$6:$E$105,4,0)) | K4: =IF(ISNA(VLOOKUP($B4,'50m MR 3-st'!$B$6:$E$105,4,0)),"",VLOOKUP($B4,'50m MR 3-st'!$B$6:$E$105,4,0))
A5: =IF(OR(ISNA('Skyttere registrering'!AD3)=TRUE,0),"",'Skyttere registrering'!AD3) | B5: =IF(OR(ISNA('Skyttere registrering'!AB3)=TRUE,0),"",'Skyttere registrering'!AB3) | C5: =IF(OR(ISNA('Skyttere registrering'!AC3)=TRUE,0),"",'Skyttere registrering'!AC3) | D5: =IF(OR(ISNA('Skyttere registrering'!AE3)=TRUE,0),"",'Skyttere registrering'!AE3) | E5: =IF(ISNA(VLOOKUP($B5,'10m LR Bedr'!$B$6:$E$105,4,0)),"",VLOOKUP($B5,'10m LR Bedr'!$B$6:$E$105,4,0)) | F5: =IF(ISNA(VLOOKUP($B5,'10m LR ISSF'!$B$6:$E$105,4,0)),"",VLOOKUP($B5,'10m LR ISSF'!$B$6:$E$105,4,0)) | G5: =IF(ISNA(VLOOKUP($B5,'10m LP'!$B$6:$E$105,4,0)),"",VLOOKUP($B5,'10m LP'!$B$6:$E$105,4,0)) | H5: =IF(ISNA(VLOOKUP($B5,'15m MR stå'!$B$6:$E$105,4,0)),"",VLOOKUP($B5,'15m MR stå'!$B$6:$E$105,4,0)) | I5: =IF(ISNA(VLOOKUP($B5,'MR liggende'!$B$6:$E$105,4,0)),"",VLOOKUP($B5,'MR liggende'!$B$6:$E$105,4,0)) | J5: =IF(ISNA(VLOOKUP($B5,'50m MR 2-st'!$B$6:$E$105,4,0)),"",VLOOKUP($B5,'50m MR 2-st'!$B$6:$E$105,4,0)) | K5: =IF(ISNA(VLOOKUP($B5,'50m MR 3-st'!$B$6:$E$105,4,0)),"",VLOOKUP($B5,'50m MR 3-st'!$B$6:$E$105,4,0))
A6: =IF(OR(ISNA('Skyttere registrering'!AD4)=TRUE,0),"",'Skyttere registrering'!AD4) | B6: =IF(OR(ISNA('Skyttere registrering'!AB4)=TRUE,0),"",'Skyttere registrering'!AB4) | C6: =IF(OR(ISNA('Skyttere registrering'!AC4)=TRUE,0),"",'Skyttere registrering'!AC4) | D6: =IF(OR(ISNA('Skyttere registrering'!AE4)=TRUE,0),"",'Skyttere registrering'!AE4) | E6: =IF(ISNA(VLOOKUP($B6,'10m LR Bedr'!$B$6:$E$105,4,0)),"",VLOOKUP($B6,'10m LR Bedr'!$B$6:$E$105,4,0)) | F6: =IF(ISNA(VLOOKUP($B6,'10m LR ISSF'!$B$6:$E$105,4,0)),"",VLOOKUP($B6,'10m LR ISSF'!$B$6:$E$105,4,0)) | G6: =IF(ISNA(VLOOKUP($B6,'10m LP'!$B$6:$E$105,4,0)),"",VLOOKUP($B6,'10m LP'!$B$6:$E$105,4,0)) | H6: =IF(ISNA(VLOOKUP($B6,'15m MR stå'!$B$6:$E$105,4,0)),"",VLOOKUP($B6,'15m MR stå'!$B$6:$E$105,4,0)) | I6: =IF(ISNA(VLOOKUP($B6,'MR liggende'!$B$6:$E$105,4,0)),"",VLOOKUP($B6,'MR liggende'!$B$6:$E$105,4,0)) | J6: =IF(ISNA(VLOOKUP($B6,'50m MR 2-st'!$B$6:$E$105,4,0)),"",VLOOKUP($B6,'50m MR 2-st'!$B$6:$E$105,4,0)) | K6: =IF(ISNA(VLOOKUP($B6,'50m MR 3-st'!$B$6:$E$105,4,0)),"",VLOOKUP($B6,'50m MR 3-st'!$B$6:$E$105,4,0))
A7: =IF(OR(ISNA('Skyttere registrering'!AD5)=TRUE,0),"",'Skyttere registrering'!AD5) | B7: =IF(OR(ISNA('Skyttere registrering'!AB5)=TRUE,0),"",'Skyttere registrering'!AB5) | C7: =IF(OR(ISNA('Skyttere registrering'!AC5)=TRUE,0),"",'Skyttere registrering'!AC5) | D7: =IF(OR(ISNA('Skyttere registrering'!AE5)=TRUE,0),"",'Skyttere registrering'!AE5) | E7: =IF(ISNA(VLOOKUP($B7,'10m LR Bedr'!$B$6:$E$105,4,0)),"",VLOOKUP($B7,'10m LR Bedr'!$B$6:$E$105,4,0)) | F7: =IF(ISNA(VLOOKUP($B7,'10m LR ISSF'!$B$6:$E$105,4,0)),"",VLOOKUP($B7,'10m LR ISSF'!$B$6:$E$105,4,0)) | G7: =IF(ISNA(VLOOKUP($B7,'10m LP'!$B$6:$E$105,4,0)),"",VLOOKUP($B7,'10m LP'!$B$6:$E$105,4,0)) | H7: =IF(ISNA(VLOOKUP($B7,'15m MR stå'!$B$6:$E$105,4,0)),"",VLOOKUP($B7,'15m MR stå'!$B$6:$E$105,4,0)) | I7: =IF(ISNA(VLOOKUP($B7,'MR liggende'!$B$6:$E$105,4,0)),"",VLOOKUP($B7,'MR liggende'!$B$6:$E$105,4,0)) | J7: =IF(ISNA(VLOOKUP($B7,'50m MR 2-st'!$B$6:$E$105,4,0)),"",VLOOKUP($B7,'50m MR 2-st'!$B$6:$E$105,4,0)) | K7: =IF(ISNA(VLOOKUP($B7,'50m MR 3-st'!$B$6:$E$105,4,0)),"",VLOOKUP($B7,'50m MR 3-st'!$B$6:$E$105,4,0))
A8: =IF(OR(ISNA('Skyttere registrering'!AD6)=TRUE,0),"",'Skyttere registrering'!AD6) | B8: =IF(OR(ISNA('Skyttere registrering'!AB6)=TRUE,0),"",'Skyttere registrering'!AB6) | C8: =IF(OR(ISNA('Skyttere registrering'!AC6)=TRUE,0),"",'Skyttere registrering'!AC6) | D8: =IF(OR(ISNA('Skyttere registrering'!AE6)=TRUE,0),"",'Skyttere registrering'!AE6) | E8: =IF(ISNA(VLOOKUP($B8,'10m LR Bedr'!$B$6:$E$105,4,0)),"",VLOOKUP($B8,'10m LR Bedr'!$B$6:$E$105,4,0)) | F8: =IF(ISNA(VLOOKUP($B8,'10m LR ISSF'!$B$6:$E$105,4,0)),"",VLOOKUP($B8,'10m LR ISSF'!$B$6:$E$105,4,0)) | G8: =IF(ISNA(VLOOKUP($B8,'10m LP'!$B$6:$E$105,4,0)),"",VLOOKUP($B8,'10m LP'!$B$6:$E$105,4,0)) | H8: =IF(ISNA(VLOOKUP($B8,'15m MR stå'!$B$6:$E$105,4,0)),"",VLOOKUP($B8,'15m MR stå'!$B$6:$E$105,4,0)) | I8: =IF(ISNA(VLOOKUP($B8,'MR liggende'!$B$6:$E$105,4,0)),"",VLOOKUP($B8,'MR liggende'!$B$6:$E$105,4,0)) | J8: =IF(ISNA(VLOOKUP($B8,'50m MR 2-st'!$B$6:$E$105,4,0)),"",VLOOKUP($B8,'50m MR 2-st'!$B$6:$E$105,4,0)) | K8: =IF(ISNA(VLOOKUP($B8,'50m MR 3-st'!$B$6:$E$105,4,0)),"",VLOOKUP($B8,'50m MR 3-st'!$B$6:$E$105,4,0))
A9: =IF(OR(ISNA('Skyttere registrering'!AD7)=TRUE,0),"",'Skyttere registrering'!AD7) | B9: =IF(OR(ISNA('Skyttere registrering'!AB7)=TRUE,0),"",'Skyttere registrering'!AB7) | C9: =IF(OR(ISNA('Skyttere registrering'!AC7)=TRUE,0),"",'Skyttere registrering'!AC7) | D9: =IF(OR(ISNA('Skyttere registrering'!AE7)=TRUE,0),"",'Skyttere registrering'!AE7) | E9: =IF(ISNA(VLOOKUP($B9,'10m LR Bedr'!$B$6:$E$105,4,0)),"",VLOOKUP($B9,'10m LR Bedr'!$B$6:$E$105,4,0)) | F9: =IF(ISNA(VLOOKUP($B9,'10m LR ISSF'!$B$6:$E$105,4,0)),"",VLOOKUP($B9,'10m LR ISSF'!$B$6:$E$105,4,0)) | G9: =IF(ISNA(VLOOKUP($B9,'10m LP'!$B$6:$E$105,4,0)),"",VLOOKUP($B9,'10m LP'!$B$6:$E$105,4,0)) | H9: =IF(ISNA(VLOOKUP($B9,'15m MR stå'!$B$6:$E$105,4,0)),"",VLOOKUP($B9,'15m MR stå'!$B$6:$E$105,4,0)) | I9: =IF(ISNA(VLOOKUP($B9,'MR liggende'!$B$6:$E$105,4,0)),"",VLOOKUP($B9,'MR liggende'!$B$6:$E$105,4,0)) | J9: =IF(ISNA(VLOOKUP($B9,'50m MR 2-st'!$B$6:$E$105,4,0)),"",VLOOKUP($B9,'50m MR 2-st'!$B$6:$E$105,4,0)) | K9: =IF(ISNA(VLOOKUP($B9,'50m MR 3-st'!$B$6:$E$105,4,0)),"",VLOOKUP($B9,'50m MR 3-st'!$B$6:$E$105,4,0))
A10: =IF(OR(ISNA('Skyttere registrering'!AD8)=TRUE,0),"",'Skyttere registrering'!AD8) | B10: =IF(OR(ISNA('Skyttere registrering'!AB8)=TRUE,0),"",'Skyttere registrering'!AB8) | C10: =IF(OR(ISNA('Skyttere registrering'!AC8)=TRUE,0),"",'Skyttere registrering'!AC8) | D10: =IF(OR(ISNA('Skyttere registrering'!AE8)=TRUE,0),"",'Skyttere registrering'!AE8) | E10: =IF(ISNA(VLOOKUP($B10,'10m LR Bedr'!$B$6:$E$105,4,0)),"",VLOOKUP($B10,'10m LR Bedr'!$B$6:$E$105,4,0)) | F10: =IF(ISNA(VLOOKUP($B10,'10m LR ISSF'!$B$6:$E$105,4,0)),"",VLOOKUP($B10,'10m LR ISSF'!$B$6:$E$105,4,0)) | G10: =IF(ISNA(VLOOKUP($B10,'10m LP'!$B$6:$E$105,4,0)),"",VLOOKUP($B10,'10m LP'!$B$6:$E$105,4,0)) | H10: =IF(ISNA(VLOOKUP($B10,'15m MR stå'!$B$6:$E$105,4,0)),"",VLOOKUP($B10,'15m MR stå'!$B$6:$E$105,4,0)) | I10: =IF(ISNA(VLOOKUP($B10,'MR liggende'!$B$6:$E$105,4,0)),"",VLOOKUP($B10,'MR liggende'!$B$6:$E$105,4,0)) | J10: =IF(ISNA(VLOOKUP($B10,'50m MR 2-st'!$B$6:$E$105,4,0)),"",VLOOKUP($B10,'50m MR 2-st'!$B$6:$E$105,4,0)) | K10: =IF(ISNA(VLOOKUP($B10,'50m MR 3-st'!$B$6:$E$105,4,0)),"",VLOOKUP($B10,'50m MR 3-st'!$B$6:$E$105,4,0))
A11: =IF(OR(ISNA('Skyttere registrering'!AD9)=TRUE,0),"",'Skyttere registrering'!AD9) | B11: =IF(OR(ISNA('Skyttere registrering'!AB9)=TRUE,0),"",'Skyttere registrering'!AB9) | C11: =IF(OR(ISNA('Skyttere registrering'!AC9)=TRUE,0),"",'Skyttere registrering'!AC9) | D11: =IF(OR(ISNA('Skyttere registrering'!AE9)=TRUE,0),"",'Skyttere registrering'!AE9) | E11: =IF(ISNA(VLOOKUP($B11,'10m LR Bedr'!$B$6:$E$105,4,0)),"",VLOOKUP($B11,'10m LR Bedr'!$B$6:$E$105,4,0)) | F11: =IF(ISNA(VLOOKUP($B11,'10m LR ISSF'!$B$6:$E$105,4,0)),"",VLOOKUP($B11,'10m LR ISSF'!$B$6:$E$105,4,0)) | G11: =IF(ISNA(VLOOKUP($B11,'10m LP'!$B$6:$E$105,4,0)),"",VLOOKUP($B11,'10m LP'!$B$6:$E$105,4,0)) | H11: =IF(ISNA(VLOOKUP($B11,'15m MR stå'!$B$6:$E$105,4,0)),"",VLOOKUP($B11,'15m MR stå'!$B$6:$E$105,4,0)) | I11: =IF(ISNA(VLOOKUP($B11,'MR liggende'!$B$6:$E$105,4,0)),"",VLOOKUP($B11,'MR liggende'!$B$6:$E$105,4,0)) | J11: =IF(ISNA(VLOOKUP($B11,'50m MR 2-st'!$B$6:$E$105,4,0)),"",VLOOKUP($B11,'50m MR 2-st'!$B$6:$E$105,4,0)) | K11: =IF(ISNA(VLOOKUP($B11,'50m MR 3-st'!$B$6:$E$105,4,0)),"",VLOOKUP($B11,'50m MR 3-st'!$B$6:$E$105,4,0))
A12: =IF(OR(ISNA('Skyttere registrering'!AD10)=TRUE,0),"",'Skyttere registrering'!AD10) | B12: =IF(OR(ISNA('Skyttere registrering'!AB10)=TRUE,0),"",'Skyttere registrering'!AB10) | C12: =IF(OR(ISNA('Skyttere registrering'!AC10)=TRUE,0),"",'Skyttere registrering'!AC10) | D12: =IF(OR(ISNA('Skyttere registrering'!AE10)=TRUE,0),"",'Skyttere registrering'!AE10) | E12: =IF(ISNA(VLOOKUP($B12,'10m LR Bedr'!$B$6:$E$105,4,0)),"",VLOOKUP($B12,'10m LR Bedr'!$B$6:$E$105,4,0)) | F12: =IF(ISNA(VLOOKUP($B12,'10m LR ISSF'!$B$6:$E$105,4,0)),"",VLOOKUP($B12,'10m LR ISSF'!$B$6:$E$105,4,0)) | G12: =IF(ISNA(VLOOKUP($B12,'10m LP'!$B$6:$E$105,4,0)),"",VLOOKUP($B12,'10m LP'!$B$6:$E$105,4,0)) | H12: =IF(ISNA(VLOOKUP($B12,'15m MR stå'!$B$6:$E$105,4,0)),"",VLOOKUP($B12,'15m MR stå'!$B$6:$E$105,4,0)) | I12: =IF(ISNA(VLOOKUP($B12,'MR liggende'!$B$6:$E$105,4,0)),"",VLOOKUP($B12,'MR liggende'!$B$6:$E$105,4,0)) | J12: =IF(ISNA(VLOOKUP($B12,'50m MR 2-st'!$B$6:$E$105,4,0)),"",VLOOKUP($B12,'50m MR 2-st'!$B$6:$E$105,4,0)) | K12: =IF(ISNA(VLOOKUP($B12,'50m MR 3-st'!$B$6:$E$105,4,0)),"",VLOOKUP($B12,'50m MR 3-st'!$B$6:$E$105,4,0))
A13: =IF(OR(ISNA('Skyttere registrering'!AD11)=TRUE,0),"",'Skyttere registrering'!AD11) | B13: =IF(OR(ISNA('Skyttere registrering'!AB11)=TRUE,0),"",'Skyttere registrering'!AB11) | C13: =IF(OR(ISNA('Skyttere registrering'!AC11)=TRUE,0),"",'Skyttere registrering'!AC11) | D13: =IF(OR(ISNA('Skyttere registrering'!AE11)=TRUE,0),"",'Skyttere registrering'!AE11) | E13: =IF(ISNA(VLOOKUP($B13,'10m LR Bedr'!$B$6:$E$105,4,0)),"",VLOOKUP($B13,'10m LR Bedr'!$B$6:$E$105,4,0)) | F13: =IF(ISNA(VLOOKUP($B13,'10m LR ISSF'!$B$6:$E$105,4,0)),"",VLOOKUP($B13,'10m LR ISSF'!$B$6:$E$105,4,0)) | G13: =IF(ISNA(VLOOKUP($B13,'10m LP'!$B$6:$E$105,4,0)),"",VLOOKUP($B13,'10m LP'!$B$6:$E$105,4,0)) | H13: =IF(ISNA(VLOOKUP($B13,'15m MR stå'!$B$6:$E$105,4,0)),"",VLOOKUP($B13,'15m MR stå'!$B$6:$E$105,4,0)) | I13: =IF(ISNA(VLOOKUP($B13,'MR liggende'!$B$6:$E$105,4,0)),"",VLOOKUP($B13,'MR liggende'!$B$6:$E$105,4,0)) | J13: =IF(ISNA(VLOOKUP($B13,'50m MR 2-st'!$B$6:$E$105,4,0)),"",VLOOKUP($B13,'50m MR 2-st'!$B$6:$E$105,4,0)) | K13: =IF(ISNA(VLOOKUP($B13,'50m MR 3-st'!$B$6:$E$105,4,0)),"",VLOOKUP($B13,'50m MR 3-st'!$B$6:$E$105,4,0))
A14: =IF(OR(ISNA('Skyttere registrering'!AD12)=TRUE,0),"",'Skyttere registrering'!AD12) | B14: =IF(OR(ISNA('Skyttere registrering'!AB12)=TRUE,0),"",'Skyttere registrering'!AB12) | C14: =IF(OR(ISNA('Skyttere registrering'!AC12)=TRUE,0),"",'Skyttere registrering'!AC12) | D14: =IF(OR(ISNA('Skyttere registrering'!AE12)=TRUE,0),"",'Skyttere registrering'!AE12) | E14: =IF(ISNA(VLOOKUP($B14,'10m LR Bedr'!$B$6:$E$105,4,0)),"",VLOOKUP($B14,'10m LR Bedr'!$B$6:$E$105,4,0)) | F14: =IF(ISNA(VLOOKUP($B14,'10m LR ISSF'!$B$6:$E$105,4,0)),"",VLOOKUP($B14,'10m LR ISSF'!$B$6:$E$105,4,0)) | G14: =IF(ISNA(VLOOKUP($B14,'10m LP'!$B$6:$E$105,4,0)),"",VLOOKUP($B14,'10m LP'!$B$6:$E$105,4,0)) | H14: =IF(ISNA(VLOOKUP($B14,'15m MR stå'!$B$6:$E$105,4,0)),"",VLOOKUP($B14,'15m MR stå'!$B$6:$E$105,4,0)) | I14: =IF(ISNA(VLOOKUP($B14,'MR liggende'!$B$6:$E$105,4,0)),"",VLOOKUP($B14,'MR liggende'!$B$6:$E$105,4,0)) | J14: =IF(ISNA(VLOOKUP($B14,'50m MR 2-st'!$B$6:$E$105,4,0)),"",VLOOKUP($B14,'50m MR 2-st'!$B$6:$E$105,4,0)) | K14: =IF(ISNA(VLOOKUP($B14,'50m MR 3-st'!$B$6:$E$105,4,0)),"",VLOOKUP($B14,'50m MR 3-st'!$B$6:$E$105,4,0))
A15: =IF(OR(ISNA('Skyttere registrering'!AD13)=TRUE,0),"",'Skyttere registrering'!AD13) | B15: =IF(OR(ISNA('Skyttere registrering'!AB13)=TRUE,0),"",'Skyttere registrering'!AB13) | C15: =IF(OR(ISNA('Skyttere registrering'!AC13)=TRUE,0),"",'Skyttere registrering'!AC13) | D15: =IF(OR(ISNA('Skyttere registrering'!AE13)=TRUE,0),"",'Skyttere registrering'!AE13) | E15: =IF(ISNA(VLOOKUP($B15,'10m LR Bedr'!$B$6:$E$105,4,0)),"",VLOOKUP($B15,'10m LR Bedr'!$B$6:$E$105,4,0)) | F15: =IF(ISNA(VLOOKUP($B15,'10m LR ISSF'!$B$6:$E$105,4,0)),"",VLOOKUP($B15,'10m LR ISSF'!$B$6:$E$105,4,0)) | G15: =IF(ISNA(VLOOKUP($B15,'10m LP'!$B$6:$E$105,4,0)),"",VLOOKUP($B15,'10m LP'!$B$6:$E$105,4,0)) | H15: =IF(ISNA(VLOOKUP($B15,'15m MR stå'!$B$6:$E$105,4,0)),"",VLOOKUP($B15,'15m MR stå'!$B$6:$E$105,4,0)) | I15: =IF(ISNA(VLOOKUP($B15,'MR liggende'!$B$6:$E$105,4,0)),"",VLOOKUP($B15,'MR liggende'!$B$6:$E$105,4,0)) | J15: =IF(ISNA(VLOOKUP($B15,'50m MR 2-st'!$B$6:$E$105,4,0)),"",VLOOKUP($B15,'50m MR 2-st'!$B$6:$E$105,4,0)) | K15: =IF(ISNA(VLOOKUP($B15,'50m MR 3-st'!$B$6:$E$105,4,0)),"",VLOOKUP($B15,'50m MR 3-st'!$B$6:$E$105,4,0))
... A103: =IF(OR(ISNA('Skyttere registrering'!AD101)=TRUE,0),"",'Skyttere registrering'!AD101) | B103: =IF(OR(ISNA('Skyttere registrering'!AB101)=TRUE,0),"",'Skyttere registrering'!AB101) | C103: =IF(OR(ISNA('Skyttere registrering'!AC101)=TRUE,0),"",'Skyttere registrering'!AC101) | D103: =IF(OR(ISNA('Skyttere registrering'!AE101)=TRUE,0),"",'Skyttere registrering'!AE101) | E103: =IF(ISNA(VLOOKUP($B103,'10m LR Bedr'!$B$6:$E$105,4,0)),"",VLOOKUP($B103,'10m LR Bedr'!$B$6:$E$105,4,0)) | F103: =IF(ISNA(VLOOKUP($B103,'10m LR ISSF'!$B$6:$E$105,4,0)),"",VLOOKUP($B103,'10m LR ISSF'!$B$6:$E$105,4,0)) | G103: =IF(ISNA(VLOOKUP($B103,'10m LP'!$B$6:$E$105,4,0)),"",VLOOKUP($B103,'10m LP'!$B$6:$E$105,4,0)) | H103: =IF(ISNA(VLOOKUP($B103,'15m MR stå'!$B$6:$E$105,4,0)),"",VLOOKUP($B103,'15m MR stå'!$B$6:$E$105,4,0)) | I103: =IF(ISNA(VLOOKUP($B103,'MR liggende'!$B$6:$E$105,4,0)),"",VLOOKUP($B103,'MR liggende'!$B$6:$E$105,4,0)) | J103: =IF(ISNA(VLOOKUP($B103,'50m MR 2-st'!$B$6:$E$105,4,0)),"",VLOOKUP($B103,'50m MR 2-st'!$B$6:$E$105,4,0)) | K103: =IF(ISNA(VLOOKUP($B103,'50m MR 3-st'!$B$6:$E$105,4,0)),"",VLOOKUP($B103,'50m MR 3-st'!$B$6:$E$105,4,0))

Sheet Skyttere registrering
A1: Skytternr | B1: Navn | C1: Bedriftsidrettslag | D1: Født | E1: 10m LR Bedr | F1: 10m LR Int | G1: 10m LP | H1: 15m MR | I1: MR liggende | J1: 50m MR 2-st | K1: 50m MR 3-st | Y1: Antall: | Z1: =101-COUNTIF(B2:B101,"") -> 1 | AA1: Sortering | AB1: Navn | AC1: Lag | AD1: Sk.nr. | AE1: F.år
Y2: Ref til liste | Z2: ="$AB$"&Z1 -> $AB$1 | AA2: =IF(B2="","",COUNTIF($B$2:$B$101,"<="&B2)) | AB2: =IF(ISNA(INDEX(B$2:B$101,MATCH(ROWS($B$2:B2),$AA$2:$AA$101,0)))=TRUE,"",INDEX(B$2:B$101,MATCH(ROWS($B$2:B2),$AA$2:$AA$101,0))) | AC2: =IF(ISNA(INDEX(C$2:C$101,MATCH(ROWS($C$2:C2),$AA$2:$AA$101,0)))=TRUE,"",INDEX(C$2:C$101,MATCH(ROWS($C$2:C2),$AA$2:$AA$101,0))) | AD2: =IF(ISNA(INDEX(A$2:A$101,MATCH(ROWS($A$2:A2),$AA$2:$AA$101,0)))=TRUE,"",INDEX(A$2:A$101,MATCH(ROWS($A$2:A2),$AA$2:$AA$101,0))) | AE2: =IF(ISNA(INDEX(D$2:D$101,MATCH(ROWS($D$2:D2),$AA$2:$AA$101,0)))=TRUE,"",INDEX(D$2:D$101,MATCH(ROWS($D$2:D2),$AA$2:$AA$101,0)))
AA3: =IF(B3="","",COUNTIF($B$2:$B$101,"<="&B3)) | AB3: =IF(ISNA(INDEX(B$2:B$101,MATCH(ROWS($B$2:B3),$AA$2:$AA$101,0)))=TRUE,"",INDEX(B$2:B$101,MATCH(ROWS($B$2:B3),$AA$2:$AA$101,0))) | AC3: =IF(ISNA(INDEX(C$2:C$101,MATCH(ROWS($C$2:C3),$AA$2:$AA$101,0)))=TRUE,"",INDEX(C$2:C$101,MATCH(ROWS($C$2:C3),$AA$2:$AA$101,0))) | AD3: =IF(ISNA(INDEX(A$2:A$101,MATCH(ROWS($A$2:A3),$AA$2:$AA$101,0)))=TRUE,"",INDEX(A$2:A$101,MATCH(ROWS($A$2:A3),$AA$2:$AA$101,0))) | AE3: =IF(ISNA(INDEX(D$2:D$101,MATCH(ROWS($D$2:D3),$AA$2:$AA$101,0)))=TRUE,"",INDEX(D$2:D$101,MATCH(ROWS($D$2:D3),$AA$2:$AA$101,0)))
AA4: =IF(B4="","",COUNTIF($B$2:$B$101,"<="&B4)) | AB4: =IF(ISNA(INDEX(B$2:B$101,MATCH(ROWS($B$2:B4),$AA$2:$AA$101,0)))=TRUE,"",INDEX(B$2:B$101,MATCH(ROWS($B$2:B4),$AA$2:$AA$101,0))) | AC4: =IF(ISNA(INDEX(C$2:C$101,MATCH(ROWS($C$2:C4),$AA$2:$AA$101,0)))=TRUE,"",INDEX(C$2:C$101,MATCH(ROWS($C$2:C4),$AA$2:$AA$101,0))) | AD4: =IF(ISNA(INDEX(A$2:A$101,MATCH(ROWS($A$2:A4),$AA$2:$AA$101,0)))=TRUE,"",INDEX(A$2:A$101,MATCH(ROWS($A$2:A4),$AA$2:$AA$101,0))) | AE4: =IF(ISNA(INDEX(D$2:D$101,MATCH(ROWS($D$2:D4),$AA$2:$AA$101,0)))=TRUE,"",INDEX(D$2:D$101,MATCH(ROWS($D$2:D4),$AA$2:$AA$101,0)))
AA5: =IF(B5="","",COUNTIF($B$2:$B$101,"<="&B5)) | AB5: =IF(ISNA(INDEX(B$2:B$101,MATCH(ROWS($B$2:B5),$AA$2:$AA$101,0)))=TRUE,"",INDEX(B$2:B$101,MATCH(ROWS($B$2:B5),$AA$2:$AA$101,0))) | AC5: =IF(ISNA(INDEX(C$2:C$101,MATCH(ROWS($C$2:C5),$AA$2:$AA$101,0)))=TRUE,"",INDEX(C$2:C$101,MATCH(ROWS($C$2:C5),$AA$2:$AA$101,0))) | AD5: =IF(ISNA(INDEX(A$2:A$101,MATCH(ROWS($A$2:A5),$AA$2:$AA$101,0)))=TRUE,"",INDEX(A$2:A$101,MATCH(ROWS($A$2:A5),$AA$2:$AA$101,0))) | AE5: =IF(ISNA(INDEX(D$2:D$101,MATCH(ROWS($D$2:D5),$AA$2:$AA$101,0)))=TRUE,"",INDEX(D$2:D$101,MATCH(ROWS($D$2:D5),$AA$2:$AA$101,0)))
AA6: =IF(B6="","",COUNTIF($B$2:$B$101,"<="&B6)) | AB6: =IF(ISNA(INDEX(B$2:B$101,MATCH(ROWS($B$2:B6),$AA$2:$AA$101,0)))=TRUE,"",INDEX(B$2:B$101,MATCH(ROWS($B$2:B6),$AA$2:$AA$101,0))) | AC6: =IF(ISNA(INDEX(C$2:C$101,MATCH(ROWS($C$2:C6),$AA$2:$AA$101,0)))=TRUE,"",INDEX(C$2:C$101,MATCH(ROWS($C$2:C6),$AA$2:$AA$101,0))) | AD6: =IF(ISNA(INDEX(A$2:A$101,MATCH(ROWS($A$2:A6),$AA$2:$AA$101,0)))=TRUE,"",INDEX(A$2:A$101,MATCH(ROWS($A$2:A6),$AA$2:$AA$101,0))) | AE6: =IF(ISNA(INDEX(D$2:D$101,MATCH(ROWS($D$2:D6),$AA$2:$AA$101,0)))=TRUE,"",INDEX(D$2:D$101,MATCH(ROWS($D$2:D6),$AA$2:$AA$101,0)))
AA7: =IF(B7="","",COUNTIF($B$2:$B$101,"<="&B7)) | AB7: =IF(ISNA(INDEX(B$2:B$101,MATCH(ROWS($B$2:B7),$AA$2:$AA$101,0)))=TRUE,"",INDEX(B$2:B$101,MATCH(ROWS($B$2:B7),$AA$2:$AA$101,0))) | AC7: =IF(ISNA(INDEX(C$2:C$101,MATCH(ROWS($C$2:C7),$AA$2:$AA$101,0)))=TRUE,"",INDEX(C$2:C$101,MATCH(ROWS($C$2:C7),$AA$2:$AA$101,0))) | AD7: =IF(ISNA(INDEX(A$2:A$101,MATCH(ROWS($A$2:A7),$AA$2:$AA$101,0)))=TRUE,"",INDEX(A$2:A$101,MATCH(ROWS($A$2:A7),$AA$2:$AA$101,0))) | AE7: =IF(ISNA(INDEX(D$2:D$101,MATCH(ROWS($D$2:D7),$AA$2:$AA$101,0)))=TRUE,"",INDEX(D$2:D$101,MATCH(ROWS($D$2:D7),$AA$2:$AA$101,0)))
AA8: =IF(B8="","",COUNTIF($B$2:$B$101,"<="&B8)) | AB8: =IF(ISNA(INDEX(B$2:B$101,MATCH(ROWS($B$2:B8),$AA$2:$AA$101,0)))=TRUE,"",INDEX(B$2:B$101,MATCH(ROWS($B$2:B8),$AA$2:$AA$101,0))) | AC8: =IF(ISNA(INDEX(C$2:C$101,MATCH(ROWS($C$2:C8),$AA$2:$AA$101,0)))=TRUE,"",INDEX(C$2:C$101,MATCH(ROWS($C$2:C8),$AA$2:$AA$101,0))) | AD8: =IF(ISNA(INDEX(A$2:A$101,MATCH(ROWS($A$2:A8),$AA$2:$AA$101,0)))=TRUE,"",INDEX(A$2:A$101,MATCH(ROWS($A$2:A8),$AA$2:$AA$101,0))) | AE8: =IF(ISNA(INDEX(D$2:D$101,MATCH(ROWS($D$2:D8),$AA$2:$AA$101,0)))=TRUE,"",INDEX(D$2:D$101,MATCH(ROWS($D$2:D8),$AA$2:$AA$101,0)))
AA9: =IF(B9="","",COUNTIF($B$2:$B$101,"<="&B9)) | AB9: =IF(ISNA(INDEX(B$2:B$101,MATCH(ROWS($B$2:B9),$AA$2:$AA$101,0)))=TRUE,"",INDEX(B$2:B$101,MATCH(ROWS($B$2:B9),$AA$2:$AA$101,0))) | AC9: =IF(ISNA(INDEX(C$2:C$101,MATCH(ROWS($C$2:C9),$AA$2:$AA$101,0)))=TRUE,"",INDEX(C$2:C$101,MATCH(ROWS($C$2:C9),$AA$2:$AA$101,0))) | AD9: =IF(ISNA(INDEX(A$2:A$101,MATCH(ROWS($A$2:A9),$AA$2:$AA$101,0)))=TRUE,"",INDEX(A$2:A$101,MATCH(ROWS($A$2:A9),$AA$2:$AA$101,0))) | AE9: =IF(ISNA(INDEX(D$2:D$101,MATCH(ROWS($D$2:D9),$AA$2:$AA$101,0)))=TRUE,"",INDEX(D$2:D$101,MATCH(ROWS($D$2:D9),$AA$2:$AA$101,0)))
AA10: =IF(B10="","",COUNTIF($B$2:$B$101,"<="&B10)) | AB10: =IF(ISNA(INDEX(B$2:B$101,MATCH(ROWS($B$2:B10),$AA$2:$AA$101,0)))=TRUE,"",INDEX(B$2:B$101,MATCH(ROWS($B$2:B10),$AA$2:$AA$101,0))) | AC10: =IF(ISNA(INDEX(C$2:C$101,MATCH(ROWS($C$2:C10),$AA$2:$AA$101,0)))=TRUE,"",INDEX(C$2:C$101,MATCH(ROWS($C$2:C10),$AA$2:$AA$101,0))) | AD10: =IF(ISNA(INDEX(A$2:A$101,MATCH(ROWS($A$2:A10),$AA$2:$AA$101,0)))=TRUE,"",INDEX(A$2:A$101,MATCH(ROWS($A$2:A10),$AA$2:$AA$101,0))) | AE10: =IF(ISNA(INDEX(D$2:D$101,MATCH(ROWS($D$2:D10),$AA$2:$AA$101,0)))=TRUE,"",INDEX(D$2:D$101,MATCH(ROWS($D$2:D10),$AA$2:$AA$101,0)))
AA11: =IF(B11="","",COUNTIF($B$2:$B$101,"<="&B11)) | AB11: =IF(ISNA(INDEX(B$2:B$101,MATCH(ROWS($B$2:B11),$AA$2:$AA$101,0)))=TRUE,"",INDEX(B$2:B$101,MATCH(ROWS($B$2:B11),$AA$2:$AA$101,0))) | AC11: =IF(ISNA(INDEX(C$2:C$101,MATCH(ROWS($C$2:C11),$AA$2:$AA$101,0)))=TRUE,"",INDEX(C$2:C$101,MATCH(ROWS($C$2:C11),$AA$2:$AA$101,0))) | AD11: =IF(ISNA(INDEX(A$2:A$101,MATCH(ROWS($A$2:A11),$AA$2:$AA$101,0)))=TRUE,"",INDEX(A$2:A$101,MATCH(ROWS($A$2:A11),$AA$2:$AA$101,0))) | AE11: =IF(ISNA(INDEX(D$2:D$101,MATCH(ROWS($D$2:D11),$AA$2:$AA$101,0)))=TRUE,"",INDEX(D$2:D$101,MATCH(ROWS($D$2:D11),$AA$2:$AA$101,0)))
AA12: =IF(B12="","",COUNTIF($B$2:$B$101,"<="&B12)) | AB12: =IF(ISNA(INDEX(B$2:B$101,MATCH(ROWS($B$2:B12),$AA$2:$AA$101,0)))=TRUE,"",INDEX(B$2:B$101,MATCH(ROWS($B$2:B12),$AA$2:$AA$101,0))) | AC12: =IF(ISNA(INDEX(C$2:C$101,MATCH(ROWS($C$2:C12),$AA$2:$AA$101,0)))=TRUE,"",INDEX(C$2:C$101,MATCH(ROWS($C$2:C12),$AA$2:$AA$101,0))) | AD12: =IF(ISNA(INDEX(A$2:A$101,MATCH(ROWS($A$2:A12),$AA$2:$AA$101,0)))=TRUE,"",INDEX(A$2:A$101,MATCH(ROWS($A$2:A12),$AA$2:$AA$101,0))) | AE12: =IF(ISNA(INDEX(D$2:D$101,MATCH(ROWS($D$2:D12),$AA$2:$AA$101,0)))=TRUE,"",INDEX(D$2:D$101,MATCH(ROWS($D$2:D12),$AA$2:$AA$101,0)))
AA13: =IF(B13="","",COUNTIF($B$2:$B$101,"<="&B13)) | AB13: =IF(ISNA(INDEX(B$2:B$101,MATCH(ROWS($B$2:B13),$AA$2:$AA$101,0)))=TRUE,"",INDEX(B$2:B$101,MATCH(ROWS($B$2:B13),$AA$2:$AA$101,0))) | AC13: =IF(ISNA(INDEX(C$2:C$101,MATCH(ROWS($C$2:C13),$AA$2:$AA$101,0)))=TRUE,"",INDEX(C$2:C$101,MATCH(ROWS($C$2:C13),$AA$2:$AA$101,0))) | AD13: =IF(ISNA(INDEX(A$2:A$101,MATCH(ROWS($A$2:A13),$AA$2:$AA$101,0)))=TRUE,"",INDEX(A$2:A$101,MATCH(ROWS($A$2:A13),$AA$2:$AA$101,0))) | AE13: =IF(ISNA(INDEX(D$2:D$101,MATCH(ROWS($D$2:D13),$AA$2:$AA$101,0)))=TRUE,"",INDEX(D$2:D$101,MATCH(ROWS($D$2:D13),$AA$2:$AA$101,0)))
AA14: =IF(B14="","",COUNTIF($B$2:$B$101,"<="&B14)) | AB14: =IF(ISNA(INDEX(B$2:B$101,MATCH(ROWS($B$2:B14),$AA$2:$AA$101,0)))=TRUE,"",INDEX(B$2:B$101,MATCH(ROWS($B$2:B14),$AA$2:$AA$101,0))) | AC14: =IF(ISNA(INDEX(C$2:C$101,MATCH(ROWS($C$2:C14),$AA$2:$AA$101,0)))=TRUE,"",INDEX(C$2:C$101,MATCH(ROWS($C$2:C14),$AA$2:$AA$101,0))) | AD14: =IF(ISNA(INDEX(A$2:A$101,MATCH(ROWS($A$2:A14),$AA$2:$AA$101,0)))=TRUE,"",INDEX(A$2:A$101,MATCH(ROWS($A$2:A14),$AA$2:$AA$101,0))) | AE14: =IF(ISNA(INDEX(D$2:D$101,MATCH(ROWS($D$2:D14),$AA$2:$AA$101,0)))=TRUE,"",INDEX(D$2:D$101,MATCH(ROWS($D$2:D14),$AA$2:$AA$101,0)))
... AA27: =IF(B27="","",COUNTIF($B$2:$B$101,"<="&B27)) | AB27: =IF(ISNA(INDEX(B$2:B$101,MATCH(ROWS($B$2:B27),$AA$2:$AA$101,0)))=TRUE,"",INDEX(B$2:B$101,MATCH(ROWS($B$2:B27),$AA$2:$AA$101,0))) | AC27: =IF(ISNA(INDEX(C$2:C$101,MATCH(ROWS($C$2:C27),$AA$2:$AA$101,0)))=TRUE,"",INDEX(C$2:C$101,MATCH(ROWS($C$2:C27),$AA$2:$AA$101,0))) | AD27: =IF(ISNA(INDEX(A$2:A$101,MATCH(ROWS($A$2:A27),$AA$2:$AA$101,0)))=TRUE,"",INDEX(A$2:A$101,MATCH(ROWS($A$2:A27),$AA$2:$AA$101,0))) | AE27: =IF(ISNA(INDEX(D$2:D$101,MATCH(ROWS($D$2:D27),$AA$2:$AA$101,0)))=TRUE,"",INDEX(D$2:D$101,MATCH(ROWS($D$2:D27),$AA$2:$AA$101,0)))
AA28: =IF(B28="","",COUNTIF($B$2:$B$101,"<="&B28)) | AB28: =IF(AA28="","",IF($B$28="","",INDEX(B$2:B$101,MATCH(ROWS($AA$2:AA28),$AA$2:$AA$101,0)))) | AC28: =IF(AA28="","",IF($C$28="","",INDEX(C$2:C$101,MATCH(ROWS($AA$2:AA28),AA$2:AA$101,0)))) | AD28: =IF(AA28="","",IF($A$28="","",INDEX(A$2:A$101,MATCH(ROWS($AA$2:AA28),AA$2:AA$101,0)))) | AE28: =IF(AA28="","",IF($D$28="","",INDEX(D$2:D$101,MATCH(ROWS($AA$2:AA28),AA$2:AA$101,0))))
AA29: =IF(B29="","",COUNTIF($B$2:$B$101,"<="&B29)) | AB29: =IF(AA29="","",IF($B$29="","",INDEX(B$2:B$101,MATCH(ROWS($AA$2:AA29),$AA$2:$AA$101,0)))) | AC29: =IF(AA29="","",IF($C$29="","",INDEX(C$2:C$101,MATCH(ROWS($AA$2:AA29),AA$2:AA$101,0)))) | AD29: =IF(AA29="","",IF($A$29="","",INDEX(A$2:A$101,MATCH(ROWS($AA$2:AA29),AA$2:AA$101,0)))) | AE29: =IF(AA29="","",IF($D$29="","",INDEX(D$2:D$101,MATCH(ROWS($AA$2:AA29),AA$2:AA$101,0))))
AA30: =IF(B30="","",COUNTIF($B$2:$B$101,"<="&B30)) | AB30: =IF(AA30="","",IF($B$30="","",INDEX(B$2:B$101,MATCH(ROWS($AA$2:AA30),$AA$2:$AA$101,0)))) | AC30: =IF(AA30="","",IF($C$30="","",INDEX(C$2:C$101,MATCH(ROWS($AA$2:AA30),AA$2:AA$101,0)))) | AD30: =IF(AA30="","",IF($A$30="","",INDEX(A$2:A$101,MATCH(ROWS($AA$2:AA30),AA$2:AA$101,0)))) | AE30: =IF(AA30="","",IF($D$30="","",INDEX(D$2:D$101,MATCH(ROWS($AA$2:AA30),AA$2:AA$101,0))))
AA31: =IF(B31="","",COUNTIF($B$2:$B$101,"<="&B31)) | AB31: =IF(AA31="","",IF($B$31="","",INDEX(B$2:B$101,MATCH(ROWS($AA$2:AA31),$AA$2:$AA$101,0)))) | AC31: =IF(AA31="","",IF($C$31="","",INDEX(C$2:C$101,MATCH(ROWS($AA$2:AA31),AA$2:AA$101,0)))) | AD31: =IF(AA31="","",IF($A$31="","",INDEX(A$2:A$101,MATCH(ROWS($AA$2:AA31),AA$2:AA$101,0)))) | AE31: =IF(AA31="","",IF($D$31="","",INDEX(D$2:D$101,MATCH(ROWS($AA$2:AA31),AA$2:AA$101,0))))
AA32: =IF(B32="","",COUNTIF($B$2:$B$101,"<="&B32)) | AB32: =IF(AA32="","",IF($B$32="","",INDEX(B$2:B$101,MATCH(ROWS($AA$2:AA32),$AA$2:$AA$101,0)))) | AC32: =IF(AA32="","",IF($C$32="","",INDEX(C$2:C$101,MATCH(ROWS($AA$2:AA32),AA$2:AA$101,0)))) | AD32: =IF(AA32="","",IF($A$32="","",INDEX(A$2:A$101,MATCH(ROWS($AA$2:AA32),AA$2:AA$101,0)))) | AE32: =IF(AA32="","",IF($D$32="","",INDEX(D$2:D$101,MATCH(ROWS($AA$2:AA32),AA$2:AA$101,0))))
AA33: =IF($B$33="","",COUNTIF($B$2:$B$101,"<="&$B$33)) | AB33: =IF(AA33="","",IF($B$33="","",INDEX(B$2:B$101,MATCH(ROWS($AA$2:AA33),$AA$2:$AA$101,0)))) | AC33: =IF(AA33="","",IF($C$33="","",INDEX(C$2:C$101,MATCH(ROWS($AA$2:AA33),AA$2:AA$101,0)))) | AD33: =IF(AA33="","",IF($A$33="","",INDEX(A$2:A$101,MATCH(ROWS($AA$2:AA33),AA$2:AA$101,0)))) | AE33: =IF(AA33="","",IF($D$33="","",INDEX(D$2:D$101,MATCH(ROWS($AA$2:AA33),AA$2:AA$101,0))))
AA34: =IF($B$34="","",COUNTIF($B$2:$B$101,"<="&$B$34)) | AB34: =IF(AA34="","",IF($B$34="","",INDEX(B$2:B$101,MATCH(ROWS($AA$2:AA34),$AA$2:$AA$101,0)))) | AC34: =IF(AA34="","",IF($C$34="","",INDEX(C$2:C$101,MATCH(ROWS($AA$2:AA34),AA$2:AA$101,0)))) | AD34: =IF(AA34="","",IF($A$34="","",INDEX(A$2:A$101,MATCH(ROWS($AA$2:AA34),AA$2:AA$101,0)))) | AE34: =IF(AA34="","",IF($D$34="","",INDEX(D$2:D$101,MATCH(ROWS($AA$2:AA34),AA$2:AA$101,0))))
AA35: =IF($B$35="","",COUNTIF($B$2:$B$101,"<="&$B$35)) | AB35: =IF(AA35="","",IF($B$35="","",INDEX(B$2:B$101,MATCH(ROWS($AA$2:AA35),$AA$2:$AA$101,0)))) | AC35: =IF(AA35="","",IF($C$35="","",INDEX(C$2:C$101,MATCH(ROWS($AA$2:AA35),AA$2:AA$101,0)))) | AD35: =IF(AA35="","",IF($A$35="","",INDEX(A$2:A$101,MATCH(ROWS($AA$2:AA35),AA$2:AA$101,0)))) | AE35: =IF(AA35="","",IF($D$35="","",INDEX(D$2:D$101,MATCH(ROWS($AA$2:AA35),AA$2:AA$101,0))))
AA36: =IF($B$36="","",COUNTIF($B$2:$B$101,"<="&$B$36)) | AB36: =IF(AA36="","",IF($B$36="","",INDEX(B$2:B$101,MATCH(ROWS($AA$2:AA36),$AA$2:$AA$101,0)))) | AC36: =IF(AA36="","",IF($C$36="","",INDEX(C$2:C$101,MATCH(ROWS($AA$2:AA36),AA$2:AA$101,0)))) | AD36: =IF(AA36="","",IF($A$36="","",INDEX(A$2:A$101,MATCH(ROWS($AA$2:AA36),AA$2:AA$101,0)))) | AE36: =IF(AA36="","",IF($D$36="","",INDEX(D$2:D$101,MATCH(ROWS($AA$2:AA36),AA$2:AA$101,0))))
AA37: =IF($B$37="","",COUNTIF($B$2:$B$101,"<="&$B$37)) | AB37: =IF(AA37="","",IF($B$37="","",INDEX(B$2:B$101,MATCH(ROWS($AA$2:AA37),$AA$2:$AA$101,0)))) | AC37: =IF(AA37="","",IF($C$37="","",INDEX(C$2:C$101,MATCH(ROWS($AA$2:AA37),AA$2:AA$101,0)))) | AD37: =IF(AA37="","",IF($A$37="","",INDEX(A$2:A$101,MATCH(ROWS($AA$2:AA37),AA$2:AA$101,0)))) | AE37: =IF(AA37="","",IF($D$37="","",INDEX(D$2:D$101,MATCH(ROWS($AA$2:AA37),AA$2:AA$101,0))))
AA38: =IF($B$38="","",COUNTIF($B$2:$B$101,"<="&$B$38)) | AB38: =IF(AA38="","",IF($B$38="","",INDEX(B$2:B$101,MATCH(ROWS($AA$2:AA38),$AA$2:$AA$101,0)))) | AC38: =IF(AA38="","",IF($C$38="","",INDEX(C$2:C$101,MATCH(ROWS($AA$2:AA38),AA$2:AA$101,0)))) | AD38: =IF(AA38="","",IF($A$38="","",INDEX(A$2:A$101,MATCH(ROWS($AA$2:AA38),AA$2:AA$101,0)))) | AE38: =IF(AA38="","",IF($D$38="","",INDEX(D$2:D$101,MATCH(ROWS($AA$2:AA38),AA$2:AA$101,0))))
AA39: =IF($B$39="","",COUNTIF($B$2:$B$101,"<="&$B$39)) | AB39: =IF(AA39="","",IF($B$39="","",INDEX(B$2:B$101,MATCH(ROWS($AA$2:AA39),$AA$2:$AA$101,0)))) | AC39: =IF(AA39="","",IF($C$39="","",INDEX(C$2:C$101,MATCH(ROWS($AA$2:AA39),AA$2:AA$101,0)))) | AD39: =IF(AA39="","",IF($A$39="","",INDEX(A$2:A$101,MATCH(ROWS($AA$2:AA39),AA$2:AA$101,0)))) | AE39: =IF(AA39="","",IF($D$39="","",INDEX(D$2:D$101,MATCH(ROWS($AA$2:AA39),AA$2:AA$101,0))))
AA40: =IF($B$40="","",COUNTIF($B$2:$B$101,"<="&$B$40)) | AB40: =IF(AA40="","",IF($B$40="","",INDEX(B$2:B$101,MATCH(ROWS($AA$2:AA40),$AA$2:$AA$101,0)))) | AC40: =IF(AA40="","",IF($C$40="","",INDEX(C$2:C$101,MATCH(ROWS($AA$2:AA40),AA$2:AA$101,0)))) | AD40: =IF(AA40="","",IF($A$40="","",INDEX(A$2:A$101,MATCH(ROWS($AA$2:AA40),AA$2:AA$101,0)))) | AE40: =IF(AA40="","",IF($D$40="","",INDEX(D$2:D$101,MATCH(ROWS($AA$2:AA40),AA$2:AA$101,0))))
AA41: =IF($B$41="","",COUNTIF($B$2:$B$101,"<="&$B$41)) | AB41: =IF(AA41="","",IF($B$41="","",INDEX(B$2:B$101,MATCH(ROWS($AA$2:AA41),$AA$2:$AA$101,0)))) | AC41: =IF(AA41="","",IF($C$41="","",INDEX(C$2:C$101,MATCH(ROWS($AA$2:AA41),AA$2:AA$101,0)))) | AD41: =IF(AA41="","",IF($A$41="","",INDEX(A$2:A$101,MATCH(ROWS($AA$2:AA41),AA$2:AA$101,0)))) | AE41: =IF(AA41="","",IF($D$41="","",INDEX(D$2:D$101,MATCH(ROWS($AA$2:AA41),AA$2:AA$101,0))))
AA42: =IF($B$42="","",COUNTIF($B$2:$B$101,"<="&$B$42)) | AB42: =IF(AA42="","",IF($B$42="","",INDEX(B$2:B$101,MATCH(ROWS($AA$2:AA42),$AA$2:$AA$101,0)))) | AC42: =IF(AA42="","",IF($C$42="","",INDEX(C$2:C$101,MATCH(ROWS($AA$2:AA42),AA$2:AA$101,0)))) | AD42: =IF(AA42="","",IF($A$42="","",INDEX(A$2:A$101,MATCH(ROWS($AA$2:AA42),AA$2:AA$101,0)))) | AE42: =IF(AA42="","",IF($D$42="","",INDEX(D$2:D$101,MATCH(ROWS($AA$2:AA42),AA$2:AA$101,0))))
AA43: =IF($B$43="","",COUNTIF($B$2:$B$101,"<="&$B$43)) | AB43: =IF(AA43="","",IF($B$43="","",INDEX(B$2:B$101,MATCH(ROWS($AA$2:AA43),$AA$2:$AA$101,0)))) | AC43: =IF(AA43="","",IF($C$43="","",INDEX(C$2:C$101,MATCH(ROWS($AA$2:AA43),AA$2:AA$101,0)))) | AD43: =IF(AA43="","",IF($A$43="","",INDEX(A$2:A$101,MATCH(ROWS($AA$2:AA43),AA$2:AA$101,0)))) | AE43: =IF(AA43="","",IF($D$43="","",INDEX(D$2:D$101,MATCH(ROWS($AA$2:AA43),AA$2:AA$101,0))))
AA44: =IF($B$44="","",COUNTIF($B$2:$B$101,"<="&$B$44)) | AB44: =IF(AA44="","",IF($B$44="","",INDEX(B$2:B$101,MATCH(ROWS($AA$2:AA44),$AA$2:$AA$101,0)))) | AC44: =IF(AA44="","",IF($C$44="","",INDEX(C$2:C$101,MATCH(ROWS($AA$2:AA44),AA$2:AA$101,0)))) | AD44: =IF(AA44="","",IF($A$44="","",INDEX(A$2:A$101,MATCH(ROWS($AA$2:AA44),AA$2:AA$101,0)))) | AE44: =IF(AA44="","",IF($D$44="","",INDEX(D$2:D$101,MATCH(ROWS($AA$2:AA44),AA$2:AA$101,0))))
AA45: =IF($B$45="","",COUNTIF($B$2:$B$101,"<="&$B$45)) | AB45: =IF(AA45="","",IF($B$45="","",INDEX(B$2:B$101,MATCH(ROWS($AA$2:AA45),$AA$2:$AA$101,0)))) | AC45: =IF(AA45="","",IF($C$45="","",INDEX(C$2:C$101,MATCH(ROWS($AA$2:AA45),AA$2:AA$101,0)))) | AD45: =IF(AA45="","",IF($A$45="","",INDEX(A$2:A$101,MATCH(ROWS($AA$2:AA45),AA$2:AA$101,0)))) | AE45: =IF(AA45="","",IF($D$45="","",INDEX(D$2:D$101,MATCH(ROWS($AA$2:AA45),AA$2:AA$101,0))))
AA46: =IF($B$46="","",COUNTIF($B$2:$B$101,"<="&$B$46)) | AB46: =IF(AA46="","",IF($B$46="","",INDEX(B$2:B$101,MATCH(ROWS($AA$2:AA46),$AA$2:$AA$101,0)))) | AC46: =IF(AA46="","",IF($C$46="","",INDEX(C$2:C$101,MATCH(ROWS($AA$2:AA46),AA$2:AA$101,0)))) | AD46: =IF(AA46="","",IF($A$46="","",INDEX(A$2:A$101,MATCH(ROWS($AA$2:AA46),AA$2:AA$101,0)))) | AE46: =IF(AA46="","",IF($D$46="","",INDEX(D$2:D$101,MATCH(ROWS($AA$2:AA46),AA$2:AA$101,0))))
AA47: =IF($B$47="","",COUNTIF($B$2:$B$101,"<="&$B$47)) | AB47: =IF(AA47="","",IF($B$47="","",INDEX(B$2:B$101,MATCH(ROWS($AA$2:AA47),$AA$2:$AA$101,0)))) | AC47: =IF(AA47="","",IF($C$47="","",INDEX(C$2:C$101,MATCH(ROWS($AA$2:AA47),AA$2:AA$101,0)))) | AD47: =IF(AA47="","",IF($A$47="","",INDEX(A$2:A$101,MATCH(ROWS($AA$2:AA47),AA$2:AA$101,0)))) | AE47: =IF(AA47="","",IF($D$47="","",INDEX(D$2:D$101,MATCH(ROWS($AA$2:AA47),AA$2:AA$101,0))))
AA48: =IF($B$48="","",COUNTIF($B$2:$B$101,"<="&$B$48)) | AB48: =IF(AA48="","",IF($B$48="","",INDEX(B$2:B$101,MATCH(ROWS($AA$2:AA48),$AA$2:$AA$101,0)))) | AC48: =IF(AA48="","",IF($C$48="","",INDEX(C$2:C$101,MATCH(ROWS($AA$2:AA48),AA$2:AA$101,0)))) | AD48: =IF(AA48="","",IF($A$48="","",INDEX(A$2:A$101,MATCH(ROWS($AA$2:AA48),AA$2:AA$101,0)))) | AE48: =IF(AA48="","",IF($D$48="","",INDEX(D$2:D$101,MATCH(ROWS($AA$2:AA48),AA$2:AA$101,0))))
AA49: =IF($B$49="","",COUNTIF($B$2:$B$101,"<="&$B$49)) | AB49: =IF(AA49="","",IF($B$49="","",INDEX(B$2:B$101,MATCH(ROWS($AA$2:AA49),$AA$2:$AA$101,0)))) | AC49: =IF(AA49="","",IF($C$49="","",INDEX(C$2:C$101,MATCH(ROWS($AA$2:AA49),AA$2:AA$101,0)))) | AD49: =IF(AA49="","",IF($A$49="","",INDEX(A$2:A$101,MATCH(ROWS($AA$2:AA49),AA$2:AA$101,0)))) | AE49: =IF(AA49="","",IF($D$49="","",INDEX(D$2:D$101,MATCH(ROWS($AA$2:AA49),AA$2:AA$101,0))))
AA50: =IF($B$50="","",COUNTIF($B$2:$B$101,"<="&$B$50)) | AB50: =IF(AA50="","",IF($B$50="","",INDEX(B$2:B$101,MATCH(ROWS($AA$2:AA50),$AA$2:$AA$101,0)))) | AC50: =IF(AA50="","",IF($C$50="","",INDEX(C$2:C$101,MATCH(ROWS($AA$2:AA50),AA$2:AA$101,0)))) | AD50: =IF(AA50="","",IF($A$50="","",INDEX(A$2:A$101,MATCH(ROWS($AA$2:AA50),AA$2:AA$101,0)))) | AE50: =IF(AA50="","",IF($D$50="","",INDEX(D$2:D$101,MATCH(ROWS($AA$2:AA50),AA$2:AA$101,0))))
AA51: =IF($B$51="","",COUNTIF($B$2:$B$101,"<="&$B$51)) | AB51: =IF(AA51="","",IF($B$51="","",INDEX(B$2:B$101,MATCH(ROWS($AA$2:AA51),$AA$2:$AA$101,0)))) | AC51: =IF(AA51="","",IF($C$51="","",INDEX(C$2:C$101,MATCH(ROWS($AA$2:AA51),AA$2:AA$101,0)))) | AD51: =IF(AA51="","",IF($A$51="","",INDEX(A$2:A$101,MATCH(ROWS($AA$2:AA51),AA$2:AA$101,0)))) | AE51: =IF(AA51="","",IF($D$51="","",INDEX(D$2:D$101,MATCH(ROWS($AA$2:AA51),AA$2:AA$101,0))))
AA52: =IF($B$52="","",COUNTIF($B$2:$B$101,"<="&$B$52)) | AB52: =IF(AA52="","",IF($B$52="","",INDEX(B$2:B$101,MATCH(ROWS($AA$2:AA52),$AA$2:$AA$101,0)))) | AC52: =IF(AA52="","",IF($C$52="","",INDEX(C$2:C$101,MATCH(ROWS($AA$2:AA52),AA$2:AA$101,0)))) | AD52: =IF(AA52="","",IF($A$52="","",INDEX(A$2:A$101,MATCH(ROWS($AA$2:AA52),AA$2:AA$101,0)))) | AE52: =IF(AA52="","",IF($D$52="","",INDEX(D$2:D$101,MATCH(ROWS($AA$2:AA52),AA$2:AA$101,0))))
...

Sheet Skyttere alfabetisk
A1: Skytternr | B1: Navn | C1: Bedriftsidrettslag | D1: Fødselsår
A2: =IF(OR(ISNA('Skyttere registrering'!AD2)=TRUE,0),"",'Skyttere registrering'!AD2) | B2: =IF(OR(ISNA('Skyttere registrering'!AB2)=TRUE,0),"",'Skyttere registrering'!AB2) | C2: =IF(OR(ISNA('Skyttere registrering'!AC2)=TRUE,0),"",'Skyttere registrering'!AC2) | D2: =IF(OR(ISNA('Skyttere registrering'!AE2)=TRUE,0),"",'Skyttere registrering'!AE2)
A3: =IF(OR(ISNA('Skyttere registrering'!AD3)=TRUE,0),"",'Skyttere registrering'!AD3) | B3: =IF(OR(ISNA('Skyttere registrering'!AB3)=TRUE,0),"",'Skyttere registrering'!AB3) | C3: =IF(OR(ISNA('Skyttere registrering'!AC3)=TRUE,0),"",'Skyttere registrering'!AC3) | D3: =IF(OR(ISNA('Skyttere registrering'!AE3)=TRUE,0),"",'Skyttere registrering'!AE3)
A4: =IF(OR(ISNA('Skyttere registrering'!AD4)=TRUE,0),"",'Skyttere registrering'!AD4) | B4: =IF(OR(ISNA('Skyttere registrering'!AB4)=TRUE,0),"",'Skyttere registrering'!AB4) | C4: =IF(OR(ISNA('Skyttere registrering'!AC4)=TRUE,0),"",'Skyttere registrering'!AC4) | D4: =IF(OR(ISNA('Skyttere registrering'!AE4)=TRUE,0),"",'Skyttere registrering'!AE4)
A5: =IF(OR(ISNA('Skyttere registrering'!AD5)=TRUE,0),"",'Skyttere registrering'!AD5) | B5: =IF(OR(ISNA('Skyttere registrering'!AB5)=TRUE,0),"",'Skyttere registrering'!AB5) | C5: =IF(OR(ISNA('Skyttere registrering'!AC5)=TRUE,0),"",'Skyttere registrering'!AC5) | D5: =IF(OR(ISNA('Skyttere registrering'!AE5)=TRUE,0),"",'Skyttere registrering'!AE5)
A6: =IF(OR(ISNA('Skyttere registrering'!AD6)=TRUE,0),"",'Skyttere registrering'!AD6) | B6: =IF(OR(ISNA('Skyttere registrering'!AB6)=TRUE,0),"",'Skyttere registrering'!AB6) | C6: =IF(OR(ISNA('Skyttere registrering'!AC6)=TRUE,0),"",'Skyttere registrering'!AC6) | D6: =IF(OR(ISNA('Skyttere registrering'!AE6)=TRUE,0),"",'Skyttere registrering'!AE6)
A7: =IF(OR(ISNA('Skyttere registrering'!AD7)=TRUE,0),"",'Skyttere registrering'!AD7) | B7: =IF(OR(ISNA('Skyttere registrering'!AB7)=TRUE,0),"",'Skyttere registrering'!AB7) | C7: =IF(OR(ISNA('Skyttere registrering'!AC7)=TRUE,0),"",'Skyttere registrering'!AC7) | D7: =IF(OR(ISNA('Skyttere registrering'!AE7)=TRUE,0),"",'Skyttere registrering'!AE7)
A8: =IF(OR(ISNA('Skyttere registrering'!AD8)=TRUE,0),"",'Skyttere registrering'!AD8) | B8: =IF(OR(ISNA('Skyttere registrering'!AB8)=TRUE,0),"",'Skyttere registrering'!AB8) | C8: =IF(OR(ISNA('Skyttere registrering'!AC8)=TRUE,0),"",'Skyttere registrering'!AC8) | D8: =IF(OR(ISNA('Skyttere registrering'!AE8)=TRUE,0),"",'Skyttere registrering'!AE8)
A9: =IF(OR(ISNA('Skyttere registrering'!AD9)=TRUE,0),"",'Skyttere registrering'!AD9) | B9: =IF(OR(ISNA('Skyttere registrering'!AB9)=TRUE,0),"",'Skyttere registrering'!AB9) | C9: =IF(OR(ISNA('Skyttere registrering'!AC9)=TRUE,0),"",'Skyttere registrering'!AC9) | D9: =IF(OR(ISNA('Skyttere registrering'!AE9)=TRUE,0),"",'Skyttere registrering'!AE9)
A10: =IF(OR(ISNA('Skyttere registrering'!AD10)=TRUE,0),"",'Skyttere registrering'!AD10) | B10: =IF(OR(ISNA('Skyttere registrering'!AB10)=TRUE,0),"",'Skyttere registrering'!AB10) | C10: =IF(OR(ISNA('Skyttere registrering'!AC10)=TRUE,0),"",'Skyttere registrering'!AC10) | D10: =IF(OR(ISNA('Skyttere registrering'!AE10)=TRUE,0),"",'Skyttere registrering'!AE10)
A11: =IF(OR(ISNA('Skyttere registrering'!AD11)=TRUE,0),"",'Skyttere registrering'!AD11) | B11: =IF(OR(ISNA('Skyttere registrering'!AB11)=TRUE,0),"",'Skyttere registrering'!AB11) | C11: =IF(OR(ISNA('Skyttere registrering'!AC11)=TRUE,0),"",'Skyttere registrering'!AC11) | D11: =IF(OR(ISNA('Skyttere registrering'!AE11)=TRUE,0),"",'Skyttere registrering'!AE11)
A12: =IF(OR(ISNA('Skyttere registrering'!AD12)=TRUE,0),"",'Skyttere registrering'!AD12) | B12: =IF(OR(ISNA('Skyttere registrering'!AB12)=TRUE,0),"",'Skyttere registrering'!AB12) | C12: =IF(OR(ISNA('Skyttere registrering'!AC12)=TRUE,0),"",'Skyttere registrering'!AC12) | D12: =IF(OR(ISNA('Skyttere registrering'!AE12)=TRUE,0),"",'Skyttere registrering'!AE12)
A13: =IF(OR(ISNA('Skyttere registrering'!AD13)=TRUE,0),"",'Skyttere registrering'!AD13) | B13: =IF(OR(ISNA('Skyttere registrering'!AB13)=TRUE,0),"",'Skyttere registrering'!AB13) | C13: =IF(OR(ISNA('Skyttere registrering'!AC13)=TRUE,0),"",'Skyttere registrering'!AC13) | D13: =IF(OR(ISNA('Skyttere registrering'!AE13)=TRUE,0),"",'Skyttere registrering'!AE13)
... A101: =IF(OR(ISNA('Skyttere registrering'!AD101)=TRUE,0),"",'Skyttere registrering'!AD101) | B101: =IF(OR(ISNA('Skyttere registrering'!AB101)=TRUE,0),"",'Skyttere registrering'!AB101) | C101: =IF(OR(ISNA('Skyttere registrering'!AC101)=TRUE,0),"",'Skyttere registrering'!AC101) | D101: =IF(OR(ISNA('Skyttere registrering'!AE101)=TRUE,0),"",'Skyttere registrering'!AE101)
A102: ='Skyttere registrering'!Z1 -> 1 | B102: ="'Skyttere alfabetisk'!$B$2:$B$"&A102 -> 'Skyttere alfabetisk'!$B$2:$B$1

Sheet 10m LR Bedr
G2: Stevne: | H2: Stevne 1 | J2: Stevne 2 | L2: Stevne 3 | N2: Stevne 4 | P2: Stevne 5 | R2: Stevne 6 | T2: Stevne 7 | V2: Stevne 8 | X2: Stevne 9 | Z2: Stevne 10 | AB2: Stevne 11 | AD2: Stevne 12 | AF2: Stevne 13 | AH2: Stevne 14 | AJ2: Stevne 15 | AL2: Stevne 16 | AN2: Stevne 17 | AP2: Stevne 18 | AR2: Stevne 19 | AT2: Stevne 20 | AV2: Stevne 21 | AX2: Stevne 22 | AZ2: Stevne 23 | BB2: Stevne 24 | BD2: Stevne 25 | BF2: Stevne 26 | BH2: Stevne 27 | BJ2: Stevne 28 | BL2: Stevne 29 | BN2: Stevne 30 | BP2: Stevne 31 | BR2: Stevne 32 | BT2: Stevne 33 | BV2: Stevne 34 | BX2: Stevne 35 | BZ2: Stevne 36 | CB2: Stevne 37 | CD2: Stevne 38 | CF2: Stevne 39 | CH2: Stevne 40 | CJ2: Stevne 41 | CL2: Stevne 42 | CN2: Stevne 43 | CP2: Stevne 44 | CR2: Stevne 45 | CT2: Stevne 46 | CV2: Stevne 47 | CX2: Stevne 48 | CZ2: Stevne 49 | DB2: Stevne 50 | DD2: Stevne 51 | DF2: Stevne 52 | DH2: Stevne 53 | DJ2: Stevne 54 | DL2: Stevne 55 | DN2: Stevne 56 | DP2: Stevne 57 | DR2: Stevne 58 | DT2: Stevne 59 | DV2: Stevne 60 | DX2: Stevne 61 | DZ2: Stevne 62 | EB2: Stevne 63 | ED2: Stevne 64 | EF2: Stevne 65 | EH2: Stevne 66 | EJ2: Stevne 67 | EL2: Stevne 68 | EN2: Stevne 69 | EP2: Stevne 70 | ER2: Stevne 71 | ET2: Stevne 72 | EV2: Stevne 73 | EX2: Stevne 74 | EZ2: Stevne 75
G3: Ant. Skudd:
G4: Dato: | FP4: =1+(2*(COLUMN(A$1:A1)-1)) -> 1 | FQ4: =1+(2*(COLUMN(B$1:B1)-1)) -> 3 | FR4: =1+(2*(COLUMN(C$1:C1)-1)) -> 5 | FS4: =1+(2*(COLUMN(D$1:D1)-1)) -> 7 | FT4: =1+(2*(COLUMN(E$1:E1)-1)) -> 9 | FU4: =1+(2*(COLUMN(F$1:F1)-1)) -> 11 | FV4: =1+(2*(COLUMN(G$1:G1)-1)) -> 13 | FW4: =1+(2*(COLUMN(H$1:H1)-1)) -> 15 | ... IL4: =1+(2*(COLUMN(BW$1:BW1)-1)) -> 149
A5: Sk. Nr | B5: Navn | C5: Lag | D5: Fødselsår | E5: Ny klasse | F5: Deltatt i antall stevner | G5: Klassifiseringsgrunnlag (Gj.snitt skuddverdi av de 5 beste stevnene) | H5: Poeng | I5: Skudd-verdi | J5: Poeng | K5: Skudd-verdi | L5: Poeng | M5: Skudd-verdi | N5: Poeng | O5: Skudd-verdi | P5: Poeng | Q5: Skudd-verdi | R5: Poeng | S5: Skudd-verdi | T5: Poeng | U5: Skudd-verdi | V5: Poeng | W5: Skudd-verdi | X5: Poeng | Y5: Skudd-verdi | Z5: Poeng | AA5: Skudd-verdi | AB5: Poeng | AC5: Skudd-verdi | AD5: Poeng | AE5: Skudd-verdi | AF5: Poeng | AG5: Skudd-verdi | AH5: Poeng | AI5: Skudd-verdi | AJ5: Poeng | AK5: Skudd-verdi | AL5: Poeng | AM5: Skudd-verdi | AN5: Poeng | AO5: Skudd-verdi | AP5: Poeng | AQ5: Skudd-verdi | AR5: Poeng | AS5: Skudd-verdi | AT5: Poeng | AU5: Skudd-verdi | AV5: Poeng | AW5: Skudd-verdi | AX5: Poeng | AY5: Skudd-verdi | AZ5: Poeng | BA5: Skudd-verdi | BB5: Poeng | BC5: Skudd-verdi | BD5: Poeng | BE5: Skudd-verdi | BF5: Poeng | BG5: Skudd-verdi | BH5: Poeng | BI5: Skudd-verdi | BJ5: Poeng | BK5: Skudd-verdi | BL5: Poeng | BM5: Skudd-verdi | BN5: Poeng | BO5: Skudd-verdi | BP5: Poeng | BQ5: Skudd-verdi | BR5: Poeng | BS5: Skudd-verdi | BT5: Poeng | BU5: Skudd-verdi | BV5: Poeng | BW5: Skudd-verdi | BX5: Poeng | BY5: Skudd-verdi | BZ5: Poeng | CA5: Skudd-verdi | CB5: Poeng | CC5: Skudd-verdi | CD5: Poeng | CE5: Skudd-verdi | CF5: Poeng | CG5: Skudd-verdi | CH5: Poeng | CI5: Skudd-verdi | CJ5: Poeng | CK5: Skudd-verdi | CL5: Poeng | CM5: Skudd-verdi | CN5: Poeng | CO5: Skudd-verdi | CP5: Poeng | CQ5: Skudd-verdi | CR5: Poeng | CS5: Skudd-verdi | CT5: Poeng | CU5: Skudd-verdi | CV5: Poeng | CW5: Skudd-verdi | CX5: Poeng | CY5: Skudd-verdi | CZ5: Poeng | DA5: Skudd-verdi | DB5: Poeng | DC5: Skudd-verdi | DD5: Poeng | DE5: Skudd-verdi | DF5: Poeng | DG5: Skudd-verdi | DH5: Poeng | DI5: Skudd-verdi | DJ5: Poeng | DK5: Skudd-verdi | DL5: Poeng | DM5: Skudd-verdi | DN5: Poeng | DO5: Skudd-verdi | DP5: Poeng | DQ5: Skudd-verdi | DR5: Poeng | DS5: Skudd-verdi | DT5: Poeng | DU5: Skudd-verdi | DV5: Poeng | DW5: Skudd-verdi | DX5: Poeng | DY5: Skudd-verdi | DZ5: Poeng | EA5: Skudd-verdi | EB5: Poeng | EC5: Skudd-verdi | ED5: Poeng | EE5: Skudd-verdi | EF5: Poeng | EG5: Skudd-verdi | EH5: Poeng | EI5: Skudd-verdi | EJ5: Poeng | EK5: Skudd-verdi | EL5: Poeng | EM5: Skudd-verdi | EN5: Poeng | EO5: Skudd-verdi | EP5: Poeng | EQ5: Skudd-verdi | ER5: Poeng | ES5: Skudd-verdi | ET5: Poeng | EU5: Skudd-verdi | EV5: Poeng | EW5: Skudd-verdi | EX5: Poeng | EY5: Skudd-verdi | EZ5: Poeng | FA5: Skudd-verdi | FM5: GJ.snitt skudd-verdi (beste 5 - 1) resultater for klassi-fisering. | FN5: Antall kvalifiserende stevner | FO5: Antall stevner | FP5: =INDEX($H2:$FB2,,FP$4) -> Stevne 1 | FQ5: =INDEX($H2:$FB2,,1+(2*(COLUMN(B$1:B$1)-1))) -> Stevne 2 | FR5: =INDEX($H2:$FB2,,1+(2*(COLUMN(C$1:C$1)-1))) -> Stevne 3 | FS5: =INDEX($H2:$FB2,,1+(2*(COLUMN(D$1:D$1)-1))) -> Stevne 4 | FT5: =INDEX($H2:$FB2,,1+(2*(COLUMN(E$1:E$1)-1))) -> Stevne 5 | FU5: =INDEX($H2:$FB2,,1+(2*(COLUMN(F$1:F$1)-1))) -> Stevne 6 | FV5: =INDEX($H2:$FB2,,1+(2*(COLUMN(G$1:G$1)-1))) -> Stevne 7 | FW5: =INDEX($H2:$FB2,,1+(2*(COLUMN(H$1:H$1)-1))) -> Stevne 8 | FX5: =INDEX($H2:$FB2,,1+(2*(COLUMN(I$1:I$1)-1))) -> Stevne 9 | ... IL5: =INDEX($H2:$FB2,,1+(2*(COLUMN(BW$1:BW$1)-1))) -> Stevne 75
A6: =IF($B6="","",IF(VLOOKUP($B6,'Skyttere registrering'!$AB$2:$AE$101,3,FALSE)=0,"",VLOOKUP($B6,'Skyttere registrering'!$AB$2:$AE$101,3,FALSE))) | C6: =IF($B6="","",IF(VLOOKUP($B6,'Skyttere registrering'!$AB$2:$AE$101,2,FALSE)=0,"",VLOOKUP($B6,'Skyttere registrering'!$AB$2:$AE$101,2,FALSE))) | D6: =IF($B6="","",IF(VLOOKUP($B6,'Skyttere registrering'!$AB$2:$AE$101,4,FALSE)=0,"",VLOOKUP($B6,'Skyttere registrering'!$AB$2:$AE$101,4,FALSE))) | E6: =IF(G6="","",IF(G6<8.2,"1",IF(G6<8.7,"2",IF(G6<9.1,"3",IF(G6<9.4,"4",IF(G6<9.6,"5",IF(G6<9.7,"6","7"))))))) | F6: =FO6 | G6: =FM6 | I6: =IF(AND($B6<>"",H$3<>"",H6<>""),H6/H$3,"") | K6: =IF(AND($B6<>"",J$3<>"",J6<>""),J6/J$3,"") | M6: =IF(AND($B6<>"",L$3<>"",L6<>""),L6/L$3,"") | O6: =IF(AND($B6<>"",N$3<>"",N6<>""),N6/N$3,"") | Q6: =IF(AND($B6<>"",P$3<>"",P6<>""),P6/P$3,"") | S6: =IF(AND($B6<>"",R$3<>"",R6<>""),R6/R$3,"") | U6: =IF(AND($B6<>"",T$3<>"",T6<>""),T6/T$3,"") | W6: =IF(AND($B6<>"",V$3<>"",V6<>""),V6/V$3,"") | Y6: =IF(AND($B6<>"",X$3<>"",X6<>""),X6/X$3,"") | AA6: =IF(AND($B6<>"",Z$3<>"",Z6<>""),Z6/Z$3,"") | AC6: =IF(AND($B6<>"",AB$3<>"",AB6<>""),AB6/AB$3,"") | AE6: =IF(AND($B6<>"",AD$3<>"",AD6<>""),AD6/AD$3,"") | AG6: =IF(AND($B6<>"",AF$3<>"",AF6<>""),AF6/AF$3,"") | AI6: =IF(AND($B6<>"",AH$3<>"",AH6<>""),AH6/AH$3,"") | AK6: =IF(AND($B6<>"",AJ$3<>"",AJ6<>""),AJ6/AJ$3,"") | AM6: =IF(AND($B6<>"",AL$3<>"",AL6<>""),AL6/AL$3,"") | AO6: =IF(AND($B6<>"",AN$3<>"",AN6<>""),AN6/AN$3,"") | AQ6: =IF(AND($B6<>"",AP$3<>"",AP6<>""),AP6/AP$3,"") | AS6: =IF(AND($B6<>"",AR$3<>"",AR6<>""),AR6/AR$3,"") | AU6: =IF(AND($B6<>"",AT$3<>"",AT6<>""),AT6/AT$3,"") | AW6: =IF(AND($B6<>"",AV$3<>"",AV6<>""),AV6/AV$3,"") | AY6: =IF(AND($B6<>"",AX$3<>"",AX6<>""),AX6/AX$3,"") | BA6: =IF(AND($B6<>"",AZ$3<>"",AZ6<>""),AZ6/AZ$3,"") | BC6: =IF(AND($B6<>"",BB$3<>"",BB6<>""),BB6/BB$3,"") | BE6: =IF(AND($B6<>"",BD$3<>"",BD6<>""),BD6/BD$3,"") | BG6: =IF(AND($B6<>"",BF$3<>"",BF6<>""),BF6/BF$3,"") | BI6: =IF(AND($B6<>"",BH$3<>"",BH6<>""),BH6/BH$3,"") | BK6: =IF(AND($B6<>"",BJ$3<>"",BJ6<>""),BJ6/BJ$3,"") | BM6: =IF(AND($B6<>"",BL$3<>"",BL6<>""),BL6/BL$3,"") | BO6: =IF(AND($B6<>"",BN$3<>"",BN6<>""),BN6/BN$3,"") | BQ6: =IF(AND($B6<>"",BP$3<>"",BP6<>""),BP6/BP$3,"") | BS6: =IF(AND($B6<>"",BR$3<>"",BR6<>""),BR6/BR$3,"") | BU6: =IF(AND($B6<>"",BT$3<>"",BT6<>""),BT6/BT$3,"") | BW6: =IF(AND($B6<>"",BV$3<>"",BV6<>""),BV6/BV$3,"") | BY6: =IF(AND($B6<>"",BX$3<>"",BX6<>""),BX6/BX$3,"") | CA6: =IF(AND($B6<>"",BZ$3<>"",BZ6<>""),BZ6/BZ$3,"") | CC6: =IF(AND($B6<>"",CB$3<>"",CB6<>""),CB6/CB$3,"") | CE6: =IF(AND($B6<>"",CD$3<>"",CD6<>""),CD6/CD$3,"") | CG6: =IF(AND($B6<>"",CF$3<>"",CF6<>""),CF6/CF$3,"") | CI6: =IF(AND($B6<>"",CH$3<>"",CH6<>""),CH6/CH$3,"") | CK6: =IF(AND($B6<>"",CJ$3<>"",CJ6<>""),CJ6/CJ$3,"") | CM6: =IF(AND($B6<>"",CL$3<>"",CL6<>""),CL6/CL$3,"") | CO6: =IF(AND($B6<>"",CN$3<>"",CN6<>""),CN6/CN$3,"") | CQ6: =IF(AND($B6<>"",CP$3<>"",CP6<>""),CP6/CP$3,"") | CS6: =IF(AND($B6<>"",CR$3<>"",CR6<>""),CR6/CR$3,"") | CU6: =IF(AND($B6<>"",CT$3<>"",CT6<>""),CT6/CT$3,"") | CW6: =IF(AND($B6<>"",CV$3<>"",CV6<>""),CV6/CV$3,"") | CY6: =IF(AND($B6<>"",CX$3<>"",CX6<>""),CX6/CX$3,"") | DA6: =IF(AND($B6<>"",CZ$3<>"",CZ6<>""),CZ6/CZ$3,"") | DC6: =IF(AND($B6<>"",DB$3<>"",DB6<>""),DB6/DB$3,"") | DE6: =IF(AND($B6<>"",DD$3<>"",DD6<>""),DD6/DD$3,"") | DG6: =IF(AND($B6<>"",DF$3<>"",DF6<>""),DF6/DF$3,"") | DI6: =IF(AND($B6<>"",DH$3<>"",DH6<>""),DH6/DH$3,"") | DK6: =IF(AND($B6<>"",DJ$3<>"",DJ6<>""),DJ6/DJ$3,"") | DM6: =IF(AND($B6<>"",DL$3<>"",DL6<>""),DL6/DL$3,"") | DO6: =IF(AND($B6<>"",DN$3<>"",DN6<>""),DN6/DN$3,"") | DQ6: =IF(AND($B6<>"",DP$3<>"",DP6<>""),DP6/DP$3,"") | DS6: =IF(AND($B6<>"",DR$3<>"",DR6<>""),DR6/DR$3,"") | DU6: =IF(AND($B6<>"",DT$3<>"",DT6<>""),DT6/DT$3,"") | DW6: =IF(AND($B6<>"",DV$3<>"",DV6<>""),DV6/DV$3,"") | DY6: =IF(AND($B6<>"",DX$3<>"",DX6<>""),DX6/DX$3,"") | EA6: =IF(AND($B6<>"",DZ$3<>"",DZ6<>""),DZ6/DZ$3,"") | EC6: =IF(AND($B6<>"",EB$3<>"",EB6<>""),EB6/EB$3,"") | EE6: =IF(AND($B6<>"",ED$3<>"",ED6<>""),ED6/ED$3,"") | EG6: =IF(AND($B6<>"",EF$3<>"",EF6<>""),EF6/EF$3,"") | EI6: =IF(AND($B6<>"",EH$3<>"",EH6<>""),EH6/EH$3,"") | EK6: =IF(AND($B6<>"",EJ$3<>"",EJ6<>""),EJ6/EJ$3,"") | EM6: =IF(AND($B6<>"",EL$3<>"",EL6<>""),EL6/EL$3,"") | EO6: =IF(AND($B6<>"",EN$3<>"",EN6<>""),EN6/EN$3,"") | EQ6: =IF(AND($B6<>"",EP$3<>"",EP6<>""),EP6/EP$3,"") | ES6: =IF(AND($B6<>"",ER$3<>"",ER6<>""),ER6/ER$3,"") | EU6: =IF(AND($B6<>"",ET$3<>"",ET6<>""),ET6/ET$3,"") | EW6: =IF(AND($B6<>"",EV$3<>"",EV6<>""),EV6/EV$3,"") | EY6: =IF(AND($B6<>"",EX$3<>"",EX6<>""),EX6/EX$3,"") | FA6: =IF(AND($B6<>"",EZ$3<>"",EZ6<>""),EZ6/EZ$3,"") | FM6: =IF(COUNT($FP6:$IL6)=0,"",IF(COUNT($FP6:$IL6)<6,SUM($FP6:$IL6)/COUNT($FP6:$IL6),(LARGE($FP6:$IL6,1)+LARGE($FP6:$IL6,2)+LARGE($FP6:$IL6,3)+LARGE($FP6:$IL6,4)+LARGE($FP6:$IL6,5))/5)) | FN6: =IF(FO6="","",IF(FO6<5,FO6,5)) | FO6: =IF(COUNT(FP6:IL6)=0,"",COUNT(FP6:IL6)) | FP6: =INDEX($I6:$FB6,,FP$4) | FQ6: =INDEX($I6:$FB6,,FQ$4) | FR6: =INDEX($I6:$FB6,,FR$4) | FS6: =INDEX($I6:$FB6,,FS$4) | FT6: =INDEX($I6:$FB6,,FT$4) | FU6: =INDEX($I6:$FB6,,FU$4) | FV6: =INDEX($I6:$FB6,,FV$4) | FW6: =INDEX($I6:$FB6,,FW$4) | ... IL6: =INDEX($I6:$FB6,,IL$4)
A7: =IF($B7="","",IF(VLOOKUP($B7,'Skyttere registrering'!$AB$2:$AE$101,3,FALSE)=0,"",VLOOKUP($B7,'Skyttere registrering'!$AB$2:$AE$101,3,FALSE))) | C7: =IF($B7="","",IF(VLOOKUP($B7,'Skyttere registrering'!$AB$2:$AE$101,2,FALSE)=0,"",VLOOKUP($B7,'Skyttere registrering'!$AB$2:$AE$101,2,FALSE))) | D7: =IF($B7="","",IF(VLOOKUP($B7,'Skyttere registrering'!$AB$2:$AE$101,4,FALSE)=0,"",VLOOKUP($B7,'Skyttere registrering'!$AB$2:$AE$101,4,FALSE))) | E7: =IF(G7="","",IF(G7<8.2,"1",IF(G7<8.7,"2",IF(G7<9.1,"3",IF(G7<9.4,"4",IF(G7<9.6,"5",IF(G7<9.7,"6","7"))))))) | F7: =FO7 | G7: =FM7 | I7: =IF(AND($B7<>"",H$3<>"",H7<>""),H7/H$3,"") | K7: =IF(AND($B7<>"",J$3<>"",J7<>""),J7/J$3,"") | M7: =IF(AND($B7<>"",L$3<>"",L7<>""),L7/L$3,"") | O7: =IF(AND($B7<>"",N$3<>"",N7<>""),N7/N$3,"") | Q7: =IF(AND($B7<>"",P$3<>"",P7<>""),P7/P$3,"") | S7: =IF(AND($B7<>"",R$3<>"",R7<>""),R7/R$3,"") | U7: =IF(AND($B7<>"",T$3<>"",T7<>""),T7/T$3,"") | W7: =IF(AND($B7<>"",V$3<>"",V7<>""),V7/V$3,"") | Y7: =IF(AND($B7<>"",X$3<>"",X7<>""),X7/X$3,"") | AA7: =IF(AND($B7<>"",Z$3<>"",Z7<>""),Z7/Z$3,"") | AC7: =IF(AND($B7<>"",AB$3<>"",AB7<>""),AB7/AB$3,"") | AE7: =IF(AND($B7<>"",AD$3<>"",AD7<>""),AD7/AD$3,"") | AG7: =IF(AND($B7<>"",AF$3<>"",AF7<>""),AF7/AF$3,"") | AI7: =IF(AND($B7<>"",AH$3<>"",AH7<>""),AH7/AH$3,"") | AK7: =IF(AND($B7<>"",AJ$3<>"",AJ7<>""),AJ7/AJ$3,"") | AM7: =IF(AND($B7<>"",AL$3<>"",AL7<>""),AL7/AL$3,"") | AO7: =IF(AND($B7<>"",AN$3<>"",AN7<>""),AN7/AN$3,"") | AQ7: =IF(AND($B7<>"",AP$3<>"",AP7<>""),AP7/AP$3,"") | AS7: =IF(AND($B7<>"",AR$3<>"",AR7<>""),AR7/AR$3,"") | AU7: =IF(AND($B7<>"",AT$3<>"",AT7<>""),AT7/AT$3,"") | AW7: =IF(AND($B7<>"",AV$3<>"",AV7<>""),AV7/AV$3,"") | AY7: =IF(AND($B7<>"",AX$3<>"",AX7<>""),AX7/AX$3,"") | BA7: =IF(AND($B7<>"",AZ$3<>"",AZ7<>""),AZ7/AZ$3,"") | BC7: =IF(AND($B7<>"",BB$3<>"",BB7<>""),BB7/BB$3,"") | BE7: =IF(AND($B7<>"",BD$3<>"",BD7<>""),BD7/BD$3,"") | BG7: =IF(AND($B7<>"",BF$3<>"",BF7<>""),BF7/BF$3,"") | BI7: =IF(AND($B7<>"",BH$3<>"",BH7<>""),BH7/BH$3,"") | BK7: =IF(AND($B7<>"",BJ$3<>"",BJ7<>""),BJ7/BJ$3,"") | BM7: =IF(AND($B7<>"",BL$3<>"",BL7<>""),BL7/BL$3,"") | BO7: =IF(AND($B7<>"",BN$3<>"",BN7<>""),BN7/BN$3,"") | BQ7: =IF(AND($B7<>"",BP$3<>"",BP7<>""),BP7/BP$3,"") | BS7: =IF(AND($B7<>"",BR$3<>"",BR7<>""),BR7/BR$3,"") | BU7: =IF(AND($B7<>"",BT$3<>"",BT7<>""),BT7/BT$3,"") | BW7: =IF(AND($B7<>"",BV$3<>"",BV7<>""),BV7/BV$3,"") | BY7: =IF(AND($B7<>"",BX$3<>"",BX7<>""),BX7/BX$3,"") | CA7: =IF(AND($B7<>"",BZ$3<>"",BZ7<>""),BZ7/BZ$3,"") | CC7: =IF(AND($B7<>"",CB$3<>"",CB7<>""),CB7/CB$3,"") | CE7: =IF(AND($B7<>"",CD$3<>"",CD7<>""),CD7/CD$3,"") | CG7: =IF(AND($B7<>"",CF$3<>"",CF7<>""),CF7/CF$3,"") | CI7: =IF(AND($B7<>"",CH$3<>"",CH7<>""),CH7/CH$3,"") | CK7: =IF(AND($B7<>"",CJ$3<>"",CJ7<>""),CJ7/CJ$3,"") | CM7: =IF(AND($B7<>"",CL$3<>"",CL7<>""),CL7/CL$3,"") | CO7: =IF(AND($B7<>"",CN$3<>"",CN7<>""),CN7/CN$3,"") | CQ7: =IF(AND($B7<>"",CP$3<>"",CP7<>""),CP7/CP$3,"") | CS7: =IF(AND($B7<>"",CR$3<>"",CR7<>""),CR7/CR$3,"") | CU7: =IF(AND($B7<>"",CT$3<>"",CT7<>""),CT7/CT$3,"") | CW7: =IF(AND($B7<>"",CV$3<>"",CV7<>""),CV7/CV$3,"") | CY7: =IF(AND($B7<>"",CX$3<>"",CX7<>""),CX7/CX$3,"") | DA7: =IF(AND($B7<>"",CZ$3<>"",CZ7<>""),CZ7/CZ$3,"") | DC7: =IF(AND($B7<>"",DB$3<>"",DB7<>""),DB7/DB$3,"") | DE7: =IF(AND($B7<>"",DD$3<>"",DD7<>""),DD7/DD$3,"") | DG7: =IF(AND($B7<>"",DF$3<>"",DF7<>""),DF7/DF$3,"") | DI7: =IF(AND($B7<>"",DH$3<>"",DH7<>""),DH7/DH$3,"") | DK7: =IF(AND($B7<>"",DJ$3<>"",DJ7<>""),DJ7/DJ$3,"") | DM7: =IF(AND($B7<>"",DL$3<>"",DL7<>""),DL7/DL$3,"") | DO7: =IF(AND($B7<>"",DN$3<>"",DN7<>""),DN7/DN$3,"") | DQ7: =IF(AND($B7<>"",DP$3<>"",DP7<>""),DP7/DP$3,"") | DS7: =IF(AND($B7<>"",DR$3<>"",DR7<>""),DR7/DR$3,"") | DU7: =IF(AND($B7<>"",DT$3<>"",DT7<>""),DT7/DT$3,"") | DW7: =IF(AND($B7<>"",DV$3<>"",DV7<>""),DV7/DV$3,"") | DY7: =IF(AND($B7<>"",DX$3<>"",DX7<>""),DX7/DX$3,"") | EA7: =IF(AND($B7<>"",DZ$3<>"",DZ7<>""),DZ7/DZ$3,"") | EC7: =IF(AND($B7<>"",EB$3<>"",EB7<>""),EB7/EB$3,"") | EE7: =IF(AND($B7<>"",ED$3<>"",ED7<>""),ED7/ED$3,"") | EG7: =IF(AND($B7<>"",EF$3<>"",EF7<>""),EF7/EF$3,"") | EI7: =IF(AND($B7<>"",EH$3<>"",EH7<>""),EH7/EH$3,"") | EK7: =IF(AND($B7<>"",EJ$3<>"",EJ7<>""),EJ7/EJ$3,"") | EM7: =IF(AND($B7<>"",EL$3<>"",EL7<>""),EL7/EL$3,"") | EO7: =IF(AND($B7<>"",EN$3<>"",EN7<>""),EN7/EN$3,"") | EQ7: =IF(AND($B7<>"",EP$3<>"",EP7<>""),EP7/EP$3,"") | ES7: =IF(AND($B7<>"",ER$3<>"",ER7<>""),ER7/ER$3,"") | EU7: =IF(AND($B7<>"",ET$3<>"",ET7<>""),ET7/ET$3,"") | EW7: =IF(AND($B7<>"",EV$3<>"",EV7<>""),EV7/EV$3,"") | EY7: =IF(AND($B7<>"",EX$3<>"",EX7<>""),EX7/EX$3,"") | FA7: =IF(AND($B7<>"",EZ$3<>"",EZ7<>""),EZ7/EZ$3,"") | FM7: =IF(COUNT($FP7:$IL7)=0,"",IF(COUNT($FP7:$IL7)<6,SUM($FP7:$IL7)/COUNT($FP7:$IL7),(LARGE($FP7:$IL7,1)+LARGE($FP7:$IL7,2)+LARGE($FP7:$IL7,3)+LARGE($FP7:$IL7,4)+LARGE($FP7:$IL7,5))/5)) | FN7: =IF(FO7="","",IF(FO7<5,FO7,5)) | FO7: =IF(COUNT(FP7:IL7)=0,"",COUNT(FP7:IL7)) | FP7: =INDEX($I7:$FB7,,FP$4) | FQ7: =INDEX($I7:$FB7,,FQ$4) | FR7: =INDEX($I7:$FB7,,FR$4) | FS7: =INDEX($I7:$FB7,,FS$4) | FT7: =INDEX($I7:$FB7,,FT$4) | FU7: =INDEX($I7:$FB7,,FU$4) | FV7: =INDEX($I7:$FB7,,FV$4) | FW7: =INDEX($I7:$FB7,,FW$4) | ... IL7: =INDEX($I7:$FB7,,IL$4)
