Workbook
Name Excel_BuiltIn__FilterDatabase: '10m LP'!$B$6:$B$14
Name Excel_BuiltIn__FilterDatabase: '10m LR Bedr'!$A$5:$G$105
Name Excel_BuiltIn__FilterDatabase: '10m LR ISSF'!$A$5:$I$105
Name Excel_BuiltIn__FilterDatabase: '50m MR 2-st'!$A$5:$G$105
Name Excel_BuiltIn__FilterDatabase: '50m MR 3-st'!$A$5:$G$105
Name Excel_BuiltIn__FilterDatabase: Mal!$A$5:$I$105
Name Excel_BuiltIn__FilterDatabase: 'MR liggende'!$A$5:$I$105
Name Excel_BuiltIn__FilterDatabase: 'Ny klassifisering'!$A$3:$R$3
Name SkytterNavn: INDIRECT('Skyttere alfabetisk'!$B$102)
Name SkytterNr: 'Skyttere registrering'!$A$4:$A$101

Sheet Veiledning
A1: Fullstendig brukerveiledning for registrering av stevner, skyttere og resultater finner dere i fila : . Første side ser slik ut:
A25: Se brukerveiledning for informasjon om å distribuere klassifisering, vedlikeholde og komme i gang med ny sesong i fila .
A26: Første side ser slik ut:

Sheet Ny klassifisering
A1: Merk: Hvis det står 0 i kolonne A, B eller C betyr det at Skytternr, Bedriftsidrettslag eller Født mangler.
A2: Legg da til manglende data i | D2: Ant. Skyttere pr. øvelse: | E2: =COUNTA(E4:E103)-COUNTBLANK(E4:E103) -> 0 | F2: =COUNTA(F4:F103)-COUNTBLANK(F4:F103) -> 0 | G2: =COUNTA(G4:G103)-COUNTBLANK(G4:G103) -> 0 | H2: =COUNTA(H4:H103)-COUNTBLANK(H4:H103) -> 0 | I2: =COUNTA(I4:I103)-COUNTBLANK(I4:I103) -> 0 | J2: =COUNTA(J4:J103)-COUNTBLANK(J4:J103) -> 0 | K2: =COUNTA(K4:K103)-COUNTBLANK(K4:K103) -> 0
A3: Skytternr | B3: Navn | C3: Bedriftsidrettslag | D3: Født | E3: 10m LR Bedr | F3: 10m LR ISSF | G3: 10m LP | H3: 15m MR stå | I3: MR liggende | J3: 50m MR 2-st | K3: 50m MR 3-st
A4: =IF(OR(ISNA('Skyttere registrering'!AD2)=TRUE,0),"",'Skyttere registrering'!AD2) | B4: =IF(OR(ISNA('Skyttere registrering'!AB2)=TRUE,0),"",'Skyttere registrering'!AB2) | C4: =IF(OR(ISNA('Skyttere registrering'!AC2)=TRUE,0),"",'Skyttere registrering'!AC2) | D4: =IF(OR(ISNA('Skyttere registrering'!AE2)=TRUE,0),"",'Skyttere registrering'!AE2) | E4: =IF(ISNA(VLOOKUP($B4,'10m LR Bedr'!$B$6:$E$105,4,0)),"",VLOOKUP($B4,'10m LR Bedr'!$B$6:$E$105,4,0)) | F4: =IF(ISNA(VLOOKUP($B4,'10m LR ISSF'!$B$6:$E$105,4,0)),"",VLOOKUP($B4,'10m LR ISSF'!$B$6:$E$105,4,0)) | G4: =IF(ISNA(VLOOKUP($B4,'10m LP'!$B$6:$E$105,4,0)),"",VLOOKUP($B4,'10m LP'!$B$6:$E$105,4,0)) | H4: =IF(ISNA(VLOOKUP($B4,'15m MR stå'!$B$6:$E$105,4,0)),"",VLOOKUP($B4,'15m MR stå'!$B$6:$E$105,4,0)) | I4: =IF(ISNA(VLOOKUP($B4,'MR liggende'!$B$6:$E$105,4,0)),"",VLOOKUP($B4,'MR liggende'!$B$6:$E$105,4,0)) | J4: =IF(ISNA(VLOOKUP($B4,'50m MR 2-st'!$B$6:$E$105,4,0)),"",VLOOKUP($B4,'50m MR 2-st'!$B$6:$E$105,4,0)) | K4: =IF(ISNA(VLOOKUP($B4,'50m MR 3-st'!$B$6:$E$105,4,0)),"",VLOOKUP($B4,'50m MR 3-st'!$B$6:$E$105,4,0))
A5: =IF(OR(ISNA('Skyttere registrering'!AD3)=TRUE,0),"",'Skyttere registrering'!AD3) | B5: =IF(OR(ISNA('Skyttere registrering'!AB3)=TRUE,0),"",'Skyttere registrering'!AB3) | C5: =IF(OR(ISNA('Skyttere registrering'!AC3)=TRUE,0),"",'Skyttere registrering'!AC3) | D5: =IF(OR(ISNA('Skyttere registrering'!AE3)=TRUE,0),"",'Skyttere registrering'!AE3) | E5: =IF(ISNA(VLOOKUP($B5,'10m LR Bedr'!$B$6:$E$105,4,0)),"",VLOOKUP($B5,'10m LR Bedr'!$B$6:$E$105,4,0)) | F5: =IF(ISNA(VLOOKUP($B5,'10m LR ISSF'!$B$6:$E$105,4,0)),"",VLOOKUP($B5,'10m LR ISSF'!$B$6:$E$105,4,0)) | G5: =IF(ISNA(VLOOKUP($B5,'10m LP'!$B$6:$E$105,4,0)),"",VLOOKUP($B5,'10m LP'!$B$6:$E$105,4,0)) | H5: =IF(ISNA(VLOOKUP($B5,'15m MR stå'!$B$6:$E$105,4,0)),"",VLOOKUP($B5,'15m MR stå'!$B$6:$E$105,4,0)) | I5: =IF(ISNA(VLOOKUP($B5,'MR liggende'!$B$6:$E$105,4,0)),"",VLOOKUP($B5,'MR liggende'!$B$6:$E$105,4,0)) | J5: =IF(ISNA(VLOOKUP($B5,'50m MR 2-st'!$B$6:$E$105,4,0)),"",VLOOKUP($B5,'50m MR 2-st'!$B$6:$E$105,4,0)) | K5: =IF(ISNA(VLOOKUP($B5,'50m MR 3-st'!$B$6:$E$105,4,0)),"",VLOOKUP($B5,'50m MR 3-st'!$B$6:$E$105,4,0))
A6: =IF(OR(ISNA('Skyttere registrering'!AD4)=TRUE,0),"",'Skyttere registrering'!AD4) | B6: =IF(OR(ISNA('Skyttere registrering'!AB4)=TRUE,0),"",'Skyttere registrering'!AB4) | C6: =IF(OR(ISNA('Skyttere registrering'!AC4)=TRUE,0),"",'Skyttere registrering'!AC4) | D6: =IF(OR(ISNA('Skyttere registrering'!AE4)=TRUE,0),"",'Skyttere registrering'!AE4) | E6: =IF(ISNA(VLOOKUP($B6,'10m LR Bedr'!$B$6:$E$105,4,0)),"",VLOOKUP($B6,'10m LR Bedr'!$B$6:$E$105,4,0)) | F6: =IF(ISNA(VLOOKUP($B6,'10m LR ISSF'!$B$6:$E$105,4,0)),"",VLOOKUP($B6,'10m LR ISSF'!$B$6:$E$105,4,0)) | G6: =IF(ISNA(VLOOKUP($B6,'10m LP'!$B$6:$E$105,4,0)),"",VLOOKUP($B6,'10m LP'!$B$6:$E$105,4,0)) | H6: =IF(ISNA(VLOOKUP($B6,'15m MR stå'!$B$6:$E$105,4,0)),"",VLOOKUP($B6,'15m MR stå'!$B$6:$E$105,4,0)) | I6: =IF(ISNA(VLOOKUP($B6,'MR liggende'!$B$6:$E$105,4,0)),"",VLOOKUP($B6,'MR liggende'!$B$6:$E$105,4,0)) | J6: =IF(ISNA(VLOOKUP($B6,'50m MR 2-st'!$B$6:$E$105,4,0)),"",VLOOKUP($B6,'50m MR 2-st'!$B$6:$E$105,4,0)) | K6: =IF(ISNA(VLOOKUP($B6,'50m MR 3-st'!$B$6:$E$105,4,0)),"",VLOOKUP($B6,'50m MR 3-st'!$B$6:$E$105,4,0))
A7: =IF(OR(ISNA('Skyttere registrering'!AD5)=TRUE,0),"",'Skyttere registrering'!AD5) | B7: =IF(OR(ISNA('Skyttere registrering'!AB5)=TRUE,0),"",'Skyttere registrering'!AB5) | C7: =IF(OR(ISNA('Skyttere registrering'!AC5)=TRUE,0),"",'Skyttere registrering'!AC5) | D7: =IF(OR(ISNA('Skyttere registrering'!AE5)=TRUE,0),"",'Skyttere registrering'!AE5) | E7: =IF(ISNA(VLOOKUP($B7,'10m LR Bedr'!$B$6:$E$105,4,0)),"",VLOOKUP($B7,'10m LR Bedr'!$B$6:$E$105,4,0)) | F7: =IF(ISNA(VLOOKUP($B7,'10m LR ISSF'!$B$6:$E$105,4,0)),"",VLOOKUP($B7,'10m LR ISSF'!$B$6:$E$105,4,0)) | G7: =IF(ISNA(VLOOKUP($B7,'10m LP'!$B$6:$E$105,4,0)),"",VLOOKUP($B7,'10m LP'!$B$6:$E$105,4,0)) | H7: =IF(ISNA(VLOOKUP($B7,'15m MR stå'!$B$6:$E$105,4,0)),"",VLOOKUP($B7,'15m MR stå'!$B$6:$E$105,4,0)) | I7: =IF(ISNA(VLOOKUP($B7,'MR liggende'!$B$6:$E$105,4,0)),"",VLOOKUP($B7,'MR liggende'!$B$6:$E$105,4,0)) | J7: =IF(ISNA(VLOOKUP($B7,'50m MR 2-st'!$B$6:$E$105,4,0)),"",VLOOKUP($B7,'50m MR 2-st'!$B$6:$E$105,4,0)) | K7: =IF(ISNA(VLOOKUP($B7,'50m MR 3-st'!$B$6:$E$105,4,0)),"",VLOOKUP($B7,'50m MR 3-st'!$B$6:$E$105,4,0))
A8: =IF(OR(ISNA('Skyttere registrering'!AD6)=TRUE,0),"",'Skyttere registrering'!AD6) | B8: =IF(OR(ISNA('Skyttere registrering'!AB6)=TRUE,0),"",'Skyttere registrering'!AB6) | C8: =IF(OR(ISNA('Skyttere registrering'!AC6)=TRUE,0),"",'Skyttere registrering'!AC6) | D8: =IF(OR(ISNA('Skyttere registrering'!AE6)=TRUE,0),"",'Skyttere registrering'!AE6) | E8: =IF(ISNA(VLOOKUP($B8,'10m LR Bedr'!$B$6:$E$105,4,0)),"",VLOOKUP($B8,'10m LR Bedr'!$B$6:$E$105,4,0)) | F8: =IF(ISNA(VLOOKUP($B8,'10m LR ISSF'!$B$6:$E$105,4,0)),"",VLOOKUP($B8,'10m LR ISSF'!$B$6:$E$105,4,0)) | G8: =IF(ISNA(VLOOKUP($B8,'10m LP'!$B$6:$E$105,4,0)),"",VLOOKUP($B8,'10m LP'!$B$6:$E$105,4,0)) | H8: =IF(ISNA(VLOOKUP($B8,'15m MR stå'!$B$6:$E$105,4,0)),"",VLOOKUP($B8,'15m MR stå'!$B$6:$E$105,4,0)) | I8: =IF(ISNA(VLOOKUP($B8,'MR liggende'!$B$6:$E$105,4,0)),"",VLOOKUP($B8,'MR liggende'!$B$6:$E$105,4,0)) | J8: =IF(ISNA(VLOOKUP($B8,'50m MR 2-st'!$B$6:$E$105,4,0)),"",VLOOKUP($B8,'50m MR 2-st'!$B$6:$E$105,4,0)) | K8: =IF(ISNA(VLOOKUP($B8,'50m MR 3-st'!$B$6:$E$105,4,0)),"",VLOOKUP($B8,'50m MR 3-st'!$B$6:$E$105,4,0))
A9: =IF(OR(ISNA('Skyttere registrering'!AD7)=TRUE,0),"",'Skyttere registrering'!AD7) | B9: =IF(OR(ISNA('Skyttere registrering'!AB7)=TRUE,0),"",'Skyttere registrering'!AB7) | C9: =IF(OR(ISNA('Skyttere registrering'!AC7)=TRUE,0),"",'Skyttere registrering'!AC7) | D9: =IF(OR(ISNA('Skyttere registrering'!AE7)=TRUE,0),"",'Skyttere registrering'!AE7) | E9: =IF(ISNA(VLOOKUP($B9,'10m LR Bedr'!$B$6:$E$105,4,0)),"",VLOOKUP($B9,'10m LR Bedr'!$B$6:$E$105,4,0)) | F9: =IF(ISNA(VLOOKUP($B9,'10m LR ISSF'!$B$6:$E$105,4,0)),"",VLOOKUP($B9,'10m LR ISSF'!$B$6:$E$105,4,0)) | G9: =IF(ISNA(VLOOKUP($B9,'10m LP'!$B$6:$E$105,4,0)),"",VLOOKUP($B9,'10m LP'!$B$6:$E$105,4,0)) | H9: =IF(ISNA(VLOOKUP($B9,'15m MR stå'!$B$6:$E$105,4,0)),"",VLOOKUP($B9,'15m MR stå'!$B$6:$E$105,4,0)) | I9: =IF(ISNA(VLOOKUP($B9,'MR liggende'!$B$6:$E$105,4,0)),"",VLOOKUP($B9,'MR liggende'!$B$6:$E$105,4,0)) | J9: =IF(ISNA(VLOOKUP($B9,'50m MR 2-st'!$B$6:$E$105,4,0)),"",VLOOKUP($B9,'50m MR 2-st'!$B$6:$E$105,4,0)) | K9: =IF(ISNA(VLOOKUP($B9,'50m MR 3-st'!$B$6:$E$105,4,0)),"",VLOOKUP($B9,'50m MR 3-st'!$B$6:$E$105,4,0))
A10: =IF(OR(ISNA('Skyttere registrering'!AD8)=TRUE,0),"",'Skyttere registrering'!AD8) | B10: =IF(OR(ISNA('Skyttere registrering'!AB8)=TRUE,0),"",'Skyttere registrering'!AB8) | C10: =IF(OR(ISNA('Skyttere registrering'!AC8)=TRUE,0),"",'Skyttere registrering'!AC8) | D10: =IF(OR(ISNA('Skyttere registrering'!AE8)=TRUE,0),"",'Skyttere registrering'!AE8) | E10: =IF(ISNA(VLOOKUP($B10,'10m LR Bedr'!$B$6:$E$105,4,0)),"",VLOOKUP($B10,'10m LR Bedr'!$B$6:$E$105,4,0)) | F10: =IF(ISNA(VLOOKUP($B10,'10m LR ISSF'!$B$6:$E$105,4,0)),"",VLOOKUP($B10,'10m LR ISSF'!$B$6:$E$105,4,0)) | G10: =IF(ISNA(VLOOKUP($B10,'10m LP'!$B$6:$E$105,4,0)),"",VLOOKUP($B10,'10m LP'!$B$6:$E$105,4,0)) | H10: =IF(ISNA(VLOOKUP($B10,'15m MR stå'!$B$6:$E$105,4,0)),"",VLOOKUP($B10,'15m MR stå'!$B$6:$E$105,4,0)) | I10: =IF(ISNA(VLOOKUP($B10,'MR liggende'!$B$6:$E$105,4,0)),"",VLOOKUP($B10,'MR liggende'!$B$6:$E$105,4,0)) | J10: =IF(ISNA(VLOOKUP($B10,'50m MR 2-st'!$B$6:$E$105,4,0)),"",VLOOKUP($B10,'50m MR 2-st'!$B$6:$E$105,4,0)) | K10: =IF(ISNA(VLOOKUP($B10,'50m MR 3-st'!$B$6:$E$105,4,0)),"",VLOOKUP($B10,'50m MR 3-st'!$B$6:$E$105,4,0))
A11: =IF(OR(ISNA('Skyttere registrering'!AD9)=TRUE,0),"",'Skyttere registrering'!AD9) | B11: =IF(OR(ISNA('Skyttere registrering'!AB9)=TRUE,0),"",'Skyttere registrering'!AB9) | C11: =IF(OR(ISNA('Skyttere registrering'!AC9)=TRUE,0),"",'Skyttere registrering'!AC9) | D11: =IF(OR(ISNA('Skyttere registrering'!AE9)=TRUE,0),"",'Skyttere registrering'!AE9) | E11: =IF(ISNA(VLOOKUP($B11,'10m LR Bedr'!$B$6:$E$105,4,0)),"",VLOOKUP($B11,'10m LR Bedr'!$B$6:$E$105,4,0)) | F11: =IF(ISNA(VLOOKUP($B11,'10m LR ISSF'!$B$6:$E$105,4,0)),"",VLOOKUP($B11,'10m LR ISSF'!$B$6:$E$105,4,0)) | G11: =IF(ISNA(VLOOKUP($B11,'10m LP'!$B$6:$E$105,4,0)),"",VLOOKUP($B11,'10m LP'!$B$6:$E$105,4,0)) | H11: =IF(ISNA(VLOOKUP($B11,'15m MR stå'!$B$6:$E$105,4,0)),"",VLOOKUP($B11,'15m MR stå'!$B$6:$E$105,4,0)) | I11: =IF(ISNA(VLOOKUP($B11,'MR liggende'!$B$6:$E$105,4,0)),"",VLOOKUP($B11,'MR liggende'!$B$6:$E$105,4,0)) | J11: =IF(ISNA(VLOOKUP($B11,'50m MR 2-st'!$B$6:$E$105,4,0)),"",VLOOKUP($B11,'50m MR 2-st'!$B$6:$E$105,4,0)) | K11: =IF(ISNA(VLOOKUP($B11,'50m MR 3-st'!$B$6:$E$105,4,0)),"",VLOOKUP($B11,'50m MR 3-st'!$B$6:$E$105,4,0))
A12: =IF(OR(ISNA('Skyttere registrering'!AD10)=TRUE,0),"",'Skyttere registrering'!AD10) | B12: =IF(OR(ISNA('Skyttere registrering'!AB10)=TRUE,0),"",'Skyttere registrering'!AB10) | C12: =IF(OR(ISNA('Skyttere registrering'!AC10)=TRUE,0),"",'Skyttere registrering'!AC10) | D12: =IF(OR(ISNA('Skyttere registrering'!AE10)=TRUE,0),"",'Skyttere registrering'!AE10) | E12: =IF(ISNA(VLOOKUP($B12,'10m LR Bedr'!$B$6:$E$105,4,0)),"",VLOOKUP($B12,'10m LR Bedr'!$B$6:$E$105,4,0)) | F12: =IF(ISNA(VLOOKUP($B12,'10m LR ISSF'!$B$6:$E$105,4,0)),"",VLOOKUP($B12,'10m LR ISSF'!$B$6:$E$105,4,0)) | G12: =IF(ISNA(VLOOKUP($B12,'10m LP'!$B$6:$E$105,4,0)),"",VLOOKUP($B12,'10m LP'!$B$6:$E$105,4,0)) | H12: =IF(ISNA(VLOOKUP($B12,'15m MR stå'!$B$6:$E$105,4,0)),"",VLOOKUP($B12,'15m MR stå'!$B$6:$E$105,4,0)) | I12: =IF(ISNA(VLOOKUP($B12,'MR liggende'!$B$6:$E$105,4,0)),"",VLOOKUP($B12,'MR liggende'!$B$6:$E$105,4,0)) | J12: =IF(ISNA(VLOOKUP($B12,'50m MR 2-st'!$B$6:$E$105,4,0)),"",VLOOKUP($B12,'50m MR 2-st'!$B$6:$E$105,4,0)) | K12: =IF(ISNA(VLOOKUP($B12,'50m MR 3-st'!$B$6:$E$105,4,0)),"",VLOOKUP($B12,'50m MR 3-st'!$B$6:$E$105,4,0))
A13: =IF(OR(ISNA('Skyttere registrering'!AD11)=TRUE,0),"",'Skyttere registrering'!AD11) | B13: =IF(OR(ISNA('Skyttere registrering'!AB11)=TRUE,0),"",'Skyttere registrering'!AB11) | C13: =IF(OR(ISNA('Skyttere registrering'!AC11)=TRUE,0),"",'Skyttere registrering'!AC11) | D13: =IF(OR(ISNA('Skyttere registrering'!AE11)=TRUE,0),"",'Skyttere registrering'!AE11) | E13: =IF(ISNA(VLOOKUP($B13,'10m LR Bedr'!$B$6:$E$105,4,0)),"",VLOOKUP($B13,'10m LR Bedr'!$B$6:$E$105,4,0)) | F13: =IF(ISNA(VLOOKUP($B13,'10m LR ISSF'!$B$6:$E$105,4,0)),"",VLOOKUP($B13,'10m LR ISSF'!$B$6:$E$105,4,0)) | G13: =IF(ISNA(VLOOKUP($B13,'10m LP'!$B$6:$E$105,4,0)),"",VLOOKUP($B13,'10m LP'!$B$6:$E$105,4,0)) | H13: =IF(ISNA(VLOOKUP($B13,'15m MR stå'!$B$6:$E$105,4,0)),"",VLOOKUP($B13,'15m MR stå'!$B$6:$E$105,4,0)) | I13: =IF(ISNA(VLOOKUP($B13,'MR liggende'!$B$6:$E$105,4,0)),"",VLOOKUP($B13,'MR liggende'!$B$6:$E$105,4,0)) | J13: =IF(ISNA(VLOOKUP($B13,'50m MR 2-st'!$B$6:$E$105,4,0)),"",VLOOKUP($B13,'50m MR 2-st'!$B$6:$E$105,4,0)) | K13: =IF(ISNA(VLOOKUP($B13,'50m MR 3-st'!$B$6:$E$105,4,0)),"",VLOOKUP($B13,'50m MR 3-st'!$B$6:$E$105,4,0))
A14: =IF(OR(ISNA('Skyttere registrering'!AD12)=TRUE,0),"",'Skyttere registrering'!AD12) | B14: =IF(OR(ISNA('Skyttere registrering'!AB12)=TRUE,0),"",'Skyttere registrering'!AB12) | C14: =IF(OR(ISNA('Skyttere registrering'!AC12)=TRUE,0),"",'Skyttere registrering'!AC12) | D14: =IF(OR(ISNA('Skyttere registrering'!AE12)=TRUE,0),"",'Skyttere registrering'!AE12) | E14: =IF(ISNA(VLOOKUP($B14,'10m LR Bedr'!$B$6:$E$105,4,0)),"",VLOOKUP($B14,'10m LR Bedr'!$B$6:$E$105,4,0)) | F14: =IF(ISNA(VLOOKUP($B14,'10m LR ISSF'!$B$6:$E$105,4,0)),"",VLOOKUP($B14,'10m LR ISSF'!$B$6:$E$105,4,0)) | G14: =IF(ISNA(VLOOKUP($B14,'10m LP'!$B$6:$E$105,4,0)),"",VLOOKUP($B14,'10m LP'!$B$6:$E$105,4,0)) | H14: =IF(ISNA(VLOOKUP($B14,'15m MR stå'!$B$6:$E$105,4,0)),"",VLOOKUP($B14,'15m MR stå'!$B$6:$E$105,4,0)) | I14: =IF(ISNA(VLOOKUP($B14,'MR liggende'!$B$6:$E$105,4,0)),"",VLOOKUP($B14,'MR liggende'!$B$6:$E$105,4,0)) | J14: =IF(ISNA(VLOOKUP($B14,'50m MR 2-st'!$B$6:$E$105,4,0)),"",VLOOKUP($B14,'50m MR 2-st'!$B$6:$E$105,4,0)) | K14: =IF(ISNA(VLOOKUP($B14,'50m MR 3-st'!$B$6:$E$105,4,0)),"",VLOOKUP($B14,'50m MR 3-st'!$B$6:$E$105,4,0))
A15: =IF(OR(ISNA('Skyttere registrering'!AD13)=TRUE,0),"",'Skyttere registrering'!AD13) | B15: =IF(OR(ISNA('Skyttere registrering'!AB13)=TRUE,0),"",'Skyttere registrering'!AB13) | C15: =IF(OR(ISNA('Skyttere registrering'!AC13)=TRUE,0),"",'Skyttere registrering'!AC13) | D15: =IF(OR(ISNA('Skyttere registrering'!AE13)=TRUE,0),"",'Skyttere registrering'!AE13) | E15: =IF(ISNA(VLOOKUP($B15,'10m LR Bedr'!$B$6:$E$105,4,0)),"",VLOOKUP($B15,'10m LR Bedr'!$B$6:$E$105,4,0)) | F15: =IF(ISNA(VLOOKUP($B15,'10m LR ISSF'!$B$6:$E$105,4,0)),"",VLOOKUP($B15,'10m LR ISSF'!$B$6:$E$105,4,0)) | G15: =IF(ISNA(VLOOKUP($B15,'10m LP'!$B$6:$E$105,4,0)),"",VLOOKUP($B15,'10m LP'!$B$6:$E$105,4,0)) | H15: =IF(ISNA(VLOOKUP($B15,'15m MR stå'!$B$6:$E$105,4,0)),"",VLOOKUP($B15,'15m MR stå'!$B$6:$E$105,4,0)) | I15: =IF(ISNA(VLOOKUP($B15,'MR liggende'!$B$6:$E$105,4,0)),"",VLOOKUP($B15,'MR liggende'!$B$6:$E$105,4,0)) | J15: =IF(ISNA(VLOOKUP($B15,'50m MR 2-st'!$B$6:$E$105,4,0)),"",VLOOKUP($B15,'50m MR 2-st'!$B$6:$E$105,4,0)) | K15: =IF(ISNA(VLOOKUP($B15,'50m MR 3-st'!$B$6:$E$105,4,0)),"",VLOOKUP($B15,'50m MR 3-st'!$B$6:$E$105,4,0))
... A103: =IF(OR(ISNA('Skyttere registrering'!AD101)=TRUE,0),"",'Skyttere registrering'!AD101) | B103: =IF(OR(ISNA('Skyttere registrering'!AB101)=TRUE,0),"",'Skyttere registrering'!AB101) | C103: =IF(OR(ISNA('Skyttere registrering'!AC101)=TRUE,0),"",'Skyttere registrering'!AC101) | D103: =IF(OR(ISNA('Skyttere registrering'!AE101)=TRUE,0),"",'Skyttere registrering'!AE101) | E103: =IF(ISNA(VLOOKUP($B103,'10m LR Bedr'!$B$6:$E$105,4,0)),"",VLOOKUP($B103,'10m LR Bedr'!$B$6:$E$105,4,0)) | F103: =IF(ISNA(VLOOKUP($B103,'10m LR ISSF'!$B$6:$E$105,4,0)),"",VLOOKUP($B103,'10m LR ISSF'!$B$6:$E$105,4,0)) | G103: =IF(ISNA(VLOOKUP($B103,'10m LP'!$B$6:$E$105,4,0)),"",VLOOKUP($B103,'10m LP'!$B$6:$E$105,4,0)) | H103: =IF(ISNA(VLOOKUP($B103,'15m MR stå'!$B$6:$E$105,4,0)),"",VLOOKUP($B103,'15m MR stå'!$B$6:$E$105,4,0)) | I103: =IF(ISNA(VLOOKUP($B103,'MR liggende'!$B$6:$E$105,4,0)),"",VLOOKUP($B103,'MR liggende'!$B$6:$E$105,4,0)) | J103: =IF(ISNA(VLOOKUP($B103,'50m MR 2-st'!$B$6:$E$105,4,0)),"",VLOOKUP($B103,'50m MR 2-st'!$B$6:$E$105,4,0)) | K103: =IF(ISNA(VLOOKUP($B103,'50m MR 3-st'!$B$6:$E$105,4,0)),"",VLOOKUP($B103,'50m MR 3-st'!$B$6:$E$105,4,0))

Sheet Skyttere registrering
A1: Skytternr | B1: Navn | C1: Bedriftsidrettslag | D1: Født | E1: 10m LR Bedr | F1: 10m LR Int | G1: 10m LP | H1: 15m MR | I1: MR liggende | J1: 50m MR 2-st | K1: 50m MR 3-st | Y1: Antall: | Z1: =101-COUNTIF(B2:B101,"") -> 1 | AA1: Sortering | AB1: Navn | AC1: Lag | AD1: Sk.nr. | AE1: F.år
Y2: Ref til liste | Z2: ="$AB$"&Z1 -> $AB$1 | AA2: =IF(B2="","",COUNTIF($B$2:$B$101,"<="&B2)) | AB2: =IF(ISNA(INDEX(B$2:B$101,MATCH(ROWS($B$2:B2),$AA$2:$AA$101,0)))=TRUE,"",INDEX(B$2:B$101,MATCH(ROWS($B$2:B2),$AA$2:$AA$101,0))) | AC2: =IF(ISNA(INDEX(C$2:C$101,MATCH(ROWS($C$2:C2),$AA$2:$AA$101,0)))=TRUE,"",INDEX(C$2:C$101,MATCH(ROWS($C$2:C2),$AA$2:$AA$101,0))) | AD2: =IF(ISNA(INDEX(A$2:A$101,MATCH(ROWS($A$2:A2),$AA$2:$AA$101,0)))=TRUE,"",INDEX(A$2:A$101,MATCH(ROWS($A$2:A2),$AA$2:$AA$101,0))) | AE2: =IF(ISNA(INDEX(D$2:D$101,MATCH(ROWS($D$2:D2),$AA$2:$AA$101,0)))=TRUE,"",INDEX(D$2:D$101,MATCH(ROWS($D$2:D2),$AA$2:$AA$101,0)))
AA3: =IF(B3="","",COUNTIF($B$2:$B$101,"<="&B3)) | AB3: =IF(ISNA(INDEX(B$2:B$101,MATCH(ROWS($B$2:B3),$AA$2:$AA$101,0)))=TRUE,"",INDEX(B$2:B$101,MATCH(ROWS($B$2:B3),$AA$2:$AA$101,0))) | AC3: =IF(ISNA(INDEX(C$2:C$101,MATCH(ROWS($C$2:C3),$AA$2:$AA$101,0)))=TRUE,"",INDEX(C$2:C$101,MATCH(ROWS($C$2:C3),$AA$2:$AA$101,0))) | AD3: =IF(ISNA(INDEX(A$2:A$101,MATCH(ROWS($A$2:A3),$AA$2:$AA$101,0)))=TRUE,"",INDEX(A$2:A$101,MATCH(ROWS($A$2:A3),$AA$2:$AA$101,0))) | AE3: =IF(ISNA(INDEX(D$2:D$101,MATCH(ROWS($D$2:D3),$AA$2:$AA$101,0)))=TRUE,"",INDEX(D$2:D$101,MATCH(ROWS($D$2:D3),$AA$2:$AA$101,0)))
AA4: =IF(B4="","",COUNTIF($B$2:$B$101,"<="&B4)) | AB4: =IF(ISNA(INDEX(B$2:B$101,MATCH(ROWS($B$2:B4),$AA$2:$AA$101,0)))=TRUE,"",INDEX(B$2:B$101,MATCH(ROWS($B$2:B4),$AA$2:$AA$101,0))) | AC4: =IF(ISNA(INDEX(C$2:C$101,MATCH(ROWS($C$2:C4),$AA$2:$AA$101,0)))=TRUE,"",INDEX(C$2:C$101,MATCH(ROWS($C$2:C4),$AA$2:$AA$101,0))) | AD4: =IF(ISNA(INDEX(A$2:A$101,MATCH(ROWS($A$2:A4),$AA$2:$AA$101,0)))=TRUE,"",INDEX(A$2:A$101,MATCH(ROWS($A$2:A4),$AA$2:$AA$101,0))) | AE4: =IF(ISNA(INDEX(D$2:D$101,MATCH(ROWS($D$2:D4),$AA$2:$AA$101,0)))=TRUE,"",INDEX(D$2:D$101,MATCH(ROWS($D$2:D4),$AA$2:$AA$101,0)))
AA5: =IF(B5="","",COUNTIF($B$2:$B$101,"<="&B5)) | AB5: =IF(ISNA(INDEX(B$2:B$101,MATCH(ROWS($B$2:B5),$AA$2:$AA$101,0)))=TRUE,"",INDEX(B$2:B$101,MATCH(ROWS($B$2:B5),$AA$2:$AA$101,0))) | AC5: =IF(ISNA(INDEX(C$2:C$101,MATCH(ROWS($C$2:C5),$AA$2:$AA$101,0)))=TRUE,"",INDEX(C$2:C$101,MATCH(ROWS($C$2:C5),$AA$2:$AA$101,0))) | AD5: =IF(ISNA(INDEX(A$2:A$101,MATCH(ROWS($A$2:A5),$AA$2:$AA$101,0)))=TRUE,"",INDEX(A$2:A$101,MATCH(ROWS($A$2:A5),$AA$2:$AA$101,0))) | AE5: =IF(ISNA(INDEX(D$2:D$101,MATCH(ROWS($D$2:D5),$AA$2:$AA$101,0)))=TRUE,"",INDEX(D$2:D$101,MATCH(ROWS($D$2:D5),$AA$2:$AA$101,0)))
AA6: =IF(B6="","",COUNTIF($B$2:$B$101,"<="&B6)) | AB6: =IF(ISNA(INDEX(B$2:B$101,MATCH(ROWS($B$2:B6),$AA$2:$AA$101,0)))=TRUE,"",INDEX(B$2:B$101,MATCH(ROWS($B$2:B6),$AA$2:$AA$101,0))) | AC6: =IF(ISNA(INDEX(C$2:C$101,MATCH(ROWS($C$2:C6),$AA$2:$AA$101,0)))=TRUE,"",INDEX(C$2:C$101,MATCH(ROWS($C$2:C6),$AA$2:$AA$101,0))) | AD6: =IF(ISNA(INDEX(A$2:A$101,MATCH(ROWS($A$2:A6),$AA$2:$AA$101,0)))=TRUE,"",INDEX(A$2:A$101,MATCH(ROWS($A$2:A6),$AA$2:$AA$101,0))) | AE6: =IF(ISNA(INDEX(D$2:D$101,MATCH(ROWS($D$2:D6),$AA$2:$AA$101,0)))=TRUE,"",INDEX(D$2:D$101,MATCH(ROWS($D$2:D6),$AA$2:$AA$101,0)))
AA7: =IF(B7="","",COUNTIF($B$2:$B$101,"<="&B7)) | AB7: =IF(ISNA(INDEX(B$2:B$101,MATCH(ROWS($B$2:B7),$AA$2:$AA$101,0)))=TRUE,"",INDEX(B$2:B$101,MATCH(ROWS($B$2:B7),$AA$2:$AA$101,0))) | AC7: =IF(ISNA(INDEX(C$2:C$101,MATCH(ROWS($C$2:C7),$AA$2:$AA$101,0)))=TRUE,"",INDEX(C$2:C$101,MATCH(ROWS($C$2:C7),$AA$2:$AA$101,0))) | AD7: =IF(ISNA(INDEX(A$2:A$101,MATCH(ROWS($A$2:A7),$AA$2:$AA$101,0)))=TRUE,"",INDEX(A$2:A$101,MATCH(ROWS($A$2:A7),$AA$2:$AA$101,0))) | AE7: =IF(ISNA(INDEX(D$2:D$101,MATCH(ROWS($D$2:D7),$AA$2:$AA$101,0)))=TRUE,"",INDEX(D$2:D$101,MATCH(ROWS($D$2:D7),$AA$2:$AA$101,0)))
AA8: =IF(B8="","",COUNTIF($B$2:$B$101,"<="&B8)) | AB8: =IF(ISNA(INDEX(B$2:B$101,MATCH(ROWS($B$2:B8),$AA$2:$AA$101,0)))=TRUE,"",INDEX(B$2:B$101,MATCH(ROWS($B$2:B8),$AA$2:$AA$101,0))) | AC8: =IF(ISNA(INDEX(C$2:C$101,MATCH(ROWS($C$2:C8),$AA$2:$AA$101,0)))=TRUE,"",INDEX(C$2:C$101,MATCH(ROWS($C$2:C8),$AA$2:$AA$101,0))) | AD8: =IF(ISNA(INDEX(A$2:A$101,MATCH(ROWS($A$2:A8),$AA$2:$AA$101,0)))=TRUE,"",INDEX(A$2:A$101,MATCH(ROWS($A$2:A8),$AA$2:$AA$101,0))) | AE8: =IF(ISNA(INDEX(D$2:D$101,MATCH(ROWS($D$2:D8),$AA$2:$AA$101,0)))=TRUE,"",INDEX(D$2:D$101,MATCH(ROWS($D$2:D8),$AA$2:$AA$101,0)))
AA9: =IF(B9="","",COUNTIF($B$2:$B$101,"<="&B9)) | AB9: =IF(ISNA(INDEX(B$2:B$101,MATCH(ROWS($B$2:B9),$AA$2:$AA$101,0)))=TRUE,"",INDEX(B$2:B$101,MATCH(ROWS($B$2:B9),$AA$2:$AA$101,0))) | AC9: =IF(ISNA(INDEX(C$2:C$101,MATCH(ROWS($C$2:C9),$AA$2:$AA$101,0)))=TRUE,"",INDEX(C$2:C$101,MATCH(ROWS($C$2:C9),$AA$2:$AA$101,0))) | AD9: =IF(ISNA(INDEX(A$2:A$101,MATCH(ROWS($A$2:A9),$AA$2:$AA$101,0)))=TRUE,"",INDEX(A$2:A$101,MATCH(ROWS($A$2:A9),$AA$2:$AA$101,0))) | AE9: =IF(ISNA(INDEX(D$2:D$101,MATCH(ROWS($D$2:D9),$AA$2:$AA$101,0)))=TRUE,"",INDEX(D$2:D$101,MATCH(ROWS($D$2:D9),$AA$2:$AA$101,0)))
AA10: =IF(B10="","",COUNTIF($B$2:$B$101,"<="&B10)) | AB10: =IF(ISNA(INDEX(B$2:B$101,MATCH(ROWS($B$2:B10),$AA$2:$AA$101,0)))=TRUE,"",INDEX(B$2:B$101,MATCH(ROWS($B$2:B10),$AA$2:$AA$101,0))) | AC10: =IF(ISNA(INDEX(C$2:C$101,MATCH(ROWS($C$2:C10),$AA$2:$AA$101,0)))=TRUE,"",INDEX(C$2:C$101,MATCH(ROWS($C$2:C10),$AA$2:$AA$101,0))) | AD10: =IF(ISNA(INDEX(A$2:A$101,MATCH(ROWS($A$2:A10),$AA$2:$AA$101,0)))=TRUE,"",INDEX(A$2:A$101,MATCH(ROWS($A$2:A10),$AA$2:$AA$101,0))) | AE10: =IF(ISNA(INDEX(D$2:D$101,MATCH(ROWS($D$2:D10),$AA$2:$AA$101,0)))=TRUE,"",INDEX(D$2:D$101,MATCH(ROWS($D$2:D10),$AA$2:$AA$101,0)))
AA11: =IF(B11="","",COUNTIF($B$2:$B$101,"<="&B11)) | AB11: =IF(ISNA(INDEX(B$2:B$101,MATCH(ROWS($B$2:B11),$AA$2:$AA$101,0)))=TRUE,"",INDEX(B$2:B$101,MATCH(ROWS($B$2:B11),$AA$2:$AA$101,0))) | AC11: =IF(ISNA(INDEX(C$2:C$101,MATCH(ROWS($C$2:C11),$AA$2:$AA$101,0)))=TRUE,"",INDEX(C$2:C$101,MATCH(ROWS($C$2:C11),$AA$2:$AA$101,0))) | AD11: =IF(ISNA(INDEX(A$2:A$101,MATCH(ROWS($A$2:A11),$AA$2:$AA$101,0)))=TRUE,"",INDEX(A$2:A$101,MATCH(ROWS($A$2:A11),$AA$2:$AA$101,0))) | AE11: =IF(ISNA(INDEX(D$2:D$101,MATCH(ROWS($D$2:D11),$AA$2:$AA$101,0)))=TRUE,"",INDEX(D$2:D$101,MATCH(ROWS($D$2:D11),$AA$2:$AA$101,0)))
AA12: =IF(B12="","",COUNTIF($B$2:$B$101,"<="&B12)) | AB12: =IF(ISNA(INDEX(B$2:B$101,MATCH(ROWS($B$2:B12),$AA$2:$AA$101,0)))=TRUE,"",INDEX(B$2:B$101,MATCH(ROWS($B$2:B12),$AA$2:$AA$101,0))) | AC12: =IF(ISNA(INDEX(C$2:C$101,MATCH(ROWS($C$2:C12),$AA$2:$AA$101,0)))=TRUE,"",INDEX(C$2:C$101,MATCH(ROWS($C$2:C12),$AA$2:$AA$101,0))) | AD12: =IF(ISNA(INDEX(A$2:A$101,MATCH(ROWS($A$2:A12),$AA$2:$AA$101,0)))=TRUE,"",INDEX(A$2:A$101,MATCH(ROWS($A$2:A12),$AA$2:$AA$101,0))) | AE12: =IF(ISNA(INDEX(D$2:D$101,MATCH(ROWS($D$2:D12),$AA$2:$AA$101,0)))=TRUE,"",INDEX(D$2:D$101,MATCH(ROWS($D$2:D12),$AA$2:$AA$101,0)))
AA13: =IF(B13="","",COUNTIF($B$2:$B$101,"<="&B13)) | AB13: =IF(ISNA(INDEX(B$2:B$101,MATCH(ROWS($B$2:B13),$AA$2:$AA$101,0)))=TRUE,"",INDEX(B$2:B$101,MATCH(ROWS($B$2:B13),$AA$2:$AA$101,0))) | AC13: =IF(ISNA(INDEX(C$2:C$101,MATCH(ROWS($C$2:C13),$AA$2:$AA$101,0)))=TRUE,"",INDEX(C$2:C$101,MATCH(ROWS($C$2:C13),$AA$2:$AA$101,0))) | AD13: =IF(ISNA(INDEX(A$2:A$101,MATCH(ROWS($A$2:A13),$AA$2:$AA$101,0)))=TRUE,"",INDEX(A$2:A$101,MATCH(ROWS($A$2:A13),$AA$2:$AA$101,0))) | AE13: =IF(ISNA(INDEX(D$2:D$101,MATCH(ROWS($D$2:D13),$AA$2:$AA$101,0)))=TRUE,"",INDEX(D$2:D$101,MATCH(ROWS($D$2:D13),$AA$2:$AA$101,0)))
AA14: =IF(B14="","",COUNTIF($B$2:$B$101,"<="&B14)) | AB14: =IF(ISNA(INDEX(B$2:B$101,MATCH(ROWS($B$2:B14),$AA$2:$AA$101,0)))=TRUE,"",INDEX(B$2:B$101,MATCH(ROWS($B$2:B14),$AA$2:$AA$101,0))) | AC14: =IF(ISNA(INDEX(C$2:C$101,MATCH(ROWS($C$2:C14),$AA$2:$AA$101,0)))=TRUE,"",INDEX(C$2:C$101,MATCH(ROWS($C$2:C14),$AA$2:$AA$101,0))) | AD14: =IF(ISNA(INDEX(A$2:A$101,MATCH(ROWS($A$2:A14),$AA$2:$AA$101,0)))=TRUE,"",INDEX(A$2:A$101,MATCH(ROWS($A$2:A14),$AA$2:$AA$101,0))) | AE14: =IF(ISNA(INDEX(D$2:D$101,MATCH(ROWS($D$2:D14),$AA$2:$AA$101,0)))=TRUE,"",INDEX(D$2:D$101,MATCH(ROWS($D$2:D14),$AA$2:$AA$101,0)))
... AA27: =IF(B27="","",COUNTIF($B$2:$B$101,"<="&B27)) | AB27: =IF(ISNA(INDEX(B$2:B$101,MATCH(ROWS($B$2:B27),$AA$2:$AA$101,0)))=TRUE,"",INDEX(B$2:B$101,MATCH(ROWS($B$2:B27),$AA$2:$AA$101,0))) | AC27: =IF(ISNA(INDEX(C$2:C$101,MATCH(ROWS($C$2:C27),$AA$2:$AA$101,0)))=TRUE,"",INDEX(C$2:C$101,MATCH(ROWS($C$2:C27),$AA$2:$AA$101,0))) | AD27: =IF(ISNA(INDEX(A$2:A$101,MATCH(ROWS($A$2:A27),$AA$2:$AA$101,0)))=TRUE,"",INDEX(A$2:A$101,MATCH(ROWS($A$2:A27),$AA$2:$AA$101,0))) | AE27: =IF(ISNA(INDEX(D$2:D$101,MATCH(ROWS($D$2:D27),$AA$2:$AA$101,0)))=TRUE,"",INDEX(D$2:D$101,MATCH(ROWS($D$2:D27),$AA$2:$AA$101,0)))
AA28: =IF(B28="","",COUNTIF($B$2:$B$101,"<="&B28)) | AB28: =IF(AA28="","",IF($B$28="","",INDEX(B$2:B$101,MATCH(ROWS($AA$2:AA28),$AA$2:$AA$101,0)))) | AC28: =IF(AA28="","",IF($C$28="","",INDEX(C$2:C$101,MATCH(ROWS($AA$2:AA28),AA$2:AA$101,0)))) | AD28: =IF(AA28="","",IF($A$28="","",INDEX(A$2:A$101,MATCH(ROWS($AA$2:AA28),AA$2:AA$101,0)))) | AE28: =IF(AA28="","",IF($D$28="","",INDEX(D$2:D$101,MATCH(ROWS($AA$2:AA28),AA$2:AA$101,0))))
AA29: =IF(B29="","",COUNTIF($B$2:$B$101,"<="&B29)) | AB29: =IF(AA29="","",IF($B$29="","",INDEX(B$2:B$101,MATCH(ROWS($AA$2:AA29),$AA$2:$AA$101,0)))) | AC29: =IF(AA29="","",IF($C$29="","",INDEX(C$2:C$101,MATCH(ROWS($AA$2:AA29),AA$2:AA$101,0)))) | AD29: =IF(AA29="","",IF($A$29="","",INDEX(A$2:A$101,MATCH(ROWS($AA$2:AA29),AA$2:AA$101,0)))) | AE29: =IF(AA29="","",IF($D$29="","",INDEX(D$2:D$101,MATCH(ROWS($AA$2:AA29),AA$2:AA$101,0))))
AA30: =IF(B30="","",COUNTIF($B$2:$B$101,"<="&B30)) | AB30: =IF(AA30="","",IF($B$30="","",INDEX(B$2:B$101,MATCH(ROWS($AA$2:AA30),$AA$2:$AA$101,0)))) | AC30: =IF(AA30="","",IF($C$30="","",INDEX(C$2:C$101,MATCH(ROWS($AA$2:AA30),AA$2:AA$101,0)))) | AD30: =IF(AA30="","",IF($A$30="","",INDEX(A$2:A$101,MATCH(ROWS($AA$2:AA30),AA$2:AA$101,0)))) | AE30: =IF(AA30="","",IF($D$30="","",INDEX(D$2:D$101,MATCH(ROWS($AA$2:AA30),AA$2:AA$101,0))))
AA31: =IF(B31="","",COUNTIF($B$2:$B$101,"<="&B31)) | AB31: =IF(AA31="","",IF($B$31="","",INDEX(B$2:B$101,MATCH(ROWS($AA$2:AA31),$AA$2:$AA$101,0)))) | AC31: =IF(AA31="","",IF($C$31="","",INDEX(C$2:C$101,MATCH(ROWS($AA$2:AA31),AA$2:AA$101,0)))) | AD31: =IF(AA31="","",IF($A$31="","",INDEX(A$2:A$101,MATCH(ROWS($AA$2:AA31),AA$2:AA$101,0)))) | AE31: =IF(AA31="","",IF($D$31="","",INDEX(D$2:D$101,MATCH(ROWS($AA$2:AA31),AA$2:AA$101,0))))
AA32: =IF(B32="","",COUNTIF($B$2:$B$101,"<="&B32)) | AB32: =IF(AA32="","",IF($B$32="","",INDEX(B$2:B$101,MATCH(ROWS($AA$2:AA32),$AA$2:$AA$101,0)))) | AC32: =IF(AA32="","",IF($C$32="","",INDEX(C$2:C$101,MATCH(ROWS($AA$2:AA32),AA$2:AA$101,0)))) | AD32: =IF(AA32="","",IF($A$32="","",INDEX(A$2:A$101,MATCH(ROWS($AA$2:AA32),AA$2:AA$101,0)))) | AE32: =IF(AA32="","",IF($D$32="","",INDEX(D$2:D$101,MATCH(ROWS($AA$2:AA32),AA$2:AA$101,0))))
AA33: =IF($B$33="","",COUNTIF($B$2:$B$101,"<="&$B$33)) | AB33: =IF(AA33="","",IF($B$33="","",INDEX(B$2:B$101,MATCH(ROWS($AA$2:AA33),$AA$2:$AA$101,0)))) | AC33: =IF(AA33="","",IF($C$33="","",INDEX(C$2:C$101,MATCH(ROWS($AA$2:AA33),AA$2:AA$101,0)))) | AD33: =IF(AA33="","",IF($A$33="","",INDEX(A$2:A$101,MATCH(ROWS($AA$2:AA33),AA$2:AA$101,0)))) | AE33: =IF(AA33="","",IF($D$33="","",INDEX(D$2:D$101,MATCH(ROWS($AA$2:AA33),AA$2:AA$101,0))))
AA34: =IF($B$34="","",COUNTIF($B$2:$B$101,"<="&$B$34)) | AB34: =IF(AA34="","",IF($B$34="","",INDEX(B$2:B$101,MATCH(ROWS($AA$2:AA34),$AA$2:$AA$101,0)))) | AC34: =IF(AA34="","",IF($C$34="","",INDEX(C$2:C$101,MATCH(ROWS($AA$2:AA34),AA$2:AA$101,0)))) | AD34: =IF(AA34="","",IF($A$34="","",INDEX(A$2:A$101,MATCH(ROWS($AA$2:AA34),AA$2:AA$101,0)))) | AE34: =IF(AA34="","",IF($D$34="","",INDEX(D$2:D$101,MATCH(ROWS($AA$2:AA34),AA$2:AA$101,0))))
AA35: =IF($B$35="","",COUNTIF($B$2:$B$101,"<="&$B$35)) | AB35: =IF(AA35="","",IF($B$35="","",INDEX(B$2:B$101,MATCH(ROWS($AA$2:AA35),$AA$2:$AA$101,0)))) | AC35: =IF(AA35="","",IF($C$35="","",INDEX(C$2:C$101,MATCH(ROWS($AA$2:AA35),AA$2:AA$101,0)))) | AD35: =IF(AA35="","",IF($A$35="","",INDEX(A$2:A$101,MATCH(ROWS($AA$2:AA35),AA$2:AA$101,0)))) | AE35: =IF(AA35="","",IF($D$35="","",INDEX(D$2:D$101,MATCH(ROWS($AA$2:AA35),AA$2:AA$101,0))))
AA36: =IF($B$36="","",COUNTIF($B$2:$B$101,"<="&$B$36)) | AB36: =IF(AA36="","",IF($B$36="","",INDEX(B$2:B$101,MATCH(ROWS($AA$2:AA36),$AA$2:$AA$101,0)))) | AC36: =IF(AA36="","",IF($C$36="","",INDEX(C$2:C$101,MATCH(ROWS($AA$2:AA36),AA$2:AA$101,0)))) | AD36: =IF(AA36="","",IF($A$36="","",INDEX(A$2:A$101,MATCH(ROWS($AA$2:AA36),AA$2:AA$101,0)))) | AE36: =IF(AA36="","",IF($D$36="","",INDEX(D$2:D$101,MATCH(ROWS($AA$2:AA36),AA$2:AA$101,0))))
AA37: =IF($B$37="","",COUNTIF($B$2:$B$101,"<="&$B$37)) | AB37: =IF(AA37="","",IF($B$37="","",INDEX(B$2:B$101,MATCH(ROWS($AA$2:AA37),$AA$2:$AA$101,0)))) | AC37: =IF(AA37="","",IF($C$37="","",INDEX(C$2:C$101,MATCH(ROWS($AA$2:AA37),AA$2:AA$101,0)))) | AD37: =IF(AA37="","",IF($A$37="","",INDEX(A$2:A$101,MATCH(ROWS($AA$2:AA37),AA$2:AA$101,0)))) | AE37: =IF(AA37="","",IF($D$37="","",INDEX(D$2:D$101,MATCH(ROWS($AA$2:AA37),AA$2:AA$101,0))))
AA38: =IF($B$38="","",COUNTIF($B$2:$B$101,"<="&$B$38)) | AB38: =IF(AA38="","",IF($B$38="","",INDEX(B$2:B$101,MATCH(ROWS($AA$2:AA38),$AA$2:$AA$101,0)))) | AC38: =IF(AA38="","",IF($C$38="","",INDEX(C$2:C$101,MATCH(ROWS($AA$2:AA38),AA$2:AA$101,0)))) | AD38: =IF(AA38="","",IF($A$38="","",INDEX(A$2:A$101,MATCH(ROWS($AA$2:AA38),AA$2:AA$101,0)))) | AE38: =IF(AA38="","",IF($D$38="","",INDEX(D$2:D$101,MATCH(ROWS($AA$2:AA38),AA$2:AA$101,0))))
AA39: =IF($B$39="","",COUNTIF($B$2:$B$101,"<="&$B$39)) | AB39: =IF(AA39="","",IF($B$39="","",INDEX(B$2:B$101,MATCH(ROWS($AA$2:AA39),$AA$2:$AA$101,0)))) | AC39: =IF(AA39="","",IF($C$39="","",INDEX(C$2:C$101,MATCH(ROWS($AA$2:AA39),AA$2:AA$101,0)))) | AD39: =IF(AA39="","",IF($A$39="","",INDEX(A$2:A$101,MATCH(ROWS($AA$2:AA39),AA$2:AA$101,0)))) | AE39: =IF(AA39="","",IF($D$39="","",INDEX(D$2:D$101,MATCH(ROWS($AA$2:AA39),AA$2:AA$101,0))))
AA40: =IF($B$40="","",COUNTIF($B$2:$B$101,"<="&$B$40)) | AB40: =IF(AA40="","",IF($B$40="","",INDEX(B$2:B$101,MATCH(ROWS($AA$2:AA40),$AA$2:$AA$101,0)))) | AC40: =IF(AA40="","",IF($C$40="","",INDEX(C$2:C$101,MATCH(ROWS($AA$2:AA40),AA$2:AA$101,0)))) | AD40: =IF(AA40="","",IF($A$40="","",INDEX(A$2:A$101,MATCH(ROWS($AA$2:AA40),AA$2:AA$101,0)))) | AE40: =IF(AA40="","",IF($D$40="","",INDEX(D$2:D$101,MATCH(ROWS($AA$2:AA40),AA$2:AA$101,0))))
AA41: =IF($B$41="","",COUNTIF($B$2:$B$101,"<="&$B$41)) | AB41: =IF(AA41="","",IF($B$41="","",INDEX(B$2:B$101,MATCH(ROWS($AA$2:AA41),$AA$2:$AA$101,0)))) | AC41: =IF(AA41="","",IF($C$41="","",INDEX(C$2:C$101,MATCH(ROWS($AA$2:AA41),AA$2:AA$101,0)))) | AD41: =IF(AA41="","",IF($A$41="","",INDEX(A$2:A$101,MATCH(ROWS($AA$2:AA41),AA$2:AA$101,0)))) | AE41: =IF(AA41="","",IF($D$41="","",INDEX(D$2:D$101,MATCH(ROWS($AA$2:AA41),AA$2:AA$101,0))))
AA42: =IF($B$42="","",COUNTIF($B$2:$B$101,"<="&$B$42)) | AB42: =IF(AA42="","",IF($B$42="","",INDEX(B$2:B$101,MATCH(ROWS($AA$2:AA42),$AA$2:$AA$101,0)))) | AC42: =IF(AA42="","",IF($C$42="","",INDEX(C$2:C$101,MATCH(ROWS($AA$2:AA42),AA$2:AA$101,0)))) | AD42: =IF(AA42="","",IF($A$42="","",INDEX(A$2:A$101,MATCH(ROWS($AA$2:AA42),AA$2:AA$101,0)))) | AE42: =IF(AA42="","",IF($D$42="","",INDEX(D$2:D$101,MATCH(ROWS($AA$2:AA42),AA$2:AA$101,0))))
AA43: =IF($B$43="","",COUNTIF($B$2:$B$101,"<="&$B$43)) | AB43: =IF(AA43="","",IF($B$43="","",INDEX(B$2:B$101,MATCH(ROWS($AA$2:AA43),$AA$2:$AA$101,0)))) | AC43: =IF(AA43="","",IF($C$43="","",INDEX(C$2:C$101,MATCH(ROWS($AA$2:AA43),AA$2:AA$101,0)))) | AD43: =IF(AA43="","",IF($A$43="","",INDEX(A$2:A$101,MATCH(ROWS($AA$2:AA43),AA$2:AA$101,0)))) | AE43: =IF(AA43="","",IF($D$43="","",INDEX(D$2:D$101,MATCH(ROWS($AA$2:AA43),AA$2:AA$101,0))))
AA44: =IF($B$44="","",COUNTIF($B$2:$B$101,"<="&$B$44)) | AB44: =IF(AA44="","",IF($B$44="","",INDEX(B$2:B$101,MATCH(ROWS($AA$2:AA44),$AA$2:$AA$101,0)))) | AC44: =IF(AA44="","",IF($C$44="","",INDEX(C$2:C$101,MATCH(ROWS($AA$2:AA44),AA$2:AA$101,0)))) | AD44: =IF(AA44="","",IF($A$44="","",INDEX(A$2:A$101,MATCH(ROWS($AA$2:AA44),AA$2:AA$101,0)))) | AE44: =IF(AA44="","",IF($D$44="","",INDEX(D$2:D$101,MATCH(ROWS($AA$2:AA44),AA$2:AA$101,0))))
AA45: =IF($B$45="","",COUNTIF($B$2:$B$101,"<="&$B$45)) | AB45: =IF(AA45="","",IF($B$45="","",INDEX(B$2:B$101,MATCH(ROWS($AA$2:AA45),$AA$2:$AA$101,0)))) | AC45: =IF(AA45="","",IF($C$45="","",INDEX(C$2:C$101,MATCH(ROWS($AA$2:AA45),AA$2:AA$101,0)))) | AD45: =IF(AA45="","",IF($A$45="","",INDEX(A$2:A$101,MATCH(ROWS($AA$2:AA45),AA$2:AA$101,0)))) | AE45: =IF(AA45="","",IF($D$45="","",INDEX(D$2:D$101,MATCH(ROWS($AA$2:AA45),AA$2:AA$101,0))))
AA46: =IF($B$46="","",COUNTIF($B$2:$B$101,"<="&$B$46)) | AB46: =IF(AA46="","",IF($B$46="","",INDEX(B$2:B$101,MATCH(ROWS($AA$2:AA46),$AA$2:$AA$101,0)))) | AC46: =IF(AA46="","",IF($C$46="","",INDEX(C$2:C$101,MATCH(ROWS($AA$2:AA46),AA$2:AA$101,0)))) | AD46: =IF(AA46="","",IF($A$46="","",INDEX(A$2:A$101,MATCH(ROWS($AA$2:AA46),AA$2:AA$101,0)))) | AE46: =IF(AA46="","",IF($D$46="","",INDEX(D$2:D$101,MATCH(ROWS($AA$2:AA46),AA$2:AA$101,0))))
AA47: =IF($B$47="","",COUNTIF($B$2:$B$101,"<="&$B$47)) | AB47: =IF(AA47="","",IF($B$47="","",INDEX(B$2:B$101,MATCH(ROWS($AA$2:AA47),$AA$2:$AA$101,0)))) | AC47: =IF(AA47="","",IF($C$47="","",INDEX(C$2:C$101,MATCH(ROWS($AA$2:AA47),AA$2:AA$101,0)))) | AD47: =IF(AA47="","",IF($A$47="","",INDEX(A$2:A$101,MATCH(ROWS($AA$2:AA47),AA$2:AA$101,0)))) | AE47: =IF(AA47="","",IF($D$47="","",INDEX(D$2:D$101,MATCH(ROWS($AA$2:AA47),AA$2:AA$101,0))))
AA48: =IF($B$48="","",COUNTIF($B$2:$B$101,"<="&$B$48)) | AB48: =IF(AA48="","",IF($B$48="","",INDEX(B$2:B$101,MATCH(ROWS($AA$2:AA48),$AA$2:$AA$101,0)))) | AC48: =IF(AA48="","",IF($C$48="","",INDEX(C$2:C$101,MATCH(ROWS($AA$2:AA48),AA$2:AA$101,0)))) | AD48: =IF(AA48="","",IF($A$48="","",INDEX(A$2:A$101,MATCH(ROWS($AA$2:AA48),AA$2:AA$101,0)))) | AE48: =IF(AA48="","",IF($D$48="","",INDEX(D$2:D$101,MATCH(ROWS($AA$2:AA48),AA$2:AA$101,0))))
AA49: =IF($B$49="","",COUNTIF($B$2:$B$101,"<="&$B$49)) | AB49: =IF(AA49="","",IF($B$49="","",INDEX(B$2:B$101,MATCH(ROWS($AA$2:AA49),$AA$2:$AA$101,0)))) | AC49: =IF(AA49="","",IF($C$49="","",INDEX(C$2:C$101,MATCH(ROWS($AA$2:AA49),AA$2:AA$101,0)))) | AD49: =IF(AA49="","",IF($A$49="","",INDEX(A$2:A$101,MATCH(ROWS($AA$2:AA49),AA$2:AA$101,0)))) | AE49: =IF(AA49="","",IF($D$49="","",INDEX(D$2:D$101,MATCH(ROWS($AA$2:AA49),AA$2:AA$101,0))))
AA50: =IF($B$50="","",COUNTIF($B$2:$B$101,"<="&$B$50)) | AB50: =IF(AA50="","",IF($B$50="","",INDEX(B$2:B$101,MATCH(ROWS($AA$2:AA50),$AA$2:$AA$101,0)))) | AC50: =IF(AA50="","",IF($C$50="","",INDEX(C$2:C$101,MATCH(ROWS($AA$2:AA50),AA$2:AA$101,0)))) | AD50: =IF(AA50="","",IF($A$50="","",INDEX(A$2:A$101,MATCH(ROWS($AA$2:AA50),AA$2:AA$101,0)))) | AE50: =IF(AA50="","",IF($D$50="","",INDEX(D$2:D$101,MATCH(ROWS($AA$2:AA50),AA$2:AA$101,0))))
AA51: =IF($B$51="","",COUNTIF($B$2:$B$101,"<="&$B$51)) | AB51: =IF(AA51="","",IF($B$51="","",INDEX(B$2:B$101,MATCH(ROWS($AA$2:AA51),$AA$2:$AA$101,0)))) | AC51: =IF(AA51="","",IF($C$51="","",INDEX(C$2:C$101,MATCH(ROWS($AA$2:AA51),AA$2:AA$101,0)))) | AD51: =IF(AA51="","",IF($A$51="","",INDEX(A$2:A$101,MATCH(ROWS($AA$2:AA51),AA$2:AA$101,0)))) | AE51: =IF(AA51="","",IF($D$51="","",INDEX(D$2:D$101,MATCH(ROWS($AA$2:AA51),AA$2:AA$101,0))))
AA52: =IF($B$52="","",COUNTIF($B$2:$B$101,"<="&$B$52)) | AB52: =IF(AA52="","",IF($B$52="","",INDEX(B$2:B$101,MATCH(ROWS($AA$2:AA52),$AA$2:$AA$101,0)))) | AC52: =IF(AA52="","",IF($C$52="","",INDEX(C$2:C$101,MATCH(ROWS($AA$2:AA52),AA$2:AA$101,0)))) | AD52: =IF(AA52="","",IF($A$52="","",INDEX(A$2:A$101,MATCH(ROWS($AA$2:AA52),AA$2:AA$101,0)))) | AE52: =IF(AA52="","",IF($D$52="","",INDEX(D$2:D$101,MATCH(ROWS($AA$2:AA52),AA$2:AA$101,0))))
AA53: =IF($B$53="","",COUNTIF($B$2:$B$101,"<="&$B$53)) | AB53: =IF(AA53="","",IF($B$53="","",INDEX(B$2:B$101,MATCH(ROWS($AA$2:AA53),$AA$2:$AA$101,0)))) | AC53: =IF(AA53="","",IF($C$53="","",INDEX(C$2:C$101,MATCH(ROWS($AA$2:AA53),AA$2:AA$101,0)))) | AD53: =IF(AA53="","",IF($A$53="","",INDEX(A$2:A$101,MATCH(ROWS($AA$2:AA53),AA$2:AA$101,0)))) | AE53: =IF(AA53="","",IF($D$53="","",INDEX(D$2:D$101,MATCH(ROWS($AA$2:AA53),AA$2:AA$101,0))))
AA54: =IF($B$54="","",COUNTIF($B$2:$B$101,"<="&$B$54)) | AB54: =IF(AA54="","",IF($B$54="","",INDEX(B$2:B$101,MATCH(ROWS($AA$2:AA54),$AA$2:$AA$101,0)))) | AC54: =IF(AA54="","",IF($C$54="","",INDEX(C$2:C$101,MATCH(ROWS($AA$2:AA54),AA$2:AA$101,0)))) | AD54: =IF(AA54="","",IF($A$54="","",INDEX(A$2:A$101,MATCH(ROWS($AA$2:AA54),AA$2:AA$101,0)))) | AE54: =IF(AA54="","",IF($D$54="","",INDEX(D$2:D$101,MATCH(ROWS($AA$2:AA54),AA$2:AA$101,0))))
AA55: =IF($B$55="","",COUNTIF($B$2:$B$101,"<="&$B$55)) | AB55: =IF(AA55="","",IF($B$55="","",INDEX(B$2:B$101,MATCH(ROWS($AA$2:AA55),$AA$2:$AA$101,0)))) | AC55: =IF(AA55="","",IF($C$55="","",INDEX(C$2:C$101,MATCH(ROWS($AA$2:AA55),AA$2:AA$101,0)))) | AD55: =IF(AA55="","",IF($A$55="","",INDEX(A$2:A$101,MATCH(ROWS($AA$2:AA55),AA$2:AA$101,0)))) | AE55: =IF(AA55="","",IF($D$55="","",INDEX(D$2:D$101,MATCH(ROWS($AA$2:AA55),AA$2:AA$101,0))))
AA56: =IF($B$56="","",COUNTIF($B$2:$B$101,"<="&$B$56)) | AB56: =IF(AA56="","",IF($B$56="","",INDEX(B$2:B$101,MATCH(ROWS($AA$2:AA56),$AA$2:$AA$101,0)))) | AC56: =IF(AA56="","",IF($C$56="","",INDEX(C$2:C$101,MATCH(ROWS($AA$2:AA56),AA$2:AA$101,0)))) | AD56: =IF(AA56="","",IF($A$56="","",INDEX(A$2:A$101,MATCH(ROWS($AA$2:AA56),AA$2:AA$101,0)))) | AE56: =IF(AA56="","",IF($D$56="","",INDEX(D$2:D$101,MATCH(ROWS($AA$2:AA56),AA$2:AA$101,0))))
AA57: =IF($B$57="","",COUNTIF($B$2:$B$101,"<="&$B$57)) | AB57: =IF(AA57="","",IF($B$57="","",INDEX(B$2:B$101,MATCH(ROWS($AA$2:AA57),$AA$2:$AA$101,0)))) | AC57: =IF(AA57="","",IF($C$57="","",INDEX(C$2:C$101,MATCH(ROWS($AA$2:AA57),AA$2:AA$101,0)))) | AD57: =IF(AA57="","",IF($A$57="","",INDEX(A$2:A$101,MATCH(ROWS($AA$2:AA57),AA$2:AA$101,0)))) | AE57: =IF(AA57="","",IF($D$57="","",INDEX(D$2:D$101,MATCH(ROWS($AA$2:AA57),AA$2:AA$101,0))))
AA58: =IF($B$58="","",COUNTIF($B$2:$B$101,"<="&$B$58)) | AB58: =IF(AA58="","",IF($B$58="","",INDEX(B$2:B$101,MATCH(ROWS($AA$2:AA58),$AA$2:$AA$101,0)))) | AC58: =IF(AA58="","",IF($C$58="","",INDEX(C$2:C$101,MATCH(ROWS($AA$2:AA58),AA$2:AA$101,0)))) | AD58: =IF(AA58="","",IF($A$58="","",INDEX(A$2:A$101,MATCH(ROWS($AA$2:AA58),AA$2:AA$101,0)))) | AE58: =IF(AA58="","",IF($D$58="","",INDEX(D$2:D$101,MATCH(ROWS($AA$2:AA58),AA$2:AA$101,0))))
AA59: =IF($B$59="","",COUNTIF($B$2:$B$101,"<="&$B$59)) | AB59: =IF(AA59="","",IF($B$59="","",INDEX(B$2:B$101,MATCH(ROWS($AA$2:AA59),$AA$2:$AA$101,0)))) | AC59: =IF(AA59="","",IF($C$59="","",INDEX(C$2:C$101,MATCH(ROWS($AA$2:AA59),AA$2:AA$101,0)))) | AD59: =IF(AA59="","",IF($A$59="","",INDEX(A$2:A$101,MATCH(ROWS($AA$2:AA59),AA$2:AA$101,0)))) | AE59: =IF(AA59="","",IF($D$59="","",INDEX(D$2:D$101,MATCH(ROWS($AA$2:AA59),AA$2:AA$101,0))))
AA60: =IF($B$60="","",COUNTIF($B$2:$B$101,"<="&$B$60)) | AB60: =IF(AA60="","",IF($B$60="","",INDEX(B$2:B$101,MATCH(ROWS($AA$2:AA60),$AA$2:$AA$101,0)))) | AC60: =IF(AA60="","",IF($C$60="","",INDEX(C$2:C$101,MATCH(ROWS($AA$2:AA60),AA$2:AA$101,0)))) | AD60: =IF(AA60="","",IF($A$60="","",INDEX(A$2:A$101,MATCH(ROWS($AA$2:AA60),AA$2:AA$101,0)))) | AE60: =IF(AA60="","",IF($D$60="","",INDEX(D$2:D$101,MATCH(ROWS($AA$2:AA60),AA$2:AA$101,0))))
AA61: =IF($B$61="","",COUNTIF($B$2:$B$101,"<="&$B$61)) | AB61: =IF(AA61="","",IF($B$61="","",INDEX(B$2:B$101,MATCH(ROWS($AA$2:AA61),$AA$2:$AA$101,0)))) | AC61: =IF(AA61="","",IF($C$61="","",INDEX(C$2:C$101,MATCH(ROWS($AA$2:AA61),AA$2:AA$101,0)))) | AD61: =IF(AA61="","",IF($A$61="","",INDEX(A$2:A$101,MATCH(ROWS($AA$2:AA61),AA$2:AA$101,0)))) | AE61: =IF(AA61="","",IF($D$61="","",INDEX(D$2:D$101,MATCH(ROWS($AA$2:AA61),AA$2:AA$101,0))))
AA62: =IF($B$62="","",COUNTIF($B$2:$B$101,"<="&$B$62)) | AB62: =IF(AA62="","",IF($B$62="","",INDEX(B$2:B$101,MATCH(ROWS($AA$2:AA62),$AA$2:$AA$101,0)))) | AC62: =IF(AA62="","",IF($C$62="","",INDEX(C$2:C$101,MATCH(ROWS($AA$2:AA62),AA$2:AA$101,0)))) | AD62: =IF(AA62="","",IF($A$62="","",INDEX(A$2:A$101,MATCH(ROWS($AA$2:AA62),AA$2:AA$101,0)))) | AE62: =IF(AA62="","",IF($D$62="","",INDEX(D$2:D$101,MATCH(ROWS($AA$2:AA62),AA$2:AA$101,0))))
AA63: =IF($B$63="","",COUNTIF($B$2:$B$101,"<="&$B$63)) | AB63: =IF(AA63="","",IF($B$63="","",INDEX(B$2:B$101,MATCH(ROWS($AA$2:AA63),$AA$2:$AA$101,0)))) | AC63: =IF(AA63="","",IF($C$63="","",INDEX(C$2:C$101,MATCH(ROWS($AA$2:AA63),AA$2:AA$101,0)))) | AD63: =IF(AA63="","",IF($A$63="","",INDEX(A$2:A$101,MATCH(ROWS($AA$2:AA63),AA$2:AA$101,0)))) | AE63: =IF(AA63="","",IF($D$63="","",INDEX(D$2:D$101,MATCH(ROWS($AA$2:AA63),AA$2:AA$101,0))))
AA64: =IF($B$64="","",COUNTIF($B$2:$B$101,"<="&$B$64)) | AB64: =IF(AA64="","",IF($B$64="","",INDEX(B$2:B$101,MATCH(ROWS($AA$2:AA64),$AA$2:$AA$101,0)))) | AC64: =IF(AA64="","",IF($C$64="","",INDEX(C$2:C$101,MATCH(ROWS($AA$2:AA64),AA$2:AA$101,0)))) | AD64: =IF(AA64="","",IF($A$64="","",INDEX(A$2:A$101,MATCH(ROWS($AA$2:AA64),AA$2:AA$101,0)))) | AE64: =IF(AA64="","",IF($D$64="","",INDEX(D$2:D$101,MATCH(ROWS($AA$2:AA64),AA$2:AA$101,0))))
AA65: =IF($B$65="","",COUNTIF($B$2:$B$101,"<="&$B$65)) | AB65: =IF(AA65="","",IF($B$65="","",INDEX(B$2:B$101,MATCH(ROWS($AA$2:AA65),$AA$2:$AA$101,0)))) | AC65: =IF(AA65="","",IF($C$65="","",INDEX(C$2:C$101,MATCH(ROWS($AA$2:AA65),AA$2:AA$101,0)))) | AD65: =IF(AA65="","",IF($A$65="","",INDEX(A$2:A$101,MATCH(ROWS($AA$2:AA65),AA$2:AA$101,0)))) | AE65: =IF(AA65="","",IF($D$65="","",INDEX(D$2:D$101,MATCH(ROWS($AA$2:AA65),AA$2:AA$101,0))))
AA66: =IF($B$66="","",COUNTIF($B$2:$B$101,"<="&$B$66)) | AB66: =IF(AA66="","",IF($B$66="","",INDEX(B$2:B$101,MATCH(ROWS($AA$2:AA66),$AA$2:$AA$101,0)))) | AC66: =IF(AA66="","",IF($C$66="","",INDEX(C$2:C$101,MATCH(ROWS($AA$2:AA66),AA$2:AA$101,0)))) | AD66: =IF(AA66="","",IF($A$66="","",INDEX(A$2:A$101,MATCH(ROWS($AA$2:AA66),AA$2:AA$101,0)))) | AE66: =IF(AA66="","",IF($D$66="","",INDEX(D$2:D$101,MATCH(ROWS($AA$2:AA66),AA$2:AA$101,0))))
AA67: =IF($B$67="","",COUNTIF($B$2:$B$101,"<="&$B$67)) | AB67: =IF(AA67="","",IF($B$67="","",INDEX(B$2:B$101,MATCH(ROWS($AA$2:AA67),$AA$2:$AA$101,0)))) | AC67: =IF(AA67="","",IF($C$67="","",INDEX(C$2:C$101,MATCH(ROWS($AA$2:AA67),AA$2:AA$101,0)))) | AD67: =IF(AA67="","",IF($A$67="","",INDEX(A$2:A$101,MATCH(ROWS($AA$2:AA67),AA$2:AA$101,0)))) | AE67: =IF(AA67="","",IF($D$67="","",INDEX(D$2:D$101,MATCH(ROWS($AA$2:AA67),AA$2:AA$101,0))))
AA68: =IF($B$68="","",COUNTIF($B$2:$B$101,"<="&$B$68)) | AB68: =IF(AA68="","",IF($B$68="","",INDEX(B$2:B$101,MATCH(ROWS($AA$2:AA68),$AA$2:$AA$101,0)))) | AC68: =IF(AA68="","",IF($C$68="","",INDEX(C$2:C$101,MATCH(ROWS($AA$2:AA68),AA$2:AA$101,0)))) | AD68: =IF(AA68="","",IF($A$68="","",INDEX(A$2:A$101,MATCH(ROWS($AA$2:AA68),AA$2:AA$101,0)))) | AE68: =IF(AA68="","",IF($D$68="","",INDEX(D$2:D$101,MATCH(ROWS($AA$2:AA68),AA$2:AA$101,0))))
AA69: =IF($B$69="","",COUNTIF($B$2:$B$101,"<="&$B$69)) | AB69: =IF(AA69="","",IF($B$69="","",INDEX(B$2:B$101,MATCH(ROWS($AA$2:AA69),$AA$2:$AA$101,0)))) | AC69: =IF(AA69="","",IF($C$69="","",INDEX(C$2:C$101,MATCH(ROWS($AA$2:AA69),AA$2:AA$101,0)))) | AD69: =IF(AA69="","",IF($A$69="","",INDEX(A$2:A$101,MATCH(ROWS($AA$2:AA69),AA$2:AA$101,0)))) | AE69: =IF(AA69="","",IF($D$69="","",INDEX(D$2:D$101,MATCH(ROWS($AA$2:AA69),AA$2:AA$101,0))))
AA70: =IF($B$70="","",COUNTIF($B$2:$B$101,"<="&$B$70)) | AB70: =IF(AA70="","",IF($B$70="","",INDEX(B$2:B$101,MATCH(ROWS($AA$2:AA70),$AA$2:$AA$101,0)))) | AC70: =IF(AA70="","",IF($C$70="","",INDEX(C$2:C$101,MATCH(ROWS($AA$2:AA70),AA$2:AA$101,0)))) | AD70: =IF(AA70="","",IF($A$70="","",INDEX(A$2:A$101,MATCH(ROWS($AA$2:AA70),AA$2:AA$101,0)))) | AE70: =IF(AA70="","",IF($D$70="","",INDEX(D$2:D$101,MATCH(ROWS($AA$2:AA70),AA$2:AA$101,0))))
AA71: =IF($B$71="","",COUNTIF($B$2:$B$101,"<="&$B$71)) | AB71: =IF(AA71="","",IF($B$71="","",INDEX(B$2:B$101,MATCH(ROWS($AA$2:AA71),$AA$2:$AA$101,0)))) | AC71: =IF(AA71="","",IF($C$71="","",INDEX(C$2:C$101,MATCH(ROWS($AA$2:AA71),AA$2:AA$101,0)))) | AD71: =IF(AA71="","",IF($A$71="","",INDEX(A$2:A$101,MATCH(ROWS($AA$2:AA71),AA$2:AA$101,0)))) | AE71: =IF(AA71="","",IF($D$71="","",INDEX(D$2:D$101,MATCH(ROWS($AA$2:AA71),AA$2:AA$101,0))))
AA72: =IF($B$72="","",COUNTIF($B$2:$B$101,"<="&$B$72)) | AB72: =IF(AA72="","",IF($B$72="","",INDEX(B$2:B$101,MATCH(ROWS($AA$2:AA72),$AA$2:$AA$101,0)))) | AC72: =IF(AA72="","",IF($C$72="","",INDEX(C$2:C$101,MATCH(ROWS($AA$2:AA72),AA$2:AA$101,0)))) | AD72: =IF(AA72="","",IF($A$72="","",INDEX(A$2:A$101,MATCH(ROWS($AA$2:AA72),AA$2:AA$101,0)))) | AE72: =IF(AA72="","",IF($D$72="","",INDEX(D$2:D$101,MATCH(ROWS($AA$2:AA72),AA$2:AA$101,0))))
AA73: =IF($B$73="","",COUNTIF($B$2:$B$101,"<="&$B$73)) | AB73: =IF(AA73="","",IF($B$73="","",INDEX(B$2:B$101,MATCH(ROWS($AA$2:AA73),$AA$2:$AA$101,0)))) | AC73: =IF(AA73="","",IF($C$73="","",INDEX(C$2:C$101,MATCH(ROWS($AA$2:AA73),AA$2:AA$101,0)))) | AD73: =IF(AA73="","",IF($A$73="","",INDEX(A$2:A$101,MATCH(ROWS($AA$2:AA73),AA$2:AA$101,0)))) | AE73: =IF(AA73="","",IF($D$73="","",INDEX(D$2:D$101,MATCH(ROWS($AA$2:AA73),AA$2:AA$101,0))))
AA74: =IF($B$74="","",COUNTIF($B$2:$B$101,"<="&$B$74)) | AB74: =IF(AA74="","",IF($B$74="","",INDEX(B$2:B$101,MATCH(ROWS($AA$2:AA74),$AA$2:$AA$101,0)))) | AC74: =IF(AA74="","",IF($C$74="","",INDEX(C$2:C$101,MATCH(ROWS($AA$2:AA74),AA$2:AA$101,0)))) | AD74: =IF(AA74="","",IF($A$74="","",INDEX(A$2:A$101,MATCH(ROWS($AA$2:AA74),AA$2:AA$101,0)))) | AE74: =IF(AA74="","",IF($D$74="","",INDEX(D$2:D$101,MATCH(ROWS($AA$2:AA74),AA$2:AA$101,0))))
AA75: =IF($B$75="","",COUNTIF($B$2:$B$101,"<="&$B$75)) | AB75: =IF(AA75="","",IF($B$75="","",INDEX(B$2:B$101,MATCH(ROWS($AA$2:AA75),$AA$2:$AA$101,0)))) | AC75: =IF(AA75="","",IF($C$75="","",INDEX(C$2:C$101,MATCH(ROWS($AA$2:AA75),AA$2:AA$101,0)))) | AD75: =IF(AA75="","",IF($A$75="","",INDEX(A$2:A$101,MATCH(ROWS($AA$2:AA75),AA$2:AA$101,0)))) | AE75: =IF(AA75="","",IF($D$75="","",INDEX(D$2:D$101,MATCH(ROWS($AA$2:AA75),AA$2:AA$101,0))))
AA76: =IF($B$76="","",COUNTIF($B$2:$B$101,"<="&$B$76)) | AB76: =IF(AA76="","",IF($B$76="","",INDEX(B$2:B$101,MATCH(ROWS($AA$2:AA76),$AA$2:$AA$101,0)))) | AC76: =IF(AA76="","",IF($C$76="","",INDEX(C$2:C$101,MATCH(ROWS($AA$2:AA76),AA$2:AA$101,0)))) | AD76: =IF(AA76="","",IF($A$76="","",INDEX(A$2:A$101,MATCH(ROWS($AA$2:AA76),AA$2:AA$101,0)))) | AE76: =IF(AA76="","",IF($D$76="","",INDEX(D$2:D$101,MATCH(ROWS($AA$2:AA76),AA$2:AA$101,0))))
AA77: =IF($B$77="","",COUNTIF($B$2:$B$101,"<="&$B$77)) | AB77: =IF(AA77="","",IF($B$77="","",INDEX(B$2:B$101,MATCH(ROWS($AA$2:AA77),$AA$2:$AA$101,0)))) | AC77: =IF(AA77="","",IF($C$77="","",INDEX(C$2:C$101,MATCH(ROWS($AA$2:AA77),AA$2:AA$101,0)))) | AD77: =IF(AA77="","",IF($A$77="","",INDEX(A$2:A$101,MATCH(ROWS($AA$2:AA77),AA$2:AA$101,0)))) | AE77: =IF(AA77="","",IF($D$77="","",INDEX(D$2:D$101,MATCH(ROWS($AA$2:AA77),AA$2:AA$101,0))))
AA78: =IF($B$78="","",COUNTIF($B$2:$B$101,"<="&$B$78)) | AB78: =IF(AA78="","",IF($B$78="","",INDEX(B$2:B$101,MATCH(ROWS($AA$2:AA78),$AA$2:$AA$101,0)))) | AC78: =IF(AA78="","",IF($C$78="","",INDEX(C$2:C$101,MATCH(ROWS($AA$2:AA78),AA$2:AA$101,0)))) | AD78: =IF(AA78="","",IF($A$78="","",INDEX(A$2:A$101,MATCH(ROWS($AA$2:AA78),AA$2:AA$101,0)))) | AE78: =IF(AA78="","",IF($D$78="","",INDEX(D$2:D$101,MATCH(ROWS($AA$2:AA78),AA$2:AA$101,0))))
AA79: =IF($B$79="","",COUNTIF($B$2:$B$101,"<="&$B$79)) | AB79: =IF(AA79="","",IF($B$79="","",INDEX(B$2:B$101,MATCH(ROWS($AA$2:AA79),$AA$2:$AA$101,0)))) | AC79: =IF(AA79="","",IF($C$79="","",INDEX(C$2:C$101,MATCH(ROWS($AA$2:AA79),AA$2:AA$101,0)))) | AD79: =IF(AA79="","",IF($A$79="","",INDEX(A$2:A$101,MATCH(ROWS($AA$2:AA79),AA$2:AA$101,0)))) | AE79: =IF(AA79="","",IF($D$79="","",INDEX(D$2:D$101,MATCH(ROWS($AA$2:AA79),AA$2:AA$101,0))))
AA80: =IF($B$80="","",COUNTIF($B$2:$B$101,"<="&$B$80)) | AB80: =IF(AA80="","",IF($B$80="","",INDEX(B$2:B$101,MATCH(ROWS($AA$2:AA80),$AA$2:$AA$101,0)))) | AC80: =IF(AA80="","",IF($C$80="","",INDEX(C$2:C$101,MATCH(ROWS($AA$2:AA80),AA$2:AA$101,0)))) | AD80: =IF(AA80="","",IF($A$80="","",INDEX(A$2:A$101,MATCH(ROWS($AA$2:AA80),AA$2:AA$101,0)))) | AE80: =IF(AA80="","",IF($D$80="","",INDEX(D$2:D$101,MATCH(ROWS($AA$2:AA80),AA$2:AA$101,0))))
AA81: =IF($B$81="","",COUNTIF($B$2:$B$101,"<="&$B$81)) | AB81: =IF(AA81="","",IF($B$81="","",INDEX(B$2:B$101,MATCH(ROWS($AA$2:AA81),$AA$2:$AA$101,0)))) | AC81: =IF(AA81="","",IF($C$81="","",INDEX(C$2:C$101,MATCH(ROWS($AA$2:AA81),AA$2:AA$101,0)))) | AD81: =IF(AA81="","",IF($A$81="","",INDEX(A$2:A$101,MATCH(ROWS($AA$2:AA81),AA$2:AA$101,0)))) | AE81: =IF(AA81="","",IF($D$81="","",INDEX(D$2:D$101,MATCH(ROWS($AA$2:AA81),AA$2:AA$101,0))))
AA82: =IF($B$82="","",COUNTIF($B$2:$B$101,"<="&$B$82)) | AB82: =IF(AA82="","",IF($B$82="","",INDEX(B$2:B$101,MATCH(ROWS($AA$2:AA82),$AA$2:$AA$101,0)))) | AC82: =IF(AA82="","",IF($C$82="","",INDEX(C$2:C$101,MATCH(ROWS($AA$2:AA82),AA$2:AA$101,0)))) | AD82: =IF(AA82="","",IF($A$82="","",INDEX(A$2:A$101,MATCH(ROWS($AA$2:AA82),AA$2:AA$101,0)))) | AE82: =IF(AA82="","",IF($D$82="","",INDEX(D$2:D$101,MATCH(ROWS($AA$2:AA82),AA$2:AA$101,0))))
AA83: =IF($B$83="","",COUNTIF($B$2:$B$101,"<="&$B$83)) | AB83: =IF(AA83="","",IF($B$83="","",INDEX(B$2:B$101,MATCH(ROWS($AA$2:AA83),$AA$2:$AA$101,0)))) | AC83: =IF(AA83="","",IF($C$83="","",INDEX(C$2:C$101,MATCH(ROWS($AA$2:AA83),AA$2:AA$101,0)))) | AD83: =IF(AA83="","",IF($A$83="","",INDEX(A$2:A$101,MATCH(ROWS($AA$2:AA83),AA$2:AA$101,0)))) | AE83: =IF(AA83="","",IF($D$83="","",INDEX(D$2:D$101,MATCH(ROWS($AA$2:AA83),AA$2:AA$101,0))))
AA84: =IF($B$84="","",COUNTIF($B$2:$B$101,"<="&$B$84)) | AB84: =IF(AA84="","",IF($B$84="","",INDEX(B$2:B$101,MATCH(ROWS($AA$2:AA84),$AA$2:$AA$101,0)))) | AC84: =IF(AA84="","",IF($C$84="","",INDEX(C$2:C$101,MATCH(ROWS($AA$2:AA84),AA$2:AA$101,0)))) | AD84: =IF(AA84="","",IF($A$84="","",INDEX(A$2:A$101,MATCH(ROWS($AA$2:AA84),AA$2:AA$101,0)))) | AE84: =IF(AA84="","",IF($D$84="","",INDEX(D$2:D$101,MATCH(ROWS($AA$2:AA84),AA$2:AA$101,0))))
AA85: =IF($B$85="","",COUNTIF($B$2:$B$101,"<="&$B$85)) | AB85: =IF(AA85="","",IF($B$85="","",INDEX(B$2:B$101,MATCH(ROWS($AA$2:AA85),$AA$2:$AA$101,0)))) | AC85: =IF(AA85="","",IF($C$85="","",INDEX(C$2:C$101,MATCH(ROWS($AA$2:AA85),AA$2:AA$101,0)))) | AD85: =IF(AA85="","",IF($A$85="","",INDEX(A$2:A$101,MATCH(ROWS($AA$2:AA85),AA$2:AA$101,0)))) | AE85: =IF(AA85="","",IF($D$85="","",INDEX(D$2:D$101,MATCH(ROWS($AA$2:AA85),AA$2:AA$101,0))))
AA86: =IF($B$86="","",COUNTIF($B$2:$B$101,"<="&$B$86)) | AB86: =IF(AA86="","",IF($B$86="","",INDEX(B$2:B$101,MATCH(ROWS($AA$2:AA86),$AA$2:$AA$101,0)))) | AC86: =IF(AA86="","",IF($C$86="","",INDEX(C$2:C$101,MATCH(ROWS($AA$2:AA86),AA$2:AA$101,0)))) | AD86: =IF(AA86="","",IF($A$86="","",INDEX(A$2:A$101,MATCH(ROWS($AA$2:AA86),AA$2:AA$101,0)))) | AE86: =IF(AA86="","",IF($D$86="","",INDEX(D$2:D$101,MATCH(ROWS($AA$2:AA86),AA$2:AA$101,0))))
AA87: =IF($B$87="","",COUNTIF($B$2:$B$101,"<="&$B$87)) | AB87: =IF(AA87="","",IF($B$87="","",INDEX(B$2:B$101,MATCH(ROWS($AA$2:AA87),$AA$2:$AA$101,0)))) | AC87: =IF(AA87="","",IF($C$87="","",INDEX(C$2:C$101,MATCH(ROWS($AA$2:AA87),AA$2:AA$101,0)))) | AD87: =IF(AA87="","",IF($A$87="","",INDEX(A$2:A$101,MATCH(ROWS($AA$2:AA87),AA$2:AA$101,0)))) | AE87: =IF(AA87="","",IF($D$87="","",INDEX(D$2:D$101,MATCH(ROWS($AA$2:AA87),AA$2:AA$101,0))))
AA88: =IF($B$88="","",COUNTIF($B$2:$B$101,"<="&$B$88)) | AB88: =IF(AA88="","",IF($B$88="","",INDEX(B$2:B$101,MATCH(ROWS($AA$2:AA88),$AA$2:$AA$101,0)))) | AC88: =IF(AA88="","",IF($C$88="","",INDEX(C$2:C$101,MATCH(ROWS($AA$2:AA88),AA$2:AA$101,0)))) | AD88: =IF(AA88="","",IF($A$88="","",INDEX(A$2:A$101,MATCH(ROWS($AA$2:AA88),AA$2:AA$101,0)))) | AE88: =IF(AA88="","",IF($D$88="","",INDEX(D$2:D$101,MATCH(ROWS($AA$2:AA88),AA$2:AA$101,0))))
AA89: =IF($B$89="","",COUNTIF($B$2:$B$101,"<="&$B$89)) | AB89: =IF(AA89="","",IF($B$89="","",INDEX(B$2:B$101,MATCH(ROWS($AA$2:AA89),$AA$2:$AA$101,0)))) | AC89: =IF(AA89="","",IF($C$89="","",INDEX(C$2:C$101,MATCH(ROWS($AA$2:AA89),AA$2:AA$101,0)))) | AD89: =IF(AA89="","",IF($A$89="","",INDEX(A$2:A$101,MATCH(ROWS($AA$2:AA89),AA$2:AA$101,0)))) | AE89: =IF(AA89="","",IF($D$89="","",INDEX(D$2:D$101,MATCH(ROWS($AA$2:AA89),AA$2:AA$101,0))))
AA90: =IF($B$90="","",COUNTIF($B$2:$B$101,"<="&$B$90)) | AB90: =IF(AA90="","",IF($B$90="","",INDEX(B$2:B$101,MATCH(ROWS($AA$2:AA90),$AA$2:$AA$101,0)))) | AC90: =IF(AA90="","",IF($C$90="","",INDEX(C$2:C$101,MATCH(ROWS($AA$2:AA90),AA$2:AA$101,0)))) | AD90: =IF(AA90="","",IF($A$90="","",INDEX(A$2:A$101,MATCH(ROWS($AA$2:AA90),AA$2:AA$101,0)))) | AE90: =IF(AA90="","",IF($D$90="","",INDEX(D$2:D$101,MATCH(ROWS($AA$2:AA90),AA$2:AA$101,0))))
AA91: =IF($B$91="","",COUNTIF($B$2:$B$101,"<="&$B$91)) | AB91: =IF(AA91="","",IF($B$91="","",INDEX(B$2:B$101,MATCH(ROWS($AA$2:AA91),$AA$2:$AA$101,0)))) | AC91: =IF(AA91="","",IF($C$91="","",INDEX(C$2:C$101,MATCH(ROWS($AA$2:AA91),AA$2:AA$101,0)))) | AD91: =IF(AA91="","",IF($A$91="","",INDEX(A$2:A$101,MATCH(ROWS($AA$2:AA91),AA$2:AA$101,0)))) | AE91: =IF(AA91="","",IF($D$91="","",INDEX(D$2:D$101,MATCH(ROWS($AA$2:AA91),AA$2:AA$101,0))))
AA92: =IF($B$92="","",COUNTIF($B$2:$B$101,"<="&$B$92)) | AB92: =IF(AA92="","",IF($B$92="","",INDEX(B$2:B$101,MATCH(ROWS($AA$2:AA92),$AA$2:$AA$101,0)))) | AC92: =IF(AA92="","",IF($C$92="","",INDEX(C$2:C$101,MATCH(ROWS($AA$2:AA92),AA$2:AA$101,0)))) | AD92: =IF(AA92="","",IF($A$92="","",INDEX(A$2:A$101,MATCH(ROWS($AA$2:AA92),AA$2:AA$101,0)))) | AE92: =IF(AA92="","",IF($D$92="","",INDEX(D$2:D$101,MATCH(ROWS($AA$2:AA92),AA$2:AA$101,0))))
AA93: =IF($B$93="","",COUNTIF($B$2:$B$101,"<="&$B$93)) | AB93: =IF(AA93="","",IF($B$93="","",INDEX(B$2:B$101,MATCH(ROWS($AA$2:AA93),$AA$2:$AA$101,0)))) | AC93: =IF(AA93="","",IF($C$93="","",INDEX(C$2:C$101,MATCH(ROWS($AA$2:AA93),AA$2:AA$101,0)))) | AD93: =IF(AA93="","",IF($A$93="","",INDEX(A$2:A$101,MATCH(ROWS($AA$2:AA93),AA$2:AA$101,0)))) | AE93: =IF(AA93="","",IF($D$93="","",INDEX(D$2:D$101,MATCH(ROWS($AA$2:AA93),AA$2:AA$101,0))))
AA94: =IF($B$94="","",COUNTIF($B$2:$B$101,"<="&$B$94)) | AB94: =IF(AA94="","",IF($B$94="","",INDEX(B$2:B$101,MATCH(ROWS($AA$2:AA94),$AA$2:$AA$101,0)))) | AC94: =IF(AA94="","",IF($C$94="","",INDEX(C$2:C$101,MATCH(ROWS($AA$2:AA94),AA$2:AA$101,0)))) | AD94: =IF(AA94="","",IF($A$94="","",INDEX(A$2:A$101,MATCH(ROWS($AA$2:AA94),AA$2:AA$101,0)))) | AE94: =IF(AA94="","",IF($D$94="","",INDEX(D$2:D$101,MATCH(ROWS($AA$2:AA94),AA$2:AA$101,0))))
AA95: =IF($B$95="","",COUNTIF($B$2:$B$101,"<="&$B$95)) | AB95: =IF(AA95="","",IF($B$95="","",INDEX(B$2:B$101,MATCH(ROWS($AA$2:AA95),$AA$2:$AA$101,0)))) | AC95: =IF(AA95="","",IF($C$95="","",INDEX(C$2:C$101,MATCH(ROWS($AA$2:AA95),AA$2:AA$101,0)))) | AD95: =IF(AA95="","",IF($A$95="","",INDEX(A$2:A$101,MATCH(ROWS($AA$2:AA95),AA$2:AA$101,0)))) | AE95: =IF(AA95="","",IF($D$95="","",INDEX(D$2:D$101,MATCH(ROWS($AA$2:AA95),AA$2:AA$101,0))))
AA96: =IF($B$96="","",COUNTIF($B$2:$B$101,"<="&$B$96)) | AB96: =IF(AA96="","",IF($B$96="","",INDEX(B$2:B$101,MATCH(ROWS($AA$2:AA96),$AA$2:$AA$101,0)))) | AC96: =IF(AA96="","",IF($C$96="","",INDEX(C$2:C$101,MATCH(ROWS($AA$2:AA96),AA$2:AA$101,0)))) | AD96: =IF(AA96="","",IF($A$96="","",INDEX(A$2:A$101,MATCH(ROWS($AA$2:AA96),AA$2:AA$101,0)))) | AE96: =IF(AA96="","",IF($D$96="","",INDEX(D$2:D$101,MATCH(ROWS($AA$2:AA96),AA$2:AA$101,0))))
AA97: =IF($B$97="","",COUNTIF($B$2:$B$101,"<="&$B$97)) | AB97: =IF(AA97="","",IF($B$97="","",INDEX(B$2:B$101,MATCH(ROWS($AA$2:AA97),$AA$2:$AA$101,0)))) | AC97: =IF(AA97="","",IF($C$97="","",INDEX(C$2:C$101,MATCH(ROWS($AA$2:AA97),AA$2:AA$101,0)))) | AD97: =IF(AA97="","",IF($A$97="","",INDEX(A$2:A$101,MATCH(ROWS($AA$2:AA97),AA$2:AA$101,0)))) | AE97: =IF(AA97="","",IF($D$97="","",INDEX(D$2:D$101,MATCH(ROWS($AA$2:AA97),AA$2:AA$101,0))))
AA98: =IF($B$98="","",COUNTIF($B$2:$B$101,"<="&$B$98)) | AB98: =IF(AA98="","",IF($B$98="","",INDEX(B$2:B$101,MATCH(ROWS($AA$2:AA98),$AA$2:$AA$101,0)))) | AC98: =IF(AA98="","",IF($C$98="","",INDEX(C$2:C$101,MATCH(ROWS($AA$2:AA98),AA$2:AA$101,0)))) | AD98: =IF(AA98="","",IF($A$98="","",INDEX(A$2:A$101,MATCH(ROWS($AA$2:AA98),AA$2:AA$101,0)))) | AE98: =IF(AA98="","",IF($D$98="","",INDEX(D$2:D$101,MATCH(ROWS($AA$2:AA98),AA$2:AA$101,0))))
AA99: =IF($B$99="","",COUNTIF($B$2:$B$101,"<="&$B$99)) | AB99: =IF(AA99="","",IF($B$99="","",INDEX(B$2:B$101,MATCH(ROWS($AA$2:AA99),$AA$2:$AA$101,0)))) | AC99: =IF(AA99="","",IF($C$99="","",INDEX(C$2:C$101,MATCH(ROWS($AA$2:AA99),AA$2:AA$101,0)))) | AD99: =IF(AA99="","",IF($A$99="","",INDEX(A$2:A$101,MATCH(ROWS($AA$2:AA99),AA$2:AA$101,0)))) | AE99: =IF(AA99="","",IF($D$99="","",INDEX(D$2:D$101,MATCH(ROWS($AA$2:AA99),AA$2:AA$101,0))))
AA100: =IF($B$100="","",COUNTIF($B$2:$B$101,"<="&$B$100)) | AB100: =IF(AA100="","",IF($B$100="","",INDEX(B$2:B$101,MATCH(ROWS($AA$2:AA100),$AA$2:$AA$101,0)))) | AC100: =IF(AA100="","",IF($C$100="","",INDEX(C$2:C$101,MATCH(ROWS($AA$2:AA100),AA$2:AA$101,0)))) | AD100: =IF(AA100="","",IF($A$100="","",INDEX(A$2:A$101,MATCH(ROWS($AA$2:AA100),AA$2:AA$101,0)))) | AE100: =IF(AA100="","",IF($D$100="","",INDEX(D$2:D$101,MATCH(ROWS($AA$2:AA100),AA$2:AA$101,0))))
AA101: =IF($B$101="","",COUNTIF($B$2:$B$101,"<="&$B$101)) | AB101: =IF(AA101="","",IF($B$101="","",INDEX(B$2:B$101,MATCH(ROWS($AA$2:AA101),$AA$2:$AA$101,0)))) | AC101: =IF(AA101="","",IF($C$101="","",INDEX(C$2:C$101,MATCH(ROWS($AA$2:AA101),AA$2:AA$101,0)))) | AD101: =IF(AA101="","",IF($A$101="","",INDEX(A$2:A$101,MATCH(ROWS($AA$2:AA101),AA$2:AA$101,0)))) | AE101: =IF(AA101="","",IF($D$101="","",INDEX(D$2:D$101,MATCH(ROWS($AA$2:AA101),AA$2:AA$101,0))))
AB102: =100-COUNTIF(AB2:AB101,"") -> 0

Sheet Skyttere alfabetisk
A1: Skytternr | B1: Navn | C1: Bedriftsidrettslag | D1: Fødselsår
A2: =IF(OR(ISNA('Skyttere registrering'!AD2)=TRUE,0),"",'Skyttere registrering'!AD2) | B2: =IF(OR(ISNA('Skyttere registrering'!AB2)=TRUE,0),"",'Skyttere registrering'!AB2) | C2: =IF(OR(ISNA('Skyttere registrering'!AC2)=TRUE,0),"",'Skyttere registrering'!AC2) | D2: =IF(OR(ISNA('Skyttere registrering'!AE2)=TRUE,0),"",'Skyttere registrering'!AE2)
A3: =IF(OR(ISNA('Skyttere registrering'!AD3)=TRUE,0),"",'Skyttere registrering'!AD3) | B3: =IF(OR(ISNA('Skyttere registrering'!AB3)=TRUE,0),"",'Skyttere registrering'!AB3) | C3: =IF(OR(ISNA('Skyttere registrering'!AC3)=TRUE,0),"",'Skyttere registrering'!AC3) | D3: =IF(OR(ISNA('Skyttere registrering'!AE3)=TRUE,0),"",'Skyttere registrering'!AE3)
A4: =IF(OR(ISNA('Skyttere registrering'!AD4)=TRUE,0),"",'Skyttere registrering'!AD4) | B4: =IF(OR(ISNA('Skyttere registrering'!AB4)=TRUE,0),"",'Skyttere registrering'!AB4) | C4: =IF(OR(ISNA('Skyttere registrering'!AC4)=TRUE,0),"",'Skyttere registrering'!AC4) | D4: =IF(OR(ISNA('Skyttere registrering'!AE4)=TRUE,0),"",'Skyttere registrering'!AE4)
A5: =IF(OR(ISNA('Skyttere registrering'!AD5)=TRUE,0),"",'Skyttere registrering'!AD5) | B5: =IF(OR(ISNA('Skyttere registrering'!AB5)=TRUE,0),"",'Skyttere registrering'!AB5) | C5: =IF(OR(ISNA('Skyttere registrering'!AC5)=TRUE,0),"",'Skyttere registrering'!AC5) | D5: =IF(OR(ISNA('Skyttere registrering'!AE5)=TRUE,0),"",'Skyttere registrering'!AE5)
A6: =IF(OR(ISNA('Skyttere registrering'!AD6)=TRUE,0),"",'Skyttere registrering'!AD6) | B6: =IF(OR(ISNA('Skyttere registrering'!AB6)=TRUE,0),"",'Skyttere registrering'!AB6) | C6: =IF(OR(ISNA('Skyttere registrering'!AC6)=TRUE,0),"",'Skyttere registrering'!AC6) | D6: =IF(OR(ISNA('Skyttere registrering'!AE6)=TRUE,0),"",'Skyttere registrering'!AE6)
A7: =IF(OR(ISNA('Skyttere registrering'!AD7)=TRUE,0),"",'Skyttere registrering'!AD7) | B7: =IF(OR(ISNA('Skyttere registrering'!AB7)=TRUE,0),"",'Skyttere registrering'!AB7) | C7: =IF(OR(ISNA('Skyttere registrering'!AC7)=TRUE,0),"",'Skyttere registrering'!AC7) | D7: =IF(OR(ISNA('Skyttere registrering'!AE7)=TRUE,0),"",'Skyttere registrering'!AE7)
A8: =IF(OR(ISNA('Skyttere registrering'!AD8)=TRUE,0),"",'Skyttere registrering'!AD8) | B8: =IF(OR(ISNA('Skyttere registrering'!AB8)=TRUE,0),"",'Skyttere registrering'!AB8) | C8: =IF(OR(ISNA('Skyttere registrering'!AC8)=TRUE,0),"",'Skyttere registrering'!AC8) | D8: =IF(OR(ISNA('Skyttere registrering'!AE8)=TRUE,0),"",'Skyttere registrering'!AE8)
A9: =IF(OR(ISNA('Skyttere registrering'!AD9)=TRUE,0),"",'Skyttere registrering'!AD9) | B9: =IF(OR(ISNA('Skyttere registrering'!AB9)=TRUE,0),"",'Skyttere registrering'!AB9) | C9: =IF(OR(ISNA('Skyttere registrering'!AC9)=TRUE,0),"",'Skyttere registrering'!AC9) | D9: =IF(OR(ISNA('Skyttere registrering'!AE9)=TRUE,0),"",'Skyttere registrering'!AE9)
A10: =IF(OR(ISNA('Skyttere registrering'!AD10)=TRUE,0),"",'Skyttere registrering'!AD10) | B10: =IF(OR(ISNA('Skyttere registrering'!AB10)=TRUE,0),"",'Skyttere registrering'!AB10) | C10: =IF(OR(ISNA('Skyttere registrering'!AC10)=TRUE,0),"",'Skyttere registrering'!AC10) | D10: =IF(OR(ISNA('Skyttere registrering'!AE10)=TRUE,0),"",'Skyttere registrering'!AE10)
A11: =IF(OR(ISNA('Skyttere registrering'!AD11)=TRUE,0),"",'Skyttere registrering'!AD11) | B11: =IF(OR(ISNA('Skyttere registrering'!AB11)=TRUE,0),"",'Skyttere registrering'!AB11) | C11: =IF(OR(ISNA('Skyttere registrering'!AC11)=TRUE,0),"",'Skyttere registrering'!AC11) | D11: =IF(OR(ISNA('Skyttere registrering'!AE11)=TRUE,0),"",'Skyttere registrering'!AE11)
A12: =IF(OR(ISNA('Skyttere registrering'!AD12)=TRUE,0),"",'Skyttere registrering'!AD12) | B12: =IF(OR(ISNA('Skyttere registrering'!AB12)=TRUE,0),"",'Skyttere registrering'!AB12) | C12: =IF(OR(ISNA('Skyttere registrering'!AC12)=TRUE,0),"",'Skyttere registrering'!AC12) | D12: =IF(OR(ISNA('Skyttere registrering'!AE12)=TRUE,0),"",'Skyttere registrering'!AE12)
A13: =IF(OR(ISNA('Skyttere registrering'!AD13)=TRUE,0),"",'Skyttere registrering'!AD13) | B13: =IF(OR(ISNA('Skyttere registrering'!AB13)=TRUE,0),"",'Skyttere registrering'!AB13) | C13: =IF(OR(ISNA('Skyttere registrering'!AC13)=TRUE,0),"",'Skyttere registrering'!AC13) | D13: =IF(OR(ISNA('Skyttere registrering'!AE13)=TRUE,0),"",'Skyttere registrering'!AE13)
... A101: =IF(OR(ISNA('Skyttere registrering'!AD101)=TRUE,0),"",'Skyttere registrering'!AD101) | B101: =IF(OR(ISNA('Skyttere registrering'!AB101)=TRUE,0),"",'Skyttere registrering'!AB101) | C101: =IF(OR(ISNA('Skyttere registrering'!AC101)=TRUE,0),"",'Skyttere registrering'!AC101) | D101: =IF(OR(ISNA('Skyttere registrering'!AE101)=TRUE,0),"",'Skyttere registrering'!AE101)
A102: ='Skyttere registrering'!Z1 -> 1 | B102: ="'Skyttere alfabetisk'!$B$2:$B$"&A102 -> 'Skyttere alfabetisk'!$B$2:$B$1

Sheet 10m LR Bedr
G2: Stevne: | H2: Stevne 1 | J2: Stevne 2 | L2: Stevne 3 | N2: Stevne 4 | P2: Stevne 5 | R2: Stevne 6 | T2: Stevne 7 | V2: Stevne 8 | X2: Stevne 9 | Z2: Stevne 10 | AB2: Stevne 11 | AD2: Stevne 12 | AF2: Stevne 13 | AH2: Stevne 14 | AJ2: Stevne 15 | AL2: Stevne 16 | AN2: Stevne 17 | AP2: Stevne 18 | AR2: Stevne 19 | AT2: Stevne 20 | AV2: Stevne 21 | AX2: Stevne 22 | AZ2: Stevne 23 | BB2: Stevne 24 | BD2: Stevne 25 | BF2: Stevne 26 | BH2: Stevne 27 | BJ2: Stevne 28 | BL2: Stevne 29 | BN2: Stevne 30 | BP2: Stevne 31 | BR2: Stevne 32 | BT2: Stevne 33 | BV2: Stevne 34 | BX2: Stevne 35 | BZ2: Stevne 36 | CB2: Stevne 37 | CD2: Stevne 38 | CF2: Stevne 39 | CH2: Stevne 40 | CJ2: Stevne 41 | CL2: Stevne 42 | CN2: Stevne 43 | CP2: Stevne 44 | CR2: Stevne 45 | CT2: Stevne 46 | CV2: Stevne 47 | CX2: Stevne 48 | CZ2: Stevne 49 | DB2: Stevne 50 | DD2: Stevne 51 | DF2: Stevne 52 | DH2: Stevne 53 | DJ2: Stevne 54 | DL2: Stevne 55 | DN2: Stevne 56 | DP2: Stevne 57 | DR2: Stevne 58 | DT2: Stevne 59 | DV2: Stevne 60 | DX2: Stevne 61 | DZ2: Stevne 62 | EB2: Stevne 63 | ED2: Stevne 64 | EF2: Stevne 65 | EH2: Stevne 66 | EJ2: Stevne 67 | EL2: Stevne 68 | EN2: Stevne 69 | EP2: Stevne 70 | ER2: Stevne 71 | ET2: Stevne 72 | EV2: Stevne 73 | EX2: Stevne 74 | EZ2: Stevne 75
G3: Ant. Skudd:
G4: Dato: | FP4: =1+(2*(COLUMN(A$1:A1)-1)) -> 1 | FQ4: =1+(2*(COLUMN(B$1:B1)-1)) -> 3 | FR4: =1+(2*(COLUMN(C$1:C1)-1)) -> 5 | FS4: =1+(2*(COLUMN(D$1:D1)-1)) -> 7 | FT4: =1+(2*(COLUMN(E$1:E1)-1)) -> 9 | FU4: =1+(2*(COLUMN(F$1:F1)-1)) -> 11 | FV4: =1+(2*(COLUMN(G$1:G1)-1)) -> 13 | FW4: =1+(2*(COLUMN(H$1:H1)-1)) -> 15 | ... IL4: =1+(2*(COLUMN(BW$1:BW1)-1)) -> 149
A5: Sk. Nr | B5: Navn | C5: Lag | D5: Fødselsår | E5: Ny klasse | F5: Deltatt i antall stevner | G5: Klassifiseringsgrunnlag (Gj.snitt skuddverdi av de 5 beste stevnene) | H5: Poeng | I5: Skudd-verdi | J5: Poeng | K5: Skudd-verdi | L5: Poeng | M5: Skudd-verdi | N5: Poeng | O5: Skudd-verdi | P5: Poeng | Q5: Skudd-verdi | R5: Poeng | S5: Skudd-verdi | T5: Poeng | U5: Skudd-verdi | V5: Poeng | W5: Skudd-verdi | X5: Poeng | Y5: Skudd-verdi | Z5: Poeng | AA5: Skudd-verdi | AB5: Poeng | AC5: Skudd-verdi | AD5: Poeng | AE5: Skudd-verdi | AF5: Poeng | AG5: Skudd-verdi | AH5: Poeng | AI5: Skudd-verdi | AJ5: Poeng | AK5: Skudd-verdi | AL5: Poeng | AM5: Skudd-verdi | AN5: Poeng | AO5: Skudd-verdi | AP5: Poeng | AQ5: Skudd-verdi | AR5: Poeng | AS5: Skudd-verdi | AT5: Poeng | AU5: Skudd-verdi | AV5: Poeng | AW5: Skudd-verdi | AX5: Poeng | AY5: Skudd-verdi | AZ5: Poeng | BA5: Skudd-verdi | BB5: Poeng | BC5: Skudd-verdi | BD5: Poeng | BE5: Skudd-verdi | BF5: Poeng | BG5: Skudd-verdi | BH5: Poeng | BI5: Skudd-verdi | BJ5: Poeng | BK5: Skudd-verdi | BL5: Poeng | BM5: Skudd-verdi | BN5: Poeng | BO5: Skudd-verdi | BP5: Poeng | BQ5: Skudd-verdi | BR5: Poeng | BS5: Skudd-verdi | BT5: Poeng | BU5: Skudd-verdi | BV5: Poeng | BW5: Skudd-verdi | BX5: Poeng | BY5: Skudd-verdi | BZ5: Poeng | CA5: Skudd-verdi | CB5: Poeng | CC5: Skudd-verdi | CD5: Poeng | CE5: Skudd-verdi | CF5: Poeng | CG5: Skudd-verdi | CH5: Poeng | CI5: Skudd-verdi | CJ5: Poeng | CK5: Skudd-verdi | CL5: Poeng | CM5: Skudd-verdi | CN5: Poeng | CO5: Skudd-verdi | CP5: Poeng | CQ5: Skudd-verdi | CR5: Poeng | CS5: Skudd-verdi | CT5: Poeng | CU5: Skudd-verdi | CV5: Poeng | CW5: Skudd-verdi | CX5: Poeng | CY5: Skudd-verdi | CZ5: Poeng | DA5: Skudd-verdi | DB5: Poeng | DC5: Skudd-verdi | DD5: Poeng | DE5: Skudd-verdi | DF5: Poeng | DG5: Skudd-verdi | DH5: Poeng | DI5: Skudd-verdi | DJ5: Poeng | DK5: Skudd-verdi | DL5: Poeng | DM5: Skudd-verdi | DN5: Poeng | DO5: Skudd-verdi | DP5: Poeng | DQ5: Skudd-verdi | DR5: Poeng | DS5: Skudd-verdi | DT5: Poeng | DU5: Skudd-verdi | DV5: Poeng | DW5: Skudd-verdi | DX5: Poeng | DY5: Skudd-verdi | DZ5: Poeng | EA5: Skudd-verdi | EB5: Poeng | EC5: Skudd-verdi | ED5: Poeng | EE5: Skudd-verdi | EF5: Poeng | EG5: Skudd-verdi | EH5: Poeng | EI5: Skudd-verdi | EJ5: Poeng | EK5: Skudd-verdi | EL5: Poeng | EM5: Skudd-verdi | EN5: Poeng | EO5: Skudd-verdi | EP5: Poeng | EQ5: Skudd-verdi | ER5: Poeng | ES5: Skudd-verdi | ET5: Poeng | EU5: Skudd-verdi | EV5: Poeng | EW5: Skudd-verdi | EX5: Poeng | EY5: Skudd-verdi | EZ5: Poeng | FA5: Skudd-verdi | FM5: GJ.snitt skudd-verdi (beste 5 - 1) resultater for klassi-fisering. | FN5: Antall kvalifiserende stevner | FO5: Antall stevner | FP5: =INDEX($H2:$FB2,,FP$4) -> Stevne 1 | FQ5: =INDEX($H2:$FB2,,1+(2*(COLUMN(B$1:B$1)-1))) -> Stevne 2 | FR5: =INDEX($H2:$FB2,,1+(2*(COLUMN(C$1:C$1)-1))) -> Stevne 3 | FS5: =INDEX($H2:$FB2,,1+(2*(COLUMN(D$1:D$1)-1))) -> Stevne 4 | FT5: =INDEX($H2:$FB2,,1+(2*(COLUMN(E$1:E$1)-1))) -> Stevne 5 | FU5: =INDEX($H2:$FB2,,1+(2*(COLUMN(F$1:F$1)-1))) -> Stevne 6 | FV5: =INDEX($H2:$FB2,,1+(2*(COLUMN(G$1:G$1)-1))) -> Stevne 7 | FW5: =INDEX($H2:$FB2,,1+(2*(COLUMN(H$1:H$1)-1))) -> Stevne 8 | FX5: =INDEX($H2:$FB2,,1+(2*(COLUMN(I$1:I$1)-1))) -> Stevne 9 | ... IL5: =INDEX($H2:$FB2,,1+(2*(COLUMN(BW$1:BW$1)-1))) -> Stevne 75
A6: =IF($B6="","",IF(VLOOKUP($B6,'Skyttere registrering'!$AB$2:$AE$101,3,FALSE)=0,"",VLOOKUP($B6,'Skyttere registrering'!$AB$2:$AE$101,3,FALSE))) | C6: =IF($B6="","",IF(VLOOKUP($B6,'Skyttere registrering'!$AB$2:$AE$101,2,FALSE)=0,"",VLOOKUP($B6,'Skyttere registrering'!$AB$2:$AE$101,2,FALSE))) | D6: =IF($B6="","",IF(VLOOKUP($B6,'Skyttere registrering'!$AB$2:$AE$101,4,FALSE)=0,"",VLOOKUP($B6,'Skyttere registrering'!$AB$2:$AE$101,4,FALSE))) | E6: =IF(G6="","",IF(G6<8.2,"1",IF(G6<8.7,"2",IF(G6<9.1,"3",IF(G6<9.4,"4",IF(G6<9.6,"5",IF(G6<9.7,"6","7"))))))) | F6: =FO6 | G6: =FM6 | I6: =IF(AND($B6<>"",H$3<>"",H6<>""),H6/H$3,"") | K6: =IF(AND($B6<>"",J$3<>"",J6<>""),J6/J$3,"") | M6: =IF(AND($B6<>"",L$3<>"",L6<>""),L6/L$3,"") | O6: =IF(AND($B6<>"",N$3<>"",N6<>""),N6/N$3,"") | Q6: =IF(AND($B6<>"",P$3<>"",P6<>""),P6/P$3,"") | S6: =IF(AND($B6<>"",R$3<>"",R6<>""),R6/R$3,"") | U6: =IF(AND($B6<>"",T$3<>"",T6<>""),T6/T$3,"") | W6: =IF(AND($B6<>"",V$3<>"",V6<>""),V6/V$3,"") | Y6: =IF(AND($B6<>"",X$3<>"",X6<>""),X6/X$3,"") | AA6: =IF(AND($B6<>"",Z$3<>"",Z6<>""),Z6/Z$3,"") | AC6: =IF(AND($B6<>"",AB$3<>"",AB6<>""),AB6/AB$3,"") | AE6: =IF(AND($B6<>"",AD$3<>"",AD6<>""),AD6/AD$3,"") | AG6: =IF(AND($B6<>"",AF$3<>"",AF6<>""),AF6/AF$3,"") | AI6: =IF(AND($B6<>"",AH$3<>"",AH6<>""),AH6/AH$3,"") | AK6: =IF(AND($B6<>"",AJ$3<>"",AJ6<>""),AJ6/AJ$3,"") | AM6: =IF(AND($B6<>"",AL$3<>"",AL6<>""),AL6/AL$3,"") | AO6: =IF(AND($B6<>"",AN$3<>"",AN6<>""),AN6/AN$3,"") | AQ6: =IF(AND($B6<>"",AP$3<>"",AP6<>""),AP6/AP$3,"") | AS6: =IF(AND($B6<>"",AR$3<>"",AR6<>""),AR6/AR$3,"") | AU6: =IF(AND($B6<>"",AT$3<>"",AT6<>""),AT6/AT$3,"") | AW6: =IF(AND($B6<>"",AV$3<>"",AV6<>""),AV6/AV$3,"") | AY6: =IF(AND($B6<>"",AX$3<>"",AX6<>""),AX6/AX$3,"") | BA6: =IF(AND($B6<>"",AZ$3<>"",AZ6<>""),AZ6/AZ$3,"") | BC6: =IF(AND($B6<>"",BB$3<>"",BB6<>""),BB6/BB$3,"") | BE6: =IF(AND($B6<>"",BD$3<>"",BD6<>""),BD6/BD$3,"") | BG6: =IF(AND($B6<>"",BF$3<>"",BF6<>""),BF6/BF$3,"") | BI6: =IF(AND($B6<>"",BH$3<>"",BH6<>""),BH6/BH$3,"") | BK6: =IF(AND($B6<>"",BJ$3<>"",BJ6<>""),BJ6/BJ$3,"") | BM6: =IF(AND($B6<>"",BL$3<>"",BL6<>""),BL6/BL$3,"") | BO6: =IF(AND($B6<>"",BN$3<>"",BN6<>""),BN6/BN$3,"") | BQ6: =IF(AND($B6<>"",BP$3<>"",BP6<>""),BP6/BP$3,"") | BS6: =IF(AND($B6<>"",BR$3<>"",BR6<>""),BR6/BR$3,"") | BU6: =IF(AND($B6<>"",BT$3<>"",BT6<>""),BT6/BT$3,"") | BW6: =IF(AND($B6<>"",BV$3<>"",BV6<>""),BV6/BV$3,"") | BY6: =IF(AND($B6<>"",BX$3<>"",BX6<>""),BX6/BX$3,"") | CA6: =IF(AND($B6<>"",BZ$3<>"",BZ6<>""),BZ6/BZ$3,"") | CC6: =IF(AND($B6<>"",CB$3<>"",CB6<>""),CB6/CB$3,"") | CE6: =IF(AND($B6<>"",CD$3<>"",CD6<>""),CD6/CD$3,"") | CG6: =IF(AND($B6<>"",CF$3<>"",CF6<>""),CF6/CF$3,"") | CI6: =IF(AND($B6<>"",CH$3<>"",CH6<>""),CH6/CH$3,"") | CK6: =IF(AND($B6<>"",CJ$3<>"",CJ6<>""),CJ6/CJ$3,"") | CM6: =IF(AND($B6<>"",CL$3<>"",CL6<>""),CL6/CL$3,"") | CO6: =IF(AND($B6<>"",CN$3<>"",CN6<>""),CN6/CN$3,"") | CQ6: =IF(AND($B6<>"",CP$3<>"",CP6<>""),CP6/CP$3,"") | CS6: =IF(AND($B6<>"",CR$3<>"",CR6<>""),CR6/CR$3,"") | CU6: =IF(AND($B6<>"",CT$3<>"",CT6<>""),CT6/CT$3,"") | CW6: =IF(AND($B6<>"",CV$3<>"",CV6<>""),CV6/CV$3,"") | CY6: =IF(AND($B6<>"",CX$3<>"",CX6<>""),CX6/CX$3,"") | DA6: =IF(AND($B6<>"",CZ$3<>"",CZ6<>""),CZ6/CZ$3,"") | DC6: =IF(AND($B6<>"",DB$3<>"",DB6<>""),DB6/DB$3,"") | DE6: =IF(AND($B6<>"",DD$3<>"",DD6<>""),DD6/DD$3,"") | DG6: =IF(AND($B6<>"",DF$3<>"",DF6<>""),DF6/DF$3,"") | DI6: =IF(AND($B6<>"",DH$3<>"",DH6<>""),DH6/DH$3,"") | DK6: =IF(AND($B6<>"",DJ$3<>"",DJ6<>""),DJ6/DJ$3,"") | DM6: =IF(AND($B6<>"",DL$3<>"",DL6<>""),DL6/DL$3,"") | DO6: =IF(AND($B6<>"",DN$3<>"",DN6<>""),DN6/DN$3,"") | DQ6: =IF(AND($B6<>"",DP$3<>"",DP6<>""),DP6/DP$3,"") | DS6: =IF(AND($B6<>"",DR$3<>"",DR6<>""),DR6/DR$3,"") | DU6: =IF(AND($B6<>"",DT$3<>"",DT6<>""),DT6/DT$3,"") | DW6: =IF(AND($B6<>"",DV$3<>"",DV6<>""),DV6/DV$3,"") | DY6: =IF(AND($B6<>"",DX$3<>"",DX6<>""),DX6/DX$3,"") | EA6: =IF(AND($B6<>"",DZ$3<>"",DZ6<>""),DZ6/DZ$3,"") | EC6: =IF(AND($B6<>"",EB$3<>"",EB6<>""),EB6/EB$3,"") | EE6: =IF(AND($B6<>"",ED$3<>"",ED6<>""),ED6/ED$3,"") | EG6: =IF(AND($B6<>"",EF$3<>"",EF6<>""),EF6/EF$3,"") | EI6: =IF(AND($B6<>"",EH$3<>"",EH6<>""),EH6/EH$3,"") | EK6: =IF(AND($B6<>"",EJ$3<>"",EJ6<>""),EJ6/EJ$3,"") | EM6: =IF(AND($B6<>"",EL$3<>"",EL6<>""),EL6/EL$3,"") | EO6: =IF(AND($B6<>"",EN$3<>"",EN6<>""),EN6/EN$3,"") | EQ6: =IF(AND($B6<>"",EP$3<>"",EP6<>""),EP6/EP$3,"") | ES6: =IF(AND($B6<>"",ER$3<>"",ER6<>""),ER6/ER$3,"") | EU6: =IF(AND($B6<>"",ET$3<>"",ET6<>""),ET6/ET$3,"") | EW6: =IF(AND($B6<>"",EV$3<>"",EV6<>""),EV6/EV$3,"") | EY6: =IF(AND($B6<>"",EX$3<>"",EX6<>""),EX6/EX$3,"") | FA6: =IF(AND($B6<>"",EZ$3<>"",EZ6<>""),EZ6/EZ$3,"") | FM6: =IF(COUNT($FP6:$IL6)=0,"",IF(COUNT($FP6:$IL6)<6,SUM($FP6:$IL6)/COUNT($FP6:$IL6),(LARGE($FP6:$IL6,1)+LARGE($FP6:$IL6,2)+LARGE($FP6:$IL6,3)+LARGE($FP6:$IL6,4)+LARGE($FP6:$IL6,5))/5)) | FN6: =IF(FO6="","",IF(FO6<5,FO6,5)) | FO6: =IF(COUNT(FP6:IL6)=0,"",COUNT(FP6:IL6)) | FP6: =INDEX($I6:$FB6,,FP$4) | FQ6: =INDEX($I6:$FB6,,FQ$4) | FR6: =INDEX($I6:$FB6,,FR$4) | FS6: =INDEX($I6:$FB6,,FS$4) | FT6: =INDEX($I6:$FB6,,FT$4) | FU6: =INDEX($I6:$FB6,,FU$4) | FV6: =INDEX($I6:$FB6,,FV$4) | FW6: =INDEX($I6:$FB6,,FW$4) | ... IL6: =INDEX($I6:$FB6,,IL$4)
A7: =IF($B7="","",IF(VLOOKUP($B7,'Skyttere registrering'!$AB$2:$AE$101,3,FALSE)=0,"",VLOOKUP($B7,'Skyttere registrering'!$AB$2:$AE$101,3,FALSE))) | C7: =IF($B7="","",IF(VLOOKUP($B7,'Skyttere registrering'!$AB$2:$AE$101,2,FALSE)=0,"",VLOOKUP($B7,'Skyttere registrering'!$AB$2:$AE$101,2,FALSE))) | D7: =IF($B7="","",IF(VLOOKUP($B7,'Skyttere registrering'!$AB$2:$AE$101,4,FALSE)=0,"",VLOOKUP($B7,'Skyttere registrering'!$AB$2:$AE$101,4,FALSE))) | E7: =IF(G7="","",IF(G7<8.2,"1",IF(G7<8.7,"2",IF(G7<9.1,"3",IF(G7<9.4,"4",IF(G7<9.6,"5",IF(G7<9.7,"6","7"))))))) | F7: =FO7 | G7: =FM7 | I7: =IF(AND($B7<>"",H$3<>"",H7<>""),H7/H$3,"") | K7: =IF(AND($B7<>"",J$3<>"",J7<>""),J7/J$3,"") | M7: =IF(AND($B7<>"",L$3<>"",L7<>""),L7/L$3,"") | O7: =IF(AND($B7<>"",N$3<>"",N7<>""),N7/N$3,"") | Q7: =IF(AND($B7<>"",P$3<>"",P7<>""),P7/P$3,"") | S7: =IF(AND($B7<>"",R$3<>"",R7<>""),R7/R$3,"") | U7: =IF(AND($B7<>"",T$3<>"",T7<>""),T7/T$3,"") | W7: =IF(AND($B7<>"",V$3<>"",V7<>""),V7/V$3,"") | Y7: =IF(AND($B7<>"",X$3<>"",X7<>""),X7/X$3,"") | AA7: =IF(AND($B7<>"",Z$3<>"",Z7<>""),Z7/Z$3,"") | AC7: =IF(AND($B7<>"",AB$3<>"",AB7<>""),AB7/AB$3,"") | AE7: =IF(AND($B7<>"",AD$3<>"",AD7<>""),AD7/AD$3,"") | AG7: =IF(AND($B7<>"",AF$3<>"",AF7<>""),AF7/AF$3,"") | AI7: =IF(AND($B7<>"",AH$3<>"",AH7<>""),AH7/AH$3,"") | AK7: =IF(AND($B7<>"",AJ$3<>"",AJ7<>""),AJ7/AJ$3,"") | AM7: =IF(AND($B7<>"",AL$3<>"",AL7<>""),AL7/AL$3,"") | AO7: =IF(AND($B7<>"",AN$3<>"",AN7<>""),AN7/AN$3,"") | AQ7: =IF(AND($B7<>"",AP$3<>"",AP7<>""),AP7/AP$3,"") | AS7: =IF(AND($B7<>"",AR$3<>"",AR7<>""),AR7/AR$3,"") | AU7: =IF(AND($B7<>"",AT$3<>"",AT7<>""),AT7/AT$3,"") | AW7: =IF(AND($B7<>"",AV$3<>"",AV7<>""),AV7/AV$3,"") | AY7: =IF(AND($B7<>"",AX$3<>"",AX7<>""),AX7/AX$3,"") | BA7: =IF(AND($B7<>"",AZ$3<>"",AZ7<>""),AZ7/AZ$3,"") | BC7: =IF(AND($B7<>"",BB$3<>"",BB7<>""),BB7/BB$3,"") | BE7: =IF(AND($B7<>"",BD$3<>"",BD7<>""),BD7/BD$3,"") | BG7: =IF(AND($B7<>"",BF$3<>"",BF7<>""),BF7/BF$3,"") | BI7: =IF(AND($B7<>"",BH$3<>"",BH7<>""),BH7/BH$3,"") | BK7: =IF(AND($B7<>"",BJ$3<>"",BJ7<>""),BJ7/BJ$3,"") | BM7: =IF(AND($B7<>"",BL$3<>"",BL7<>""),BL7/BL$3,"") | BO7: =IF(AND($B7<>"",BN$3<>"",BN7<>""),BN7/BN$3,"") | BQ7: =IF(AND($B7<>"",BP$3<>"",BP7<>""),BP7/BP$3,"") | BS7: =IF(AND($B7<>"",BR$3<>"",BR7<>""),BR7/BR$3,"") | BU7: =IF(AND($B7<>"",BT$3<>"",BT7<>""),BT7/BT$3,"") | BW7: =IF(AND($B7<>"",BV$3<>"",BV7<>""),BV7/BV$3,"") | BY7: =IF(AND($B7<>"",BX$3<>"",BX7<>""),BX7/BX$3,"") | CA7: =IF(AND($B7<>"",BZ$3<>"",BZ7<>""),BZ7/BZ$3,"") | CC7: =IF(AND($B7<>"",CB$3<>"",CB7<>""),CB7/CB$3,"") | CE7: =IF(AND($B7<>"",CD$3<>"",CD7<>""),CD7/CD$3,"") | CG7: =IF(AND($B7<>"",CF$3<>"",CF7<>""),CF7/CF$3,"") | CI7: =IF(AND($B7<>"",CH$3<>"",CH7<>""),CH7/CH$3,"") | CK7: =IF(AND($B7<>"",CJ$3<>"",CJ7<>""),CJ7/CJ$3,"") | CM7: =IF(AND($B7<>"",CL$3<>"",CL7<>""),CL7/CL$3,"") | CO7: =IF(AND($B7<>"",CN$3<>"",CN7<>""),CN7/CN$3,"") | CQ7: =IF(AND($B7<>"",CP$3<>"",CP7<>""),CP7/CP$3,"") | CS7: =IF(AND($B7<>"",CR$3<>"",CR7<>""),CR7/CR$3,"") | CU7: =IF(AND($B7<>"",CT$3<>"",CT7<>""),CT7/CT$3,"") | CW7: =IF(AND($B7<>"",CV$3<>"",CV7<>""),CV7/CV$3,"") | CY7: =IF(AND($B7<>"",CX$3<>"",CX7<>""),CX7/CX$3,"") | DA7: =IF(AND($B7<>"",CZ$3<>"",CZ7<>""),CZ7/CZ$3,"") | DC7: =IF(AND($B7<>"",DB$3<>"",DB7<>""),DB7/DB$3,"") | DE7: =IF(AND($B7<>"",DD$3<>"",DD7<>""),DD7/DD$3,"") | DG7: =IF(AND($B7<>"",DF$3<>"",DF7<>""),DF7/DF$3,"") | DI7: =IF(AND($B7<>"",DH$3<>"",DH7<>""),DH7/DH$3,"") | DK7: =IF(AND($B7<>"",DJ$3<>"",DJ7<>""),DJ7/DJ$3,"") | DM7: =IF(AND($B7<>"",DL$3<>"",DL7<>""),DL7/DL$3,"") | DO7: =IF(AND($B7<>"",DN$3<>"",DN7<>""),DN7/DN$3,"") | DQ7: =IF(AND($B7<>"",DP$3<>"",DP7<>""),DP7/DP$3,"") | DS7: =IF(AND($B7<>"",DR$3<>"",DR7<>""),DR7/DR$3,"") | DU7: =IF(AND($B7<>"",DT$3<>"",DT7<>""),DT7/DT$3,"") | DW7: =IF(AND($B7<>"",DV$3<>"",DV7<>""),DV7/DV$3,"") | DY7: =IF(AND($B7<>"",DX$3<>"",DX7<>""),DX7/DX$3,"") | EA7: =IF(AND($B7<>"",DZ$3<>"",DZ7<>""),DZ7/DZ$3,"") | EC7: =IF(AND($B7<>"",EB$3<>"",EB7<>""),EB7/EB$3,"") | EE7: =IF(AND($B7<>"",ED$3<>"",ED7<>""),ED7/ED$3,"") | EG7: =IF(AND($B7<>"",EF$3<>"",EF7<>""),EF7/EF$3,"") | EI7: =IF(AND($B7<>"",EH$3<>"",EH7<>""),EH7/EH$3,"") | EK7: =IF(AND($B7<>"",EJ$3<>"",EJ7<>""),EJ7/EJ$3,"") | EM7: =IF(AND($B7<>"",EL$3<>"",EL7<>""),EL7/EL$3,"") | EO7: =IF(AND($B7<>"",EN$3<>"",EN7<>""),EN7/EN$3,"") | EQ7: =IF(AND($B7<>"",EP$3<>"",EP7<>""),EP7/EP$3,"") | ES7: =IF(AND($B7<>"",ER$3<>"",ER7<>""),ER7/ER$3,"") | EU7: =IF(AND($B7<>"",ET$3<>"",ET7<>""),ET7/ET$3,"") | EW7: =IF(AND($B7<>"",EV$3<>"",EV7<>""),EV7/EV$3,"") | EY7: =IF(AND($B7<>"",EX$3<>"",EX7<>""),EX7/EX$3,"") | FA7: =IF(AND($B7<>"",EZ$3<>"",EZ7<>""),EZ7/EZ$3,"") | FM7: =IF(COUNT($FP7:$IL7)=0,"",IF(COUNT($FP7:$IL7)<6,SUM($FP7:$IL7)/COUNT($FP7:$IL7),(LARGE($FP7:$IL7,1)+LARGE($FP7:$IL7,2)+LARGE($FP7:$IL7,3)+LARGE($FP7:$IL7,4)+LARGE($FP7:$IL7,5))/5)) | FN7: =IF(FO7="","",IF(FO7<5,FO7,5)) | FO7: =IF(COUNT(FP7:IL7)=0,"",COUNT(FP7:IL7)) | FP7: =INDEX($I7:$FB7,,FP$4) | FQ7: =INDEX($I7:$FB7,,FQ$4) | FR7: =INDEX($I7:$FB7,,FR$4) | FS7: =INDEX($I7:$FB7,,FS$4) | FT7: =INDEX($I7:$FB7,,FT$4) | FU7: =INDEX($I7:$FB7,,FU$4) | FV7: =INDEX($I7:$FB7,,FV$4) | FW7: =INDEX($I7:$FB7,,FW$4) | ... IL7: =INDEX($I7:$FB7,,IL$4)
A8: =IF($B8="","",IF(VLOOKUP($B8,'Skyttere registrering'!$AB$2:$AE$101,3,FALSE)=0,"",VLOOKUP($B8,'Skyttere registrering'!$AB$2:$AE$101,3,FALSE))) | C8: =IF($B8="","",IF(VLOOKUP($B8,'Skyttere registrering'!$AB$2:$AE$101,2,FALSE)=0,"",VLOOKUP($B8,'Skyttere registrering'!$AB$2:$AE$101,2,FALSE))) | D8: =IF($B8="","",IF(VLOOKUP($B8,'Skyttere registrering'!$AB$2:$AE$101,4,FALSE)=0,"",VLOOKUP($B8,'Skyttere registrering'!$AB$2:$AE$101,4,FALSE))) | E8: =IF(G8="","",IF(G8<8.2,"1",IF(G8<8.7,"2",IF(G8<9.1,"3",IF(G8<9.4,"4",IF(G8<9.6,"5",IF(G8<9.7,"6","7"))))))) | F8: =FO8 | G8: =FM8 | I8: =IF(AND($B8<>"",H$3<>"",H8<>""),H8/H$3,"") | K8: =IF(AND($B8<>"",J$3<>"",J8<>""),J8/J$3,"") | M8: =IF(AND($B8<>"",L$3<>"",L8<>""),L8/L$3,"") | O8: =IF(AND($B8<>"",N$3<>"",N8<>""),N8/N$3,"") | Q8: =IF(AND($B8<>"",P$3<>"",P8<>""),P8/P$3,"") | S8: =IF(AND($B8<>"",R$3<>"",R8<>""),R8/R$3,"") | U8: =IF(AND($B8<>"",T$3<>"",T8<>""),T8/T$3,"") | W8: =IF(AND($B8<>"",V$3<>"",V8<>""),V8/V$3,"") | Y8: =IF(AND($B8<>"",X$3<>"",X8<>""),X8/X$3,"") | AA8: =IF(AND($B8<>"",Z$3<>"",Z8<>""),Z8/Z$3,"") | AC8: =IF(AND($B8<>"",AB$3<>"",AB8<>""),AB8/AB$3,"") | AE8: =IF(AND($B8<>"",AD$3<>"",AD8<>""),AD8/AD$3,"") | AG8: =IF(AND($B8<>"",AF$3<>"",AF8<>""),AF8/AF$3,"") | AI8: =IF(AND($B8<>"",AH$3<>"",AH8<>""),AH8/AH$3,"") | AK8: =IF(AND($B8<>"",AJ$3<>"",AJ8<>""),AJ8/AJ$3,"") | AM8: =IF(AND($B8<>"",AL$3<>"",AL8<>""),AL8/AL$3,"") | AO8: =IF(AND($B8<>"",AN$3<>"",AN8<>""),AN8/AN$3,"") | AQ8: =IF(AND($B8<>"",AP$3<>"",AP8<>""),AP8/AP$3,"") | AS8: =IF(AND($B8<>"",AR$3<>"",AR8<>""),AR8/AR$3,"") | AU8: =IF(AND($B8<>"",AT$3<>"",AT8<>""),AT8/AT$3,"") | AW8: =IF(AND($B8<>"",AV$3<>"",AV8<>""),AV8/AV$3,"") | AY8: =IF(AND($B8<>"",AX$3<>"",AX8<>""),AX8/AX$3,"") | BA8: =IF(AND($B8<>"",AZ$3<>"",AZ8<>""),AZ8/AZ$3,"") | BC8: =IF(AND($B8<>"",BB$3<>"",BB8<>""),BB8/BB$3,"") | BE8: =IF(AND($B8<>"",BD$3<>"",BD8<>""),BD8/BD$3,"") | BG8: =IF(AND($B8<>"",BF$3<>"",BF8<>""),BF8/BF$3,"") | BI8: =IF(AND($B8<>"",BH$3<>"",BH8<>""),BH8/BH$3,"") | BK8: =IF(AND($B8<>"",BJ$3<>"",BJ8<>""),BJ8/BJ$3,"") | BM8: =IF(AND($B8<>"",BL$3<>"",BL8<>""),BL8/BL$3,"") | BO8: =IF(AND($B8<>"",BN$3<>"",BN8<>""),BN8/BN$3,"") | BQ8: =IF(AND($B8<>"",BP$3<>"",BP8<>""),BP8/BP$3,"") | BS8: =IF(AND($B8<>"",BR$3<>"",BR8<>""),BR8/BR$3,"") | BU8: =IF(AND($B8<>"",BT$3<>"",BT8<>""),BT8/BT$3,"") | BW8: =IF(AND($B8<>"",BV$3<>"",BV8<>""),BV8/BV$3,"") | BY8: =IF(AND($B8<>"",BX$3<>"",BX8<>""),BX8/BX$3,"") | CA8: =IF(AND($B8<>"",BZ$3<>"",BZ8<>""),BZ8/BZ$3,"") | CC8: =IF(AND($B8<>"",CB$3<>"",CB8<>""),CB8/CB$3,"") | CE8: =IF(AND($B8<>"",CD$3<>"",CD8<>""),CD8/CD$3,"") | CG8: =IF(AND($B8<>"",CF$3<>"",CF8<>""),CF8/CF$3,"") | CI8: =IF(AND($B8<>"",CH$3<>"",CH8<>""),CH8/CH$3,"") | CK8: =IF(AND($B8<>"",CJ$3<>"",CJ8<>""),CJ8/CJ$3,"") | CM8: =IF(AND($B8<>"",CL$3<>"",CL8<>""),CL8/CL$3,"") | CO8: =IF(AND($B8<>"",CN$3<>"",CN8<>""),CN8/CN$3,"") | CQ8: =IF(AND($B8<>"",CP$3<>"",CP8<>""),CP8/CP$3,"") | CS8: =IF(AND($B8<>"",CR$3<>"",CR8<>""),CR8/CR$3,"") | CU8: =IF(AND($B8<>"",CT$3<>"",CT8<>""),CT8/CT$3,"") | CW8: =IF(AND($B8<>"",CV$3<>"",CV8<>""),CV8/CV$3,"") | CY8: =IF(AND($B8<>"",CX$3<>"",CX8<>""),CX8/CX$3,"") | DA8: =IF(AND($B8<>"",CZ$3<>"",CZ8<>""),CZ8/CZ$3,"") | DC8: =IF(AND($B8<>"",DB$3<>"",DB8<>""),DB8/DB$3,"") | DE8: =IF(AND($B8<>"",DD$3<>"",DD8<>""),DD8/DD$3,"") | DG8: =IF(AND($B8<>"",DF$3<>"",DF8<>""),DF8/DF$3,"") | DI8: =IF(AND($B8<>"",DH$3<>"",DH8<>""),DH8/DH$3,"") | DK8: =IF(AND($B8<>"",DJ$3<>"",DJ8<>""),DJ8/DJ$3,"") | DM8: =IF(AND($B8<>"",DL$3<>"",DL8<>""),DL8/DL$3,"") | DO8: =IF(AND($B8<>"",DN$3<>"",DN8<>""),DN8/DN$3,"") | DQ8: =IF(AND($B8<>"",DP$3<>"",DP8<>""),DP8/DP$3,"") | DS8: =IF(AND($B8<>"",DR$3<>"",DR8<>""),DR8/DR$3,"") | DU8: =IF(AND($B8<>"",DT$3<>"",DT8<>""),DT8/DT$3,"") | DW8: =IF(AND($B8<>"",DV$3<>"",DV8<>""),DV8/DV$3,"") | DY8: =IF(AND($B8<>"",DX$3<>"",DX8<>""),DX8/DX$3,"") | EA8: =IF(AND($B8<>"",DZ$3<>"",DZ8<>""),DZ8/DZ$3,"") | EC8: =IF(AND($B8<>"",EB$3<>"",EB8<>""),EB8/EB$3,"") | EE8: =IF(AND($B8<>"",ED$3<>"",ED8<>""),ED8/ED$3,"") | EG8: =IF(AND($B8<>"",EF$3<>"",EF8<>""),EF8/EF$3,"") | EI8: =IF(AND($B8<>"",EH$3<>"",EH8<>""),EH8/EH$3,"") | EK8: =IF(AND($B8<>"",EJ$3<>"",EJ8<>""),EJ8/EJ$3,"") | EM8: =IF(AND($B8<>"",EL$3<>"",EL8<>""),EL8/EL$3,"") | EO8: =IF(AND($B8<>"",EN$3<>"",EN8<>""),EN8/EN$3,"") | EQ8: =IF(AND($B8<>"",EP$3<>"",EP8<>""),EP8/EP$3,"") | ES8: =IF(AND($B8<>"",ER$3<>"",ER8<>""),ER8/ER$3,"") | EU8: =IF(AND($B8<>"",ET$3<>"",ET8<>""),ET8/ET$3,"") | EW8: =IF(AND($B8<>"",EV$3<>"",EV8<>""),EV8/EV$3,"") | EY8: =IF(AND($B8<>"",EX$3<>"",EX8<>""),EX8/EX$3,"") | FA8: =IF(AND($B8<>"",EZ$3<>"",EZ8<>""),EZ8/EZ$3,"") | FM8: =IF(COUNT($FP8:$IL8)=0,"",IF(COUNT($FP8:$IL8)<6,SUM($FP8:$IL8)/COUNT($FP8:$IL8),(LARGE($FP8:$IL8,1)+LARGE($FP8:$IL8,2)+LARGE($FP8:$IL8,3)+LARGE($FP8:$IL8,4)+LARGE($FP8:$IL8,5))/5)) | FN8: =IF(FO8="","",IF(FO8<5,FO8,5)) | FO8: =IF(COUNT(FP8:IL8)=0,"",COUNT(FP8:IL8)) | FP8: =INDEX($I8:$FB8,,FP$4) | FQ8: =INDEX($I8:$FB8,,FQ$4) | FR8: =INDEX($I8:$FB8,,FR$4) | FS8: =INDEX($I8:$FB8,,FS$4) | FT8: =INDEX($I8:$FB8,,FT$4) | FU8: =INDEX($I8:$FB8,,FU$4) | FV8: =INDEX($I8:$FB8,,FV$4) | FW8: =INDEX($I8:$FB8,,FW$4) | ... IL8: =INDEX($I8:$FB8,,IL$4)
A9: =IF($B9="","",IF(VLOOKUP($B9,'Skyttere registrering'!$AB$2:$AE$101,3,FALSE)=0,"",VLOOKUP($B9,'Skyttere registrering'!$AB$2:$AE$101,3,FALSE))) | C9: =IF($B9="","",IF(VLOOKUP($B9,'Skyttere registrering'!$AB$2:$AE$101,2,FALSE)=0,"",VLOOKUP($B9,'Skyttere registrering'!$AB$2:$AE$101,2,FALSE))) | D9: =IF($B9="","",IF(VLOOKUP($B9,'Skyttere registrering'!$AB$2:$AE$101,4,FALSE)=0,"",VLOOKUP($B9,'Skyttere registrering'!$AB$2:$AE$101,4,FALSE))) | E9: =IF(G9="","",IF(G9<8.2,"1",IF(G9<8.7,"2",IF(G9<9.1,"3",IF(G9<9.4,"4",IF(G9<9.6,"5",IF(G9<9.7,"6","7"))))))) | F9: =FO9 | G9: =FM9 | I9: =IF(AND($B9<>"",H$3<>"",H9<>""),H9/H$3,"") | K9: =IF(AND($B9<>"",J$3<>"",J9<>""),J9/J$3,"") | M9: =IF(AND($B9<>"",L$3<>"",L9<>""),L9/L$3,"") | O9: =IF(AND($B9<>"",N$3<>"",N9<>""),N9/N$3,"") | Q9: =IF(AND($B9<>"",P$3<>"",P9<>""),P9/P$3,"") | S9: =IF(AND($B9<>"",R$3<>"",R9<>""),R9/R$3,"") | U9: =IF(AND($B9<>"",T$3<>"",T9<>""),T9/T$3,"") | W9: =IF(AND($B9<>"",V$3<>"",V9<>""),V9/V$3,"") | Y9: =IF(AND($B9<>"",X$3<>"",X9<>""),X9/X$3,"") | AA9: =IF(AND($B9<>"",Z$3<>"",Z9<>""),Z9/Z$3,"") | AC9: =IF(AND($B9<>"",AB$3<>"",AB9<>""),AB9/AB$3,"") | AE9: =IF(AND($B9<>"",AD$3<>"",AD9<>""),AD9/AD$3,"") | AG9: =IF(AND($B9<>"",AF$3<>"",AF9<>""),AF9/AF$3,"") | AI9: =IF(AND($B9<>"",AH$3<>"",AH9<>""),AH9/AH$3,"") | AK9: =IF(AND($B9<>"",AJ$3<>"",AJ9<>""),AJ9/AJ$3,"") | AM9: =IF(AND($B9<>"",AL$3<>"",AL9<>""),AL9/AL$3,"") | AO9: =IF(AND($B9<>"",AN$3<>"",AN9<>""),AN9/AN$3,"") | AQ9: =IF(AND($B9<>"",AP$3<>"",AP9<>""),AP9/AP$3,"") | AS9: =IF(AND($B9<>"",AR$3<>"",AR9<>""),AR9/AR$3,"") | AU9: =IF(AND($B9<>"",AT$3<>"",AT9<>""),AT9/AT$3,"") | AW9: =IF(AND($B9<>"",AV$3<>"",AV9<>""),AV9/AV$3,"") | AY9: =IF(AND($B9<>"",AX$3<>"",AX9<>""),AX9/AX$3,"") | BA9: =IF(AND($B9<>"",AZ$3<>"",AZ9<>""),AZ9/AZ$3,"") | BC9: =IF(AND($B9<>"",BB$3<>"",BB9<>""),BB9/BB$3,"") | BE9: =IF(AND($B9<>"",BD$3<>"",BD9<>""),BD9/BD$3,"") | BG9: =IF(AND($B9<>"",BF$3<>"",BF9<>""),BF9/BF$3,"") | BI9: =IF(AND($B9<>"",BH$3<>"",BH9<>""),BH9/BH$3,"") | BK9: =IF(AND($B9<>"",BJ$3<>"",BJ9<>""),BJ9/BJ$3,"") | BM9: =IF(AND($B9<>"",BL$3<>"",BL9<>""),BL9/BL$3,"") | BO9: =IF(AND($B9<>"",BN$3<>"",BN9<>""),BN9/BN$3,"") | BQ9: =IF(AND($B9<>"",BP$3<>"",BP9<>""),BP9/BP$3,"") | BS9: =IF(AND($B9<>"",BR$3<>"",BR9<>""),BR9/BR$3,"") | BU9: =IF(AND($B9<>"",BT$3<>"",BT9<>""),BT9/BT$3,"") | BW9: =IF(AND($B9<>"",BV$3<>"",BV9<>""),BV9/BV$3,"") | BY9: =IF(AND($B9<>"",BX$3<>"",BX9<>""),BX9/BX$3,"") | CA9: =IF(AND($B9<>"",BZ$3<>"",BZ9<>""),BZ9/BZ$3,"") | CC9: =IF(AND($B9<>"",CB$3<>"",CB9<>""),CB9/CB$3,"") | CE9: =IF(AND($B9<>"",CD$3<>"",CD9<>""),CD9/CD$3,"") | CG9: =IF(AND($B9<>"",CF$3<>"",CF9<>""),CF9/CF$3,"") | CI9: =IF(AND($B9<>"",CH$3<>"",CH9<>""),CH9/CH$3,"") | CK9: =IF(AND($B9<>"",CJ$3<>"",CJ9<>""),CJ9/CJ$3,"") | CM9: =IF(AND($B9<>"",CL$3<>"",CL9<>""),CL9/CL$3,"") | CO9: =IF(AND($B9<>"",CN$3<>"",CN9<>""),CN9/CN$3,"") | CQ9: =IF(AND($B9<>"",CP$3<>"",CP9<>""),CP9/CP$3,"") | CS9: =IF(AND($B9<>"",CR$3<>"",CR9<>""),CR9/CR$3,"") | CU9: =IF(AND($B9<>"",CT$3<>"",CT9<>""),CT9/CT$3,"") | CW9: =IF(AND($B9<>"",CV$3<>"",CV9<>""),CV9/CV$3,"") | CY9: =IF(AND($B9<>"",CX$3<>"",CX9<>""),CX9/CX$3,"") | DA9: =IF(AND($B9<>"",CZ$3<>"",CZ9<>""),CZ9/CZ$3,"") | DC9: =IF(AND($B9<>"",DB$3<>"",DB9<>""),DB9/DB$3,"") | DE9: =IF(AND($B9<>"",DD$3<>"",DD9<>""),DD9/DD$3,"") | DG9: =IF(AND($B9<>"",DF$3<>"",DF9<>""),DF9/DF$3,"") | DI9: =IF(AND($B9<>"",DH$3<>"",DH9<>""),DH9/DH$3,"") | DK9: =IF(AND($B9<>"",DJ$3<>"",DJ9<>""),DJ9/DJ$3,"") | DM9: =IF(AND($B9<>"",DL$3<>"",DL9<>""),DL9/DL$3,"") | DO9: =IF(AND($B9<>"",DN$3<>"",DN9<>""),DN9/DN$3,"") | DQ9: =IF(AND($B9<>"",DP$3<>"",DP9<>""),DP9/DP$3,"") | DS9: =IF(AND($B9<>"",DR$3<>"",DR9<>""),DR9/DR$3,"") | DU9: =IF(AND($B9<>"",DT$3<>"",DT9<>""),DT9/DT$3,"") | DW9: =IF(AND($B9<>"",DV$3<>"",DV9<>""),DV9/DV$3,"") | DY9: =IF(AND($B9<>"",DX$3<>"",DX9<>""),DX9/DX$3,"") | EA9: =IF(AND($B9<>"",DZ$3<>"",DZ9<>""),DZ9/DZ$3,"") | EC9: =IF(AND($B9<>"",EB$3<>"",EB9<>""),EB9/EB$3,"") | EE9: =IF(AND($B9<>"",ED$3<>"",ED9<>""),ED9/ED$3,"") | EG9: =IF(AND($B9<>"",EF$3<>"",EF9<>""),EF9/EF$3,"") | EI9: =IF(AND($B9<>"",EH$3<>"",EH9<>""),EH9/EH$3,"") | EK9: =IF(AND($B9<>"",EJ$3<>"",EJ9<>""),EJ9/EJ$3,"") | EM9: =IF(AND($B9<>"",EL$3<>"",EL9<>""),EL9/EL$3,"") | EO9: =IF(AND($B9<>"",EN$3<>"",EN9<>""),EN9/EN$3,"") | EQ9: =IF(AND($B9<>"",EP$3<>"",EP9<>""),EP9/EP$3,"") | ES9: =IF(AND($B9<>"",ER$3<>"",ER9<>""),ER9/ER$3,"") | EU9: =IF(AND($B9<>"",ET$3<>"",ET9<>""),ET9/ET$3,"") | EW9: =IF(AND($B9<>"",EV$3<>"",EV9<>""),EV9/EV$3,"") | EY9: =IF(AND($B9<>"",EX$3<>"",EX9<>""),EX9/EX$3,"") | FA9: =IF(AND($B9<>"",EZ$3<>"",EZ9<>""),EZ9/EZ$3,"") | FM9: =IF(COUNT($FP9:$IL9)=0,"",IF(COUNT($FP9:$IL9)<6,SUM($FP9:$IL9)/COUNT($FP9:$IL9),(LARGE($FP9:$IL9,1)+LARGE($FP9:$IL9,2)+LARGE($FP9:$IL9,3)+LARGE($FP9:$IL9,4)+LARGE($FP9:$IL9,5))/5)) | FN9: =IF(FO9="","",IF(FO9<5,FO9,5)) | FO9: =IF(COUNT(FP9:IL9)=0,"",COUNT(FP9:IL9)) | FP9: =INDEX($I9:$FB9,,FP$4) | FQ9: =INDEX($I9:$FB9,,FQ$4) | FR9: =INDEX($I9:$FB9,,FR$4) | FS9: =INDEX($I9:$FB9,,FS$4) | FT9: =INDEX($I9:$FB9,,FT$4) | FU9: =INDEX($I9:$FB9,,FU$4) | FV9: =INDEX($I9:$FB9,,FV$4) | FW9: =INDEX($I9:$FB9,,FW$4) | ... IL9: =INDEX($I9:$FB9,,IL$4)
A10: =IF($B10="","",IF(VLOOKUP($B10,'Skyttere registrering'!$AB$2:$AE$101,3,FALSE)=0,"",VLOOKUP($B10,'Skyttere registrering'!$AB$2:$AE$101,3,FALSE))) | C10: =IF($B10="","",IF(VLOOKUP($B10,'Skyttere registrering'!$AB$2:$AE$101,2,FALSE)=0,"",VLOOKUP($B10,'Skyttere registrering'!$AB$2:$AE$101,2,FALSE))) | D10: =IF($B10="","",IF(VLOOKUP($B10,'Skyttere registrering'!$AB$2:$AE$101,4,FALSE)=0,"",VLOOKUP($B10,'Skyttere registrering'!$AB$2:$AE$101,4,FALSE))) | E10: =IF(G10="","",IF(G10<8.2,"1",IF(G10<8.7,"2",IF(G10<9.1,"3",IF(G10<9.4,"4",IF(G10<9.6,"5",IF(G10<9.7,"6","7"))))))) | F10: =FO10 | G10: =FM10 | I10: =IF(AND($B10<>"",H$3<>"",H10<>""),H10/H$3,"") | K10: =IF(AND($B10<>"",J$3<>"",J10<>""),J10/J$3,"") | M10: =IF(AND($B10<>"",L$3<>"",L10<>""),L10/L$3,"") | O10: =IF(AND($B10<>"",N$3<>"",N10<>""),N10/N$3,"") | Q10: =IF(AND($B10<>"",P$3<>"",P10<>""),P10/P$3,"") | S10: =IF(AND($B10<>"",R$3<>"",R10<>""),R10/R$3,"") | U10: =IF(AND($B10<>"",T$3<>"",T10<>""),T10/T$3,"") | W10: =IF(AND($B10<>"",V$3<>"",V10<>""),V10/V$3,"") | Y10: =IF(AND($B10<>"",X$3<>"",X10<>""),X10/X$3,"") | AA10: =IF(AND($B10<>"",Z$3<>"",Z10<>""),Z10/Z$3,"") | AC10: =IF(AND($B10<>"",AB$3<>"",AB10<>""),AB10/AB$3,"") | AE10: =IF(AND($B10<>"",AD$3<>"",AD10<>""),AD10/AD$3,"") | AG10: =IF(AND($B10<>"",AF$3<>"",AF10<>""),AF10/AF$3,"") | AI10: =IF(AND($B10<>"",AH$3<>"",AH10<>""),AH10/AH$3,"") | AK10: =IF(AND($B10<>"",AJ$3<>"",AJ10<>""),AJ10/AJ$3,"") | AM10: =IF(AND($B10<>"",AL$3<>"",AL10<>""),AL10/AL$3,"") | AO10: =IF(AND($B10<>"",AN$3<>"",AN10<>""),AN10/AN$3,"") | AQ10: =IF(AND($B10<>"",AP$3<>"",AP10<>""),AP10/AP$3,"") | AS10: =IF(AND($B10<>"",AR$3<>"",AR10<>""),AR10/AR$3,"") | AU10: =IF(AND($B10<>"",AT$3<>"",AT10<>""),AT10/AT$3,"") | AW10: =IF(AND($B10<>"",AV$3<>"",AV10<>""),AV10/AV$3,"") | AY10: =IF(AND($B10<>"",AX$3<>"",AX10<>""),AX10/AX$3,"") | BA10: =IF(AND($B10<>"",AZ$3<>"",AZ10<>""),AZ10/AZ$3,"") | BC10: =IF(AND($B10<>"",BB$3<>"",BB10<>""),BB10/BB$3,"") | BE10: =IF(AND($B10<>"",BD$3<>"",BD10<>""),BD10/BD$3,"") | BG10: =IF(AND($B10<>"",BF$3<>"",BF10<>""),BF10/BF$3,"") | BI10: =IF(AND($B10<>"",BH$3<>"",BH10<>""),BH10/BH$3,"") | BK10: =IF(AND($B10<>"",BJ$3<>"",BJ10<>""),BJ10/BJ$3,"") | BM10: =IF(AND($B10<>"",BL$3<>"",BL10<>""),BL10/BL$3,"") | BO10: =IF(AND($B10<>"",BN$3<>"",BN10<>""),BN10/BN$3,"") | BQ10: =IF(AND($B10<>"",BP$3<>"",BP10<>""),BP10/BP$3,"") | BS10: =IF(AND($B10<>"",BR$3<>"",BR10<>""),BR10/BR$3,"") | BU10: =IF(AND($B10<>"",BT$3<>"",BT10<>""),BT10/BT$3,"") | BW10: =IF(AND($B10<>"",BV$3<>"",BV10<>""),BV10/BV$3,"") | BY10: =IF(AND($B10<>"",BX$3<>"",BX10<>""),BX10/BX$3,"") | CA10: =IF(AND($B10<>"",BZ$3<>"",BZ10<>""),BZ10/BZ$3,"") | CC10: =IF(AND($B10<>"",CB$3<>"",CB10<>""),CB10/CB$3,"") | CE10: =IF(AND($B10<>"",CD$3<>"",CD10<>""),CD10/CD$3,"") | CG10: =IF(AND($B10<>"",CF$3<>"",CF10<>""),CF10/CF$3,"") | CI10: =IF(AND($B10<>"",CH$3<>"",CH10<>""),CH10/CH$3,"") | CK10: =IF(AND($B10<>"",CJ$3<>"",CJ10<>""),CJ10/CJ$3,"") | CM10: =IF(AND($B10<>"",CL$3<>"",CL10<>""),CL10/CL$3,"") | CO10: =IF(AND($B10<>"",CN$3<>"",CN10<>""),CN10/CN$3,"") | CQ10: =IF(AND($B10<>"",CP$3<>"",CP10<>""),CP10/CP$3,"") | CS10: =IF(AND($B10<>"",CR$3<>"",CR10<>""),CR10/CR$3,"") | CU10: =IF(AND($B10<>"",CT$3<>"",CT10<>""),CT10/CT$3,"") | CW10: =IF(AND($B10<>"",CV$3<>"",CV10<>""),CV10/CV$3,"") | CY10: =IF(AND($B10<>"",CX$3<>"",CX10<>""),CX10/CX$3,"") | DA10: =IF(AND($B10<>"",CZ$3<>"",CZ10<>""),CZ10/CZ$3,"") | DC10: =IF(AND($B10<>"",DB$3<>"",DB10<>""),DB10/DB$3,"") | DE10: =IF(AND($B10<>"",DD$3<>"",DD10<>""),DD10/DD$3,"") | DG10: =IF(AND($B10<>"",DF$3<>"",DF10<>""),DF10/DF$3,"") | DI10: =IF(AND($B10<>"",DH$3<>"",DH10<>""),DH10/DH$3,"") | DK10: =IF(AND($B10<>"",DJ$3<>"",DJ10<>""),DJ10/DJ$3,"") | DM10: =IF(AND($B10<>"",DL$3<>"",DL10<>""),DL10/DL$3,"") | DO10: =IF(AND($B10<>"",DN$3<>"",DN10<>""),DN10/DN$3,"") | DQ10: =IF(AND($B10<>"",DP$3<>"",DP10<>""),DP10/DP$3,"") | DS10: =IF(AND($B10<>"",DR$3<>"",DR10<>""),DR10/DR$3,"") | DU10: =IF(AND($B10<>"",DT$3<>"",DT10<>""),DT10/DT$3,"") | DW10: =IF(AND($B10<>"",DV$3<>"",DV10<>""),DV10/DV$3,"") | DY10: =IF(AND($B10<>"",DX$3<>"",DX10<>""),DX10/DX$3,"") | EA10: =IF(AND($B10<>"",DZ$3<>"",DZ10<>""),DZ10/DZ$3,"") | EC10: =IF(AND($B10<>"",EB$3<>"",EB10<>""),EB10/EB$3,"") | EE10: =IF(AND($B10<>"",ED$3<>"",ED10<>""),ED10/ED$3,"") | EG10: =IF(AND($B10<>"",EF$3<>"",EF10<>""),EF10/EF$3,"") | EI10: =IF(AND($B10<>"",EH$3<>"",EH10<>""),EH10/EH$3,"") | EK10: =IF(AND($B10<>"",EJ$3<>"",EJ10<>""),EJ10/EJ$3,"") | EM10: =IF(AND($B10<>"",EL$3<>"",EL10<>""),EL10/EL$3,"") | EO10: =IF(AND($B10<>"",EN$3<>"",EN10<>""),EN10/EN$3,"") | EQ10: =IF(AND($B10<>"",EP$3<>"",EP10<>""),EP10/EP$3,"") | ES10: =IF(AND($B10<>"",ER$3<>"",ER10<>""),ER10/ER$3,"") | EU10: =IF(AND($B10<>"",ET$3<>"",ET10<>""),ET10/ET$3,"") | EW10: =IF(AND($B10<>"",EV$3<>"",EV10<>""),EV10/EV$3,"") | EY10: =IF(AND($B10<>"",EX$3<>"",EX10<>""),EX10/EX$3,"") | FA10: =IF(AND($B10<>"",EZ$3<>"",EZ10<>""),EZ10/EZ$3,"") | FM10: =IF(COUNT($FP10:$IL10)=0,"",IF(COUNT($FP10:$IL10)<6,SUM($FP10:$IL10)/COUNT($FP10:$IL10),(LARGE($FP10:$IL10,1)+LARGE($FP10:$IL10,2)+LARGE($FP10:$IL10,3)+LARGE($FP10:$IL10,4)+LARGE($FP10:$IL10,5))/5)) | FN10: =IF(FO10="","",IF(FO10<5,FO10,5)) | FO10: =IF(COUNT(FP10:IL10)=0,"",COUNT(FP10:IL10)) | FP10: =INDEX($I10:$FB10,,FP$4) | FQ10: =INDEX($I10:$FB10,,FQ$4) | FR10: =INDEX($I10:$FB10,,FR$4) | FS10: =INDEX($I10:$FB10,,FS$4) | FT10: =INDEX($I10:$FB10,,FT$4) | FU10: =INDEX($I10:$FB10,,FU$4) | FV10: =INDEX($I10:$FB10,,FV$4) | FW10: =INDEX($I10:$FB10,,FW$4) | ... IL10: =INDEX($I10:$FB10,,IL$4)
A11: =IF($B11="","",IF(VLOOKUP($B11,'Skyttere registrering'!$AB$2:$AE$101,3,FALSE)=0,"",VLOOKUP($B11,'Skyttere registrering'!$AB$2:$AE$101,3,FALSE))) | C11: =IF($B11="","",IF(VLOOKUP($B11,'Skyttere registrering'!$AB$2:$AE$101,2,FALSE)=0,"",VLOOKUP($B11,'Skyttere registrering'!$AB$2:$AE$101,2,FALSE))) | D11: =IF($B11="","",IF(VLOOKUP($B11,'Skyttere registrering'!$AB$2:$AE$101,4,FALSE)=0,"",VLOOKUP($B11,'Skyttere registrering'!$AB$2:$AE$101,4,FALSE))) | E11: =IF(G11="","",IF(G11<8.2,"1",IF(G11<8.7,"2",IF(G11<9.1,"3",IF(G11<9.4,"4",IF(G11<9.6,"5",IF(G11<9.7,"6","7"))))))) | F11: =FO11 | G11: =FM11 | I11: =IF(AND($B11<>"",H$3<>"",H11<>""),H11/H$3,"") | K11: =IF(AND($B11<>"",J$3<>"",J11<>""),J11/J$3,"") | M11: =IF(AND($B11<>"",L$3<>"",L11<>""),L11/L$3,"") | O11: =IF(AND($B11<>"",N$3<>"",N11<>""),N11/N$3,"") | Q11: =IF(AND($B11<>"",P$3<>"",P11<>""),P11/P$3,"") | S11: =IF(AND($B11<>"",R$3<>"",R11<>""),R11/R$3,"") | U11: =IF(AND($B11<>"",T$3<>"",T11<>""),T11/T$3,"") | W11: =IF(AND($B11<>"",V$3<>"",V11<>""),V11/V$3,"") | Y11: =IF(AND($B11<>"",X$3<>"",X11<>""),X11/X$3,"") | AA11: =IF(AND($B11<>"",Z$3<>"",Z11<>""),Z11/Z$3,"") | AC11: =IF(AND($B11<>"",AB$3<>"",AB11<>""),AB11/AB$3,"") | AE11: =IF(AND($B11<>"",AD$3<>"",AD11<>""),AD11/AD$3,"") | AG11: =IF(AND($B11<>"",AF$3<>"",AF11<>""),AF11/AF$3,"") | AI11: =IF(AND($B11<>"",AH$3<>"",AH11<>""),AH11/AH$3,"") | AK11: =IF(AND($B11<>"",AJ$3<>"",AJ11<>""),AJ11/AJ$3,"") | AM11: =IF(AND($B11<>"",AL$3<>"",AL11<>""),AL11/AL$3,"") | AO11: =IF(AND($B11<>"",AN$3<>"",AN11<>""),AN11/AN$3,"") | AQ11: =IF(AND($B11<>"",AP$3<>"",AP11<>""),AP11/AP$3,"") | AS11: =IF(AND($B11<>"",AR$3<>"",AR11<>""),AR11/AR$3,"") | AU11: =IF(AND($B11<>"",AT$3<>"",AT11<>""),AT11/AT$3,"") | AW11: =IF(AND($B11<>"",AV$3<>"",AV11<>""),AV11/AV$3,"") | AY11: =IF(AND($B11<>"",AX$3<>"",AX11<>""),AX11/AX$3,"") | BA11: =IF(AND($B11<>"",AZ$3<>"",AZ11<>""),AZ11/AZ$3,"") | BC11: =IF(AND($B11<>"",BB$3<>"",BB11<>""),BB11/BB$3,"") | BE11: =IF(AND($B11<>"",BD$3<>"",BD11<>""),BD11/BD$3,"") | BG11: =IF(AND($B11<>"",BF$3<>"",BF11<>""),BF11/BF$3,"") | BI11: =IF(AND($B11<>"",BH$3<>"",BH11<>""),BH11/BH$3,"") | BK11: =IF(AND($B11<>"",BJ$3<>"",BJ11<>""),BJ11/BJ$3,"") | BM11: =IF(AND($B11<>"",BL$3<>"",BL11<>""),BL11/BL$3,"") | BO11: =IF(AND($B11<>"",BN$3<>"",BN11<>""),BN11/BN$3,"") | BQ11: =IF(AND($B11<>"",BP$3<>"",BP11<>""),BP11/BP$3,"") | BS11: =IF(AND($B11<>"",BR$3<>"",BR11<>""),BR11/BR$3,"") | BU11: =IF(AND($B11<>"",BT$3<>"",BT11<>""),BT11/BT$3,"") | BW11: =IF(AND($B11<>"",BV$3<>"",BV11<>""),BV11/BV$3,"") | BY11: =IF(AND($B11<>"",BX$3<>"",BX11<>""),BX11/BX$3,"") | CA11: =IF(AND($B11<>"",BZ$3<>"",BZ11<>""),BZ11/BZ$3,"") | CC11: =IF(AND($B11<>"",CB$3<>"",CB11<>""),CB11/CB$3,"") | CE11: =IF(AND($B11<>"",CD$3<>"",CD11<>""),CD11/CD$3,"") | CG11: =IF(AND($B11<>"",CF$3<>"",CF11<>""),CF11/CF$3,"") | CI11: =IF(AND($B11<>"",CH$3<>"",CH11<>""),CH11/CH$3,"") | CK11: =IF(AND($B11<>"",CJ$3<>"",CJ11<>""),CJ11/CJ$3,"") | CM11: =IF(AND($B11<>"",CL$3<>"",CL11<>""),CL11/CL$3,"") | CO11: =IF(AND($B11<>"",CN$3<>"",CN11<>""),CN11/CN$3,"") | CQ11: =IF(AND($B11<>"",CP$3<>"",CP11<>""),CP11/CP$3,"") | CS11: =IF(AND($B11<>"",CR$3<>"",CR11<>""),CR11/CR$3,"") | CU11: =IF(AND($B11<>"",CT$3<>"",CT11<>""),CT11/CT$3,"") | CW11: =IF(AND($B11<>"",CV$3<>"",CV11<>""),CV11/CV$3,"") | CY11: =IF(AND($B11<>"",CX$3<>"",CX11<>""),CX11/CX$3,"") | DA11: =IF(AND($B11<>"",CZ$3<>"",CZ11<>""),CZ11/CZ$3,"") | DC11: =IF(AND($B11<>"",DB$3<>"",DB11<>""),DB11/DB$3,"") | DE11: =IF(AND($B11<>"",DD$3<>"",DD11<>""),DD11/DD$3,"") | DG11: =IF(AND($B11<>"",DF$3<>"",DF11<>""),DF11/DF$3,"") | DI11: =IF(AND($B11<>"",DH$3<>"",DH11<>""),DH11/DH$3,"") | DK11: =IF(AND($B11<>"",DJ$3<>"",DJ11<>""),DJ11/DJ$3,"") | DM11: =IF(AND($B11<>"",DL$3<>"",DL11<>""),DL11/DL$3,"") | DO11: =IF(AND($B11<>"",DN$3<>"",DN11<>""),DN11/DN$3,"") | DQ11: =IF(AND($B11<>"",DP$3<>"",DP11<>""),DP11/DP$3,"") | DS11: =IF(AND($B11<>"",DR$3<>"",DR11<>""),DR11/DR$3,"") | DU11: =IF(AND($B11<>"",DT$3<>"",DT11<>""),DT11/DT$3,"") | DW11: =IF(AND($B11<>"",DV$3<>"",DV11<>""),DV11/DV$3,"") | DY11: =IF(AND($B11<>"",DX$3<>"",DX11<>""),DX11/DX$3,"") | EA11: =IF(AND($B11<>"",DZ$3<>"",DZ11<>""),DZ11/DZ$3,"") | EC11: =IF(AND($B11<>"",EB$3<>"",EB11<>""),EB11/EB$3,"") | EE11: =IF(AND($B11<>"",ED$3<>"",ED11<>""),ED11/ED$3,"") | EG11: =IF(AND($B11<>"",EF$3<>"",EF11<>""),EF11/EF$3,"") | EI11: =IF(AND($B11<>"",EH$3<>"",EH11<>""),EH11/EH$3,"") | EK11: =IF(AND($B11<>"",EJ$3<>"",EJ11<>""),EJ11/EJ$3,"") | EM11: =IF(AND($B11<>"",EL$3<>"",EL11<>""),EL11/EL$3,"") | EO11: =IF(AND($B11<>"",EN$3<>"",EN11<>""),EN11/EN$3,"") | EQ11: =IF(AND($B11<>"",EP$3<>"",EP11<>""),EP11/EP$3,"") | ES11: =IF(AND($B11<>"",ER$3<>"",ER11<>""),ER11/ER$3,"") | EU11: =IF(AND($B11<>"",ET$3<>"",ET11<>""),ET11/ET$3,"") | EW11: =IF(AND($B11<>"",EV$3<>"",EV11<>""),EV11/EV$3,"") | EY11: =IF(AND($B11<>"",EX$3<>"",EX11<>""),EX11/EX$3,"") | FA11: =IF(AND($B11<>"",EZ$3<>"",EZ11<>""),EZ11/EZ$3,"") | FM11: =IF(COUNT($FP11:$IL11)=0,"",IF(COUNT($FP11:$IL11)<6,SUM($FP11:$IL11)/COUNT($FP11:$IL11),(LARGE($FP11:$IL11,1)+LARGE($FP11:$IL11,2)+LARGE($FP11:$IL11,3)+LARGE($FP11:$IL11,4)+LARGE($FP11:$IL11,5))/5)) | FN11: =IF(FO11="","",IF(FO11<5,FO11,5)) | FO11: =IF(COUNT(FP11:IL11)=0,"",COUNT(FP11:IL11)) | FP11: =INDEX($I11:$FB11,,FP$4) | FQ11: =INDEX($I11:$FB11,,FQ$4) | FR11: =INDEX($I11:$FB11,,FR$4) | FS11: =INDEX($I11:$FB11,,FS$4) | FT11: =INDEX($I11:$FB11,,FT$4) | FU11: =INDEX($I11:$FB11,,FU$4) | FV11: =INDEX($I11:$FB11,,FV$4) | FW11: =INDEX($I11:$FB11,,FW$4) | ... IL11: =INDEX($I11:$FB11,,IL$4)
A12: =IF($B12="","",IF(VLOOKUP($B12,'Skyttere registrering'!$AB$2:$AE$101,3,FALSE)=0,"",VLOOKUP($B12,'Skyttere registrering'!$AB$2:$AE$101,3,FALSE))) | C12: =IF($B12="","",IF(VLOOKUP($B12,'Skyttere registrering'!$AB$2:$AE$101,2,FALSE)=0,"",VLOOKUP($B12,'Skyttere registrering'!$AB$2:$AE$101,2,FALSE))) | D12: =IF($B12="","",IF(VLOOKUP($B12,'Skyttere registrering'!$AB$2:$AE$101,4,FALSE)=0,"",VLOOKUP($B12,'Skyttere registrering'!$AB$2:$AE$101,4,FALSE))) | E12: =IF(G12="","",IF(G12<8.2,"1",IF(G12<8.7,"2",IF(G12<9.1,"3",IF(G12<9.4,"4",IF(G12<9.6,"5",IF(G12<9.7,"6","7"))))))) | F12: =FO12 | G12: =FM12 | I12: =IF(AND($B12<>"",H$3<>"",H12<>""),H12/H$3,"") | K12: =IF(AND($B12<>"",J$3<>"",J12<>""),J12/J$3,"") | M12: =IF(AND($B12<>"",L$3<>"",L12<>""),L12/L$3,"") | O12: =IF(AND($B12<>"",N$3<>"",N12<>""),N12/N$3,"") | Q12: =IF(AND($B12<>"",P$3<>"",P12<>""),P12/P$3,"") | S12: =IF(AND($B12<>"",R$3<>"",R12<>""),R12/R$3,"") | U12: =IF(AND($B12<>"",T$3<>"",T12<>""),T12/T$3,"") | W12: =IF(AND($B12<>"",V$3<>"",V12<>""),V12/V$3,"") | Y12: =IF(AND($B12<>"",X$3<>"",X12<>""),X12/X$3,"") | AA12: =IF(AND($B12<>"",Z$3<>"",Z12<>""),Z12/Z$3,"") | AC12: =IF(AND($B12<>"",AB$3<>"",AB12<>""),AB12/AB$3,"") | AE12: =IF(AND($B12<>"",AD$3<>"",AD12<>""),AD12/AD$3,"") | AG12: =IF(AND($B12<>"",AF$3<>"",AF12<>""),AF12/AF$3,"") | AI12: =IF(AND($B12<>"",AH$3<>"",AH12<>""),AH12/AH$3,"") | AK12: =IF(AND($B12<>"",AJ$3<>"",AJ12<>""),AJ12/AJ$3,"") | AM12: =IF(AND($B12<>"",AL$3<>"",AL12<>""),AL12/AL$3,"") | AO12: =IF(AND($B12<>"",AN$3<>"",AN12<>""),AN12/AN$3,"") | AQ12: =IF(AND($B12<>"",AP$3<>"",AP12<>""),AP12/AP$3,"") | AS12: =IF(AND($B12<>"",AR$3<>"",AR12<>""),AR12/AR$3,"") | AU12: =IF(AND($B12<>"",AT$3<>"",AT12<>""),AT12/AT$3,"") | AW12: =IF(AND($B12<>"",AV$3<>"",AV12<>""),AV12/AV$3,"") | AY12: =IF(AND($B12<>"",AX$3<>"",AX12<>""),AX12/AX$3,"") | BA12: =IF(AND($B12<>"",AZ$3<>"",AZ12<>""),AZ12/AZ$3,"") | BC12: =IF(AND($B12<>"",BB$3<>"",BB12<>""),BB12/BB$3,"") | BE12: =IF(AND($B12<>"",BD$3<>"",BD12<>""),BD12/BD$3,"") | BG12: =IF(AND($B12<>"",BF$3<>"",BF12<>""),BF12/BF$3,"") | BI12: =IF(AND($B12<>"",BH$3<>"",BH12<>""),BH12/BH$3,"") | BK12: =IF(AND($B12<>"",BJ$3<>"",BJ12<>""),BJ12/BJ$3,"") | BM12: =IF(AND($B12<>"",BL$3<>"",BL12<>""),BL12/BL$3,"") | BO12: =IF(AND($B12<>"",BN$3<>"",BN12<>""),BN12/BN$3,"") | BQ12: =IF(AND($B12<>"",BP$3<>"",BP12<>""),BP12/BP$3,"") | BS12: =IF(AND($B12<>"",BR$3<>"",BR12<>""),BR12/BR$3,"") | BU12: =IF(AND($B12<>"",BT$3<>"",BT12<>""),BT12/BT$3,"") | BW12: =IF(AND($B12<>"",BV$3<>"",BV12<>""),BV12/BV$3,"") | BY12: =IF(AND($B12<>"",BX$3<>"",BX12<>""),BX12/BX$3,"") | CA12: =IF(AND($B12<>"",BZ$3<>"",BZ12<>""),BZ12/BZ$3,"") | CC12: =IF(AND($B12<>"",CB$3<>"",CB12<>""),CB12/CB$3,"") | CE12: =IF(AND($B12<>"",CD$3<>"",CD12<>""),CD12/CD$3,"") | CG12: =IF(AND($B12<>"",CF$3<>"",CF12<>""),CF12/CF$3,"") | CI12: =IF(AND($B12<>"",CH$3<>"",CH12<>""),CH12/CH$3,"") | CK12: =IF(AND($B12<>"",CJ$3<>"",CJ12<>""),CJ12/CJ$3,"") | CM12: =IF(AND($B12<>"",CL$3<>"",CL12<>""),CL12/CL$3,"") | CO12: =IF(AND($B12<>"",CN$3<>"",CN12<>""),CN12/CN$3,"") | CQ12: =IF(AND($B12<>"",CP$3<>"",CP12<>""),CP12/CP$3,"") | CS12: =IF(AND($B12<>"",CR$3<>"",CR12<>""),CR12/CR$3,"") | CU12: =IF(AND($B12<>"",CT$3<>"",CT12<>""),CT12/CT$3,"") | CW12: =IF(AND($B12<>"",CV$3<>"",CV12<>""),CV12/CV$3,"") | CY12: =IF(AND($B12<>"",CX$3<>"",CX12<>""),CX12/CX$3,"") | DA12: =IF(AND($B12<>"",CZ$3<>"",CZ12<>""),CZ12/CZ$3,"") | DC12: =IF(AND($B12<>"",DB$3<>"",DB12<>""),DB12/DB$3,"") | DE12: =IF(AND($B12<>"",DD$3<>"",DD12<>""),DD12/DD$3,"") | DG12: =IF(AND($B12<>"",DF$3<>"",DF12<>""),DF12/DF$3,"") | DI12: =IF(AND($B12<>"",DH$3<>"",DH12<>""),DH12/DH$3,"") | DK12: =IF(AND($B12<>"",DJ$3<>"",DJ12<>""),DJ12/DJ$3,"") | DM12: =IF(AND($B12<>"",DL$3<>"",DL12<>""),DL12/DL$3,"") | DO12: =IF(AND($B12<>"",DN$3<>"",DN12<>""),DN12/DN$3,"") | DQ12: =IF(AND($B12<>"",DP$3<>"",DP12<>""),DP12/DP$3,"") | DS12: =IF(AND($B12<>"",DR$3<>"",DR12<>""),DR12/DR$3,"") | DU12: =IF(AND($B12<>"",DT$3<>"",DT12<>""),DT12/DT$3,"") | DW12: =IF(AND($B12<>"",DV$3<>"",DV12<>""),DV12/DV$3,"") | DY12: =IF(AND($B12<>"",DX$3<>"",DX12<>""),DX12/DX$3,"") | EA12: =IF(AND($B12<>"",DZ$3<>"",DZ12<>""),DZ12/DZ$3,"") | EC12: =IF(AND($B12<>"",EB$3<>"",EB12<>""),EB12/EB$3,"") | EE12: =IF(AND($B12<>"",ED$3<>"",ED12<>""),ED12/ED$3,"") | EG12: =IF(AND($B12<>"",EF$3<>"",EF12<>""),EF12/EF$3,"") | EI12: =IF(AND($B12<>"",EH$3<>"",EH12<>""),EH12/EH$3,"") | EK12: =IF(AND($B12<>"",EJ$3<>"",EJ12<>""),EJ12/EJ$3,"") | EM12: =IF(AND($B12<>"",EL$3<>"",EL12<>""),EL12/EL$3,"") | EO12: =IF(AND($B12<>"",EN$3<>"",EN12<>""),EN12/EN$3,"") | EQ12: =IF(AND($B12<>"",EP$3<>"",EP12<>""),EP12/EP$3,"") | ES12: =IF(AND($B12<>"",ER$3<>"",ER12<>""),ER12/ER$3,"") | EU12: =IF(AND($B12<>"",ET$3<>"",ET12<>""),ET12/ET$3,"") | EW12: =IF(AND($B12<>"",EV$3<>"",EV12<>""),EV12/EV$3,"") | EY12: =IF(AND($B12<>"",EX$3<>"",EX12<>""),EX12/EX$3,"") | FA12: =IF(AND($B12<>"",EZ$3<>"",EZ12<>""),EZ12/EZ$3,"") | FM12: =IF(COUNT($FP12:$IL12)=0,"",IF(COUNT($FP12:$IL12)<6,SUM($FP12:$IL12)/COUNT($FP12:$IL12),(LARGE($FP12:$IL12,1)+LARGE($FP12:$IL12,2)+LARGE($FP12:$IL12,3)+LARGE($FP12:$IL12,4)+LARGE($FP12:$IL12,5))/5)) | FN12: =IF(FO12="","",IF(FO12<5,FO12,5)) | FO12: =IF(COUNT(FP12:IL12)=0,"",COUNT(FP12:IL12)) | FP12: =INDEX($I12:$FB12,,FP$4) | FQ12: =INDEX($I12:$FB12,,FQ$4) | FR12: =INDEX($I12:$FB12,,FR$4) | FS12: =INDEX($I12:$FB12,,FS$4) | FT12: =INDEX($I12:$FB12,,FT$4) | FU12: =INDEX($I12:$FB12,,FU$4) | FV12: =INDEX($I12:$FB12,,FV$4) | FW12: =INDEX($I12:$FB12,,FW$4) | ... IL12: =INDEX($I12:$FB12,,IL$4)
A13: =IF($B13="","",IF(VLOOKUP($B13,'Skyttere registrering'!$AB$2:$AE$101,3,FALSE)=0,"",VLOOKUP($B13,'Skyttere registrering'!$AB$2:$AE$101,3,FALSE))) | C13: =IF($B13="","",IF(VLOOKUP($B13,'Skyttere registrering'!$AB$2:$AE$101,2,FALSE)=0,"",VLOOKUP($B13,'Skyttere registrering'!$AB$2:$AE$101,2,FALSE))) | D13: =IF($B13="","",IF(VLOOKUP($B13,'Skyttere registrering'!$AB$2:$AE$101,4,FALSE)=0,"",VLOOKUP($B13,'Skyttere registrering'!$AB$2:$AE$101,4,FALSE))) | E13: =IF(G13="","",IF(G13<8.2,"1",IF(G13<8.7,"2",IF(G13<9.1,"3",IF(G13<9.4,"4",IF(G13<9.6,"5",IF(G13<9.7,"6","7"))))))) | F13: =FO13 | G13: =FM13 | I13: =IF(AND($B13<>"",H$3<>"",H13<>""),H13/H$3,"") | K13: =IF(AND($B13<>"",J$3<>"",J13<>""),J13/J$3,"") | M13: =IF(AND($B13<>"",L$3<>"",L13<>""),L13/L$3,"") | O13: =IF(AND($B13<>"",N$3<>"",N13<>""),N13/N$3,"") | Q13: =IF(AND($B13<>"",P$3<>"",P13<>""),P13/P$3,"") | S13: =IF(AND($B13<>"",R$3<>"",R13<>""),R13/R$3,"") | U13: =IF(AND($B13<>"",T$3<>"",T13<>""),T13/T$3,"") | W13: =IF(AND($B13<>"",V$3<>"",V13<>""),V13/V$3,"") | Y13: =IF(AND($B13<>"",X$3<>"",X13<>""),X13/X$3,"") | AA13: =IF(AND($B13<>"",Z$3<>"",Z13<>""),Z13/Z$3,"") | AC13: =IF(AND($B13<>"",AB$3<>"",AB13<>""),AB13/AB$3,"") | AE13: =IF(AND($B13<>"",AD$3<>"",AD13<>""),AD13/AD$3,"") | AG13: =IF(AND($B13<>"",AF$3<>"",AF13<>""),AF13/AF$3,"") | AI13: =IF(AND($B13<>"",AH$3<>"",AH13<>""),AH13/AH$3,"") | AK13: =IF(AND($B13<>"",AJ$3<>"",AJ13<>""),AJ13/AJ$3,"") | AM13: =IF(AND($B13<>"",AL$3<>"",AL13<>""),AL13/AL$3,"") | AO13: =IF(AND($B13<>"",AN$3<>"",AN13<>""),AN13/AN$3,"") | AQ13: =IF(AND($B13<>"",AP$3<>"",AP13<>""),AP13/AP$3,"") | AS13: =IF(AND($B13<>"",AR$3<>"",AR13<>""),AR13/AR$3,"") | AU13: =IF(AND($B13<>"",AT$3<>"",AT13<>""),AT13/AT$3,"") | AW13: =IF(AND($B13<>"",AV$3<>"",AV13<>""),AV13/AV$3,"") | AY13: =IF(AND($B13<>"",AX$3<>"",AX13<>""),AX13/AX$3,"") | BA13: =IF(AND($B13<>"",AZ$3<>"",AZ13<>""),AZ13/AZ$3,"") | BC13: =IF(AND($B13<>"",BB$3<>"",BB13<>""),BB13/BB$3,"") | BE13: =IF(AND($B13<>"",BD$3<>"",BD13<>""),BD13/BD$3,"") | BG13: =IF(AND($B13<>"",BF$3<>"",BF13<>""),BF13/BF$3,"") | BI13: =IF(AND($B13<>"",BH$3<>"",BH13<>""),BH13/BH$3,"") | BK13: =IF(AND($B13<>"",BJ$3<>"",BJ13<>""),BJ13/BJ$3,"") | BM13: =IF(AND($B13<>"",BL$3<>"",BL13<>""),BL13/BL$3,"") | BO13: =IF(AND($B13<>"",BN$3<>"",BN13<>""),BN13/BN$3,"") | BQ13: =IF(AND($B13<>"",BP$3<>"",BP13<>""),BP13/BP$3,"") | BS13: =IF(AND($B13<>"",BR$3<>"",BR13<>""),BR13/BR$3,"") | BU13: =IF(AND($B13<>"",BT$3<>"",BT13<>""),BT13/BT$3,"") | BW13: =IF(AND($B13<>"",BV$3<>"",BV13<>""),BV13/BV$3,"") | BY13: =IF(AND($B13<>"",BX$3<>"",BX13<>""),BX13/BX$3,"") | CA13: =IF(AND($B13<>"",BZ$3<>"",BZ13<>""),BZ13/BZ$3,"") | CC13: =IF(AND($B13<>"",CB$3<>"",CB13<>""),CB13/CB$3,"") | CE13: =IF(AND($B13<>"",CD$3<>"",CD13<>""),CD13/CD$3,"") | CG13: =IF(AND($B13<>"",CF$3<>"",CF13<>""),CF13/CF$3,"") | CI13: =IF(AND($B13<>"",CH$3<>"",CH13<>""),CH13/CH$3,"") | CK13: =IF(AND($B13<>"",CJ$3<>"",CJ13<>""),CJ13/CJ$3,"") | CM13: =IF(AND($B13<>"",CL$3<>"",CL13<>""),CL13/CL$3,"") | CO13: =IF(AND($B13<>"",CN$3<>"",CN13<>""),CN13/CN$3,"") | CQ13: =IF(AND($B13<>"",CP$3<>"",CP13<>""),CP13/CP$3,"") | CS13: =IF(AND($B13<>"",CR$3<>"",CR13<>""),CR13/CR$3,"") | CU13: =IF(AND($B13<>"",CT$3<>"",CT13<>""),CT13/CT$3,"") | CW13: =IF(AND($B13<>"",CV$3<>"",CV13<>""),CV13/CV$3,"") | CY13: =IF(AND($B13<>"",CX$3<>"",CX13<>""),CX13/CX$3,"") | DA13: =IF(AND($B13<>"",CZ$3<>"",CZ13<>""),CZ13/CZ$3,"") | DC13: =IF(AND($B13<>"",DB$3<>"",DB13<>""),DB13/DB$3,"") | DE13: =IF(AND($B13<>"",DD$3<>"",DD13<>""),DD13/DD$3,"") | DG13: =IF(AND($B13<>"",DF$3<>"",DF13<>""),DF13/DF$3,"") | DI13: =IF(AND($B13<>"",DH$3<>"",DH13<>""),DH13/DH$3,"") | DK13: =IF(AND($B13<>"",DJ$3<>"",DJ13<>""),DJ13/DJ$3,"") | DM13: =IF(AND($B13<>"",DL$3<>"",DL13<>""),DL13/DL$3,"") | DO13: =IF(AND($B13<>"",DN$3<>"",DN13<>""),DN13/DN$3,"") | DQ13: =IF(AND($B13<>"",DP$3<>"",DP13<>""),DP13/DP$3,"") | DS13: =IF(AND($B13<>"",DR$3<>"",DR13<>""),DR13/DR$3,"") | DU13: =IF(AND($B13<>"",DT$3<>"",DT13<>""),DT13/DT$3,"") | DW13: =IF(AND($B13<>"",DV$3<>"",DV13<>""),DV13/DV$3,"") | DY13: =IF(AND($B13<>"",DX$3<>"",DX13<>""),DX13/DX$3,"") | EA13: =IF(AND($B13<>"",DZ$3<>"",DZ13<>""),DZ13/DZ$3,"") | EC13: =IF(AND($B13<>"",EB$3<>"",EB13<>""),EB13/EB$3,"") | EE13: =IF(AND($B13<>"",ED$3<>"",ED13<>""),ED13/ED$3,"") | EG13: =IF(AND($B13<>"",EF$3<>"",EF13<>""),EF13/EF$3,"") | EI13: =IF(AND($B13<>"",EH$3<>"",EH13<>""),EH13/EH$3,"") | EK13: =IF(AND($B13<>"",EJ$3<>"",EJ13<>""),EJ13/EJ$3,"") | EM13: =IF(AND($B13<>"",EL$3<>"",EL13<>""),EL13/EL$3,"") | EO13: =IF(AND($B13<>"",EN$3<>"",EN13<>""),EN13/EN$3,"") | EQ13: =IF(AND($B13<>"",EP$3<>"",EP13<>""),EP13/EP$3,"") | ES13: =IF(AND($B13<>"",ER$3<>"",ER13<>""),ER13/ER$3,"") | EU13: =IF(AND($B13<>"",ET$3<>"",ET13<>""),ET13/ET$3,"") | EW13: =IF(AND($B13<>"",EV$3<>"",EV13<>""),EV13/EV$3,"") | EY13: =IF(AND($B13<>"",EX$3<>"",EX13<>""),EX13/EX$3,"") | FA13: =IF(AND($B13<>"",EZ$3<>"",EZ13<>""),EZ13/EZ$3,"") | FM13: =IF(COUNT($FP13:$IL13)=0,"",IF(COUNT($FP13:$IL13)<6,SUM($FP13:$IL13)/COUNT($FP13:$IL13),(LARGE($FP13:$IL13,1)+LARGE($FP13:$IL13,2)+LARGE($FP13:$IL13,3)+LARGE($FP13:$IL13,4)+LARGE($FP13:$IL13,5))/5)) | FN13: =IF(FO13="","",IF(FO13<5,FO13,5)) | FO13: =IF(COUNT(FP13:IL13)=0,"",COUNT(FP13:IL13)) | FP13: =INDEX($I13:$FB13,,FP$4) | FQ13: =INDEX($I13:$FB13,,FQ$4) | FR13: =INDEX($I13:$FB13,,FR$4) | FS13: =INDEX($I13:$FB13,,FS$4) | FT13: =INDEX($I13:$FB13,,FT$4) | FU13: =INDEX($I13:$FB13,,FU$4) | FV13: =INDEX($I13:$FB13,,FV$4) | FW13: =INDEX($I13:$FB13,,FW$4) | ... IL13: =INDEX($I13:$FB13,,IL$4)
A14: =IF($B14="","",IF(VLOOKUP($B14,'Skyttere registrering'!$AB$2:$AE$101,3,FALSE)=0,"",VLOOKUP($B14,'Skyttere registrering'!$AB$2:$AE$101,3,FALSE))) | C14: =IF($B14="","",IF(VLOOKUP($B14,'Skyttere registrering'!$AB$2:$AE$101,2,FALSE)=0,"",VLOOKUP($B14,'Skyttere registrering'!$AB$2:$AE$101,2,FALSE))) | D14: =IF($B14="","",IF(VLOOKUP($B14,'Skyttere registrering'!$AB$2:$AE$101,4,FALSE)=0,"",VLOOKUP($B14,'Skyttere registrering'!$AB$2:$AE$101,4,FALSE))) | E14: =IF(G14="","",IF(G14<8.2,"1",IF(G14<8.7,"2",IF(G14<9.1,"3",IF(G14<9.4,"4",IF(G14<9.6,"5",IF(G14<9.7,"6","7"))))))) | F14: =FO14 | G14: =FM14 | I14: =IF(AND($B14<>"",H$3<>"",H14<>""),H14/H$3,"") | K14: =IF(AND($B14<>"",J$3<>"",J14<>""),J14/J$3,"") | M14: =IF(AND($B14<>"",L$3<>"",L14<>""),L14/L$3,"") | O14: =IF(AND($B14<>"",N$3<>"",N14<>""),N14/N$3,"") | Q14: =IF(AND($B14<>"",P$3<>"",P14<>""),P14/P$3,"") | S14: =IF(AND($B14<>"",R$3<>"",R14<>""),R14/R$3,"") | U14: =IF(AND($B14<>"",T$3<>"",T14<>""),T14/T$3,"") | W14: =IF(AND($B14<>"",V$3<>"",V14<>""),V14/V$3,"") | Y14: =IF(AND($B14<>"",X$3<>"",X14<>""),X14/X$3,"") | AA14: =IF(AND($B14<>"",Z$3<>"",Z14<>""),Z14/Z$3,"") | AC14: =IF(AND($B14<>"",AB$3<>"",AB14<>""),AB14/AB$3,"") | AE14: =IF(AND($B14<>"",AD$3<>"",AD14<>""),AD14/AD$3,"") | AG14: =IF(AND($B14<>"",AF$3<>"",AF14<>""),AF14/AF$3,"") | AI14: =IF(AND($B14<>"",AH$3<>"",AH14<>""),AH14/AH$3,"") | AK14: =IF(AND($B14<>"",AJ$3<>"",AJ14<>""),AJ14/AJ$3,"") | AM14: =IF(AND($B14<>"",AL$3<>"",AL14<>""),AL14/AL$3,"") | AO14: =IF(AND($B14<>"",AN$3<>"",AN14<>""),AN14/AN$3,"") | AQ14: =IF(AND($B14<>"",AP$3<>"",AP14<>""),AP14/AP$3,"") | AS14: =IF(AND($B14<>"",AR$3<>"",AR14<>""),AR14/AR$3,"") | AU14: =IF(AND($B14<>"",AT$3<>"",AT14<>""),AT14/AT$3,"") | AW14: =IF(AND($B14<>"",AV$3<>"",AV14<>""),AV14/AV$3,"") | AY14: =IF(AND($B14<>"",AX$3<>"",AX14<>""),AX14/AX$3,"") | BA14: =IF(AND($B14<>"",AZ$3<>"",AZ14<>""),AZ14/AZ$3,"") | BC14: =IF(AND($B14<>"",BB$3<>"",BB14<>""),BB14/BB$3,"") | BE14: =IF(AND($B14<>"",BD$3<>"",BD14<>""),BD14/BD$3,"") | BG14: =IF(AND($B14<>"",BF$3<>"",BF14<>""),BF14/BF$3,"") | BI14: =IF(AND($B14<>"",BH$3<>"",BH14<>""),BH14/BH$3,"") | BK14: =IF(AND($B14<>"",BJ$3<>"",BJ14<>""),BJ14/BJ$3,"") | BM14: =IF(AND($B14<>"",BL$3<>"",BL14<>""),BL14/BL$3,"") | BO14: =IF(AND($B14<>"",BN$3<>"",BN14<>""),BN14/BN$3,"") | BQ14: =IF(AND($B14<>"",BP$3<>"",BP14<>""),BP14/BP$3,"") | BS14: =IF(AND($B14<>"",BR$3<>"",BR14<>""),BR14/BR$3,"") | BU14: =IF(AND($B14<>"",BT$3<>"",BT14<>""),BT14/BT$3,"") | BW14: =IF(AND($B14<>"",BV$3<>"",BV14<>""),BV14/BV$3,"") | BY14: =IF(AND($B14<>"",BX$3<>"",BX14<>""),BX14/BX$3,"") | CA14: =IF(AND($B14<>"",BZ$3<>"",BZ14<>""),BZ14/BZ$3,"") | CC14: =IF(AND($B14<>"",CB$3<>"",CB14<>""),CB14/CB$3,"") | CE14: =IF(AND($B14<>"",CD$3<>"",CD14<>""),CD14/CD$3,"") | CG14: =IF(AND($B14<>"",CF$3<>"",CF14<>""),CF14/CF$3,"") | CI14: =IF(AND($B14<>"",CH$3<>"",CH14<>""),CH14/CH$3,"") | CK14: =IF(AND($B14<>"",CJ$3<>"",CJ14<>""),CJ14/CJ$3,"") | CM14: =IF(AND($B14<>"",CL$3<>"",CL14<>""),CL14/CL$3,"") | CO14: =IF(AND($B14<>"",CN$3<>"",CN14<>""),CN14/CN$3,"") | CQ14: =IF(AND($B14<>"",CP$3<>"",CP14<>""),CP14/CP$3,"") | CS14: =IF(AND($B14<>"",CR$3<>"",CR14<>""),CR14/CR$3,"") | CU14: =IF(AND($B14<>"",CT$3<>"",CT14<>""),CT14/CT$3,"") | CW14: =IF(AND($B14<>"",CV$3<>"",CV14<>""),CV14/CV$3,"") | CY14: =IF(AND($B14<>"",CX$3<>"",CX14<>""),CX14/CX$3,"") | DA14: =IF(AND($B14<>"",CZ$3<>"",CZ14<>""),CZ14/CZ$3,"") | DC14: =IF(AND($B14<>"",DB$3<>"",DB14<>""),DB14/DB$3,"") | DE14: =IF(AND($B14<>"",DD$3<>"",DD14<>""),DD14/DD$3,"") | DG14: =IF(AND($B14<>"",DF$3<>"",DF14<>""),DF14/DF$3,"") | DI14: =IF(AND($B14<>"",DH$3<>"",DH14<>""),DH14/DH$3,"") | DK14: =IF(AND($B14<>"",DJ$3<>"",DJ14<>""),DJ14/DJ$3,"") | DM14: =IF(AND($B14<>"",DL$3<>"",DL14<>""),DL14/DL$3,"") | DO14: =IF(AND($B14<>"",DN$3<>"",DN14<>""),DN14/DN$3,"") | DQ14: =IF(AND($B14<>"",DP$3<>"",DP14<>""),DP14/DP$3,"") | DS14: =IF(AND($B14<>"",DR$3<>"",DR14<>""),DR14/DR$3,"") | DU14: =IF(AND($B14<>"",DT$3<>"",DT14<>""),DT14/DT$3,"") | DW14: =IF(AND($B14<>"",DV$3<>"",DV14<>""),DV14/DV$3,"") | DY14: =IF(AND($B14<>"",DX$3<>"",DX14<>""),DX14/DX$3,"") | EA14: =IF(AND($B14<>"",DZ$3<>"",DZ14<>""),DZ14/DZ$3,"") | EC14: =IF(AND($B14<>"",EB$3<>"",EB14<>""),EB14/EB$3,"") | EE14: =IF(AND($B14<>"",ED$3<>"",ED14<>""),ED14/ED$3,"") | EG14: =IF(AND($B14<>"",EF$3<>"",EF14<>""),EF14/EF$3,"") | EI14: =IF(AND($B14<>"",EH$3<>"",EH14<>""),EH14/EH$3,"") | EK14: =IF(AND($B14<>"",EJ$3<>"",EJ14<>""),EJ14/EJ$3,"") | EM14: =IF(AND($B14<>"",EL$3<>"",EL14<>""),EL14/EL$3,"") | EO14: =IF(AND($B14<>"",EN$3<>"",EN14<>""),EN14/EN$3,"") | EQ14: =IF(AND($B14<>"",EP$3<>"",EP14<>""),EP14/EP$3,"") | ES14: =IF(AND($B14<>"",ER$3<>"",ER14<>""),ER14/ER$3,"") | EU14: =IF(AND($B14<>"",ET$3<>"",ET14<>""),ET14/ET$3,"") | EW14: =IF(AND($B14<>"",EV$3<>"",EV14<>""),EV14/EV$3,"") | EY14: =IF(AND($B14<>"",EX$3<>"",EX14<>""),EX14/EX$3,"") | FA14: =IF(AND($B14<>"",EZ$3<>"",EZ14<>""),EZ14/EZ$3,"") | FM14: =IF(COUNT($FP14:$IL14)=0,"",IF(COUNT($FP14:$IL14)<6,SUM($FP14:$IL14)/COUNT($FP14:$IL14),(LARGE($FP14:$IL14,1)+LARGE($FP14:$IL14,2)+LARGE($FP14:$IL14,3)+LARGE($FP14:$IL14,4)+LARGE($FP14:$IL14,5))/5)) | FN14: =IF(FO14="","",IF(FO14<5,FO14,5)) | FO14: =IF(COUNT(FP14:IL14)=0,"",COUNT(FP14:IL14)) | FP14: =INDEX($I14:$FB14,,FP$4) | FQ14: =INDEX($I14:$FB14,,FQ$4) | FR14: =INDEX($I14:$FB14,,FR$4) | FS14: =INDEX($I14:$FB14,,FS$4) | FT14: =INDEX($I14:$FB14,,FT$4) | FU14: =INDEX($I14:$FB14,,FU$4) | FV14: =INDEX($I14:$FB14,,FV$4) | FW14: =INDEX($I14:$FB14,,FW$4) | ... IL14: =INDEX($I14:$FB14,,IL$4)
A15: =IF($B15="","",IF(VLOOKUP($B15,'Skyttere registrering'!$AB$2:$AE$101,3,FALSE)=0,"",VLOOKUP($B15,'Skyttere registrering'!$AB$2:$AE$101,3,FALSE))) | C15: =IF($B15="","",IF(VLOOKUP($B15,'Skyttere registrering'!$AB$2:$AE$101,2,FALSE)=0,"",VLOOKUP($B15,'Skyttere registrering'!$AB$2:$AE$101,2,FALSE))) | D15: =IF($B15="","",IF(VLOOKUP($B15,'Skyttere registrering'!$AB$2:$AE$101,4,FALSE)=0,"",VLOOKUP($B15,'Skyttere registrering'!$AB$2:$AE$101,4,FALSE))) | E15: =IF(G15="","",IF(G15<8.2,"1",IF(G15<8.7,"2",IF(G15<9.1,"3",IF(G15<9.4,"4",IF(G15<9.6,"5",IF(G15<9.7,"6","7"))))))) | F15: =FO15 | G15: =FM15 | I15: =IF(AND($B15<>"",H$3<>"",H15<>""),H15/H$3,"") | K15: =IF(AND($B15<>"",J$3<>"",J15<>""),J15/J$3,"") | M15: =IF(AND($B15<>"",L$3<>"",L15<>""),L15/L$3,"") | O15: =IF(AND($B15<>"",N$3<>"",N15<>""),N15/N$3,"") | Q15: =IF(AND($B15<>"",P$3<>"",P15<>""),P15/P$3,"") | S15: =IF(AND($B15<>"",R$3<>"",R15<>""),R15/R$3,"") | U15: =IF(AND($B15<>"",T$3<>"",T15<>""),T15/T$3,"") | W15: =IF(AND($B15<>"",V$3<>"",V15<>""),V15/V$3,"") | Y15: =IF(AND($B15<>"",X$3<>"",X15<>""),X15/X$3,"") | AA15: =IF(AND($B15<>"",Z$3<>"",Z15<>""),Z15/Z$3,"") | AC15: =IF(AND($B15<>"",AB$3<>"",AB15<>""),AB15/AB$3,"") | AE15: =IF(AND($B15<>"",AD$3<>"",AD15<>""),AD15/AD$3,"") | AG15: =IF(AND($B15<>"",AF$3<>"",AF15<>""),AF15/AF$3,"") | AI15: =IF(AND($B15<>"",AH$3<>"",AH15<>""),AH15/AH$3,"") | AK15: =IF(AND($B15<>"",AJ$3<>"",AJ15<>""),AJ15/AJ$3,"") | AM15: =IF(AND($B15<>"",AL$3<>"",AL15<>""),AL15/AL$3,"") | AO15: =IF(AND($B15<>"",AN$3<>"",AN15<>""),AN15/AN$3,"") | AQ15: =IF(AND($B15<>"",AP$3<>"",AP15<>""),AP15/AP$3,"") | AS15: =IF(AND($B15<>"",AR$3<>"",AR15<>""),AR15/AR$3,"") | AU15: =IF(AND($B15<>"",AT$3<>"",AT15<>""),AT15/AT$3,"") | AW15: =IF(AND($B15<>"",AV$3<>"",AV15<>""),AV15/AV$3,"") | AY15: =IF(AND($B15<>"",AX$3<>"",AX15<>""),AX15/AX$3,"") | BA15: =IF(AND($B15<>"",AZ$3<>"",AZ15<>""),AZ15/AZ$3,"") | BC15: =IF(AND($B15<>"",BB$3<>"",BB15<>""),BB15/BB$3,"") | BE15: =IF(AND($B15<>"",BD$3<>"",BD15<>""),BD15/BD$3,"") | BG15: =IF(AND($B15<>"",BF$3<>"",BF15<>""),BF15/BF$3,"") | BI15: =IF(AND($B15<>"",BH$3<>"",BH15<>""),BH15/BH$3,"") | BK15: =IF(AND($B15<>"",BJ$3<>"",BJ15<>""),BJ15/BJ$3,"") | BM15: =IF(AND($B15<>"",BL$3<>"",BL15<>""),BL15/BL$3,"") | BO15: =IF(AND($B15<>"",BN$3<>"",BN15<>""),BN15/BN$3,"") | BQ15: =IF(AND($B15<>"",BP$3<>"",BP15<>""),BP15/BP$3,"") | BS15: =IF(AND($B15<>"",BR$3<>"",BR15<>""),BR15/BR$3,"") | BU15: =IF(AND($B15<>"",BT$3<>"",BT15<>""),BT15/BT$3,"") | BW15: =IF(AND($B15<>"",BV$3<>"",BV15<>""),BV15/BV$3,"") | BY15: =IF(AND($B15<>"",BX$3<>"",BX15<>""),BX15/BX$3,"") | CA15: =IF(AND($B15<>"",BZ$3<>"",BZ15<>""),BZ15/BZ$3,"") | CC15: =IF(AND($B15<>"",CB$3<>"",CB15<>""),CB15/CB$3,"") | CE15: =IF(AND($B15<>"",CD$3<>"",CD15<>""),CD15/CD$3,"") | CG15: =IF(AND($B15<>"",CF$3<>"",CF15<>""),CF15/CF$3,"") | CI15: =IF(AND($B15<>"",CH$3<>"",CH15<>""),CH15/CH$3,"") | CK15: =IF(AND($B15<>"",CJ$3<>"",CJ15<>""),CJ15/CJ$3,"") | CM15: =IF(AND($B15<>"",CL$3<>"",CL15<>""),CL15/CL$3,"") | CO15: =IF(AND($B15<>"",CN$3<>"",CN15<>""),CN15/CN$3,"") | CQ15: =IF(AND($B15<>"",CP$3<>"",CP15<>""),CP15/CP$3,"") | CS15: =IF(AND($B15<>"",CR$3<>"",CR15<>""),CR15/CR$3,"") | CU15: =IF(AND($B15<>"",CT$3<>"",CT15<>""),CT15/CT$3,"") | CW15: =IF(AND($B15<>"",CV$3<>"",CV15<>""),CV15/CV$3,"") | CY15: =IF(AND($B15<>"",CX$3<>"",CX15<>""),CX15/CX$3,"") | DA15: =IF(AND($B15<>"",CZ$3<>"",CZ15<>""),CZ15/CZ$3,"") | DC15: =IF(AND($B15<>"",DB$3<>"",DB15<>""),DB15/DB$3,"") | DE15: =IF(AND($B15<>"",DD$3<>"",DD15<>""),DD15/DD$3,"") | DG15: =IF(AND($B15<>"",DF$3<>"",DF15<>""),DF15/DF$3,"") | DI15: =IF(AND($B15<>"",DH$3<>"",DH15<>""),DH15/DH$3,"") | DK15: =IF(AND($B15<>"",DJ$3<>"",DJ15<>""),DJ15/DJ$3,"") | DM15: =IF(AND($B15<>"",DL$3<>"",DL15<>""),DL15/DL$3,"") | DO15: =IF(AND($B15<>"",DN$3<>"",DN15<>""),DN15/DN$3,"") | DQ15: =IF(AND($B15<>"",DP$3<>"",DP15<>""),DP15/DP$3,"") | DS15: =IF(AND($B15<>"",DR$3<>"",DR15<>""),DR15/DR$3,"") | DU15: =IF(AND($B15<>"",DT$3<>"",DT15<>""),DT15/DT$3,"") | DW15: =IF(AND($B15<>"",DV$3<>"",DV15<>""),DV15/DV$3,"") | DY15: =IF(AND($B15<>"",DX$3<>"",DX15<>""),DX15/DX$3,"") | EA15: =IF(AND($B15<>"",DZ$3<>"",DZ15<>""),DZ15/DZ$3,"") | EC15: =IF(AND($B15<>"",EB$3<>"",EB15<>""),EB15/EB$3,"") | EE15: =IF(AND($B15<>"",ED$3<>"",ED15<>""),ED15/ED$3,"") | EG15: =IF(AND($B15<>"",EF$3<>"",EF15<>""),EF15/EF$3,"") | EI15: =IF(AND($B15<>"",EH$3<>"",EH15<>""),EH15/EH$3,"") | EK15: =IF(AND($B15<>"",EJ$3<>"",EJ15<>""),EJ15/EJ$3,"") | EM15: =IF(AND($B15<>"",EL$3<>"",EL15<>""),EL15/EL$3,"") | EO15: =IF(AND($B15<>"",EN$3<>"",EN15<>""),EN15/EN$3,"") | EQ15: =IF(AND($B15<>"",EP$3<>"",EP15<>""),EP15/EP$3,"") | ES15: =IF(AND($B15<>"",ER$3<>"",ER15<>""),ER15/ER$3,"") | EU15: =IF(AND($B15<>"",ET$3<>"",ET15<>""),ET15/ET$3,"") | EW15: =IF(AND($B15<>"",EV$3<>"",EV15<>""),EV15/EV$3,"") | EY15: =IF(AND($B15<>"",EX$3<>"",EX15<>""),EX15/EX$3,"") | FA15: =IF(AND($B15<>"",EZ$3<>"",EZ15<>""),EZ15/EZ$3,"") | FM15: =IF(COUNT($FP15:$IL15)=0,"",IF(COUNT($FP15:$IL15)<6,SUM($FP15:$IL15)/COUNT($FP15:$IL15),(LARGE($FP15:$IL15,1)+LARGE($FP15:$IL15,2)+LARGE($FP15:$IL15,3)+LARGE($FP15:$IL15,4)+LARGE($FP15:$IL15,5))/5)) | FN15: =IF(FO15="","",IF(FO15<5,FO15,5)) | FO15: =IF(COUNT(FP15:IL15)=0,"",COUNT(FP15:IL15)) | FP15: =INDEX($I15:$FB15,,FP$4) | FQ15: =INDEX($I15:$FB15,,FQ$4) | FR15: =INDEX($I15:$FB15,,FR$4) | FS15: =INDEX($I15:$FB15,,FS$4) | FT15: =INDEX($I15:$FB15,,FT$4) | FU15: =INDEX($I15:$FB15,,FU$4) | FV15: =INDEX($I15:$FB15,,FV$4) | FW15: =INDEX($I15:$FB15,,FW$4) | ... IL15: =INDEX($I15:$FB15,,IL$4)
A16: =IF($B16="","",IF(VLOOKUP($B16,'Skyttere registrering'!$AB$2:$AE$101,3,FALSE)=0,"",VLOOKUP($B16,'Skyttere registrering'!$AB$2:$AE$101,3,FALSE))) | C16: =IF($B16="","",IF(VLOOKUP($B16,'Skyttere registrering'!$AB$2:$AE$101,2,FALSE)=0,"",VLOOKUP($B16,'Skyttere registrering'!$AB$2:$AE$101,2,FALSE))) | D16: =IF($B16="","",IF(VLOOKUP($B16,'Skyttere registrering'!$AB$2:$AE$101,4,FALSE)=0,"",VLOOKUP($B16,'Skyttere registrering'!$AB$2:$AE$101,4,FALSE))) | E16: =IF(G16="","",IF(G16<8.2,"1",IF(G16<8.7,"2",IF(G16<9.1,"3",IF(G16<9.4,"4",IF(G16<9.6,"5",IF(G16<9.7,"6","7"))))))) | F16: =FO16 | G16: =FM16 | I16: =IF(AND($B16<>"",H$3<>"",H16<>""),H16/H$3,"") | K16: =IF(AND($B16<>"",J$3<>"",J16<>""),J16/J$3,"") | M16: =IF(AND($B16<>"",L$3<>"",L16<>""),L16/L$3,"") | O16: =IF(AND($B16<>"",N$3<>"",N16<>""),N16/N$3,"") | Q16: =IF(AND($B16<>"",P$3<>"",P16<>""),P16/P$3,"") | S16: =IF(AND($B16<>"",R$3<>"",R16<>""),R16/R$3,"") | U16: =IF(AND($B16<>"",T$3<>"",T16<>""),T16/T$3,"") | W16: =IF(AND($B16<>"",V$3<>"",V16<>""),V16/V$3,"") | Y16: =IF(AND($B16<>"",X$3<>"",X16<>""),X16/X$3,"") | AA16: =IF(AND($B16<>"",Z$3<>"",Z16<>""),Z16/Z$3,"") | AC16: =IF(AND($B16<>"",AB$3<>"",AB16<>""),AB16/AB$3,"") | AE16: =IF(AND($B16<>"",AD$3<>"",AD16<>""),AD16/AD$3,"") | AG16: =IF(AND($B16<>"",AF$3<>"",AF16<>""),AF16/AF$3,"") | AI16: =IF(AND($B16<>"",AH$3<>"",AH16<>""),AH16/AH$3,"") | AK16: =IF(AND($B16<>"",AJ$3<>"",AJ16<>""),AJ16/AJ$3,"") | AM16: =IF(AND($B16<>"",AL$3<>"",AL16<>""),AL16/AL$3,"") | AO16: =IF(AND($B16<>"",AN$3<>"",AN16<>""),AN16/AN$3,"") | AQ16: =IF(AND($B16<>"",AP$3<>"",AP16<>""),AP16/AP$3,"") | AS16: =IF(AND($B16<>"",AR$3<>"",AR16<>""),AR16/AR$3,"") | AU16: =IF(AND($B16<>"",AT$3<>"",AT16<>""),AT16/AT$3,"") | AW16: =IF(AND($B16<>"",AV$3<>"",AV16<>""),AV16/AV$3,"") | AY16: =IF(AND($B16<>"",AX$3<>"",AX16<>""),AX16/AX$3,"") | BA16: =IF(AND($B16<>"",AZ$3<>"",AZ16<>""),AZ16/AZ$3,"") | BC16: =IF(AND($B16<>"",BB$3<>"",BB16<>""),BB16/BB$3,"") | BE16: =IF(AND($B16<>"",BD$3<>"",BD16<>""),BD16/BD$3,"") | BG16: =IF(AND($B16<>"",BF$3<>"",BF16<>""),BF16/BF$3,"") | BI16: =IF(AND($B16<>"",BH$3<>"",BH16<>""),BH16/BH$3,"") | BK16: =IF(AND($B16<>"",BJ$3<>"",BJ16<>""),BJ16/BJ$3,"") | BM16: =IF(AND($B16<>"",BL$3<>"",BL16<>""),BL16/BL$3,"") | BO16: =IF(AND($B16<>"",BN$3<>"",BN16<>""),BN16/BN$3,"") | BQ16: =IF(AND($B16<>"",BP$3<>"",BP16<>""),BP16/BP$3,"") | BS16: =IF(AND($B16<>"",BR$3<>"",BR16<>""),BR16/BR$3,"") | BU16: =IF(AND($B16<>"",BT$3<>"",BT16<>""),BT16/BT$3,"") | BW16: =IF(AND($B16<>"",BV$3<>"",BV16<>""),BV16/BV$3,"") | BY16: =IF(AND($B16<>"",BX$3<>"",BX16<>""),BX16/BX$3,"") | CA16: =IF(AND($B16<>"",BZ$3<>"",BZ16<>""),BZ16/BZ$3,"") | CC16: =IF(AND($B16<>"",CB$3<>"",CB16<>""),CB16/CB$3,"") | CE16: =IF(AND($B16<>"",CD$3<>"",CD16<>""),CD16/CD$3,"") | CG16: =IF(AND($B16<>"",CF$3<>"",CF16<>""),CF16/CF$3,"") | CI16: =IF(AND($B16<>"",CH$3<>"",CH16<>""),CH16/CH$3,"") | CK16: =IF(AND($B16<>"",CJ$3<>"",CJ16<>""),CJ16/CJ$3,"") | CM16: =IF(AND($B16<>"",CL$3<>"",CL16<>""),CL16/CL$3,"") | CO16: =IF(AND($B16<>"",CN$3<>"",CN16<>""),CN16/CN$3,"") | CQ16: =IF(AND($B16<>"",CP$3<>"",CP16<>""),CP16/CP$3,"") | CS16: =IF(AND($B16<>"",CR$3<>"",CR16<>""),CR16/CR$3,"") | CU16: =IF(AND($B16<>"",CT$3<>"",CT16<>""),CT16/CT$3,"") | CW16: =IF(AND($B16<>"",CV$3<>"",CV16<>""),CV16/CV$3,"") | CY16: =IF(AND($B16<>"",CX$3<>"",CX16<>""),CX16/CX$3,"") | DA16: =IF(AND($B16<>"",CZ$3<>"",CZ16<>""),CZ16/CZ$3,"") | DC16: =IF(AND($B16<>"",DB$3<>"",DB16<>""),DB16/DB$3,"") | DE16: =IF(AND($B16<>"",DD$3<>"",DD16<>""),DD16/DD$3,"") | DG16: =IF(AND($B16<>"",DF$3<>"",DF16<>""),DF16/DF$3,"") | DI16: =IF(AND($B16<>"",DH$3<>"",DH16<>""),DH16/DH$3,"") | DK16: =IF(AND($B16<>"",DJ$3<>"",DJ16<>""),DJ16/DJ$3,"") | DM16: =IF(AND($B16<>"",DL$3<>"",DL16<>""),DL16/DL$3,"") | DO16: =IF(AND($B16<>"",DN$3<>"",DN16<>""),DN16/DN$3,"") | DQ16: =IF(AND($B16<>"",DP$3<>"",DP16<>""),DP16/DP$3,"") | DS16: =IF(AND($B16<>"",DR$3<>"",DR16<>""),DR16/DR$3,"") | DU16: =IF(AND($B16<>"",DT$3<>"",DT16<>""),DT16/DT$3,"") | DW16: =IF(AND($B16<>"",DV$3<>"",DV16<>""),DV16/DV$3,"") | DY16: =IF(AND($B16<>"",DX$3<>"",DX16<>""),DX16/DX$3,"") | EA16: =IF(AND($B16<>"",DZ$3<>"",DZ16<>""),DZ16/DZ$3,"") | EC16: =IF(AND($B16<>"",EB$3<>"",EB16<>""),EB16/EB$3,"") | EE16: =IF(AND($B16<>"",ED$3<>"",ED16<>""),ED16/ED$3,"") | EG16: =IF(AND($B16<>"",EF$3<>"",EF16<>""),EF16/EF$3,"") | EI16: =IF(AND($B16<>"",EH$3<>"",EH16<>""),EH16/EH$3,"") | EK16: =IF(AND($B16<>"",EJ$3<>"",EJ16<>""),EJ16/EJ$3,"") | EM16: =IF(AND($B16<>"",EL$3<>"",EL16<>""),EL16/EL$3,"") | EO16: =IF(AND($B16<>"",EN$3<>"",EN16<>""),EN16/EN$3,"") | EQ16: =IF(AND($B16<>"",EP$3<>"",EP16<>""),EP16/EP$3,"") | ES16: =IF(AND($B16<>"",ER$3<>"",ER16<>""),ER16/ER$3,"") | EU16: =IF(AND($B16<>"",ET$3<>"",ET16<>""),ET16/ET$3,"") | EW16: =IF(AND($B16<>"",EV$3<>"",EV16<>""),EV16/EV$3,"") | EY16: =IF(AND($B16<>"",EX$3<>"",EX16<>""),EX16/EX$3,"") | FA16: =IF(AND($B16<>"",EZ$3<>"",EZ16<>""),EZ16/EZ$3,"") | FM16: =IF(COUNT($FP16:$IL16)=0,"",IF(COUNT($FP16:$IL16)<6,SUM($FP16:$IL16)/COUNT($FP16:$IL16),(LARGE($FP16:$IL16,1)+LARGE($FP16:$IL16,2)+LARGE($FP16:$IL16,3)+LARGE($FP16:$IL16,4)+LARGE($FP16:$IL16,5))/5)) | FN16: =IF(FO16="","",IF(FO16<5,FO16,5)) | FO16: =IF(COUNT(FP16:IL16)=0,"",COUNT(FP16:IL16)) | FP16: =INDEX($I16:$FB16,,FP$4) | FQ16: =INDEX($I16:$FB16,,FQ$4) | FR16: =INDEX($I16:$FB16,,FR$4) | FS16: =INDEX($I16:$FB16,,FS$4) | FT16: =INDEX($I16:$FB16,,FT$4) | FU16: =INDEX($I16:$FB16,,FU$4) | FV16: =INDEX($I16:$FB16,,FV$4) | FW16: =INDEX($I16:$FB16,,FW$4) | ... IL16: =INDEX($I16:$FB16,,IL$4)
A17: =IF($B17="","",IF(VLOOKUP($B17,'Skyttere registrering'!$AB$2:$AE$101,3,FALSE)=0,"",VLOOKUP($B17,'Skyttere registrering'!$AB$2:$AE$101,3,FALSE))) | C17: =IF($B17="","",IF(VLOOKUP($B17,'Skyttere registrering'!$AB$2:$AE$101,2,FALSE)=0,"",VLOOKUP($B17,'Skyttere registrering'!$AB$2:$AE$101,2,FALSE))) | D17: =IF($B17="","",IF(VLOOKUP($B17,'Skyttere registrering'!$AB$2:$AE$101,4,FALSE)=0,"",VLOOKUP($B17,'Skyttere registrering'!$AB$2:$AE$101,4,FALSE))) | E17: =IF(G17="","",IF(G17<8.2,"1",IF(G17<8.7,"2",IF(G17<9.1,"3",IF(G17<9.4,"4",IF(G17<9.6,"5",IF(G17<9.7,"6","7"))))))) | F17: =FO17 | G17: =FM17 | I17: =IF(AND($B17<>"",H$3<>"",H17<>""),H17/H$3,"") | K17: =IF(AND($B17<>"",J$3<>"",J17<>""),J17/J$3,"") | M17: =IF(AND($B17<>"",L$3<>"",L17<>""),L17/L$3,"") | O17: =IF(AND($B17<>"",N$3<>"",N17<>""),N17/N$3,"") | Q17: =IF(AND($B17<>"",P$3<>"",P17<>""),P17/P$3,"") | S17: =IF(AND($B17<>"",R$3<>"",R17<>""),R17/R$3,"") | U17: =IF(AND($B17<>"",T$3<>"",T17<>""),T17/T$3,"") | W17: =IF(AND($B17<>"",V$3<>"",V17<>""),V17/V$3,"") | Y17: =IF(AND($B17<>"",X$3<>"",X17<>""),X17/X$3,"") | AA17: =IF(AND($B17<>"",Z$3<>"",Z17<>""),Z17/Z$3,"") | AC17: =IF(AND($B17<>"",AB$3<>"",AB17<>""),AB17/AB$3,"") | AE17: =IF(AND($B17<>"",AD$3<>"",AD17<>""),AD17/AD$3,"") | AG17: =IF(AND($B17<>"",AF$3<>"",AF17<>""),AF17/AF$3,"") | AI17: =IF(AND($B17<>"",AH$3<>"",AH17<>""),AH17/AH$3,"") | AK17: =IF(AND($B17<>"",AJ$3<>"",AJ17<>""),AJ17/AJ$3,"") | AM17: =IF(AND($B17<>"",AL$3<>"",AL17<>""),AL17/AL$3,"") | AO17: =IF(AND($B17<>"",AN$3<>"",AN17<>""),AN17/AN$3,"") | AQ17: =IF(AND($B17<>"",AP$3<>"",AP17<>""),AP17/AP$3,"") | AS17: =IF(AND($B17<>"",AR$3<>"",AR17<>""),AR17/AR$3,"") | AU17: =IF(AND($B17<>"",AT$3<>"",AT17<>""),AT17/AT$3,"") | AW17: =IF(AND($B17<>"",AV$3<>"",AV17<>""),AV17/AV$3,"") | AY17: =IF(AND($B17<>"",AX$3<>"",AX17<>""),AX17/AX$3,"") | BA17: =IF(AND($B17<>"",AZ$3<>"",AZ17<>""),AZ17/AZ$3,"") | BC17: =IF(AND($B17<>"",BB$3<>"",BB17<>""),BB17/BB$3,"") | BE17: =IF(AND($B17<>"",BD$3<>"",BD17<>""),BD17/BD$3,"") | BG17: =IF(AND($B17<>"",BF$3<>"",BF17<>""),BF17/BF$3,"") | BI17: =IF(AND($B17<>"",BH$3<>"",BH17<>""),BH17/BH$3,"") | BK17: =IF(AND($B17<>"",BJ$3<>"",BJ17<>""),BJ17/BJ$3,"") | BM17: =IF(AND($B17<>"",BL$3<>"",BL17<>""),BL17/BL$3,"") | BO17: =IF(AND($B17<>"",BN$3<>"",BN17<>""),BN17/BN$3,"") | BQ17: =IF(AND($B17<>"",BP$3<>"",BP17<>""),BP17/BP$3,"") | BS17: =IF(AND($B17<>"",BR$3<>"",BR17<>""),BR17/BR$3,"") | BU17: =IF(AND($B17<>"",BT$3<>"",BT17<>""),BT17/BT$3,"") | BW17: =IF(AND($B17<>"",BV$3<>"",BV17<>""),BV17/BV$3,"") | BY17: =IF(AND($B17<>"",BX$3<>"",BX17<>""),BX17/BX$3,"") | CA17: =IF(AND($B17<>"",BZ$3<>"",BZ17<>""),BZ17/BZ$3,"") | CC17: =IF(AND($B17<>"",CB$3<>"",CB17<>""),CB17/CB$3,"") | CE17: =IF(AND($B17<>"",CD$3<>"",CD17<>""),CD17/CD$3,"") | CG17: =IF(AND($B17<>"",CF$3<>"",CF17<>""),CF17/CF$3,"") | CI17: =IF(AND($B17<>"",CH$3<>"",CH17<>""),CH17/CH$3,"") | CK17: =IF(AND($B17<>"",CJ$3<>"",CJ17<>""),CJ17/CJ$3,"") | CM17: =IF(AND($B17<>"",CL$3<>"",CL17<>""),CL17/CL$3,"") | CO17: =IF(AND($B17<>"",CN$3<>"",CN17<>""),CN17/CN$3,"") | CQ17: =IF(AND($B17<>"",CP$3<>"",CP17<>""),CP17/CP$3,"") | CS17: =IF(AND($B17<>"",CR$3<>"",CR17<>""),CR17/CR$3,"") | CU17: =IF(AND($B17<>"",CT$3<>"",CT17<>""),CT17/CT$3,"") | CW17: =IF(AND($B17<>"",CV$3<>"",CV17<>""),CV17/CV$3,"") | CY17: =IF(AND($B17<>"",CX$3<>"",CX17<>""),CX17/CX$3,"") | DA17: =IF(AND($B17<>"",CZ$3<>"",CZ17<>""),CZ17/CZ$3,"") | DC17: =IF(AND($B17<>"",DB$3<>"",DB17<>""),DB17/DB$3,"") | DE17: =IF(AND($B17<>"",DD$3<>"",DD17<>""),DD17/DD$3,"") | DG17: =IF(AND($B17<>"",DF$3<>"",DF17<>""),DF17/DF$3,"") | DI17: =IF(AND($B17<>"",DH$3<>"",DH17<>""),DH17/DH$3,"") | DK17: =IF(AND($B17<>"",DJ$3<>"",DJ17<>""),DJ17/DJ$3,"") | DM17: =IF(AND($B17<>"",DL$3<>"",DL17<>""),DL17/DL$3,"") | DO17: =IF(AND($B17<>"",DN$3<>"",DN17<>""),DN17/DN$3,"") | DQ17: =IF(AND($B17<>"",DP$3<>"",DP17<>""),DP17/DP$3,"") | DS17: =IF(AND($B17<>"",DR$3<>"",DR17<>""),DR17/DR$3,"") | DU17: =IF(AND($B17<>"",DT$3<>"",DT17<>""),DT17/DT$3,"") | DW17: =IF(AND($B17<>"",DV$3<>"",DV17<>""),DV17/DV$3,"") | DY17: =IF(AND($B17<>"",DX$3<>"",DX17<>""),DX17/DX$3,"") | EA17: =IF(AND($B17<>"",DZ$3<>"",DZ17<>""),DZ17/DZ$3,"") | EC17: =IF(AND($B17<>"",EB$3<>"",EB17<>""),EB17/EB$3,"") | EE17: =IF(AND($B17<>"",ED$3<>"",ED17<>""),ED17/ED$3,"") | EG17: =IF(AND($B17<>"",EF$3<>"",EF17<>""),EF17/EF$3,"") | EI17: =IF(AND($B17<>"",EH$3<>"",EH17<>""),EH17/EH$3,"") | EK17: =IF(AND($B17<>"",EJ$3<>"",EJ17<>""),EJ17/EJ$3,"") | EM17: =IF(AND($B17<>"",EL$3<>"",EL17<>""),EL17/EL$3,"") | EO17: =IF(AND($B17<>"",EN$3<>"",EN17<>""),EN17/EN$3,"") | EQ17: =IF(AND($B17<>"",EP$3<>"",EP17<>""),EP17/EP$3,"") | ES17: =IF(AND($B17<>"",ER$3<>"",ER17<>""),ER17/ER$3,"") | EU17: =IF(AND($B17<>"",ET$3<>"",ET17<>""),ET17/ET$3,"") | EW17: =IF(AND($B17<>"",EV$3<>"",EV17<>""),EV17/EV$3,"") | EY17: =IF(AND($B17<>"",EX$3<>"",EX17<>""),EX17/EX$3,"") | FA17: =IF(AND($B17<>"",EZ$3<>"",EZ17<>""),EZ17/EZ$3,"") | FM17: =IF(COUNT($FP17:$IL17)=0,"",IF(COUNT($FP17:$IL17)<6,SUM($FP17:$IL17)/COUNT($FP17:$IL17),(LARGE($FP17:$IL17,1)+LARGE($FP17:$IL17,2)+LARGE($FP17:$IL17,3)+LARGE($FP17:$IL17,4)+LARGE($FP17:$IL17,5))/5)) | FN17: =IF(FO17="","",IF(FO17<5,FO17,5)) | FO17: =IF(COUNT(FP17:IL17)=0,"",COUNT(FP17:IL17)) | FP17: =INDEX($I17:$FB17,,FP$4) | FQ17: =INDEX($I17:$FB17,,FQ$4) | FR17: =INDEX($I17:$FB17,,FR$4) | FS17: =INDEX($I17:$FB17,,FS$4) | FT17: =INDEX($I17:$FB17,,FT$4) | FU17: =INDEX($I17:$FB17,,FU$4) | FV17: =INDEX($I17:$FB17,,FV$4) | FW17: =INDEX($I17:$FB17,,FW$4) | ... IL17: =INDEX($I17:$FB17,,IL$4)
... A105: =IF($B105="","",IF(VLOOKUP($B105,'Skyttere registrering'!$AB$2:$AE$101,3,FALSE)=0,"",VLOOKUP($B105,'Skyttere registrering'!$AB$2:$AE$101,3,FALSE))) | C105: =IF($B105="","",IF(VLOOKUP($B105,'Skyttere registrering'!$AB$2:$AE$101,2,FALSE)=0,"",VLOOKUP($B105,'Skyttere registrering'!$AB$2:$AE$101,2,FALSE))) | D105: =IF($B105="","",IF(VLOOKUP($B105,'Skyttere registrering'!$AB$2:$AE$101,4,FALSE)=0,"",VLOOKUP($B105,'Skyttere registrering'!$AB$2:$AE$101,4,FALSE))) | E105: =IF(G105="","",IF(G105<8.2,"1",IF(G105<8.7,"2",IF(G105<9.1,"3",IF(G105<9.4,"4",IF(G105<9.6,"5",IF(G105<9.7,"6","7"))))))) | F105: =FO105 | G105: =FM105 | I105: =IF(AND($B105<>"",H$3<>"",H105<>""),H105/H$3,"") | K105: =IF(AND($B105<>"",J$3<>"",J105<>""),J105/J$3,"") | M105: =IF(AND($B105<>"",L$3<>"",L105<>""),L105/L$3,"") | O105: =IF(AND($B105<>"",N$3<>"",N105<>""),N105/N$3,"") | Q105: =IF(AND($B105<>"",P$3<>"",P105<>""),P105/P$3,"") | S105: =IF(AND($B105<>"",R$3<>"",R105<>""),R105/R$3,"") | U105: =IF(AND($B105<>"",T$3<>"",T105<>""),T105/T$3,"") | W105: =IF(AND($B105<>"",V$3<>"",V105<>""),V105/V$3,"") | Y105: =IF(AND($B105<>"",X$3<>"",X105<>""),X105/X$3,"") | AA105: =IF(AND($B105<>"",Z$3<>"",Z105<>""),Z105/Z$3,"") | AC105: =IF(AND($B105<>"",AB$3<>"",AB105<>""),AB105/AB$3,"") | AE105: =IF(AND($B105<>"",AD$3<>"",AD105<>""),AD105/AD$3,"") | AG105: =IF(AND($B105<>"",AF$3<>"",AF105<>""),AF105/AF$3,"") | AI105: =IF(AND($B105<>"",AH$3<>"",AH105<>""),AH105/AH$3,"") | AK105: =IF(AND($B105<>"",AJ$3<>"",AJ105<>""),AJ105/AJ$3,"") | AM105: =IF(AND($B105<>"",AL$3<>"",AL105<>""),AL105/AL$3,"") | AO105: =IF(AND($B105<>"",AN$3<>"",AN105<>""),AN105/AN$3,"") | AQ105: =IF(AND($B105<>"",AP$3<>"",AP105<>""),AP105/AP$3,"") | AS105: =IF(AND($B105<>"",AR$3<>"",AR105<>""),AR105/AR$3,"") | AU105: =IF(AND($B105<>"",AT$3<>"",AT105<>""),AT105/AT$3,"") | AW105: =IF(AND($B105<>"",AV$3<>"",AV105<>""),AV105/AV$3,"") | AY105: =IF(AND($B105<>"",AX$3<>"",AX105<>""),AX105/AX$3,"") | BA105: =IF(AND($B105<>"",AZ$3<>"",AZ105<>""),AZ105/AZ$3,"") | BC105: =IF(AND($B105<>"",BB$3<>"",BB105<>""),BB105/BB$3,"") | BE105: =IF(AND($B105<>"",BD$3<>"",BD105<>""),BD105/BD$3,"") | BG105: =IF(AND($B105<>"",BF$3<>"",BF105<>""),BF105/BF$3,"") | BI105: =IF(AND($B105<>"",BH$3<>"",BH105<>""),BH105/BH$3,"") | BK105: =IF(AND($B105<>"",BJ$3<>"",BJ105<>""),BJ105/BJ$3,"") | BM105: =IF(AND($B105<>"",BL$3<>"",BL105<>""),BL105/BL$3,"") | BO105: =IF(AND($B105<>"",BN$3<>"",BN105<>""),BN105/BN$3,"") | BQ105: =IF(AND($B105<>"",BP$3<>"",BP105<>""),BP105/BP$3,"") | BS105: =IF(AND($B105<>"",BR$3<>"",BR105<>""),BR105/BR$3,"") | BU105: =IF(AND($B105<>"",BT$3<>"",BT105<>""),BT105/BT$3,"") | BW105: =IF(AND($B105<>"",BV$3<>"",BV105<>""),BV105/BV$3,"") | BY105: =IF(AND($B105<>"",BX$3<>"",BX105<>""),BX105/BX$3,"") | CA105: =IF(AND($B105<>"",BZ$3<>"",BZ105<>""),BZ105/BZ$3,"") | CC105: =IF(AND($B105<>"",CB$3<>"",CB105<>""),CB105/CB$3,"") | CE105: =IF(AND($B105<>"",CD$3<>"",CD105<>""),CD105/CD$3,"") | CG105: =IF(AND($B105<>"",CF$3<>"",CF105<>""),CF105/CF$3,"") | CI105: =IF(AND($B105<>"",CH$3<>"",CH105<>""),CH105/CH$3,"") | CK105: =IF(AND($B105<>"",CJ$3<>"",CJ105<>""),CJ105/CJ$3,"") | CM105: =IF(AND($B105<>"",CL$3<>"",CL105<>""),CL105/CL$3,"") | CO105: =IF(AND($B105<>"",CN$3<>"",CN105<>""),CN105/CN$3,"") | CQ105: =IF(AND($B105<>"",CP$3<>"",CP105<>""),CP105/CP$3,"") | CS105: =IF(AND($B105<>"",CR$3<>"",CR105<>""),CR105/CR$3,"") | CU105: =IF(AND($B105<>"",CT$3<>"",CT105<>""),CT105/CT$3,"") | CW105: =IF(AND($B105<>"",CV$3<>"",CV105<>""),CV105/CV$3,"") | CY105: =IF(AND($B105<>"",CX$3<>"",CX105<>""),CX105/CX$3,"") | DA105: =IF(AND($B105<>"",CZ$3<>"",CZ105<>""),CZ105/CZ$3,"") | DC105: =IF(AND($B105<>"",DB$3<>"",DB105<>""),DB105/DB$3,"") | DE105: =IF(AND($B105<>"",DD$3<>"",DD105<>""),DD105/DD$3,"") | DG105: =IF(AND($B105<>"",DF$3<>"",DF105<>""),DF105/DF$3,"") | DI105: =IF(AND($B105<>"",DH$3<>"",DH105<>""),DH105/DH$3,"") | DK105: =IF(AND($B105<>"",DJ$3<>"",DJ105<>""),DJ105/DJ$3,"") | DM105: =IF(AND($B105<>"",DL$3<>"",DL105<>""),DL105/DL$3,"") | DO105: =IF(AND($B105<>"",DN$3<>"",DN105<>""),DN105/DN$3,"") | DQ105: =IF(AND($B105<>"",DP$3<>"",DP105<>""),DP105/DP$3,"") | DS105: =IF(AND($B105<>"",DR$3<>"",DR105<>""),DR105/DR$3,"") | DU105: =IF(AND($B105<>"",DT$3<>"",DT105<>""),DT105/DT$3,"") | DW105: =IF(AND($B105<>"",DV$3<>"",DV105<>""),DV105/DV$3,"") | DY105: =IF(AND($B105<>"",DX$3<>"",DX105<>""),DX105/DX$3,"") | EA105: =IF(AND($B105<>"",DZ$3<>"",DZ105<>""),DZ105/DZ$3,"") | EC105: =IF(AND($B105<>"",EB$3<>"",EB105<>""),EB105/EB$3,"") | EE105: =IF(AND($B105<>"",ED$3<>"",ED105<>""),ED105/ED$3,"") | EG105: =IF(AND($B105<>"",EF$3<>"",EF105<>""),EF105/EF$3,"") | EI105: =IF(AND($B105<>"",EH$3<>"",EH105<>""),EH105/EH$3,"") | EK105: =IF(AND($B105<>"",EJ$3<>"",EJ105<>""),EJ105/EJ$3,"") | EM105: =IF(AND($B105<>"",EL$3<>"",EL105<>""),EL105/EL$3,"") | EO105: =IF(AND($B105<>"",EN$3<>"",EN105<>""),EN105/EN$3,"") | EQ105: =IF(AND($B105<>"",EP$3<>"",EP105<>""),EP105/EP$3,"") | ES105: =IF(AND($B105<>"",ER$3<>"",ER105<>""),ER105/ER$3,"") | EU105: =IF(AND($B105<>"",ET$3<>"",ET105<>""),ET105/ET$3,"") | EW105: =IF(AND($B105<>"",EV$3<>"",EV105<>""),EV105/EV$3,"") | EY105: =IF(AND($B105<>"",EX$3<>"",EX105<>""),EX105/EX$3,"") | FA105: =IF(AND($B105<>"",EZ$3<>"",EZ105<>""),EZ105/EZ$3,"") | FM105: =IF(COUNT($FP105:$IL105)=0,"",IF(COUNT($FP105:$IL105)<6,SUM($FP105:$IL105)/COUNT($FP105:$IL105),(LARGE($FP105:$IL105,1)+LARGE($FP105:$IL105,2)+LARGE($FP105:$IL105,3)+LARGE($FP105:$IL105,4)+LARGE($FP105:$IL105,5))/5)) | FN105: =IF(FO105="","",IF(FO105<5,FO105,5)) | FO105: =IF(COUNT(FP105:IL105)=0,"",COUNT(FP105:IL105)) | FP105: =INDEX($I105:$FB105,,FP$4) | FQ105: =INDEX($I105:$FB105,,FQ$4) | FR105: =INDEX($I105:$FB105,,FR$4) | FS105: =INDEX($I105:$FB105,,FS$4) | FT105: =INDEX($I105:$FB105,,FT$4) | FU105: =INDEX($I105:$FB105,,FU$4) | FV105: =INDEX($I105:$FB105,,FV$4) | FW105: =INDEX($I105:$FB105,,FW$4) | ... IL105: =INDEX($I105:$FB105,,IL$4)

Sheet 10m LR ISSF
G2: Stevne: | H2: Stevne 1 | J2: Stevne 2 | L2: Stevne 3 | N2: Stevne 4 | P2: Stevne 5 | R2: Stevne 6 | T2: Stevne 7 | V2: Stevne 8 | X2: Stevne 9 | Z2: Stevne 10 | AB2: Stevne 11 | AD2: Stevne 12 | AF2: Stevne 13 | AH2: Stevne 14 | AJ2: Stevne 15 | AL2: Stevne 16 | AN2: Stevne 17 | AP2: Stevne 18 | AR2: Stevne 19 | AT2: Stevne 20 | AV2: Stevne 21 | AX2: Stevne 22 | AZ2: Stevne 23 | BB2: Stevne 24 | BD2: Stevne 25 | BF2: Stevne 26 | BH2: Stevne 27 | BJ2: Stevne 28 | BL2: Stevne 29 | BN2: Stevne 30 | BP2: Stevne 31 | BR2: Stevne 32 | BT2: Stevne 33 | BV2: Stevne 34 | BX2: Stevne 35 | BZ2: Stevne 36 | CB2: Stevne 37 | CD2: Stevne 38 | CF2: Stevne 39 | CH2: Stevne 40 | CJ2: Stevne 41 | CL2: Stevne 42 | CN2: Stevne 43 | CP2: Stevne 44 | CR2: Stevne 45 | CT2: Stevne 46 | CV2: Stevne 47 | CX2: Stevne 48 | CZ2: Stevne 49 | DB2: Stevne 50 | DD2: Stevne 51 | DF2: Stevne 52 | DH2: Stevne 53 | DJ2: Stevne 54 | DL2: Stevne 55 | DN2: Stevne 56 | DP2: Stevne 57 | DR2: Stevne 58 | DT2: Stevne 59 | DV2: Stevne 60 | DX2: Stevne 61 | DZ2: Stevne 62 | EB2: Stevne 63 | ED2: Stevne 64 | EF2: Stevne 65 | EH2: Stevne 66 | EJ2: Stevne 67 | EL2: Stevne 68 | EN2: Stevne 69 | EP2: Stevne 70 | ER2: Stevne 71 | ET2: Stevne 72 | EV2: Stevne 73 | EX2: Stevne 74 | EZ2: Stevne 75
G3: Ant. Skudd:
G4: Dato: | FP4: =1+(2*(COLUMN(A$1:A1)-1)) -> 1 | FQ4: =1+(2*(COLUMN(B$1:B1)-1)) -> 3 | FR4: =1+(2*(COLUMN(C$1:C1)-1)) -> 5 | FS4: =1+(2*(COLUMN(D$1:D1)-1)) -> 7 | FT4: =1+(2*(COLUMN(E$1:E1)-1)) -> 9 | FU4: =1+(2*(COLUMN(F$1:F1)-1)) -> 11 | FV4: =1+(2*(COLUMN(G$1:G1)-1)) -> 13 | FW4: =1+(2*(COLUMN(H$1:H1)-1)) -> 15 | ... IL4: =1+(2*(COLUMN(BW$1:BW1)-1)) -> 149
A5: Sk. Nr | B5: Navn | C5: Lag | D5: Fødselsår | E5: Ny klasse | F5: Deltatt i antall stevner | G5: Klassifiseringsgrunnlag (Gj.snitt skuddverdi av de 5 beste stevnene) | H5: Poeng | I5: Skudd-verdi | J5: Poeng | K5: Skudd-verdi | L5: Poeng | M5: Skudd-verdi | N5: Poeng | O5: Skudd-verdi | P5: Poeng | Q5: Skudd-verdi | R5: Poeng | S5: Skudd-verdi | T5: Poeng | U5: Skudd-verdi | V5: Poeng | W5: Skudd-verdi | X5: Poeng | Y5: Skudd-verdi | Z5: Poeng | AA5: Skudd-verdi | AB5: Poeng | AC5: Skudd-verdi | AD5: Poeng | AE5: Skudd-verdi | AF5: Poeng | AG5: Skudd-verdi | AH5: Poeng | AI5: Skudd-verdi | AJ5: Poeng | AK5: Skudd-verdi | AL5: Poeng | AM5: Skudd-verdi | AN5: Poeng | AO5: Skudd-verdi | AP5: Poeng | AQ5: Skudd-verdi | AR5: Poeng | AS5: Skudd-verdi | AT5: Poeng | AU5: Skudd-verdi | AV5: Poeng | AW5: Skudd-verdi | AX5: Poeng | AY5: Skudd-verdi | AZ5: Poeng | BA5: Skudd-verdi | BB5: Poeng | BC5: Skudd-verdi | BD5: Poeng | BE5: Skudd-verdi | BF5: Poeng | BG5: Skudd-verdi | BH5: Poeng | BI5: Skudd-verdi | BJ5: Poeng | BK5: Skudd-verdi | BL5: Poeng | BM5: Skudd-verdi | BN5: Poeng | BO5: Skudd-verdi | BP5: Poeng | BQ5: Skudd-verdi | BR5: Poeng | BS5: Skudd-verdi | BT5: Poeng | BU5: Skudd-verdi | BV5: Poeng | BW5: Skudd-verdi | BX5: Poeng | BY5: Skudd-verdi | BZ5: Poeng | CA5: Skudd-verdi | CB5: Poeng | CC5: Skudd-verdi | CD5: Poeng | CE5: Skudd-verdi | CF5: Poeng | CG5: Skudd-verdi | CH5: Poeng | CI5: Skudd-verdi | CJ5: Poeng | CK5: Skudd-verdi | CL5: Poeng | CM5: Skudd-verdi | CN5: Poeng | CO5: Skudd-verdi | CP5: Poeng | CQ5: Skudd-verdi | CR5: Poeng | CS5: Skudd-verdi | CT5: Poeng | CU5: Skudd-verdi | CV5: Poeng | CW5: Skudd-verdi | CX5: Poeng | CY5: Skudd-verdi | CZ5: Poeng | DA5: Skudd-verdi | DB5: Poeng | DC5: Skudd-verdi | DD5: Poeng | DE5: Skudd-verdi | DF5: Poeng | DG5: Skudd-verdi | DH5: Poeng | DI5: Skudd-verdi | DJ5: Poeng | DK5: Skudd-verdi | DL5: Poeng | DM5: Skudd-verdi | DN5: Poeng | DO5: Skudd-verdi | DP5: Poeng | DQ5: Skudd-verdi | DR5: Poeng | DS5: Skudd-verdi | DT5: Poeng | DU5: Skudd-verdi | DV5: Poeng | DW5: Skudd-verdi | DX5: Poeng | DY5: Skudd-verdi | DZ5: Poeng | EA5: Skudd-verdi | EB5: Poeng | EC5: Skudd-verdi | ED5: Poeng | EE5: Skudd-verdi | EF5: Poeng | EG5: Skudd-verdi | EH5: Poeng | EI5: Skudd-verdi | EJ5: Poeng | EK5: Skudd-verdi | EL5: Poeng | EM5: Skudd-verdi | EN5: Poeng | EO5: Skudd-verdi | EP5: Poeng | EQ5: Skudd-verdi | ER5: Poeng | ES5: Skudd-verdi | ET5: Poeng | EU5: Skudd-verdi | EV5: Poeng | EW5: Skudd-verdi | EX5: Poeng | EY5: Skudd-verdi | EZ5: Poeng | FA5: Skudd-verdi | FM5: GJ.snitt skudd-verdi (beste 5 - 1) resultater for klassi-fisering. | FN5: Antall kvalifiserende stevner | FO5: Antall stevner | FP5: =INDEX($H2:$FB2,,FP$4) -> Stevne 1 | FQ5: =INDEX($H2:$FB2,,1+(2*(COLUMN(B$1:B$1)-1))) -> Stevne 2 | FR5: =INDEX($H2:$FB2,,1+(2*(COLUMN(C$1:C$1)-1))) -> Stevne 3 | FS5: =INDEX($H2:$FB2,,1+(2*(COLUMN(D$1:D$1)-1))) -> Stevne 4 | FT5: =INDEX($H2:$FB2,,1+(2*(COLUMN(E$1:E$1)-1))) -> Stevne 5 | FU5: =INDEX($H2:$FB2,,1+(2*(COLUMN(F$1:F$1)-1))) -> Stevne 6 | FV5: =INDEX($H2:$FB2,,1+(2*(COLUMN(G$1:G$1)-1))) -> Stevne 7 | FW5: =INDEX($H2:$FB2,,1+(2*(COLUMN(H$1:H$1)-1))) -> Stevne 8 | FX5: =INDEX($H2:$FB2,,1+(2*(COLUMN(I$1:I$1)-1))) -> Stevne 9 | ... IL5: =INDEX($H2:$FB2,,1+(2*(COLUMN(BW$1:BW$1)-1))) -> Stevne 75
A6: =IF($B6="","",IF(VLOOKUP($B6,'Skyttere registrering'!$AB$2:$AE$101,3,FALSE)=0,"",VLOOKUP($B6,'Skyttere registrering'!$AB$2:$AE$101,3,FALSE))) | C6: =IF($B6="","",IF(VLOOKUP($B6,'Skyttere registrering'!$AB$2:$AE$101,2,FALSE)=0,"",VLOOKUP($B6,'Skyttere registrering'!$AB$2:$AE$101,2,FALSE))) | D6: =IF($B6="","",IF(VLOOKUP($B6,'Skyttere registrering'!$AB$2:$AE$101,4,FALSE)=0,"",VLOOKUP($B6,'Skyttere registrering'!$AB$2:$AE$101,4,FALSE))) | E6: =IF(G6="","",IF(G6<7.5,"1",IF(G6<8.1,"2",IF(G6<8.6,"3",IF(G6<9,"4",IF(G6<9.3,"5",IF(G6<9.5,"6","7"))))))) | F6: =FO6 | G6: =FM6 | I6: =IF(AND($B6<>"",H$3<>"",H6<>""),H6/H$3,"") | K6: =IF(AND($B6<>"",J$3<>"",J6<>""),J6/J$3,"") | M6: =IF(AND($B6<>"",L$3<>"",L6<>""),L6/L$3,"") | O6: =IF(AND($B6<>"",N$3<>"",N6<>""),N6/N$3,"") | Q6: =IF(AND($B6<>"",P$3<>"",P6<>""),P6/P$3,"") | S6: =IF(AND($B6<>"",R$3<>"",R6<>""),R6/R$3,"") | U6: =IF(AND($B6<>"",T$3<>"",T6<>""),T6/T$3,"") | W6: =IF(AND($B6<>"",V$3<>"",V6<>""),V6/V$3,"") | Y6: =IF(AND($B6<>"",X$3<>"",X6<>""),X6/X$3,"") | AA6: =IF(AND($B6<>"",Z$3<>"",Z6<>""),Z6/Z$3,"") | AC6: =IF(AND($B6<>"",AB$3<>"",AB6<>""),AB6/AB$3,"") | AE6: =IF(AND($B6<>"",AD$3<>"",AD6<>""),AD6/AD$3,"") | AG6: =IF(AND($B6<>"",AF$3<>"",AF6<>""),AF6/AF$3,"") | AI6: =IF(AND($B6<>"",AH$3<>"",AH6<>""),AH6/AH$3,"") | AK6: =IF(AND($B6<>"",AJ$3<>"",AJ6<>""),AJ6/AJ$3,"") | AM6: =IF(AND($B6<>"",AL$3<>"",AL6<>""),AL6/AL$3,"") | AO6: =IF(AND($B6<>"",AN$3<>"",AN6<>""),AN6/AN$3,"") | AQ6: =IF(AND($B6<>"",AP$3<>"",AP6<>""),AP6/AP$3,"") | AS6: =IF(AND($B6<>"",AR$3<>"",AR6<>""),AR6/AR$3,"") | AU6: =IF(AND($B6<>"",AT$3<>"",AT6<>""),AT6/AT$3,"") | AW6: =IF(AND($B6<>"",AV$3<>"",AV6<>""),AV6/AV$3,"") | AY6: =IF(AND($B6<>"",AX$3<>"",AX6<>""),AX6/AX$3,"") | BA6: =IF(AND($B6<>"",AZ$3<>"",AZ6<>""),AZ6/AZ$3,"") | BC6: =IF(AND($B6<>"",BB$3<>"",BB6<>""),BB6/BB$3,"") | BE6: =IF(AND($B6<>"",BD$3<>"",BD6<>""),BD6/BD$3,"") | BG6: =IF(AND($B6<>"",BF$3<>"",BF6<>""),BF6/BF$3,"") | BI6: =IF(AND($B6<>"",BH$3<>"",BH6<>""),BH6/BH$3,"") | BK6: =IF(AND($B6<>"",BJ$3<>"",BJ6<>""),BJ6/BJ$3,"") | BM6: =IF(AND($B6<>"",BL$3<>"",BL6<>""),BL6/BL$3,"") | BO6: =IF(AND($B6<>"",BN$3<>"",BN6<>""),BN6/BN$3,"") | BQ6: =IF(AND($B6<>"",BP$3<>"",BP6<>""),BP6/BP$3,"") | BS6: =IF(AND($B6<>"",BR$3<>"",BR6<>""),BR6/BR$3,"") | BU6: =IF(AND($B6<>"",BT$3<>"",BT6<>""),BT6/BT$3,"") | BW6: =IF(AND($B6<>"",BV$3<>"",BV6<>""),BV6/BV$3,"") | BY6: =IF(AND($B6<>"",BX$3<>"",BX6<>""),BX6/BX$3,"") | CA6: =IF(AND($B6<>"",BZ$3<>"",BZ6<>""),BZ6/BZ$3,"") | CC6: =IF(AND($B6<>"",CB$3<>"",CB6<>""),CB6/CB$3,"") | CE6: =IF(AND($B6<>"",CD$3<>"",CD6<>""),CD6/CD$3,"") | CG6: =IF(AND($B6<>"",CF$3<>"",CF6<>""),CF6/CF$3,"") | CI6: =IF(AND($B6<>"",CH$3<>"",CH6<>""),CH6/CH$3,"") | CK6: =IF(AND($B6<>"",CJ$3<>"",CJ6<>""),CJ6/CJ$3,"") | CM6: =IF(AND($B6<>"",CL$3<>"",CL6<>""),CL6/CL$3,"") | CO6: =IF(AND($B6<>"",CN$3<>"",CN6<>""),CN6/CN$3,"") | CQ6: =IF(AND($B6<>"",CP$3<>"",CP6<>""),CP6/CP$3,"") | CS6: =IF(AND($B6<>"",CR$3<>"",CR6<>""),CR6/CR$3,"") | CU6: =IF(AND($B6<>"",CT$3<>"",CT6<>""),CT6/CT$3,"") | CW6: =IF(AND($B6<>"",CV$3<>"",CV6<>""),CV6/CV$3,"") | CY6: =IF(AND($B6<>"",CX$3<>"",CX6<>""),CX6/CX$3,"") | DA6: =IF(AND($B6<>"",CZ$3<>"",CZ6<>""),CZ6/CZ$3,"") | DC6: =IF(AND($B6<>"",DB$3<>"",DB6<>""),DB6/DB$3,"") | DE6: =IF(AND($B6<>"",DD$3<>"",DD6<>""),DD6/DD$3,"") | DG6: =IF(AND($B6<>"",DF$3<>"",DF6<>""),DF6/DF$3,"") | DI6: =IF(AND($B6<>"",DH$3<>"",DH6<>""),DH6/DH$3,"") | DK6: =IF(AND($B6<>"",DJ$3<>"",DJ6<>""),DJ6/DJ$3,"") | DM6: =IF(AND($B6<>"",DL$3<>"",DL6<>""),DL6/DL$3,"") | DO6: =IF(AND($B6<>"",DN$3<>"",DN6<>""),DN6/DN$3,"") | DQ6: =IF(AND($B6<>"",DP$3<>"",DP6<>""),DP6/DP$3,"") | DS6: =IF(AND($B6<>"",DR$3<>"",DR6<>""),DR6/DR$3,"") | DU6: =IF(AND($B6<>"",DT$3<>"",DT6<>""),DT6/DT$3,"") | DW6: =IF(AND($B6<>"",DV$3<>"",DV6<>""),DV6/DV$3,"") | DY6: =IF(AND($B6<>"",DX$3<>"",DX6<>""),DX6/DX$3,"") | EA6: =IF(AND($B6<>"",DZ$3<>"",DZ6<>""),DZ6/DZ$3,"") | EC6: =IF(AND($B6<>"",EB$3<>"",EB6<>""),EB6/EB$3,"") | EE6: =IF(AND($B6<>"",ED$3<>"",ED6<>""),ED6/ED$3,"") | EG6: =IF(AND($B6<>"",EF$3<>"",EF6<>""),EF6/EF$3,"") | EI6: =IF(AND($B6<>"",EH$3<>"",EH6<>""),EH6/EH$3,"") | EK6: =IF(AND($B6<>"",EJ$3<>"",EJ6<>""),EJ6/EJ$3,"") | EM6: =IF(AND($B6<>"",EL$3<>"",EL6<>""),EL6/EL$3,"") | EO6: =IF(AND($B6<>"",EN$3<>"",EN6<>""),EN6/EN$3,"") | EQ6: =IF(AND($B6<>"",EP$3<>"",EP6<>""),EP6/EP$3,"") | ES6: =IF(AND($B6<>"",ER$3<>"",ER6<>""),ER6/ER$3,"") | EU6: =IF(AND($B6<>"",ET$3<>"",ET6<>""),ET6/ET$3,"") | EW6: =IF(AND($B6<>"",EV$3<>"",EV6<>""),EV6/EV$3,"") | EY6: =IF(AND($B6<>"",EX$3<>"",EX6<>""),EX6/EX$3,"") | FA6: =IF(AND($B6<>"",EZ$3<>"",EZ6<>""),EZ6/EZ$3,"") | FM6: =IF(COUNT($FP6:$IL6)=0,"",IF(COUNT($FP6:$IL6)<6,SUM($FP6:$IL6)/COUNT($FP6:$IL6),(LARGE($FP6:$IL6,1)+LARGE($FP6:$IL6,2)+LARGE($FP6:$IL6,3)+LARGE($FP6:$IL6,4)+LARGE($FP6:$IL6,5))/5)) | FN6: =IF(FO6="","",IF(FO6<5,FO6,5)) | FO6: =IF(COUNT(FP6:IL6)=0,"",COUNT(FP6:IL6)) | FP6: =INDEX($I6:$FB6,,FP$4) | FQ6: =INDEX($I6:$FB6,,1+(2*(COLUMN(B$1:B1)-1))) | FR6: =INDEX($I6:$FB6,,1+(2*(COLUMN(C$1:C1)-1))) | FS6: =INDEX($I6:$FB6,,1+(2*(COLUMN(D$1:D1)-1))) | FT6: =INDEX($I6:$FB6,,1+(2*(COLUMN(E$1:E1)-1))) | FU6: =INDEX($I6:$FB6,,1+(2*(COLUMN(F$1:F1)-1))) | FV6: =INDEX($I6:$FB6,,1+(2*(COLUMN(G$1:G1)-1))) | FW6: =INDEX($I6:$FB6,,1+(2*(COLUMN(H$1:H1)-1))) | FX6: =INDEX($I6:$FB6,,1+(2*(COLUMN(I$1:I1)-1))) | ... IL6: =INDEX($I6:$FB6,,1+(2*(COLUMN(BW$1:BW1)-1)))
A7: =IF($B7="","",IF(VLOOKUP($B7,'Skyttere registrering'!$AB$2:$AE$101,3,FALSE)=0,"",VLOOKUP($B7,'Skyttere registrering'!$AB$2:$AE$101,3,FALSE))) | C7: =IF($B7="","",IF(VLOOKUP($B7,'Skyttere registrering'!$AB$2:$AE$101,2,FALSE)=0,"",VLOOKUP($B7,'Skyttere registrering'!$AB$2:$AE$101,2,FALSE))) | D7: =IF($B7="","",IF(VLOOKUP($B7,'Skyttere registrering'!$AB$2:$AE$101,4,FALSE)=0,"",VLOOKUP($B7,'Skyttere registrering'!$AB$2:$AE$101,4,FALSE))) | E7: =IF(G7="","",IF(G7<7.5,"1",IF(G7<8.1,"2",IF(G7<8.6,"3",IF(G7<9,"4",IF(G7<9.3,"5",IF(G7<9.5,"6","7"))))))) | F7: =FO7 | G7: =FM7 | I7: =IF(AND($B7<>"",H$3<>"",H7<>""),H7/H$3,"") | K7: =IF(AND($B7<>"",J$3<>"",J7<>""),J7/J$3,"") | M7: =IF(AND($B7<>"",L$3<>"",L7<>""),L7/L$3,"") | O7: =IF(AND($B7<>"",N$3<>"",N7<>""),N7/N$3,"") | Q7: =IF(AND($B7<>"",P$3<>"",P7<>""),P7/P$3,"") | S7: =IF(AND($B7<>"",R$3<>"",R7<>""),R7/R$3,"") | U7: =IF(AND($B7<>"",T$3<>"",T7<>""),T7/T$3,"") | W7: =IF(AND($B7<>"",V$3<>"",V7<>""),V7/V$3,"") | Y7: =IF(AND($B7<>"",X$3<>"",X7<>""),X7/X$3,"") | AA7: =IF(AND($B7<>"",Z$3<>"",Z7<>""),Z7/Z$3,"") | AC7: =IF(AND($B7<>"",AB$3<>"",AB7<>""),AB7/AB$3,"") | AE7: =IF(AND($B7<>"",AD$3<>"",AD7<>""),AD7/AD$3,"") | AG7: =IF(AND($B7<>"",AF$3<>"",AF7<>""),AF7/AF$3,"") | AI7: =IF(AND($B7<>"",AH$3<>"",AH7<>""),AH7/AH$3,"") | AK7: =IF(AND($B7<>"",AJ$3<>"",AJ7<>""),AJ7/AJ$3,"") | AM7: =IF(AND($B7<>"",AL$3<>"",AL7<>""),AL7/AL$3,"") | AO7: =IF(AND($B7<>"",AN$3<>"",AN7<>""),AN7/AN$3,"") | AQ7: =IF(AND($B7<>"",AP$3<>"",AP7<>""),AP7/AP$3,"") | AS7: =IF(AND($B7<>"",AR$3<>"",AR7<>""),AR7/AR$3,"") | AU7: =IF(AND($B7<>"",AT$3<>"",AT7<>""),AT7/AT$3,"") | AW7: =IF(AND($B7<>"",AV$3<>"",AV7<>""),AV7/AV$3,"") | AY7: =IF(AND($B7<>"",AX$3<>"",AX7<>""),AX7/AX$3,"") | BA7: =IF(AND($B7<>"",AZ$3<>"",AZ7<>""),AZ7/AZ$3,"") | BC7: =IF(AND($B7<>"",BB$3<>"",BB7<>""),BB7/BB$3,"") | BE7: =IF(AND($B7<>"",BD$3<>"",BD7<>""),BD7/BD$3,"") | BG7: =IF(AND($B7<>"",BF$3<>"",BF7<>""),BF7/BF$3,"") | BI7: =IF(AND($B7<>"",BH$3<>"",BH7<>""),BH7/BH$3,"") | BK7: =IF(AND($B7<>"",BJ$3<>"",BJ7<>""),BJ7/BJ$3,"") | BM7: =IF(AND($B7<>"",BL$3<>"",BL7<>""),BL7/BL$3,"") | BO7: =IF(AND($B7<>"",BN$3<>"",BN7<>""),BN7/BN$3,"") | BQ7: =IF(AND($B7<>"",BP$3<>"",BP7<>""),BP7/BP$3,"") | BS7: =IF(AND($B7<>"",BR$3<>"",BR7<>""),BR7/BR$3,"") | BU7: =IF(AND($B7<>"",BT$3<>"",BT7<>""),BT7/BT$3,"") | BW7: =IF(AND($B7<>"",BV$3<>"",BV7<>""),BV7/BV$3,"") | BY7: =IF(AND($B7<>"",BX$3<>"",BX7<>""),BX7/BX$3,"") | CA7: =IF(AND($B7<>"",BZ$3<>"",BZ7<>""),BZ7/BZ$3,"") | CC7: =IF(AND($B7<>"",CB$3<>"",CB7<>""),CB7/CB$3,"") | CE7: =IF(AND($B7<>"",CD$3<>"",CD7<>""),CD7/CD$3,"") | CG7: =IF(AND($B7<>"",CF$3<>"",CF7<>""),CF7/CF$3,"") | CI7: =IF(AND($B7<>"",CH$3<>"",CH7<>""),CH7/CH$3,"") | CK7: =IF(AND($B7<>"",CJ$3<>"",CJ7<>""),CJ7/CJ$3,"") | CM7: =IF(AND($B7<>"",CL$3<>"",CL7<>""),CL7/CL$3,"") | CO7: =IF(AND($B7<>"",CN$3<>"",CN7<>""),CN7/CN$3,"") | CQ7: =IF(AND($B7<>"",CP$3<>"",CP7<>""),CP7/CP$3,"") | CS7: =IF(AND($B7<>"",CR$3<>"",CR7<>""),CR7/CR$3,"") | CU7: =IF(AND($B7<>"",CT$3<>"",CT7<>""),CT7/CT$3,"") | CW7: =IF(AND($B7<>"",CV$3<>"",CV7<>""),CV7/CV$3,"") | CY7: =IF(AND($B7<>"",CX$3<>"",CX7<>""),CX7/CX$3,"") | DA7: =IF(AND($B7<>"",CZ$3<>"",CZ7<>""),CZ7/CZ$3,"") | DC7: =IF(AND($B7<>"",DB$3<>"",DB7<>""),DB7/DB$3,"") | DE7: =IF(AND($B7<>"",DD$3<>"",DD7<>""),DD7/DD$3,"") | DG7: =IF(AND($B7<>"",DF$3<>"",DF7<>""),DF7/DF$3,"") | DI7: =IF(AND($B7<>"",DH$3<>"",DH7<>""),DH7/DH$3,"") | DK7: =IF(AND($B7<>"",DJ$3<>"",DJ7<>""),DJ7/DJ$3,"") | DM7: =IF(AND($B7<>"",DL$3<>"",DL7<>""),DL7/DL$3,"") | DO7: =IF(AND($B7<>"",DN$3<>"",DN7<>""),DN7/DN$3,"") | DQ7: =IF(AND($B7<>"",DP$3<>"",DP7<>""),DP7/DP$3,"") | DS7: =IF(AND($B7<>"",DR$3<>"",DR7<>""),DR7/DR$3,"") | DU7: =IF(AND($B7<>"",DT$3<>"",DT7<>""),DT7/DT$3,"") | DW7: =IF(AND($B7<>"",DV$3<>"",DV7<>""),DV7/DV$3,"") | DY7: =IF(AND($B7<>"",DX$3<>"",DX7<>""),DX7/DX$3,"") | EA7: =IF(AND($B7<>"",DZ$3<>"",DZ7<>""),DZ7/DZ$3,"") | EC7: =IF(AND($B7<>"",EB$3<>"",EB7<>""),EB7/EB$3,"") | EE7: =IF(AND($B7<>"",ED$3<>"",ED7<>""),ED7/ED$3,"") | EG7: =IF(AND($B7<>"",EF$3<>"",EF7<>""),EF7/EF$3,"") | EI7: =IF(AND($B7<>"",EH$3<>"",EH7<>""),EH7/EH$3,"") | EK7: =IF(AND($B7<>"",EJ$3<>"",EJ7<>""),EJ7/EJ$3,"") | EM7: =IF(AND($B7<>"",EL$3<>"",EL7<>""),EL7/EL$3,"") | EO7: =IF(AND($B7<>"",EN$3<>"",EN7<>""),EN7/EN$3,"") | EQ7: =IF(AND($B7<>"",EP$3<>"",EP7<>""),EP7/EP$3,"") | ES7: =IF(AND($B7<>"",ER$3<>"",ER7<>""),ER7/ER$3,"") | EU7: =IF(AND($B7<>"",ET$3<>"",ET7<>""),ET7/ET$3,"") | EW7: =IF(AND($B7<>"",EV$3<>"",EV7<>""),EV7/EV$3,"") | EY7: =IF(AND($B7<>"",EX$3<>"",EX7<>""),EX7/EX$3,"") | FA7: =IF(AND($B7<>"",EZ$3<>"",EZ7<>""),EZ7/EZ$3,"") | FM7: =IF(COUNT($FP7:$IL7)=0,"",IF(COUNT($FP7:$IL7)<6,SUM($FP7:$IL7)/COUNT($FP7:$IL7),(LARGE($FP7:$IL7,1)+LARGE($FP7:$IL7,2)+LARGE($FP7:$IL7,3)+LARGE($FP7:$IL7,4)+LARGE($FP7:$IL7,5))/5)) | FN7: =IF(FO7="","",IF(FO7<5,FO7,5)) | FO7: =IF(COUNT(FP7:IL7)=0,"",COUNT(FP7:IL7)) | FP7: =INDEX($I7:$FB7,,1+(2*(COLUMN(A$1:A2)-1))) | FQ7: =INDEX($I7:$FB7,,1+(2*(COLUMN(B$1:B2)-1))) | FR7: =INDEX($I7:$FB7,,1+(2*(COLUMN(C$1:C2)-1))) | FS7: =INDEX($I7:$FB7,,1+(2*(COLUMN(D$1:D2)-1))) | FT7: =INDEX($I7:$FB7,,1+(2*(COLUMN(E$1:E2)-1))) | FU7: =INDEX($I7:$FB7,,1+(2*(COLUMN(F$1:F2)-1))) | FV7: =INDEX($I7:$FB7,,1+(2*(COLUMN(G$1:G2)-1))) | FW7: =INDEX($I7:$FB7,,1+(2*(COLUMN(H$1:H2)-1))) | ... IL7: =INDEX($I7:$FB7,,1+(2*(COLUMN(BW$1:BW2)-1)))
A8: =IF($B8="","",IF(VLOOKUP($B8,'Skyttere registrering'!$AB$2:$AE$101,3,FALSE)=0,"",VLOOKUP($B8,'Skyttere registrering'!$AB$2:$AE$101,3,FALSE))) | C8: =IF($B8="","",IF(VLOOKUP($B8,'Skyttere registrering'!$AB$2:$AE$101,2,FALSE)=0,"",VLOOKUP($B8,'Skyttere registrering'!$AB$2:$AE$101,2,FALSE))) | D8: =IF($B8="","",IF(VLOOKUP($B8,'Skyttere registrering'!$AB$2:$AE$101,4,FALSE)=0,"",VLOOKUP($B8,'Skyttere registrering'!$AB$2:$AE$101,4,FALSE))) | E8: =IF(G8="","",IF(G8<7.5,"1",IF(G8<8.1,"2",IF(G8<8.6,"3",IF(G8<9,"4",IF(G8<9.3,"5",IF(G8<9.5,"6","7"))))))) | F8: =FO8 | G8: =FM8 | I8: =IF(AND($B8<>"",H$3<>"",H8<>""),H8/H$3,"") | K8: =IF(AND($B8<>"",J$3<>"",J8<>""),J8/J$3,"") | M8: =IF(AND($B8<>"",L$3<>"",L8<>""),L8/L$3,"") | O8: =IF(AND($B8<>"",N$3<>"",N8<>""),N8/N$3,"") | Q8: =IF(AND($B8<>"",P$3<>"",P8<>""),P8/P$3,"") | S8: =IF(AND($B8<>"",R$3<>"",R8<>""),R8/R$3,"") | U8: =IF(AND($B8<>"",T$3<>"",T8<>""),T8/T$3,"") | W8: =IF(AND($B8<>"",V$3<>"",V8<>""),V8/V$3,"") | Y8: =IF(AND($B8<>"",X$3<>"",X8<>""),X8/X$3,"") | AA8: =IF(AND($B8<>"",Z$3<>"",Z8<>""),Z8/Z$3,"") | AC8: =IF(AND($B8<>"",AB$3<>"",AB8<>""),AB8/AB$3,"") | AE8: =IF(AND($B8<>"",AD$3<>"",AD8<>""),AD8/AD$3,"") | AG8: =IF(AND($B8<>"",AF$3<>"",AF8<>""),AF8/AF$3,"") | AI8: =IF(AND($B8<>"",AH$3<>"",AH8<>""),AH8/AH$3,"") | AK8: =IF(AND($B8<>"",AJ$3<>"",AJ8<>""),AJ8/AJ$3,"") | AM8: =IF(AND($B8<>"",AL$3<>"",AL8<>""),AL8/AL$3,"") | AO8: =IF(AND($B8<>"",AN$3<>"",AN8<>""),AN8/AN$3,"") | AQ8: =IF(AND($B8<>"",AP$3<>"",AP8<>""),AP8/AP$3,"") | AS8: =IF(AND($B8<>"",AR$3<>"",AR8<>""),AR8/AR$3,"") | AU8: =IF(AND($B8<>"",AT$3<>"",AT8<>""),AT8/AT$3,"") | AW8: =IF(AND($B8<>"",AV$3<>"",AV8<>""),AV8/AV$3,"") | AY8: =IF(AND($B8<>"",AX$3<>"",AX8<>""),AX8/AX$3,"") | BA8: =IF(AND($B8<>"",AZ$3<>"",AZ8<>""),AZ8/AZ$3,"") | BC8: =IF(AND($B8<>"",BB$3<>"",BB8<>""),BB8/BB$3,"") | BE8: =IF(AND($B8<>"",BD$3<>"",BD8<>""),BD8/BD$3,"") | BG8: =IF(AND($B8<>"",BF$3<>"",BF8<>""),BF8/BF$3,"") | BI8: =IF(AND($B8<>"",BH$3<>"",BH8<>""),BH8/BH$3,"") | BK8: =IF(AND($B8<>"",BJ$3<>"",BJ8<>""),BJ8/BJ$3,"") | BM8: =IF(AND($B8<>"",BL$3<>"",BL8<>""),BL8/BL$3,"") | BO8: =IF(AND($B8<>"",BN$3<>"",BN8<>""),BN8/BN$3,"") | BQ8: =IF(AND($B8<>"",BP$3<>"",BP8<>""),BP8/BP$3,"") | BS8: =IF(AND($B8<>"",BR$3<>"",BR8<>""),BR8/BR$3,"") | BU8: =IF(AND($B8<>"",BT$3<>"",BT8<>""),BT8/BT$3,"") | BW8: =IF(AND($B8<>"",BV$3<>"",BV8<>""),BV8/BV$3,"") | BY8: =IF(AND($B8<>"",BX$3<>"",BX8<>""),BX8/BX$3,"") | CA8: =IF(AND($B8<>"",BZ$3<>"",BZ8<>""),BZ8/BZ$3,"") | CC8: =IF(AND($B8<>"",CB$3<>"",CB8<>""),CB8/CB$3,"") | CE8: =IF(AND($B8<>"",CD$3<>"",CD8<>""),CD8/CD$3,"") | CG8: =IF(AND($B8<>"",CF$3<>"",CF8<>""),CF8/CF$3,"") | CI8: =IF(AND($B8<>"",CH$3<>"",CH8<>""),CH8/CH$3,"") | CK8: =IF(AND($B8<>"",CJ$3<>"",CJ8<>""),CJ8/CJ$3,"") | CM8: =IF(AND($B8<>"",CL$3<>"",CL8<>""),CL8/CL$3,"") | CO8: =IF(AND($B8<>"",CN$3<>"",CN8<>""),CN8/CN$3,"") | CQ8: =IF(AND($B8<>"",CP$3<>"",CP8<>""),CP8/CP$3,"") | CS8: =IF(AND($B8<>"",CR$3<>"",CR8<>""),CR8/CR$3,"") | CU8: =IF(AND($B8<>"",CT$3<>"",CT8<>""),CT8/CT$3,"") | CW8: =IF(AND($B8<>"",CV$3<>"",CV8<>""),CV8/CV$3,"") | CY8: =IF(AND($B8<>"",CX$3<>"",CX8<>""),CX8/CX$3,"") | DA8: =IF(AND($B8<>"",CZ$3<>"",CZ8<>""),CZ8/CZ$3,"") | DC8: =IF(AND($B8<>"",DB$3<>"",DB8<>""),DB8/DB$3,"") | DE8: =IF(AND($B8<>"",DD$3<>"",DD8<>""),DD8/DD$3,"") | DG8: =IF(AND($B8<>"",DF$3<>"",DF8<>""),DF8/DF$3,"") | DI8: =IF(AND($B8<>"",DH$3<>"",DH8<>""),DH8/DH$3,"") | DK8: =IF(AND($B8<>"",DJ$3<>"",DJ8<>""),DJ8/DJ$3,"") | DM8: =IF(AND($B8<>"",DL$3<>"",DL8<>""),DL8/DL$3,"") | DO8: =IF(AND($B8<>"",DN$3<>"",DN8<>""),DN8/DN$3,"") | DQ8: =IF(AND($B8<>"",DP$3<>"",DP8<>""),DP8/DP$3,"") | DS8: =IF(AND($B8<>"",DR$3<>"",DR8<>""),DR8/DR$3,"") | DU8: =IF(AND($B8<>"",DT$3<>"",DT8<>""),DT8/DT$3,"") | DW8: =IF(AND($B8<>"",DV$3<>"",DV8<>""),DV8/DV$3,"") | DY8: =IF(AND($B8<>"",DX$3<>"",DX8<>""),DX8/DX$3,"") | EA8: =IF(AND($B8<>"",DZ$3<>"",DZ8<>""),DZ8/DZ$3,"") | EC8: =IF(AND($B8<>"",EB$3<>"",EB8<>""),EB8/EB$3,"") | EE8: =IF(AND($B8<>"",ED$3<>"",ED8<>""),ED8/ED$3,"") | EG8: =IF(AND($B8<>"",EF$3<>"",EF8<>""),EF8/EF$3,"") | EI8: =IF(AND($B8<>"",EH$3<>"",EH8<>""),EH8/EH$3,"") | EK8: =IF(AND($B8<>"",EJ$3<>"",EJ8<>""),EJ8/EJ$3,"") | EM8: =IF(AND($B8<>"",EL$3<>"",EL8<>""),EL8/EL$3,"") | EO8: =IF(AND($B8<>"",EN$3<>"",EN8<>""),EN8/EN$3,"") | EQ8: =IF(AND($B8<>"",EP$3<>"",EP8<>""),EP8/EP$3,"") | ES8: =IF(AND($B8<>"",ER$3<>"",ER8<>""),ER8/ER$3,"") | EU8: =IF(AND($B8<>"",ET$3<>"",ET8<>""),ET8/ET$3,"") | EW8: =IF(AND($B8<>"",EV$3<>"",EV8<>""),EV8/EV$3,"") | EY8: =IF(AND($B8<>"",EX$3<>"",EX8<>""),EX8/EX$3,"") | FA8: =IF(AND($B8<>"",EZ$3<>"",EZ8<>""),EZ8/EZ$3,"") | FM8: =IF(COUNT($FP8:$IL8)=0,"",IF(COUNT($FP8:$IL8)<6,SUM($FP8:$IL8)/COUNT($FP8:$IL8),(LARGE($FP8:$IL8,1)+LARGE($FP8:$IL8,2)+LARGE($FP8:$IL8,3)+LARGE($FP8:$IL8,4)+LARGE($FP8:$IL8,5))/5)) | FN8: =IF(FO8="","",IF(FO8<5,FO8,5)) | FO8: =IF(COUNT(FP8:IL8)=0,"",COUNT(FP8:IL8)) | FP8: =INDEX($I8:$FB8,,1+(2*(COLUMN(A$1:A3)-1))) | FQ8: =INDEX($I8:$FB8,,1+(2*(COLUMN(B$1:B3)-1))) | FR8: =INDEX($I8:$FB8,,1+(2*(COLUMN(C$1:C3)-1))) | FS8: =INDEX($I8:$FB8,,1+(2*(COLUMN(D$1:D3)-1))) | FT8: =INDEX($I8:$FB8,,1+(2*(COLUMN(E$1:E3)-1))) | FU8: =INDEX($I8:$FB8,,1+(2*(COLUMN(F$1:F3)-1))) | FV8: =INDEX($I8:$FB8,,1+(2*(COLUMN(G$1:G3)-1))) | FW8: =INDEX($I8:$FB8,,1+(2*(COLUMN(H$1:H3)-1))) | ... IL8: =INDEX($I8:$FB8,,1+(2*(COLUMN(BW$1:BW3)-1)))
A9: =IF($B9="","",IF(VLOOKUP($B9,'Skyttere registrering'!$AB$2:$AE$101,3,FALSE)=0,"",VLOOKUP($B9,'Skyttere registrering'!$AB$2:$AE$101,3,FALSE))) | C9: =IF($B9="","",IF(VLOOKUP($B9,'Skyttere registrering'!$AB$2:$AE$101,2,FALSE)=0,"",VLOOKUP($B9,'Skyttere registrering'!$AB$2:$AE$101,2,FALSE))) | D9: =IF($B9="","",IF(VLOOKUP($B9,'Skyttere registrering'!$AB$2:$AE$101,4,FALSE)=0,"",VLOOKUP($B9,'Skyttere registrering'!$AB$2:$AE$101,4,FALSE))) | E9: =IF(G9="","",IF(G9<7.5,"1",IF(G9<8.1,"2",IF(G9<8.6,"3",IF(G9<9,"4",IF(G9<9.3,"5",IF(G9<9.5,"6","7"))))))) | F9: =FO9 | G9: =FM9 | I9: =IF(AND($B9<>"",H$3<>"",H9<>""),H9/H$3,"") | K9: =IF(AND($B9<>"",J$3<>"",J9<>""),J9/J$3,"") | M9: =IF(AND($B9<>"",L$3<>"",L9<>""),L9/L$3,"") | O9: =IF(AND($B9<>"",N$3<>"",N9<>""),N9/N$3,"") | Q9: =IF(AND($B9<>"",P$3<>"",P9<>""),P9/P$3,"") | S9: =IF(AND($B9<>"",R$3<>"",R9<>""),R9/R$3,"") | U9: =IF(AND($B9<>"",T$3<>"",T9<>""),T9/T$3,"") | W9: =IF(AND($B9<>"",V$3<>"",V9<>""),V9/V$3,"") | Y9: =IF(AND($B9<>"",X$3<>"",X9<>""),X9/X$3,"") | AA9: =IF(AND($B9<>"",Z$3<>"",Z9<>""),Z9/Z$3,"") | AC9: =IF(AND($B9<>"",AB$3<>"",AB9<>""),AB9/AB$3,"") | AE9: =IF(AND($B9<>"",AD$3<>"",AD9<>""),AD9/AD$3,"") | AG9: =IF(AND($B9<>"",AF$3<>"",AF9<>""),AF9/AF$3,"") | AI9: =IF(AND($B9<>"",AH$3<>"",AH9<>""),AH9/AH$3,"") | AK9: =IF(AND($B9<>"",AJ$3<>"",AJ9<>""),AJ9/AJ$3,"") | AM9: =IF(AND($B9<>"",AL$3<>"",AL9<>""),AL9/AL$3,"") | AO9: =IF(AND($B9<>"",AN$3<>"",AN9<>""),AN9/AN$3,"") | AQ9: =IF(AND($B9<>"",AP$3<>"",AP9<>""),AP9/AP$3,"") | AS9: =IF(AND($B9<>"",AR$3<>"",AR9<>""),AR9/AR$3,"") | AU9: =IF(AND($B9<>"",AT$3<>"",AT9<>""),AT9/AT$3,"") | AW9: =IF(AND($B9<>"",AV$3<>"",AV9<>""),AV9/AV$3,"") | AY9: =IF(AND($B9<>"",AX$3<>"",AX9<>""),AX9/AX$3,"") | BA9: =IF(AND($B9<>"",AZ$3<>"",AZ9<>""),AZ9/AZ$3,"") | BC9: =IF(AND($B9<>"",BB$3<>"",BB9<>""),BB9/BB$3,"") | BE9: =IF(AND($B9<>"",BD$3<>"",BD9<>""),BD9/BD$3,"") | BG9: =IF(AND($B9<>"",BF$3<>"",BF9<>""),BF9/BF$3,"") | BI9: =IF(AND($B9<>"",BH$3<>"",BH9<>""),BH9/BH$3,"") | BK9: =IF(AND($B9<>"",BJ$3<>"",BJ9<>""),BJ9/BJ$3,"") | BM9: =IF(AND($B9<>"",BL$3<>"",BL9<>""),BL9/BL$3,"") | BO9: =IF(AND($B9<>"",BN$3<>"",BN9<>""),BN9/BN$3,"") | BQ9: =IF(AND($B9<>"",BP$3<>"",BP9<>""),BP9/BP$3,"") | BS9: =IF(AND($B9<>"",BR$3<>"",BR9<>""),BR9/BR$3,"") | BU9: =IF(AND($B9<>"",BT$3<>"",BT9<>""),BT9/BT$3,"") | BW9: =IF(AND($B9<>"",BV$3<>"",BV9<>""),BV9/BV$3,"") | BY9: =IF(AND($B9<>"",BX$3<>"",BX9<>""),BX9/BX$3,"") | CA9: =IF(AND($B9<>"",BZ$3<>"",BZ9<>""),BZ9/BZ$3,"") | CC9: =IF(AND($B9<>"",CB$3<>"",CB9<>""),CB9/CB$3,"") | CE9: =IF(AND($B9<>"",CD$3<>"",CD9<>""),CD9/CD$3,"") | CG9: =IF(AND($B9<>"",CF$3<>"",CF9<>""),CF9/CF$3,"") | CI9: =IF(AND($B9<>"",CH$3<>"",CH9<>""),CH9/CH$3,"") | CK9: =IF(AND($B9<>"",CJ$3<>"",CJ9<>""),CJ9/CJ$3,"") | CM9: =IF(AND($B9<>"",CL$3<>"",CL9<>""),CL9/CL$3,"") | CO9: =IF(AND($B9<>"",CN$3<>"",CN9<>""),CN9/CN$3,"") | CQ9: =IF(AND($B9<>"",CP$3<>"",CP9<>""),CP9/CP$3,"") | CS9: =IF(AND($B9<>"",CR$3<>"",CR9<>""),CR9/CR$3,"") | CU9: =IF(AND($B9<>"",CT$3<>"",CT9<>""),CT9/CT$3,"") | CW9: =IF(AND($B9<>"",CV$3<>"",CV9<>""),CV9/CV$3,"") | CY9: =IF(AND($B9<>"",CX$3<>"",CX9<>""),CX9/CX$3,"") | DA9: =IF(AND($B9<>"",CZ$3<>"",CZ9<>""),CZ9/CZ$3,"") | DC9: =IF(AND($B9<>"",DB$3<>"",DB9<>""),DB9/DB$3,"") | DE9: =IF(AND($B9<>"",DD$3<>"",DD9<>""),DD9/DD$3,"") | DG9: =IF(AND($B9<>"",DF$3<>"",DF9<>""),DF9/DF$3,"") | DI9: =IF(AND($B9<>"",DH$3<>"",DH9<>""),DH9/DH$3,"") | DK9: =IF(AND($B9<>"",DJ$3<>"",DJ9<>""),DJ9/DJ$3,"") | DM9: =IF(AND($B9<>"",DL$3<>"",DL9<>""),DL9/DL$3,"") | DO9: =IF(AND($B9<>"",DN$3<>"",DN9<>""),DN9/DN$3,"") | DQ9: =IF(AND($B9<>"",DP$3<>"",DP9<>""),DP9/DP$3,"") | DS9: =IF(AND($B9<>"",DR$3<>"",DR9<>""),DR9/DR$3,"") | DU9: =IF(AND($B9<>"",DT$3<>"",DT9<>""),DT9/DT$3,"") | DW9: =IF(AND($B9<>"",DV$3<>"",DV9<>""),DV9/DV$3,"") | DY9: =IF(AND($B9<>"",DX$3<>"",DX9<>""),DX9/DX$3,"") | EA9: =IF(AND($B9<>"",DZ$3<>"",DZ9<>""),DZ9/DZ$3,"") | EC9: =IF(AND($B9<>"",EB$3<>"",EB9<>""),EB9/EB$3,"") | EE9: =IF(AND($B9<>"",ED$3<>"",ED9<>""),ED9/ED$3,"") | EG9: =IF(AND($B9<>"",EF$3<>"",EF9<>""),EF9/EF$3,"") | EI9: =IF(AND($B9<>"",EH$3<>"",EH9<>""),EH9/EH$3,"") | EK9: =IF(AND($B9<>"",EJ$3<>"",EJ9<>""),EJ9/EJ$3,"") | EM9: =IF(AND($B9<>"",EL$3<>"",EL9<>""),EL9/EL$3,"") | EO9: =IF(AND($B9<>"",EN$3<>"",EN9<>""),EN9/EN$3,"") | EQ9: =IF(AND($B9<>"",EP$3<>"",EP9<>""),EP9/EP$3,"") | ES9: =IF(AND($B9<>"",ER$3<>"",ER9<>""),ER9/ER$3,"") | EU9: =IF(AND($B9<>"",ET$3<>"",ET9<>""),ET9/ET$3,"") | EW9: =IF(AND($B9<>"",EV$3<>"",EV9<>""),EV9/EV$3,"") | EY9: =IF(AND($B9<>"",EX$3<>"",EX9<>""),EX9/EX$3,"") | FA9: =IF(AND($B9<>"",EZ$3<>"",EZ9<>""),EZ9/EZ$3,"") | FM9: =IF(COUNT($FP9:$IL9)=0,"",IF(COUNT($FP9:$IL9)<6,SUM($FP9:$IL9)/COUNT($FP9:$IL9),(LARGE($FP9:$IL9,1)+LARGE($FP9:$IL9,2)+LARGE($FP9:$IL9,3)+LARGE($FP9:$IL9,4)+LARGE($FP9:$IL9,5))/5)) | FN9: =IF(FO9="","",IF(FO9<5,FO9,5)) | FO9: =IF(COUNT(FP9:IL9)=0,"",COUNT(FP9:IL9)) | FP9: =INDEX($I9:$FB9,,1+(2*(COLUMN(A$1:A1)-1))) | FQ9: =INDEX($I9:$FB9,,1+(2*(COLUMN(B$1:B1)-1))) | FR9: =INDEX($I9:$FB9,,1+(2*(COLUMN(C$1:C1)-1))) | FS9: =INDEX($I9:$FB9,,1+(2*(COLUMN(D$1:D4)-1))) | FT9: =INDEX($I9:$FB9,,1+(2*(COLUMN(E$1:E4)-1))) | FU9: =INDEX($I9:$FB9,,1+(2*(COLUMN(F$1:F4)-1))) | FV9: =INDEX($I9:$FB9,,1+(2*(COLUMN(G$1:G4)-1))) | FW9: =INDEX($I9:$FB9,,1+(2*(COLUMN(H$1:H4)-1))) | FX9: =INDEX($I9:$FB9,,1+(2*(COLUMN(I$1:I4)-1))) | FY9: =INDEX($I9:$FB9,,1+(2*(COLUMN(J$1:J4)-1))) | FZ9: =INDEX($I9:$FB9,,1+(2*(COLUMN(K$1:K4)-1))) | ... IL9: =INDEX($I9:$FB9,,1+(2*(COLUMN(BW$1:BW4)-1)))
A10: =IF($B10="","",IF(VLOOKUP($B10,'Skyttere registrering'!$AB$2:$AE$101,3,FALSE)=0,"",VLOOKUP($B10,'Skyttere registrering'!$AB$2:$AE$101,3,FALSE))) | C10: =IF($B10="","",IF(VLOOKUP($B10,'Skyttere registrering'!$AB$2:$AE$101,2,FALSE)=0,"",VLOOKUP($B10,'Skyttere registrering'!$AB$2:$AE$101,2,FALSE))) | D10: =IF($B10="","",IF(VLOOKUP($B10,'Skyttere registrering'!$AB$2:$AE$101,4,FALSE)=0,"",VLOOKUP($B10,'Skyttere registrering'!$AB$2:$AE$101,4,FALSE))) | E10: =IF(G10="","",IF(G10<7.5,"1",IF(G10<8.1,"2",IF(G10<8.6,"3",IF(G10<9,"4",IF(G10<9.3,"5",IF(G10<9.5,"6","7"))))))) | F10: =FO10 | G10: =FM10 | I10: =IF(AND($B10<>"",H$3<>"",H10<>""),H10/H$3,"") | K10: =IF(AND($B10<>"",J$3<>"",J10<>""),J10/J$3,"") | M10: =IF(AND($B10<>"",L$3<>"",L10<>""),L10/L$3,"") | O10: =IF(AND($B10<>"",N$3<>"",N10<>""),N10/N$3,"") | Q10: =IF(AND($B10<>"",P$3<>"",P10<>""),P10/P$3,"") | S10: =IF(AND($B10<>"",R$3<>"",R10<>""),R10/R$3,"") | U10: =IF(AND($B10<>"",T$3<>"",T10<>""),T10/T$3,"") | W10: =IF(AND($B10<>"",V$3<>"",V10<>""),V10/V$3,"") | Y10: =IF(AND($B10<>"",X$3<>"",X10<>""),X10/X$3,"") | AA10: =IF(AND($B10<>"",Z$3<>"",Z10<>""),Z10/Z$3,"") | AC10: =IF(AND($B10<>"",AB$3<>"",AB10<>""),AB10/AB$3,"") | AE10: =IF(AND($B10<>"",AD$3<>"",AD10<>""),AD10/AD$3,"") | AG10: =IF(AND($B10<>"",AF$3<>"",AF10<>""),AF10/AF$3,"") | AI10: =IF(AND($B10<>"",AH$3<>"",AH10<>""),AH10/AH$3,"") | AK10: =IF(AND($B10<>"",AJ$3<>"",AJ10<>""),AJ10/AJ$3,"") | AM10: =IF(AND($B10<>"",AL$3<>"",AL10<>""),AL10/AL$3,"") | AO10: =IF(AND($B10<>"",AN$3<>"",AN10<>""),AN10/AN$3,"") | AQ10: =IF(AND($B10<>"",AP$3<>"",AP10<>""),AP10/AP$3,"") | AS10: =IF(AND($B10<>"",AR$3<>"",AR10<>""),AR10/AR$3,"") | AU10: =IF(AND($B10<>"",AT$3<>"",AT10<>""),AT10/AT$3,"") | AW10: =IF(AND($B10<>"",AV$3<>"",AV10<>""),AV10/AV$3,"") | AY10: =IF(AND($B10<>"",AX$3<>"",AX10<>""),AX10/AX$3,"") | BA10: =IF(AND($B10<>"",AZ$3<>"",AZ10<>""),AZ10/AZ$3,"") | BC10: =IF(AND($B10<>"",BB$3<>"",BB10<>""),BB10/BB$3,"") | BE10: =IF(AND($B10<>"",BD$3<>"",BD10<>""),BD10/BD$3,"") | BG10: =IF(AND($B10<>"",BF$3<>"",BF10<>""),BF10/BF$3,"") | BI10: =IF(AND($B10<>"",BH$3<>"",BH10<>""),BH10/BH$3,"") | BK10: =IF(AND($B10<>"",BJ$3<>"",BJ10<>""),BJ10/BJ$3,"") | BM10: =IF(AND($B10<>"",BL$3<>"",BL10<>""),BL10/BL$3,"") | BO10: =IF(AND($B10<>"",BN$3<>"",BN10<>""),BN10/BN$3,"") | BQ10: =IF(AND($B10<>"",BP$3<>"",BP10<>""),BP10/BP$3,"") | BS10: =IF(AND($B10<>"",BR$3<>"",BR10<>""),BR10/BR$3,"") | BU10: =IF(AND($B10<>"",BT$3<>"",BT10<>""),BT10/BT$3,"") | BW10: =IF(AND($B10<>"",BV$3<>"",BV10<>""),BV10/BV$3,"") | BY10: =IF(AND($B10<>"",BX$3<>"",BX10<>""),BX10/BX$3,"") | CA10: =IF(AND($B10<>"",BZ$3<>"",BZ10<>""),BZ10/BZ$3,"") | CC10: =IF(AND($B10<>"",CB$3<>"",CB10<>""),CB10/CB$3,"") | CE10: =IF(AND($B10<>"",CD$3<>"",CD10<>""),CD10/CD$3,"") | CG10: =IF(AND($B10<>"",CF$3<>"",CF10<>""),CF10/CF$3,"") | CI10: =IF(AND($B10<>"",CH$3<>"",CH10<>""),CH10/CH$3,"") | CK10: =IF(AND($B10<>"",CJ$3<>"",CJ10<>""),CJ10/CJ$3,"") | CM10: =IF(AND($B10<>"",CL$3<>"",CL10<>""),CL10/CL$3,"") | CO10: =IF(AND($B10<>"",CN$3<>"",CN10<>""),CN10/CN$3,"") | CQ10: =IF(AND($B10<>"",CP$3<>"",CP10<>""),CP10/CP$3,"") | CS10: =IF(AND($B10<>"",CR$3<>"",CR10<>""),CR10/CR$3,"") | CU10: =IF(AND($B10<>"",CT$3<>"",CT10<>""),CT10/CT$3,"") | CW10: =IF(AND($B10<>"",CV$3<>"",CV10<>""),CV10/CV$3,"") | CY10: =IF(AND($B10<>"",CX$3<>"",CX10<>""),CX10/CX$3,"") | DA10: =IF(AND($B10<>"",CZ$3<>"",CZ10<>""),CZ10/CZ$3,"") | DC10: =IF(AND($B10<>"",DB$3<>"",DB10<>""),DB10/DB$3,"") | DE10: =IF(AND($B10<>"",DD$3<>"",DD10<>""),DD10/DD$3,"") | DG10: =IF(AND($B10<>"",DF$3<>"",DF10<>""),DF10/DF$3,"") | DI10: =IF(AND($B10<>"",DH$3<>"",DH10<>""),DH10/DH$3,"") | DK10: =IF(AND($B10<>"",DJ$3<>"",DJ10<>""),DJ10/DJ$3,"") | DM10: =IF(AND($B10<>"",DL$3<>"",DL10<>""),DL10/DL$3,"") | DO10: =IF(AND($B10<>"",DN$3<>"",DN10<>""),DN10/DN$3,"") | DQ10: =IF(AND($B10<>"",DP$3<>"",DP10<>""),DP10/DP$3,"") | DS10: =IF(AND($B10<>"",DR$3<>"",DR10<>""),DR10/DR$3,"") | DU10: =IF(AND($B10<>"",DT$3<>"",DT10<>""),DT10/DT$3,"") | DW10: =IF(AND($B10<>"",DV$3<>"",DV10<>""),DV10/DV$3,"") | DY10: =IF(AND($B10<>"",DX$3<>"",DX10<>""),DX10/DX$3,"") | EA10: =IF(AND($B10<>"",DZ$3<>"",DZ10<>""),DZ10/DZ$3,"") | EC10: =IF(AND($B10<>"",EB$3<>"",EB10<>""),EB10/EB$3,"") | EE10: =IF(AND($B10<>"",ED$3<>"",ED10<>""),ED10/ED$3,"") | EG10: =IF(AND($B10<>"",EF$3<>"",EF10<>""),EF10/EF$3,"") | EI10: =IF(AND($B10<>"",EH$3<>"",EH10<>""),EH10/EH$3,"") | EK10: =IF(AND($B10<>"",EJ$3<>"",EJ10<>""),EJ10/EJ$3,"") | EM10: =IF(AND($B10<>"",EL$3<>"",EL10<>""),EL10/EL$3,"") | EO10: =IF(AND($B10<>"",EN$3<>"",EN10<>""),EN10/EN$3,"") | EQ10: =IF(AND($B10<>"",EP$3<>"",EP10<>""),EP10/EP$3,"") | ES10: =IF(AND($B10<>"",ER$3<>"",ER10<>""),ER10/ER$3,"") | EU10: =IF(AND($B10<>"",ET$3<>"",ET10<>""),ET10/ET$3,"") | EW10: =IF(AND($B10<>"",EV$3<>"",EV10<>""),EV10/EV$3,"") | EY10: =IF(AND($B10<>"",EX$3<>"",EX10<>""),EX10/EX$3,"") | FA10: =IF(AND($B10<>"",EZ$3<>"",EZ10<>""),EZ10/EZ$3,"") | FM10: =IF(COUNT($FP10:$IL10)=0,"",IF(COUNT($FP10:$IL10)<6,SUM($FP10:$IL10)/COUNT($FP10:$IL10),(LARGE($FP10:$IL10,1)+LARGE($FP10:$IL10,2)+LARGE($FP10:$IL10,3)+LARGE($FP10:$IL10,4)+LARGE($FP10:$IL10,5))/5)) | FN10: =IF(FO10="","",IF(FO10<5,FO10,5)) | FO10: =IF(COUNT(FP10:IL10)=0,"",COUNT(FP10:IL10)) | FP10: =INDEX($I10:$FB10,,1+(2*(COLUMN(A$1:A3)-1))) | FQ10: =INDEX($I10:$FB10,,1+(2*(COLUMN(B$1:B3)-1))) | FR10: =INDEX($I10:$FB10,,1+(2*(COLUMN(C$1:C3)-1))) | FS10: =INDEX($I10:$FB10,,1+(2*(COLUMN(D$1:D5)-1))) | FT10: =INDEX($I10:$FB10,,1+(2*(COLUMN(E$1:E5)-1))) | FU10: =INDEX($I10:$FB10,,1+(2*(COLUMN(F$1:F5)-1))) | FV10: =INDEX($I10:$FB10,,1+(2*(COLUMN(G$1:G5)-1))) | FW10: =INDEX($I10:$FB10,,1+(2*(COLUMN(H$1:H5)-1))) | FX10: =INDEX($I10:$FB10,,1+(2*(COLUMN(I$1:I5)-1))) | FY10: =INDEX($I10:$FB10,,1+(2*(COLUMN(J$1:J5)-1))) | FZ10: =INDEX($I10:$FB10,,1+(2*(COLUMN(K$1:K5)-1))) | ... IL10: =INDEX($I10:$FB10,,1+(2*(COLUMN(BW$1:BW5)-1)))
A11: =IF($B11="","",IF(VLOOKUP($B11,'Skyttere registrering'!$AB$2:$AE$101,3,FALSE)=0,"",VLOOKUP($B11,'Skyttere registrering'!$AB$2:$AE$101,3,FALSE))) | C11: =IF($B11="","",IF(VLOOKUP($B11,'Skyttere registrering'!$AB$2:$AE$101,2,FALSE)=0,"",VLOOKUP($B11,'Skyttere registrering'!$AB$2:$AE$101,2,FALSE))) | D11: =IF($B11="","",IF(VLOOKUP($B11,'Skyttere registrering'!$AB$2:$AE$101,4,FALSE)=0,"",VLOOKUP($B11,'Skyttere registrering'!$AB$2:$AE$101,4,FALSE))) | E11: =IF(G11="","",IF(G11<7.5,"1",IF(G11<8.1,"2",IF(G11<8.6,"3",IF(G11<9,"4",IF(G11<9.3,"5",IF(G11<9.5,"6","7"))))))) | F11: =FO11 | G11: =FM11 | I11: =IF(AND($B11<>"",H$3<>"",H11<>""),H11/H$3,"") | K11: =IF(AND($B11<>"",J$3<>"",J11<>""),J11/J$3,"") | M11: =IF(AND($B11<>"",L$3<>"",L11<>""),L11/L$3,"") | O11: =IF(AND($B11<>"",N$3<>"",N11<>""),N11/N$3,"") | Q11: =IF(AND($B11<>"",P$3<>"",P11<>""),P11/P$3,"") | S11: =IF(AND($B11<>"",R$3<>"",R11<>""),R11/R$3,"") | U11: =IF(AND($B11<>"",T$3<>"",T11<>""),T11/T$3,"") | W11: =IF(AND($B11<>"",V$3<>"",V11<>""),V11/V$3,"") | Y11: =IF(AND($B11<>"",X$3<>"",X11<>""),X11/X$3,"") | AA11: =IF(AND($B11<>"",Z$3<>"",Z11<>""),Z11/Z$3,"") | AC11: =IF(AND($B11<>"",AB$3<>"",AB11<>""),AB11/AB$3,"") | AE11: =IF(AND($B11<>"",AD$3<>"",AD11<>""),AD11/AD$3,"") | AG11: =IF(AND($B11<>"",AF$3<>"",AF11<>""),AF11/AF$3,"") | AI11: =IF(AND($B11<>"",AH$3<>"",AH11<>""),AH11/AH$3,"") | AK11: =IF(AND($B11<>"",AJ$3<>"",AJ11<>""),AJ11/AJ$3,"") | AM11: =IF(AND($B11<>"",AL$3<>"",AL11<>""),AL11/AL$3,"") | AO11: =IF(AND($B11<>"",AN$3<>"",AN11<>""),AN11/AN$3,"") | AQ11: =IF(AND($B11<>"",AP$3<>"",AP11<>""),AP11/AP$3,"") | AS11: =IF(AND($B11<>"",AR$3<>"",AR11<>""),AR11/AR$3,"") | AU11: =IF(AND($B11<>"",AT$3<>"",AT11<>""),AT11/AT$3,"") | AW11: =IF(AND($B11<>"",AV$3<>"",AV11<>""),AV11/AV$3,"") | AY11: =IF(AND($B11<>"",AX$3<>"",AX11<>""),AX11/AX$3,"") | BA11: =IF(AND($B11<>"",AZ$3<>"",AZ11<>""),AZ11/AZ$3,"") | BC11: =IF(AND($B11<>"",BB$3<>"",BB11<>""),BB11/BB$3,"") | BE11: =IF(AND($B11<>"",BD$3<>"",BD11<>""),BD11/BD$3,"") | BG11: =IF(AND($B11<>"",BF$3<>"",BF11<>""),BF11/BF$3,"") | BI11: =IF(AND($B11<>"",BH$3<>"",BH11<>""),BH11/BH$3,"") | BK11: =IF(AND($B11<>"",BJ$3<>"",BJ11<>""),BJ11/BJ$3,"") | BM11: =IF(AND($B11<>"",BL$3<>"",BL11<>""),BL11/BL$3,"") | BO11: =IF(AND($B11<>"",BN$3<>"",BN11<>""),BN11/BN$3,"") | BQ11: =IF(AND($B11<>"",BP$3<>"",BP11<>""),BP11/BP$3,"") | BS11: =IF(AND($B11<>"",BR$3<>"",BR11<>""),BR11/BR$3,"") | BU11: =IF(AND($B11<>"",BT$3<>"",BT11<>""),BT11/BT$3,"") | BW11: =IF(AND($B11<>"",BV$3<>"",BV11<>""),BV11/BV$3,"") | BY11: =IF(AND($B11<>"",BX$3<>"",BX11<>""),BX11/BX$3,"") | CA11: =IF(AND($B11<>"",BZ$3<>"",BZ11<>""),BZ11/BZ$3,"") | CC11: =IF(AND($B11<>"",CB$3<>"",CB11<>""),CB11/CB$3,"") | CE11: =IF(AND($B11<>"",CD$3<>"",CD11<>""),CD11/CD$3,"") | CG11: =IF(AND($B11<>"",CF$3<>"",CF11<>""),CF11/CF$3,"") | CI11: =IF(AND($B11<>"",CH$3<>"",CH11<>""),CH11/CH$3,"") | CK11: =IF(AND($B11<>"",CJ$3<>"",CJ11<>""),CJ11/CJ$3,"") | CM11: =IF(AND($B11<>"",CL$3<>"",CL11<>""),CL11/CL$3,"") | CO11: =IF(AND($B11<>"",CN$3<>"",CN11<>""),CN11/CN$3,"") | CQ11: =IF(AND($B11<>"",CP$3<>"",CP11<>""),CP11/CP$3,"") | CS11: =IF(AND($B11<>"",CR$3<>"",CR11<>""),CR11/CR$3,"") | CU11: =IF(AND($B11<>"",CT$3<>"",CT11<>""),CT11/CT$3,"") | CW11: =IF(AND($B11<>"",CV$3<>"",CV11<>""),CV11/CV$3,"") | CY11: =IF(AND($B11<>"",CX$3<>"",CX11<>""),CX11/CX$3,"") | DA11: =IF(AND($B11<>"",CZ$3<>"",CZ11<>""),CZ11/CZ$3,"") | DC11: =IF(AND($B11<>"",DB$3<>"",DB11<>""),DB11/DB$3,"") | DE11: =IF(AND($B11<>"",DD$3<>"",DD11<>""),DD11/DD$3,"") | DG11: =IF(AND($B11<>"",DF$3<>"",DF11<>""),DF11/DF$3,"") | DI11: =IF(AND($B11<>"",DH$3<>"",DH11<>""),DH11/DH$3,"") | DK11: =IF(AND($B11<>"",DJ$3<>"",DJ11<>""),DJ11/DJ$3,"") | DM11: =IF(AND($B11<>"",DL$3<>"",DL11<>""),DL11/DL$3,"") | DO11: =IF(AND($B11<>"",DN$3<>"",DN11<>""),DN11/DN$3,"") | DQ11: =IF(AND($B11<>"",DP$3<>"",DP11<>""),DP11/DP$3,"") | DS11: =IF(AND($B11<>"",DR$3<>"",DR11<>""),DR11/DR$3,"") | DU11: =IF(AND($B11<>"",DT$3<>"",DT11<>""),DT11/DT$3,"") | DW11: =IF(AND($B11<>"",DV$3<>"",DV11<>""),DV11/DV$3,"") | DY11: =IF(AND($B11<>"",DX$3<>"",DX11<>""),DX11/DX$3,"") | EA11: =IF(AND($B11<>"",DZ$3<>"",DZ11<>""),DZ11/DZ$3,"") | EC11: =IF(AND($B11<>"",EB$3<>"",EB11<>""),EB11/EB$3,"") | EE11: =IF(AND($B11<>"",ED$3<>"",ED11<>""),ED11/ED$3,"") | EG11: =IF(AND($B11<>"",EF$3<>"",EF11<>""),EF11/EF$3,"") | EI11: =IF(AND($B11<>"",EH$3<>"",EH11<>""),EH11/EH$3,"") | EK11: =IF(AND($B11<>"",EJ$3<>"",EJ11<>""),EJ11/EJ$3,"") | EM11: =IF(AND($B11<>"",EL$3<>"",EL11<>""),EL11/EL$3,"") | EO11: =IF(AND($B11<>"",EN$3<>"",EN11<>""),EN11/EN$3,"") | EQ11: =IF(AND($B11<>"",EP$3<>"",EP11<>""),EP11/EP$3,"") | ES11: =IF(AND($B11<>"",ER$3<>"",ER11<>""),ER11/ER$3,"") | EU11: =IF(AND($B11<>"",ET$3<>"",ET11<>""),ET11/ET$3,"") | EW11: =IF(AND($B11<>"",EV$3<>"",EV11<>""),EV11/EV$3,"") | EY11: =IF(AND($B11<>"",EX$3<>"",EX11<>""),EX11/EX$3,"") | FA11: =IF(AND($B11<>"",EZ$3<>"",EZ11<>""),EZ11/EZ$3,"") | FM11: =IF(COUNT($FP11:$IL11)=0,"",IF(COUNT($FP11:$IL11)<6,SUM($FP11:$IL11)/COUNT($FP11:$IL11),(LARGE($FP11:$IL11,1)+LARGE($FP11:$IL11,2)+LARGE($FP11:$IL11,3)+LARGE($FP11:$IL11,4)+LARGE($FP11:$IL11,5))/5)) | FN11: =IF(FO11="","",IF(FO11<5,FO11,5)) | FO11: =IF(COUNT(FP11:IL11)=0,"",COUNT(FP11:IL11)) | FP11: =INDEX($I11:$FB11,,1+(2*(COLUMN(A$1:A4)-1))) | FQ11: =INDEX($I11:$FB11,,1+(2*(COLUMN(B$1:B4)-1))) | FR11: =INDEX($I11:$FB11,,1+(2*(COLUMN(C$1:C4)-1))) | FS11: =INDEX($I11:$FB11,,1+(2*(COLUMN(D$1:D6)-1))) | FT11: =INDEX($I11:$FB11,,1+(2*(COLUMN(E$1:E6)-1))) | FU11: =INDEX($I11:$FB11,,1+(2*(COLUMN(F$1:F6)-1))) | FV11: =INDEX($I11:$FB11,,1+(2*(COLUMN(G$1:G6)-1))) | FW11: =INDEX($I11:$FB11,,1+(2*(COLUMN(H$1:H6)-1))) | FX11: =INDEX($I11:$FB11,,1+(2*(COLUMN(I$1:I6)-1))) | FY11: =INDEX($I11:$FB11,,1+(2*(COLUMN(J$1:J6)-1))) | FZ11: =INDEX($I11:$FB11,,1+(2*(COLUMN(K$1:K6)-1))) | ... IL11: =INDEX($I11:$FB11,,1+(2*(COLUMN(BW$1:BW6)-1)))
A12: =IF($B12="","",IF(VLOOKUP($B12,'Skyttere registrering'!$AB$2:$AE$101,3,FALSE)=0,"",VLOOKUP($B12,'Skyttere registrering'!$AB$2:$AE$101,3,FALSE))) | C12: =IF($B12="","",IF(VLOOKUP($B12,'Skyttere registrering'!$AB$2:$AE$101,2,FALSE)=0,"",VLOOKUP($B12,'Skyttere registrering'!$AB$2:$AE$101,2,FALSE))) | D12: =IF($B12="","",IF(VLOOKUP($B12,'Skyttere registrering'!$AB$2:$AE$101,4,FALSE)=0,"",VLOOKUP($B12,'Skyttere registrering'!$AB$2:$AE$101,4,FALSE))) | E12: =IF(G12="","",IF(G12<7.5,"1",IF(G12<8.1,"2",IF(G12<8.6,"3",IF(G12<9,"4",IF(G12<9.3,"5",IF(G12<9.5,"6","7"))))))) | F12: =FO12 | G12: =FM12 | I12: =IF(AND($B12<>"",H$3<>"",H12<>""),H12/H$3,"") | K12: =IF(AND($B12<>"",J$3<>"",J12<>""),J12/J$3,"") | M12: =IF(AND($B12<>"",L$3<>"",L12<>""),L12/L$3,"") | O12: =IF(AND($B12<>"",N$3<>"",N12<>""),N12/N$3,"") | Q12: =IF(AND($B12<>"",P$3<>"",P12<>""),P12/P$3,"") | S12: =IF(AND($B12<>"",R$3<>"",R12<>""),R12/R$3,"") | U12: =IF(AND($B12<>"",T$3<>"",T12<>""),T12/T$3,"") | W12: =IF(AND($B12<>"",V$3<>"",V12<>""),V12/V$3,"") | Y12: =IF(AND($B12<>"",X$3<>"",X12<>""),X12/X$3,"") | AA12: =IF(AND($B12<>"",Z$3<>"",Z12<>""),Z12/Z$3,"") | AC12: =IF(AND($B12<>"",AB$3<>"",AB12<>""),AB12/AB$3,"") | AE12: =IF(AND($B12<>"",AD$3<>"",AD12<>""),AD12/AD$3,"") | AG12: =IF(AND($B12<>"",AF$3<>"",AF12<>""),AF12/AF$3,"") | AI12: =IF(AND($B12<>"",AH$3<>"",AH12<>""),AH12/AH$3,"") | AK12: =IF(AND($B12<>"",AJ$3<>"",AJ12<>""),AJ12/AJ$3,"") | AM12: =IF(AND($B12<>"",AL$3<>"",AL12<>""),AL12/AL$3,"") | AO12: =IF(AND($B12<>"",AN$3<>"",AN12<>""),AN12/AN$3,"") | AQ12: =IF(AND($B12<>"",AP$3<>"",AP12<>""),AP12/AP$3,"") | AS12: =IF(AND($B12<>"",AR$3<>"",AR12<>""),AR12/AR$3,"") | AU12: =IF(AND($B12<>"",AT$3<>"",AT12<>""),AT12/AT$3,"") | AW12: =IF(AND($B12<>"",AV$3<>"",AV12<>""),AV12/AV$3,"") | AY12: =IF(AND($B12<>"",AX$3<>"",AX12<>""),AX12/AX$3,"") | BA12: =IF(AND($B12<>"",AZ$3<>"",AZ12<>""),AZ12/AZ$3,"") | BC12: =IF(AND($B12<>"",BB$3<>"",BB12<>""),BB12/BB$3,"") | BE12: =IF(AND($B12<>"",BD$3<>"",BD12<>""),BD12/BD$3,"") | BG12: =IF(AND($B12<>"",BF$3<>"",BF12<>""),BF12/BF$3,"") | BI12: =IF(AND($B12<>"",BH$3<>"",BH12<>""),BH12/BH$3,"") | BK12: =IF(AND($B12<>"",BJ$3<>"",BJ12<>""),BJ12/BJ$3,"") | BM12: =IF(AND($B12<>"",BL$3<>"",BL12<>""),BL12/BL$3,"") | BO12: =IF(AND($B12<>"",BN$3<>"",BN12<>""),BN12/BN$3,"") | BQ12: =IF(AND($B12<>"",BP$3<>"",BP12<>""),BP12/BP$3,"") | BS12: =IF(AND($B12<>"",BR$3<>"",BR12<>""),BR12/BR$3,"") | BU12: =IF(AND($B12<>"",BT$3<>"",BT12<>""),BT12/BT$3,"") | BW12: =IF(AND($B12<>"",BV$3<>"",BV12<>""),BV12/BV$3,"") | BY12: =IF(AND($B12<>"",BX$3<>"",BX12<>""),BX12/BX$3,"") | CA12: =IF(AND($B12<>"",BZ$3<>"",BZ12<>""),BZ12/BZ$3,"") | CC12: =IF(AND($B12<>"",CB$3<>"",CB12<>""),CB12/CB$3,"") | CE12: =IF(AND($B12<>"",CD$3<>"",CD12<>""),CD12/CD$3,"") | CG12: =IF(AND($B12<>"",CF$3<>"",CF12<>""),CF12/CF$3,"") | CI12: =IF(AND($B12<>"",CH$3<>"",CH12<>""),CH12/CH$3,"") | CK12: =IF(AND($B12<>"",CJ$3<>"",CJ12<>""),CJ12/CJ$3,"") | CM12: =IF(AND($B12<>"",CL$3<>"",CL12<>""),CL12/CL$3,"") | CO12: =IF(AND($B12<>"",CN$3<>"",CN12<>""),CN12/CN$3,"") | CQ12: =IF(AND($B12<>"",CP$3<>"",CP12<>""),CP12/CP$3,"") | CS12: =IF(AND($B12<>"",CR$3<>"",CR12<>""),CR12/CR$3,"") | CU12: =IF(AND($B12<>"",CT$3<>"",CT12<>""),CT12/CT$3,"") | CW12: =IF(AND($B12<>"",CV$3<>"",CV12<>""),CV12/CV$3,"") | CY12: =IF(AND($B12<>"",CX$3<>"",CX12<>""),CX12/CX$3,"") | DA12: =IF(AND($B12<>"",CZ$3<>"",CZ12<>""),CZ12/CZ$3,"") | DC12: =IF(AND($B12<>"",DB$3<>"",DB12<>""),DB12/DB$3,"") | DE12: =IF(AND($B12<>"",DD$3<>"",DD12<>""),DD12/DD$3,"") | DG12: =IF(AND($B12<>"",DF$3<>"",DF12<>""),DF12/DF$3,"") | DI12: =IF(AND($B12<>"",DH$3<>"",DH12<>""),DH12/DH$3,"") | DK12: =IF(AND($B12<>"",DJ$3<>"",DJ12<>""),DJ12/DJ$3,"") | DM12: =IF(AND($B12<>"",DL$3<>"",DL12<>""),DL12/DL$3,"") | DO12: =IF(AND($B12<>"",DN$3<>"",DN12<>""),DN12/DN$3,"") | DQ12: =IF(AND($B12<>"",DP$3<>"",DP12<>""),DP12/DP$3,"") | DS12: =IF(AND($B12<>"",DR$3<>"",DR12<>""),DR12/DR$3,"") | DU12: =IF(AND($B12<>"",DT$3<>"",DT12<>""),DT12/DT$3,"") | DW12: =IF(AND($B12<>"",DV$3<>"",DV12<>""),DV12/DV$3,"") | DY12: =IF(AND($B12<>"",DX$3<>"",DX12<>""),DX12/DX$3,"") | EA12: =IF(AND($B12<>"",DZ$3<>"",DZ12<>""),DZ12/DZ$3,"") | EC12: =IF(AND($B12<>"",EB$3<>"",EB12<>""),EB12/EB$3,"") | EE12: =IF(AND($B12<>"",ED$3<>"",ED12<>""),ED12/ED$3,"") | EG12: =IF(AND($B12<>"",EF$3<>"",EF12<>""),EF12/EF$3,"") | EI12: =IF(AND($B12<>"",EH$3<>"",EH12<>""),EH12/EH$3,"") | EK12: =IF(AND($B12<>"",EJ$3<>"",EJ12<>""),EJ12/EJ$3,"") | EM12: =IF(AND($B12<>"",EL$3<>"",EL12<>""),EL12/EL$3,"") | EO12: =IF(AND($B12<>"",EN$3<>"",EN12<>""),EN12/EN$3,"") | EQ12: =IF(AND($B12<>"",EP$3<>"",EP12<>""),EP12/EP$3,"") | ES12: =IF(AND($B12<>"",ER$3<>"",ER12<>""),ER12/ER$3,"") | EU12: =IF(AND($B12<>"",ET$3<>"",ET12<>""),ET12/ET$3,"") | EW12: =IF(AND($B12<>"",EV$3<>"",EV12<>""),EV12/EV$3,"") | EY12: =IF(AND($B12<>"",EX$3<>"",EX12<>""),EX12/EX$3,"") | FA12: =IF(AND($B12<>"",EZ$3<>"",EZ12<>""),EZ12/EZ$3,"") | FM12: =IF(COUNT($FP12:$IL12)=0,"",IF(COUNT($FP12:$IL12)<6,SUM($FP12:$IL12)/COUNT($FP12:$IL12),(LARGE($FP12:$IL12,1)+LARGE($FP12:$IL12,2)+LARGE($FP12:$IL12,3)+LARGE($FP12:$IL12,4)+LARGE($FP12:$IL12,5))/5)) | FN12: =IF(FO12="","",IF(FO12<5,FO12,5)) | FO12: =IF(COUNT(FP12:IL12)=0,"",COUNT(FP12:IL12)) | FP12: =INDEX($I12:$FB12,,1+(2*(COLUMN(A$1:A5)-1))) | FQ12: =INDEX($I12:$FB12,,1+(2*(COLUMN(B$1:B5)-1))) | FR12: =INDEX($I12:$FB12,,1+(2*(COLUMN(C$1:C5)-1))) | FS12: =INDEX($I12:$FB12,,1+(2*(COLUMN(D$1:D7)-1))) | FT12: =INDEX($I12:$FB12,,1+(2*(COLUMN(E$1:E7)-1))) | FU12: =INDEX($I12:$FB12,,1+(2*(COLUMN(F$1:F7)-1))) | FV12: =INDEX($I12:$FB12,,1+(2*(COLUMN(G$1:G7)-1))) | FW12: =INDEX($I12:$FB12,,1+(2*(COLUMN(H$1:H7)-1))) | FX12: =INDEX($I12:$FB12,,1+(2*(COLUMN(I$1:I7)-1))) | FY12: =INDEX($I12:$FB12,,1+(2*(COLUMN(J$1:J7)-1))) | FZ12: =INDEX($I12:$FB12,,1+(2*(COLUMN(K$1:K7)-1))) | ... IL12: =INDEX($I12:$FB12,,1+(2*(COLUMN(BW$1:BW7)-1)))
A13: =IF($B13="","",IF(VLOOKUP($B13,'Skyttere registrering'!$AB$2:$AE$101,3,FALSE)=0,"",VLOOKUP($B13,'Skyttere registrering'!$AB$2:$AE$101,3,FALSE))) | C13: =IF($B13="","",IF(VLOOKUP($B13,'Skyttere registrering'!$AB$2:$AE$101,2,FALSE)=0,"",VLOOKUP($B13,'Skyttere registrering'!$AB$2:$AE$101,2,FALSE))) | D13: =IF($B13="","",IF(VLOOKUP($B13,'Skyttere registrering'!$AB$2:$AE$101,4,FALSE)=0,"",VLOOKUP($B13,'Skyttere registrering'!$AB$2:$AE$101,4,FALSE))) | E13: =IF(G13="","",IF(G13<7.5,"1",IF(G13<8.1,"2",IF(G13<8.6,"3",IF(G13<9,"4",IF(G13<9.3,"5",IF(G13<9.5,"6","7"))))))) | F13: =FO13 | G13: =FM13 | I13: =IF(AND($B13<>"",H$3<>"",H13<>""),H13/H$3,"") | K13: =IF(AND($B13<>"",J$3<>"",J13<>""),J13/J$3,"") | M13: =IF(AND($B13<>"",L$3<>"",L13<>""),L13/L$3,"") | O13: =IF(AND($B13<>"",N$3<>"",N13<>""),N13/N$3,"") | Q13: =IF(AND($B13<>"",P$3<>"",P13<>""),P13/P$3,"") | S13: =IF(AND($B13<>"",R$3<>"",R13<>""),R13/R$3,"") | U13: =IF(AND($B13<>"",T$3<>"",T13<>""),T13/T$3,"") | W13: =IF(AND($B13<>"",V$3<>"",V13<>""),V13/V$3,"") | Y13: =IF(AND($B13<>"",X$3<>"",X13<>""),X13/X$3,"") | AA13: =IF(AND($B13<>"",Z$3<>"",Z13<>""),Z13/Z$3,"") | AC13: =IF(AND($B13<>"",AB$3<>"",AB13<>""),AB13/AB$3,"") | AE13: =IF(AND($B13<>"",AD$3<>"",AD13<>""),AD13/AD$3,"") | AG13: =IF(AND($B13<>"",AF$3<>"",AF13<>""),AF13/AF$3,"") | AI13: =IF(AND($B13<>"",AH$3<>"",AH13<>""),AH13/AH$3,"") | AK13: =IF(AND($B13<>"",AJ$3<>"",AJ13<>""),AJ13/AJ$3,"") | AM13: =IF(AND($B13<>"",AL$3<>"",AL13<>""),AL13/AL$3,"") | AO13: =IF(AND($B13<>"",AN$3<>"",AN13<>""),AN13/AN$3,"") | AQ13: =IF(AND($B13<>"",AP$3<>"",AP13<>""),AP13/AP$3,"") | AS13: =IF(AND($B13<>"",AR$3<>"",AR13<>""),AR13/AR$3,"") | AU13: =IF(AND($B13<>"",AT$3<>"",AT13<>""),AT13/AT$3,"") | AW13: =IF(AND($B13<>"",AV$3<>"",AV13<>""),AV13/AV$3,"") | AY13: =IF(AND($B13<>"",AX$3<>"",AX13<>""),AX13/AX$3,"") | BA13: =IF(AND($B13<>"",AZ$3<>"",AZ13<>""),AZ13/AZ$3,"") | BC13: =IF(AND($B13<>"",BB$3<>"",BB13<>""),BB13/BB$3,"") | BE13: =IF(AND($B13<>"",BD$3<>"",BD13<>""),BD13/BD$3,"") | BG13: =IF(AND($B13<>"",BF$3<>"",BF13<>""),BF13/BF$3,"") | BI13: =IF(AND($B13<>"",BH$3<>"",BH13<>""),BH13/BH$3,"") | BK13: =IF(AND($B13<>"",BJ$3<>"",BJ13<>""),BJ13/BJ$3,"") | BM13: =IF(AND($B13<>"",BL$3<>"",BL13<>""),BL13/BL$3,"") | BO13: =IF(AND($B13<>"",BN$3<>"",BN13<>""),BN13/BN$3,"") | BQ13: =IF(AND($B13<>"",BP$3<>"",BP13<>""),BP13/BP$3,"") | BS13: =IF(AND($B13<>"",BR$3<>"",BR13<>""),BR13/BR$3,"") | BU13: =IF(AND($B13<>"",BT$3<>"",BT13<>""),BT13/BT$3,"") | BW13: =IF(AND($B13<>"",BV$3<>"",BV13<>""),BV13/BV$3,"") | BY13: =IF(AND($B13<>"",BX$3<>"",BX13<>""),BX13/BX$3,"") | CA13: =IF(AND($B13<>"",BZ$3<>"",BZ13<>""),BZ13/BZ$3,"") | CC13: =IF(AND($B13<>"",CB$3<>"",CB13<>""),CB13/CB$3,"") | CE13: =IF(AND($B13<>"",CD$3<>"",CD13<>""),CD13/CD$3,"") | CG13: =IF(AND($B13<>"",CF$3<>"",CF13<>""),CF13/CF$3,"") | CI13: =IF(AND($B13<>"",CH$3<>"",CH13<>""),CH13/CH$3,"") | CK13: =IF(AND($B13<>"",CJ$3<>"",CJ13<>""),CJ13/CJ$3,"") | CM13: =IF(AND($B13<>"",CL$3<>"",CL13<>""),CL13/CL$3,"") | CO13: =IF(AND($B13<>"",CN$3<>"",CN13<>""),CN13/CN$3,"") | CQ13: =IF(AND($B13<>"",CP$3<>"",CP13<>""),CP13/CP$3,"") | CS13: =IF(AND($B13<>"",CR$3<>"",CR13<>""),CR13/CR$3,"") | CU13: =IF(AND($B13<>"",CT$3<>"",CT13<>""),CT13/CT$3,"") | CW13: =IF(AND($B13<>"",CV$3<>"",CV13<>""),CV13/CV$3,"") | CY13: =IF(AND($B13<>"",CX$3<>"",CX13<>""),CX13/CX$3,"") | DA13: =IF(AND($B13<>"",CZ$3<>"",CZ13<>""),CZ13/CZ$3,"") | DC13: =IF(AND($B13<>"",DB$3<>"",DB13<>""),DB13/DB$3,"") | DE13: =IF(AND($B13<>"",DD$3<>"",DD13<>""),DD13/DD$3,"") | DG13: =IF(AND($B13<>"",DF$3<>"",DF13<>""),DF13/DF$3,"") | DI13: =IF(AND($B13<>"",DH$3<>"",DH13<>""),DH13/DH$3,"") | DK13: =IF(AND($B13<>"",DJ$3<>"",DJ13<>""),DJ13/DJ$3,"") | DM13: =IF(AND($B13<>"",DL$3<>"",DL13<>""),DL13/DL$3,"") | DO13: =IF(AND($B13<>"",DN$3<>"",DN13<>""),DN13/DN$3,"") | DQ13: =IF(AND($B13<>"",DP$3<>"",DP13<>""),DP13/DP$3,"") | DS13: =IF(AND($B13<>"",DR$3<>"",DR13<>""),DR13/DR$3,"") | DU13: =IF(AND($B13<>"",DT$3<>"",DT13<>""),DT13/DT$3,"") | DW13: =IF(AND($B13<>"",DV$3<>"",DV13<>""),DV13/DV$3,"") | DY13: =IF(AND($B13<>"",DX$3<>"",DX13<>""),DX13/DX$3,"") | EA13: =IF(AND($B13<>"",DZ$3<>"",DZ13<>""),DZ13/DZ$3,"") | EC13: =IF(AND($B13<>"",EB$3<>"",EB13<>""),EB13/EB$3,"") | EE13: =IF(AND($B13<>"",ED$3<>"",ED13<>""),ED13/ED$3,"") | EG13: =IF(AND($B13<>"",EF$3<>"",EF13<>""),EF13/EF$3,"") | EI13: =IF(AND($B13<>"",EH$3<>"",EH13<>""),EH13/EH$3,"") | EK13: =IF(AND($B13<>"",EJ$3<>"",EJ13<>""),EJ13/EJ$3,"") | EM13: =IF(AND($B13<>"",EL$3<>"",EL13<>""),EL13/EL$3,"") | EO13: =IF(AND($B13<>"",EN$3<>"",EN13<>""),EN13/EN$3,"") | EQ13: =IF(AND($B13<>"",EP$3<>"",EP13<>""),EP13/EP$3,"") | ES13: =IF(AND($B13<>"",ER$3<>"",ER13<>""),ER13/ER$3,"") | EU13: =IF(AND($B13<>"",ET$3<>"",ET13<>""),ET13/ET$3,"") | EW13: =IF(AND($B13<>"",EV$3<>"",EV13<>""),EV13/EV$3,"") | EY13: =IF(AND($B13<>"",EX$3<>"",EX13<>""),EX13/EX$3,"") | FA13: =IF(AND($B13<>"",EZ$3<>"",EZ13<>""),EZ13/EZ$3,"") | FM13: =IF(COUNT($FP13:$IL13)=0,"",IF(COUNT($FP13:$IL13)<6,SUM($FP13:$IL13)/COUNT($FP13:$IL13),(LARGE($FP13:$IL13,1)+LARGE($FP13:$IL13,2)+LARGE($FP13:$IL13,3)+LARGE($FP13:$IL13,4)+LARGE($FP13:$IL13,5))/5)) | FN13: =IF(FO13="","",IF(FO13<5,FO13,5)) | FO13: =IF(COUNT(FP13:IL13)=0,"",COUNT(FP13:IL13)) | FP13: =INDEX($I13:$FB13,,1+(2*(COLUMN(A$1:A6)-1))) | FQ13: =INDEX($I13:$FB13,,1+(2*(COLUMN(B$1:B6)-1))) | FR13: =INDEX($I13:$FB13,,1+(2*(COLUMN(C$1:C6)-1))) | FS13: =INDEX($I13:$FB13,,1+(2*(COLUMN(D$1:D8)-1))) | FT13: =INDEX($I13:$FB13,,1+(2*(COLUMN(E$1:E8)-1))) | FU13: =INDEX($I13:$FB13,,1+(2*(COLUMN(F$1:F8)-1))) | FV13: =INDEX($I13:$FB13,,1+(2*(COLUMN(G$1:G8)-1))) | FW13: =INDEX($I13:$FB13,,1+(2*(COLUMN(H$1:H8)-1))) | FX13: =INDEX($I13:$FB13,,1+(2*(COLUMN(I$1:I8)-1))) | FY13: =INDEX($I13:$FB13,,1+(2*(COLUMN(J$1:J8)-1))) | FZ13: =INDEX($I13:$FB13,,1+(2*(COLUMN(K$1:K8)-1))) | ... IL13: =INDEX($I13:$FB13,,1+(2*(COLUMN(BW$1:BW8)-1)))
A14: =IF($B14="","",IF(VLOOKUP($B14,'Skyttere registrering'!$AB$2:$AE$101,3,FALSE)=0,"",VLOOKUP($B14,'Skyttere registrering'!$AB$2:$AE$101,3,FALSE))) | C14: =IF($B14="","",IF(VLOOKUP($B14,'Skyttere registrering'!$AB$2:$AE$101,2,FALSE)=0,"",VLOOKUP($B14,'Skyttere registrering'!$AB$2:$AE$101,2,FALSE))) | D14: =IF($B14="","",IF(VLOOKUP($B14,'Skyttere registrering'!$AB$2:$AE$101,4,FALSE)=0,"",VLOOKUP($B14,'Skyttere registrering'!$AB$2:$AE$101,4,FALSE))) | E14: =IF(G14="","",IF(G14<7.5,"1",IF(G14<8.1,"2",IF(G14<8.6,"3",IF(G14<9,"4",IF(G14<9.3,"5",IF(G14<9.5,"6","7"))))))) | F14: =FO14 | G14: =FM14 | I14: =IF(AND($B14<>"",H$3<>"",H14<>""),H14/H$3,"") | K14: =IF(AND($B14<>"",J$3<>"",J14<>""),J14/J$3,"") | M14: =IF(AND($B14<>"",L$3<>"",L14<>""),L14/L$3,"") | O14: =IF(AND($B14<>"",N$3<>"",N14<>""),N14/N$3,"") | Q14: =IF(AND($B14<>"",P$3<>"",P14<>""),P14/P$3,"") | S14: =IF(AND($B14<>"",R$3<>"",R14<>""),R14/R$3,"") | U14: =IF(AND($B14<>"",T$3<>"",T14<>""),T14/T$3,"") | W14: =IF(AND($B14<>"",V$3<>"",V14<>""),V14/V$3,"") | Y14: =IF(AND($B14<>"",X$3<>"",X14<>""),X14/X$3,"") | AA14: =IF(AND($B14<>"",Z$3<>"",Z14<>""),Z14/Z$3,"") | AC14: =IF(AND($B14<>"",AB$3<>"",AB14<>""),AB14/AB$3,"") | AE14: =IF(AND($B14<>"",AD$3<>"",AD14<>""),AD14/AD$3,"") | AG14: =IF(AND($B14<>"",AF$3<>"",AF14<>""),AF14/AF$3,"") | AI14: =IF(AND($B14<>"",AH$3<>"",AH14<>""),AH14/AH$3,"") | AK14: =IF(AND($B14<>"",AJ$3<>"",AJ14<>""),AJ14/AJ$3,"") | AM14: =IF(AND($B14<>"",AL$3<>"",AL14<>""),AL14/AL$3,"") | AO14: =IF(AND($B14<>"",AN$3<>"",AN14<>""),AN14/AN$3,"") | AQ14: =IF(AND($B14<>"",AP$3<>"",AP14<>""),AP14/AP$3,"") | AS14: =IF(AND($B14<>"",AR$3<>"",AR14<>""),AR14/AR$3,"") | AU14: =IF(AND($B14<>"",AT$3<>"",AT14<>""),AT14/AT$3,"") | AW14: =IF(AND($B14<>"",AV$3<>"",AV14<>""),AV14/AV$3,"") | AY14: =IF(AND($B14<>"",AX$3<>"",AX14<>""),AX14/AX$3,"") | BA14: =IF(AND($B14<>"",AZ$3<>"",AZ14<>""),AZ14/AZ$3,"") | BC14: =IF(AND($B14<>"",BB$3<>"",BB14<>""),BB14/BB$3,"") | BE14: =IF(AND($B14<>"",BD$3<>"",BD14<>""),BD14/BD$3,"") | BG14: =IF(AND($B14<>"",BF$3<>"",BF14<>""),BF14/BF$3,"") | BI14: =IF(AND($B14<>"",BH$3<>"",BH14<>""),BH14/BH$3,"") | BK14: =IF(AND($B14<>"",BJ$3<>"",BJ14<>""),BJ14/BJ$3,"") | BM14: =IF(AND($B14<>"",BL$3<>"",BL14<>""),BL14/BL$3,"") | BO14: =IF(AND($B14<>"",BN$3<>"",BN14<>""),BN14/BN$3,"") | BQ14: =IF(AND($B14<>"",BP$3<>"",BP14<>""),BP14/BP$3,"") | BS14: =IF(AND($B14<>"",BR$3<>"",BR14<>""),BR14/BR$3,"") | BU14: =IF(AND($B14<>"",BT$3<>"",BT14<>""),BT14/BT$3,"") | BW14: =IF(AND($B14<>"",BV$3<>"",BV14<>""),BV14/BV$3,"") | BY14: =IF(AND($B14<>"",BX$3<>"",BX14<>""),BX14/BX$3,"") | CA14: =IF(AND($B14<>"",BZ$3<>"",BZ14<>""),BZ14/BZ$3,"") | CC14: =IF(AND($B14<>"",CB$3<>"",CB14<>""),CB14/CB$3,"") | CE14: =IF(AND($B14<>"",CD$3<>"",CD14<>""),CD14/CD$3,"") | CG14: =IF(AND($B14<>"",CF$3<>"",CF14<>""),CF14/CF$3,"") | CI14: =IF(AND($B14<>"",CH$3<>"",CH14<>""),CH14/CH$3,"") | CK14: =IF(AND($B14<>"",CJ$3<>"",CJ14<>""),CJ14/CJ$3,"") | CM14: =IF(AND($B14<>"",CL$3<>"",CL14<>""),CL14/CL$3,"") | CO14: =IF(AND($B14<>"",CN$3<>"",CN14<>""),CN14/CN$3,"") | CQ14: =IF(AND($B14<>"",CP$3<>"",CP14<>""),CP14/CP$3,"") | CS14: =IF(AND($B14<>"",CR$3<>"",CR14<>""),CR14/CR$3,"") | CU14: =IF(AND($B14<>"",CT$3<>"",CT14<>""),CT14/CT$3,"") | CW14: =IF(AND($B14<>"",CV$3<>"",CV14<>""),CV14/CV$3,"") | CY14: =IF(AND($B14<>"",CX$3<>"",CX14<>""),CX14/CX$3,"") | DA14: =IF(AND($B14<>"",CZ$3<>"",CZ14<>""),CZ14/CZ$3,"") | DC14: =IF(AND($B14<>"",DB$3<>"",DB14<>""),DB14/DB$3,"") | DE14: =IF(AND($B14<>"",DD$3<>"",DD14<>""),DD14/DD$3,"") | DG14: =IF(AND($B14<>"",DF$3<>"",DF14<>""),DF14/DF$3,"") | DI14: =IF(AND($B14<>"",DH$3<>"",DH14<>""),DH14/DH$3,"") | DK14: =IF(AND($B14<>"",DJ$3<>"",DJ14<>""),DJ14/DJ$3,"") | DM14: =IF(AND($B14<>"",DL$3<>"",DL14<>""),DL14/DL$3,"") | DO14: =IF(AND($B14<>"",DN$3<>"",DN14<>""),DN14/DN$3,"") | DQ14: =IF(AND($B14<>"",DP$3<>"",DP14<>""),DP14/DP$3,"") | DS14: =IF(AND($B14<>"",DR$3<>"",DR14<>""),DR14/DR$3,"") | DU14: =IF(AND($B14<>"",DT$3<>"",DT14<>""),DT14/DT$3,"") | DW14: =IF(AND($B14<>"",DV$3<>"",DV14<>""),DV14/DV$3,"") | DY14: =IF(AND($B14<>"",DX$3<>"",DX14<>""),DX14/DX$3,"") | EA14: =IF(AND($B14<>"",DZ$3<>"",DZ14<>""),DZ14/DZ$3,"") | EC14: =IF(AND($B14<>"",EB$3<>"",EB14<>""),EB14/EB$3,"") | EE14: =IF(AND($B14<>"",ED$3<>"",ED14<>""),ED14/ED$3,"") | EG14: =IF(AND($B14<>"",EF$3<>"",EF14<>""),EF14/EF$3,"") | EI14: =IF(AND($B14<>"",EH$3<>"",EH14<>""),EH14/EH$3,"") | EK14: =IF(AND($B14<>"",EJ$3<>"",EJ14<>""),EJ14/EJ$3,"") | EM14: =IF(AND($B14<>"",EL$3<>"",EL14<>""),EL14/EL$3,"") | EO14: =IF(AND($B14<>"",EN$3<>"",EN14<>""),EN14/EN$3,"") | EQ14: =IF(AND($B14<>"",EP$3<>"",EP14<>""),EP14/EP$3,"") | ES14: =IF(AND($B14<>"",ER$3<>"",ER14<>""),ER14/ER$3,"") | EU14: =IF(AND($B14<>"",ET$3<>"",ET14<>""),ET14/ET$3,"") | EW14: =IF(AND($B14<>"",EV$3<>"",EV14<>""),EV14/EV$3,"") | EY14: =IF(AND($B14<>"",EX$3<>"",EX14<>""),EX14/EX$3,"") | FA14: =IF(AND($B14<>"",EZ$3<>"",EZ14<>""),EZ14/EZ$3,"") | FM14: =IF(COUNT($FP14:$IL14)=0,"",IF(COUNT($FP14:$IL14)<6,SUM($FP14:$IL14)/COUNT($FP14:$IL14),(LARGE($FP14:$IL14,1)+LARGE($FP14:$IL14,2)+LARGE($FP14:$IL14,3)+LARGE($FP14:$IL14,4)+LARGE($FP14:$IL14,5))/5)) | FN14: =IF(FO14="","",IF(FO14<5,FO14,5)) | FO14: =IF(COUNT(FP14:IL14)=0,"",COUNT(FP14:IL14)) | FP14: =INDEX($I14:$FB14,,1+(2*(COLUMN(A$1:A7)-1))) | FQ14: =INDEX($I14:$FB14,,1+(2*(COLUMN(B$1:B7)-1))) | FR14: =INDEX($I14:$FB14,,1+(2*(COLUMN(C$1:C7)-1))) | FS14: =INDEX($I14:$FB14,,1+(2*(COLUMN(D$1:D9)-1))) | FT14: =INDEX($I14:$FB14,,1+(2*(COLUMN(E$1:E9)-1))) | FU14: =INDEX($I14:$FB14,,1+(2*(COLUMN(F$1:F9)-1))) | FV14: =INDEX($I14:$FB14,,1+(2*(COLUMN(G$1:G9)-1))) | FW14: =INDEX($I14:$FB14,,1+(2*(COLUMN(H$1:H9)-1))) | FX14: =INDEX($I14:$FB14,,1+(2*(COLUMN(I$1:I9)-1))) | FY14: =INDEX($I14:$FB14,,1+(2*(COLUMN(J$1:J9)-1))) | FZ14: =INDEX($I14:$FB14,,1+(2*(COLUMN(K$1:K9)-1))) | ... IL14: =INDEX($I14:$FB14,,1+(2*(COLUMN(BW$1:BW9)-1)))
A15: =IF($B15="","",IF(VLOOKUP($B15,'Skyttere registrering'!$AB$2:$AE$101,3,FALSE)=0,"",VLOOKUP($B15,'Skyttere registrering'!$AB$2:$AE$101,3,FALSE))) | C15: =IF($B15="","",IF(VLOOKUP($B15,'Skyttere registrering'!$AB$2:$AE$101,2,FALSE)=0,"",VLOOKUP($B15,'Skyttere registrering'!$AB$2:$AE$101,2,FALSE))) | D15: =IF($B15="","",IF(VLOOKUP($B15,'Skyttere registrering'!$AB$2:$AE$101,4,FALSE)=0,"",VLOOKUP($B15,'Skyttere registrering'!$AB$2:$AE$101,4,FALSE))) | E15: =IF(G15="","",IF(G15<7.5,"1",IF(G15<8.1,"2",IF(G15<8.6,"3",IF(G15<9,"4",IF(G15<9.3,"5",IF(G15<9.5,"6","7"))))))) | F15: =FO15 | G15: =FM15 | I15: =IF(AND($B15<>"",H$3<>"",H15<>""),H15/H$3,"") | K15: =IF(AND($B15<>"",J$3<>"",J15<>""),J15/J$3,"") | M15: =IF(AND($B15<>"",L$3<>"",L15<>""),L15/L$3,"") | O15: =IF(AND($B15<>"",N$3<>"",N15<>""),N15/N$3,"") | Q15: =IF(AND($B15<>"",P$3<>"",P15<>""),P15/P$3,"") | S15: =IF(AND($B15<>"",R$3<>"",R15<>""),R15/R$3,"") | U15: =IF(AND($B15<>"",T$3<>"",T15<>""),T15/T$3,"") | W15: =IF(AND($B15<>"",V$3<>"",V15<>""),V15/V$3,"") | Y15: =IF(AND($B15<>"",X$3<>"",X15<>""),X15/X$3,"") | AA15: =IF(AND($B15<>"",Z$3<>"",Z15<>""),Z15/Z$3,"") | AC15: =IF(AND($B15<>"",AB$3<>"",AB15<>""),AB15/AB$3,"") | AE15: =IF(AND($B15<>"",AD$3<>"",AD15<>""),AD15/AD$3,"") | AG15: =IF(AND($B15<>"",AF$3<>"",AF15<>""),AF15/AF$3,"") | AI15: =IF(AND($B15<>"",AH$3<>"",AH15<>""),AH15/AH$3,"") | AK15: =IF(AND($B15<>"",AJ$3<>"",AJ15<>""),AJ15/AJ$3,"") | AM15: =IF(AND($B15<>"",AL$3<>"",AL15<>""),AL15/AL$3,"") | AO15: =IF(AND($B15<>"",AN$3<>"",AN15<>""),AN15/AN$3,"") | AQ15: =IF(AND($B15<>"",AP$3<>"",AP15<>""),AP15/AP$3,"") | AS15: =IF(AND($B15<>"",AR$3<>"",AR15<>""),AR15/AR$3,"") | AU15: =IF(AND($B15<>"",AT$3<>"",AT15<>""),AT15/AT$3,"") | AW15: =IF(AND($B15<>"",AV$3<>"",AV15<>""),AV15/AV$3,"") | AY15: =IF(AND($B15<>"",AX$3<>"",AX15<>""),AX15/AX$3,"") | BA15: =IF(AND($B15<>"",AZ$3<>"",AZ15<>""),AZ15/AZ$3,"") | BC15: =IF(AND($B15<>"",BB$3<>"",BB15<>""),BB15/BB$3,"") | BE15: =IF(AND($B15<>"",BD$3<>"",BD15<>""),BD15/BD$3,"") | BG15: =IF(AND($B15<>"",BF$3<>"",BF15<>""),BF15/BF$3,"") | BI15: =IF(AND($B15<>"",BH$3<>"",BH15<>""),BH15/BH$3,"") | BK15: =IF(AND($B15<>"",BJ$3<>"",BJ15<>""),BJ15/BJ$3,"") | BM15: =IF(AND($B15<>"",BL$3<>"",BL15<>""),BL15/BL$3,"") | BO15: =IF(AND($B15<>"",BN$3<>"",BN15<>""),BN15/BN$3,"") | BQ15: =IF(AND($B15<>"",BP$3<>"",BP15<>""),BP15/BP$3,"") | BS15: =IF(AND($B15<>"",BR$3<>"",BR15<>""),BR15/BR$3,"") | BU15: =IF(AND($B15<>"",BT$3<>"",BT15<>""),BT15/BT$3,"") | BW15: =IF(AND($B15<>"",BV$3<>"",BV15<>""),BV15/BV$3,"") | BY15: =IF(AND($B15<>"",BX$3<>"",BX15<>""),BX15/BX$3,"") | CA15: =IF(AND($B15<>"",BZ$3<>"",BZ15<>""),BZ15/BZ$3,"") | CC15: =IF(AND($B15<>"",CB$3<>"",CB15<>""),CB15/CB$3,"") | CE15: =IF(AND($B15<>"",CD$3<>"",CD15<>""),CD15/CD$3,"") | CG15: =IF(AND($B15<>"",CF$3<>"",CF15<>""),CF15/CF$3,"") | CI15: =IF(AND($B15<>"",CH$3<>"",CH15<>""),CH15/CH$3,"") | CK15: =IF(AND($B15<>"",CJ$3<>"",CJ15<>""),CJ15/CJ$3,"") | CM15: =IF(AND($B15<>"",CL$3<>"",CL15<>""),CL15/CL$3,"") | CO15: =IF(AND($B15<>"",CN$3<>"",CN15<>""),CN15/CN$3,"") | CQ15: =IF(AND($B15<>"",CP$3<>"",CP15<>""),CP15/CP$3,"") | CS15: =IF(AND($B15<>"",CR$3<>"",CR15<>""),CR15/CR$3,"") | CU15: =IF(AND($B15<>"",CT$3<>"",CT15<>""),CT15/CT$3,"") | CW15: =IF(AND($B15<>"",CV$3<>"",CV15<>""),CV15/CV$3,"") | CY15: =IF(AND($B15<>"",CX$3<>"",CX15<>""),CX15/CX$3,"") | DA15: =IF(AND($B15<>"",CZ$3<>"",CZ15<>""),CZ15/CZ$3,"") | DC15: =IF(AND($B15<>"",DB$3<>"",DB15<>""),DB15/DB$3,"") | DE15: =IF(AND($B15<>"",DD$3<>"",DD15<>""),DD15/DD$3,"") | DG15: =IF(AND($B15<>"",DF$3<>"",DF15<>""),DF15/DF$3,"") | DI15: =IF(AND($B15<>"",DH$3<>"",DH15<>""),DH15/DH$3,"") | DK15: =IF(AND($B15<>"",DJ$3<>"",DJ15<>""),DJ15/DJ$3,"") | DM15: =IF(AND($B15<>"",DL$3<>"",DL15<>""),DL15/DL$3,"") | DO15: =IF(AND($B15<>"",DN$3<>"",DN15<>""),DN15/DN$3,"") | DQ15: =IF(AND($B15<>"",DP$3<>"",DP15<>""),DP15/DP$3,"") | DS15: =IF(AND($B15<>"",DR$3<>"",DR15<>""),DR15/DR$3,"") | DU15: =IF(AND($B15<>"",DT$3<>"",DT15<>""),DT15/DT$3,"") | DW15: =IF(AND($B15<>"",DV$3<>"",DV15<>""),DV15/DV$3,"") | DY15: =IF(AND($B15<>"",DX$3<>"",DX15<>""),DX15/DX$3,"") | EA15: =IF(AND($B15<>"",DZ$3<>"",DZ15<>""),DZ15/DZ$3,"") | EC15: =IF(AND($B15<>"",EB$3<>"",EB15<>""),EB15/EB$3,"") | EE15: =IF(AND($B15<>"",ED$3<>"",ED15<>""),ED15/ED$3,"") | EG15: =IF(AND($B15<>"",EF$3<>"",EF15<>""),EF15/EF$3,"") | EI15: =IF(AND($B15<>"",EH$3<>"",EH15<>""),EH15/EH$3,"") | EK15: =IF(AND($B15<>"",EJ$3<>"",EJ15<>""),EJ15/EJ$3,"") | EM15: =IF(AND($B15<>"",EL$3<>"",EL15<>""),EL15/EL$3,"") | EO15: =IF(AND($B15<>"",EN$3<>"",EN15<>""),EN15/EN$3,"") | EQ15: =IF(AND($B15<>"",EP$3<>"",EP15<>""),EP15/EP$3,"") | ES15: =IF(AND($B15<>"",ER$3<>"",ER15<>""),ER15/ER$3,"") | EU15: =IF(AND($B15<>"",ET$3<>"",ET15<>""),ET15/ET$3,"") | EW15: =IF(AND($B15<>"",EV$3<>"",EV15<>""),EV15/EV$3,"") | EY15: =IF(AND($B15<>"",EX$3<>"",EX15<>""),EX15/EX$3,"") | FA15: =IF(AND($B15<>"",EZ$3<>"",EZ15<>""),EZ15/EZ$3,"") | FM15: =IF(COUNT($FP15:$IL15)=0,"",IF(COUNT($FP15:$IL15)<6,SUM($FP15:$IL15)/COUNT($FP15:$IL15),(LARGE($FP15:$IL15,1)+LARGE($FP15:$IL15,2)+LARGE($FP15:$IL15,3)+LARGE($FP15:$IL15,4)+LARGE($FP15:$IL15,5))/5)) | FN15: =IF(FO15="","",IF(FO15<5,FO15,5)) | FO15: =IF(COUNT(FP15:IL15)=0,"",COUNT(FP15:IL15)) | FP15: =INDEX($I15:$FB15,,1+(2*(COLUMN(A$1:A8)-1))) | FQ15: =INDEX($I15:$FB15,,1+(2*(COLUMN(B$1:B8)-1))) | FR15: =INDEX($I15:$FB15,,1+(2*(COLUMN(C$1:C8)-1))) | FS15: =INDEX($I15:$FB15,,1+(2*(COLUMN(D$1:D10)-1))) | FT15: =INDEX($I15:$FB15,,1+(2*(COLUMN(E$1:E10)-1))) | FU15: =INDEX($I15:$FB15,,1+(2*(COLUMN(F$1:F10)-1))) | FV15: =INDEX($I15:$FB15,,1+(2*(COLUMN(G$1:G10)-1))) | FW15: =INDEX($I15:$FB15,,1+(2*(COLUMN(H$1:H10)-1))) | FX15: =INDEX($I15:$FB15,,1+(2*(COLUMN(I$1:I10)-1))) | FY15: =INDEX($I15:$FB15,,1+(2*(COLUMN(J$1:J10)-1))) | FZ15: =INDEX($I15:$FB15,,1+(2*(COLUMN(K$1:K10)-1))) | ... IL15: =INDEX($I15:$FB15,,1+(2*(COLUMN(BW$1:BW10)-1)))
