Workbook

Sheet jan2025
A1: Treningskort | E1: Fekter
E2: Mnd/år
B4: Oppvarm/ uttøyning | C4: H/S/U/K trening | D4: Andre idretter | E4: Ben arbeid | F4: Teknikk | G4: Kamp_ trening | H4: Stevner | I4: Sum
A5: 1 | I5: =SUM(B5:H5) -> 0
A6: 2 | I6: =SUM(B6:H6) -> 0
A7: 3 | I7: =SUM(B7:H7) -> 0
A8: 4 | I8: =SUM(B8:H8) -> 0
A9: 5 | I9: =SUM(B9:H9) -> 0
A10: 6 | I10: =SUM(B10:H10) -> 0
A11: 7 | I11: =SUM(B11:H11) -> 0
A12: 8 | I12: =SUM(B12:H12) -> 0
A13: 9 | I13: =SUM(B13:H13) -> 0
A14: 10 | I14: =SUM(B14:H14) -> 0
A15: 11 | I15: =SUM(B15:H15) -> 0
A16: 12 | I16: =SUM(B16:H16) -> 0
... A35: 31 | I35: =SUM(B35:H35) -> 0
A36: sum | B36: =SUM(B5:B35) -> 0 | C36: =SUM(C5:C35) -> 0 | D36: =SUM(D5:D35) -> 0 | E36: =SUM(E5:E35) -> 0 | F36: =SUM(F5:F35) -> 0 | G36: =SUM(G5:G35) -> 0 | H36: =SUM(H5:H35) -> 0 | I36: =SUM(I5:I35) -> 0
H37: t/mnd. | I37: =I36/60 -> 0
H38: t/uke | I38: =I37/4 -> 0

Sheet feb2025
A1: Treningskort | E1: Fekter
E2: Mnd/år
B4: Oppvarm/ uttøyning | C4: H/S/U/K trening | D4: Andre idretter | E4: Ben arbeid | F4: Teknikk | G4: Kamp_ trening | H4: Stevner | I4: Sum
A5: 1 | I5: =SUM(B5:H5) -> 0
A6: 2 | I6: =SUM(B6:H6) -> 0
A7: 3 | I7: =SUM(B7:H7) -> 0
A8: 4 | I8: =SUM(B8:H8) -> 0
A9: 5 | I9: =SUM(B9:H9) -> 0
A10: 6 | I10: =SUM(B10:H10) -> 0
A11: 7 | I11: =SUM(B11:H11) -> 0
A12: 8 | I12: =SUM(B12:H12) -> 0
A13: 9 | I13: =SUM(B13:H13) -> 0
A14: 10 | I14: =SUM(B14:H14) -> 0
A15: 11 | I15: =SUM(B15:H15) -> 0
A16: 12 | I16: =SUM(B16:H16) -> 0
... A35: 31 | I35: =SUM(B35:H35) -> 0
A36: sum | B36: =SUM(B5:B35) -> 0 | C36: =SUM(C5:C35) -> 0 | D36: =SUM(D5:D35) -> 0 | E36: =SUM(E5:E35) -> 0 | F36: =SUM(F5:F35) -> 0 | G36: =SUM(G5:G35) -> 0 | H36: =SUM(H5:H35) -> 0 | I36: =SUM(I5:I35) -> 0
H37: t/mnd. | I37: =I36/60 -> 0
H38: t/uke | I38: =I37/4 -> 0

Sheet mars2025
A1: Treningskort | E1: Fekter
E2: Mnd/år
B4: Oppvarm/ uttøyning | C4: H/S/U/K trening | D4: Andre idretter | E4: Ben arbeid | F4: Teknikk | G4: Kamp_ trening | H4: Stevner | I4: Sum
A5: 1 | I5: =SUM(B5:H5) -> 0
A6: 2 | I6: =SUM(B6:H6) -> 0
A7: 3 | I7: =SUM(B7:H7) -> 0
A8: 4 | I8: =SUM(B8:H8) -> 0
A9: 5 | I9: =SUM(B9:H9) -> 0
A10: 6 | I10: =SUM(B10:H10) -> 0
A11: 7 | I11: =SUM(B11:H11) -> 0
A12: 8 | I12: =SUM(B12:H12) -> 0
A13: 9 | I13: =SUM(B13:H13) -> 0
A14: 10 | I14: =SUM(B14:H14) -> 0
A15: 11 | I15: =SUM(B15:H15) -> 0
A16: 12 | I16: =SUM(B16:H16) -> 0
... A35: 31 | I35: =SUM(B35:H35) -> 0
A36: sum | B36: =SUM(B5:B35) -> 0 | C36: =SUM(C5:C35) -> 0 | D36: =SUM(D5:D35) -> 0 | E36: =SUM(E5:E35) -> 0 | F36: =SUM(F5:F35) -> 0 | G36: =SUM(G5:G35) -> 0 | H36: =SUM(H5:H35) -> 0 | I36: =SUM(I5:I35) -> 0
H37: t/mnd. | I37: =I36/60 -> 0
H38: t/uke | I38: =I37/4 -> 0

Sheet april2025
A1: Treningskort | E1: Fekter
E2: Mnd/år
B4: Oppvarm/ uttøyning | C4: H/S/U/K trening | D4: Andre idretter | E4: Ben arbeid | F4: Teknikk | G4: Kamp_ trening | H4: Stevner | I4: Sum
A5: 1 | I5: =SUM(B5:H5) -> 0
A6: 2 | I6: =SUM(B6:H6) -> 0
A7: 3 | I7: =SUM(B7:H7) -> 0
A8: 4 | I8: =SUM(B8:H8) -> 0
A9: 5 | I9: =SUM(B9:H9) -> 0
A10: 6 | I10: =SUM(B10:H10) -> 0
A11: 7 | I11: =SUM(B11:H11) -> 0
A12: 8 | I12: =SUM(B12:H12) -> 0
A13: 9 | I13: =SUM(B13:H13) -> 0
A14: 10 | I14: =SUM(B14:H14) -> 0
A15: 11 | I15: =SUM(B15:H15) -> 0
A16: 12 | I16: =SUM(B16:H16) -> 0
... A35: 31 | I35: =SUM(B35:H35) -> 0
A36: sum | B36: =SUM(B5:B35) -> 0 | C36: =SUM(C5:C35) -> 0 | D36: =SUM(D5:D35) -> 0 | E36: =SUM(E5:E35) -> 0 | F36: =SUM(F5:F35) -> 0 | G36: =SUM(G5:G35) -> 0 | H36: =SUM(H5:H35) -> 0 | I36: =SUM(I5:I35) -> 0
H37: t/mnd. | I37: =I36/60 -> 0
H38: t/uke | I38: =I37/4 -> 0

Sheet mai2025
A1: Treningskort | E1: Fekter
E2: Mnd/år
B4: Oppvarm/ uttøyning | C4: H/S/U/K trening | D4: Andre idretter | E4: Ben arbeid | F4: Teknikk | G4: Kamp_ trening | H4: Stevner | I4: Sum
A5: 1 | I5: =SUM(B5:H5) -> 0
A6: 2 | I6: =SUM(B6:H6) -> 0
A7: 3 | I7: =SUM(B7:H7) -> 0
A8: 4 | I8: =SUM(B8:H8) -> 0
A9: 5 | I9: =SUM(B9:H9) -> 0
A10: 6 | I10: =SUM(B10:H10) -> 0
A11: 7 | I11: =SUM(B11:H11) -> 0
A12: 8 | I12: =SUM(B12:H12) -> 0
A13: 9 | I13: =SUM(B13:H13) -> 0
A14: 10 | I14: =SUM(B14:H14) -> 0
A15: 11 | I15: =SUM(B15:H15) -> 0
A16: 12 | I16: =SUM(B16:H16) -> 0
... A35: 31 | I35: =SUM(B35:H35) -> 0
A36: sum | B36: =SUM(B5:B35) -> 0 | C36: =SUM(C5:C35) -> 0 | D36: =SUM(D5:D35) -> 0 | E36: =SUM(E5:E35) -> 0 | F36: =SUM(F5:F35) -> 0 | G36: =SUM(G5:G35) -> 0 | H36: =SUM(H5:H35) -> 0 | I36: =SUM(I5:I35) -> 0
H37: t/mnd. | I37: =I36/60 -> 0
H38: t/uke | I38: =I37/4 -> 0

Sheet juni2025
A1: Treningskort | E1: Fekter
E2: Mnd/år
B4: Oppvarm/ uttøyning | C4: H/S/U/K trening | D4: Andre idretter | E4: Ben arbeid | F4: Teknikk | G4: Kamp_ trening | H4: Stevner | I4: Sum
A5: 1 | I5: =SUM(B5:H5) -> 0
A6: 2 | I6: =SUM(B6:H6) -> 0
A7: 3 | I7: =SUM(B7:H7) -> 0
A8: 4 | I8: =SUM(B8:H8) -> 0
A9: 5 | I9: =SUM(B9:H9) -> 0
A10: 6 | I10: =SUM(B10:H10) -> 0
A11: 7 | I11: =SUM(B11:H11) -> 0
A12: 8 | I12: =SUM(B12:H12) -> 0
A13: 9 | I13: =SUM(B13:H13) -> 0
A14: 10 | I14: =SUM(B14:H14) -> 0
A15: 11 | I15: =SUM(B15:H15) -> 0
A16: 12 | I16: =SUM(B16:H16) -> 0
... A35: 31 | I35: =SUM(B35:H35) -> 0
A36: sum | B36: =SUM(B5:B35) -> 0 | C36: =SUM(C5:C35) -> 0 | D36: =SUM(D5:D35) -> 0 | E36: =SUM(E5:E35) -> 0 | F36: =SUM(F5:F35) -> 0 | G36: =SUM(G5:G35) -> 0 | H36: =SUM(H5:H35) -> 0 | I36: =SUM(I5:I35) -> 0
H37: t/mnd. | I37: =I36/60 -> 0
H38: t/uke | I38: =I37/4 -> 0

Sheet juli2025
A1: Treningskort | E1: Fekter
E2: Mnd/år
B4: Oppvarm/ uttøyning | C4: H/S/U/K trening | D4: Andre idretter | E4: Ben arbeid | F4: Teknikk | G4: Kamp_ trening | H4: Stevner | I4: Sum
A5: 1 | I5: =SUM(B5:H5) -> 0
A6: 2 | I6: =SUM(B6:H6) -> 0
A7: 3 | I7: =SUM(B7:H7) -> 0
A8: 4 | I8: =SUM(B8:H8) -> 0
A9: 5 | I9: =SUM(B9:H9) -> 0
A10: 6 | I10: =SUM(B10:H10) -> 0
A11: 7 | I11: =SUM(B11:H11) -> 0
A12: 8 | I12: =SUM(B12:H12) -> 0
A13: 9 | I13: =SUM(B13:H13) -> 0
A14: 10 | I14: =SUM(B14:H14) -> 0
A15: 11 | I15: =SUM(B15:H15) -> 0
A16: 12 | I16: =SUM(B16:H16) -> 0
... A35: 31 | I35: =SUM(B35:H35) -> 0
A36: sum | B36: =SUM(B5:B35) -> 0 | C36: =SUM(C5:C35) -> 0 | D36: =SUM(D5:D35) -> 0 | E36: =SUM(E5:E35) -> 0 | F36: =SUM(F5:F35) -> 0 | G36: =SUM(G5:G35) -> 0 | H36: =SUM(H5:H35) -> 0 | I36: =SUM(I5:I35) -> 0
H37: t/mnd. | I37: =I36/60 -> 0
H38: t/uke | I38: =I37/4 -> 0

Sheet august2025
A1: Treningskort | E1: Fekter
E2: Mnd/år
B4: Oppvarm/ uttøyning | C4: H/S/U/K trening | D4: Andre idretter | E4: Ben arbeid | F4: Teknikk | G4: Kamp_ trening | H4: Stevner | I4: Sum
A5: 1 | I5: =SUM(B5:H5) -> 0
A6: 2 | I6: =SUM(B6:H6) -> 0
A7: 3 | I7: =SUM(B7:H7) -> 0
A8: 4 | I8: =SUM(B8:H8) -> 0
A9: 5 | I9: =SUM(B9:H9) -> 0
A10: 6 | I10: =SUM(B10:H10) -> 0
A11: 7 | I11: =SUM(B11:H11) -> 0
A12: 8 | I12: =SUM(B12:H12) -> 0
A13: 9 | I13: =SUM(B13:H13) -> 0
A14: 10 | I14: =SUM(B14:H14) -> 0
A15: 11 | I15: =SUM(B15:H15) -> 0
A16: 12 | I16: =SUM(B16:H16) -> 0
... A35: 31 | I35: =SUM(B35:H35) -> 0
A36: sum | B36: =SUM(B5:B35) -> 0 | C36: =SUM(C5:C35) -> 0 | D36: =SUM(D5:D35) -> 0 | E36: =SUM(E5:E35) -> 0 | F36: =SUM(F5:F35) -> 0 | G36: =SUM(G5:G35) -> 0 | H36: =SUM(H5:H35) -> 0 | I36: =SUM(I5:I35) -> 0
H37: t/mnd. | I37: =I36/60 -> 0
H38: t/uke | I38: =I37/4 -> 0

Sheet sept2025
A1: Treningskort | E1: Fekter
E2: Mnd/år
B4: Oppvarm/ uttøyning | C4: H/S/U/K trening | D4: Andre idretter | E4: Ben arbeid | F4: Teknikk | G4: Kamp_ trening | H4: Stevner | I4: Sum
A5: 1 | I5: =SUM(B5:H5) -> 0
A6: 2 | I6: =SUM(B6:H6) -> 0
A7: 3 | I7: =SUM(B7:H7) -> 0
A8: 4 | I8: =SUM(B8:H8) -> 0
A9: 5 | I9: =SUM(B9:H9) -> 0
A10: 6 | I10: =SUM(B10:H10) -> 0
A11: 7 | I11: =SUM(B11:H11) -> 0
A12: 8 | I12: =SUM(B12:H12) -> 0
A13: 9 | I13: =SUM(B13:H13) -> 0
A14: 10 | I14: =SUM(B14:H14) -> 0
A15: 11 | I15: =SUM(B15:H15) -> 0
A16: 12 | I16: =SUM(B16:H16) -> 0
... A35: 31 | I35: =SUM(B35:H35) -> 0
A36: sum | B36: =SUM(B5:B35) -> 0 | C36: =SUM(C5:C35) -> 0 | D36: =SUM(D5:D35) -> 0 | E36: =SUM(E5:E35) -> 0 | F36: =SUM(F5:F35) -> 0 | G36: =SUM(G5:G35) -> 0 | H36: =SUM(H5:H35) -> 0 | I36: =SUM(I5:I35) -> 0
H37: t/mnd. | I37: =I36/60 -> 0
H38: t/uke | I38: =I37/4 -> 0

Sheet okt2025
A1: Treningskort | E1: Fekter
E2: Mnd/år
B4: Oppvarm/ uttøyning | C4: H/S/U/K trening | D4: Andre idretter | E4: Ben arbeid | F4: Teknikk | G4: Kamp_ trening | H4: Stevner | I4: Sum
A5: 1 | I5: =SUM(B5:H5) -> 0
A6: 2 | I6: =SUM(B6:H6) -> 0
A7: 3 | I7: =SUM(B7:H7) -> 0
A8: 4 | I8: =SUM(B8:H8) -> 0
A9: 5 | I9: =SUM(B9:H9) -> 0
A10: 6 | I10: =SUM(B10:H10) -> 0
A11: 7 | I11: =SUM(B11:H11) -> 0
A12: 8 | I12: =SUM(B12:H12) -> 0
A13: 9 | I13: =SUM(B13:H13) -> 0
A14: 10 | I14: =SUM(B14:H14) -> 0
A15: 11 | I15: =SUM(B15:H15) -> 0
A16: 12 | I16: =SUM(B16:H16) -> 0
... A35: 31 | I35: =SUM(B35:H35) -> 0
A36: sum | B36: =SUM(B5:B35) -> 0 | C36: =SUM(C5:C35) -> 0 | D36: =SUM(D5:D35) -> 0 | E36: =SUM(E5:E35) -> 0 | F36: =SUM(F5:F35) -> 0 | G36: =SUM(G5:G35) -> 0 | H36: =SUM(H5:H35) -> 0 | I36: =SUM(I5:I35) -> 0
H37: t/mnd. | I37: =I36/60 -> 0
H38: t/uke | I38: =I37/4 -> 0

Sheet nov2025
A1: Treningskort | E1: Fekter
E2: Mnd/år
B4: Oppvarm/ uttøyning | C4: H/S/U/K trening | D4: Andre idretter | E4: Ben arbeid | F4: Teknikk | G4: Kamp_ trening | H4: Stevner | I4: Sum
A5: 1 | I5: =SUM(B5:H5) -> 0
A6: 2 | I6: =SUM(B6:H6) -> 0
A7: 3 | I7: =SUM(B7:H7) -> 0
A8: 4 | I8: =SUM(B8:H8) -> 0
A9: 5 | I9: =SUM(B9:H9) -> 0
A10: 6 | I10: =SUM(B10:H10) -> 0
A11: 7 | I11: =SUM(B11:H11) -> 0
A12: 8 | I12: =SUM(B12:H12) -> 0
A13: 9 | I13: =SUM(B13:H13) -> 0
A14: 10 | I14: =SUM(B14:H14) -> 0
A15: 11 | I15: =SUM(B15:H15) -> 0
A16: 12 | I16: =SUM(B16:H16) -> 0
... A35: 31 | I35: =SUM(B35:H35) -> 0
A36: sum | B36: =SUM(B5:B35) -> 0 | C36: =SUM(C5:C35) -> 0 | D36: =SUM(D5:D35) -> 0 | E36: =SUM(E5:E35) -> 0 | F36: =SUM(F5:F35) -> 0 | G36: =SUM(G5:G35) -> 0 | H36: =SUM(H5:H35) -> 0 | I36: =SUM(I5:I35) -> 0
H37: t/mnd. | I37: =I36/60 -> 0
H38: t/uke | I38: =I37/4 -> 0

Sheet des2025
A1: Treningskort | E1: Fekter
E2: Mnd/år
B4: Oppvarm/ uttøyning | C4: H/S/U/K trening | D4: Andre idretter | E4: Ben arbeid | F4: Teknikk | G4: Kamp_ trening | H4: Stevner | I4: Sum
A5: 1 | I5: =SUM(B5:H5) -> 0
A6: 2 | I6: =SUM(B6:H6) -> 0
A7: 3 | I7: =SUM(B7:H7) -> 0
A8: 4 | I8: =SUM(B8:H8) -> 0
A9: 5 | I9: =SUM(B9:H9) -> 0
A10: 6 | I10: =SUM(B10:H10) -> 0
A11: 7 | I11: =SUM(B11:H11) -> 0
A12: 8 | I12: =SUM(B12:H12) -> 0
A13: 9 | I13: =SUM(B13:H13) -> 0
A14: 10 | I14: =SUM(B14:H14) -> 0
A15: 11 | I15: =SUM(B15:H15) -> 0
A16: 12 | I16: =SUM(B16:H16) -> 0
... A35: 31 | I35: =SUM(B35:H35) -> 0
A36: sum | B36: =SUM(B5:B35) -> 0 | C36: =SUM(C5:C35) -> 0 | D36: =SUM(D5:D35) -> 0 | E36: =SUM(E5:E35) -> 0 | F36: =SUM(F5:F35) -> 0 | G36: =SUM(G5:G35) -> 0 | H36: =SUM(H5:H35) -> 0 | I36: =SUM(I5:I35) -> 0
H37: t/mnd. | I37: =I36/60 -> 0
H38: t/uke | I38: =I37/4 -> 0

Sheet 2025
A1: Trening/stevner oversikt | E1: Fekter
E2: År
B4: Oppvarm/ uttøyning | C4: H/S/U/K trening | D4: Andre idretter | E4: Ben arbeid | F4: Teknikk | G4: Kamp_ trening | H4: Stevner | I4: Sum
A5: 1 | B5: ='jan2025'!B36 -> 0 | C5: ='jan2025'!C36 -> 0 | D5: ='jan2025'!D36 -> 0 | E5: ='jan2025'!E36 -> 0 | F5: ='jan2025'!F36 -> 0 | G5: ='jan2025'!G36 -> 0 | H5: ='jan2025'!H36 -> 0 | I5: =SUM(B5:H5) -> 0
A6: 2 | B6: ='feb2025'!B36 -> 0 | C6: ='feb2025'!C36 -> 0 | D6: ='feb2025'!D36 -> 0 | E6: ='feb2025'!E36 -> 0 | F6: ='feb2025'!F36 -> 0 | G6: ='feb2025'!G36 -> 0 | H6: ='feb2025'!H36 -> 0 | I6: =SUM(B6:H6) -> 0
A7: 3 | B7: =mars2025!B36 -> 0 | C7: =mars2025!C36 -> 0 | D7: =mars2025!D36 -> 0 | E7: =mars2025!E36 -> 0 | F7: =mars2025!F36 -> 0 | G7: =mars2025!G36 -> 0 | H7: =mars2025!H36 -> 0 | I7: =SUM(B7:H7) -> 0
A8: 4 | B8: =april2025!B36 -> 0 | C8: =april2025!C36 -> 0 | D8: =april2025!D36 -> 0 | E8: =april2025!E36 -> 0 | F8: =april2025!F36 -> 0 | G8: =april2025!G36 -> 0 | H8: =april2025!H36 -> 0 | I8: =SUM(B8:H8) -> 0
A9: 5 | B9: ='mai2025'!B36 -> 0 | C9: ='mai2025'!C36 -> 0 | D9: ='mai2025'!D36 -> 0 | E9: ='mai2025'!E36 -> 0 | F9: ='mai2025'!F36 -> 0 | G9: ='mai2025'!G36 -> 0 | H9: ='mai2025'!H36 -> 0 | I9: =SUM(B9:H9) -> 0
A10: 6 | B10: =juni2025!B36 -> 0 | C10: =juni2025!C36 -> 0 | D10: =juni2025!D36 -> 0 | E10: =juni2025!E36 -> 0 | F10: =juni2025!F36 -> 0 | G10: =juni2025!G36 -> 0 | H10: =juni2025!H36 -> 0 | I10: =SUM(B10:H10) -> 0
A11: 7 | B11: =juli2025!B36 -> 0 | C11: =juli2025!C36 -> 0 | D11: =juli2025!D36 -> 0 | E11: =juli2025!E36 -> 0 | F11: =juli2025!F36 -> 0 | G11: =juli2025!G36 -> 0 | H11: =juli2025!H36 -> 0 | I11: =SUM(B11:H11) -> 0
A12: 8 | B12: =juli2025!B37 -> 0 | C12: =august2025!C36 -> 0 | D12: =august2025!D36 -> 0 | E12: =august2025!E36 -> 0 | F12: =august2025!F36 -> 0 | G12: =august2025!G36 -> 0 | H12: =august2025!H36 -> 0 | I12: =SUM(B12:H12) -> 0
A13: 9 | B13: =juli2025!B38 -> 0 | C13: =sept2025!C36 -> 0 | D13: =sept2025!D36 -> 0 | E13: =sept2025!E36 -> 0 | F13: =sept2025!F36 -> 0 | G13: =sept2025!G36 -> 0 | H13: =sept2025!H36 -> 0 | I13: =SUM(B13:H13) -> 0
A14: 10 | B14: =juli2025!B39 -> 0 | C14: ='okt2025'!C36 -> 0 | D14: ='okt2025'!D36 -> 0 | E14: ='okt2025'!E36 -> 0 | F14: ='okt2025'!F36 -> 0 | G14: ='okt2025'!G36 -> 0 | H14: ='okt2025'!H36 -> 0 | I14: =SUM(B14:H14) -> 0
A15: 11 | B15: =juli2025!B40 -> 0 | C15: ='nov2025'!C36 -> 0 | D15: ='nov2025'!D36 -> 0 | E15: ='nov2025'!E36 -> 0 | F15: ='nov2025'!F36 -> 0 | G15: ='nov2025'!G36 -> 0 | H15: ='nov2025'!H36 -> 0 | I15: =SUM(B15:H15) -> 0
A16: 12 | B16: =juli2025!B41 -> 0 | C16: ='des2025'!C36 -> 0 | D16: ='des2025'!D36 -> 0 | E16: ='des2025'!E36 -> 0 | F16: ='des2025'!F36 -> 0 | G16: ='des2025'!G36 -> 0 | H16: ='des2025'!H36 -> 0 | I16: ='des2025'!I36 -> 0
A17: sum | B17: =juli2025!B42 -> 0 | C17: =SUM(C5:C16) -> 0 | D17: =SUM(D5:D16) -> 0 | E17: =SUM(E5:E16) -> 0 | F17: =SUM(F5:F16) -> 0 | G17: =SUM(G5:G16) -> 0 | H17: =SUM(H5:H16) -> 0 | I17: =SUM(I5:I16) -> 0
H18: t/mnd. | I18: =I17/60 -> 0
H19: t/uke | I19: =I18/4 -> 0
