Workbook

Sheet Sammendrag
C2: Njård Alpin
G3: Regnskap 2020 | I3: Regnskap 2021 | K3: Budsjett 2022
C4: Salgsinntekter
A5: 3000 | C5: Salgsinntekter avgiftspliktige | G5: 0 | I5: 0 | K5: 10000
A6: 3020 | C6: Sponsor/samarbeidsavtaler avgiftspliktige | G6: 0 | I6: 0 | K6: 40000
C7: =Periodisert!C11 -> Sum salgsinntekter | G7: =SUM(G5:G6) -> 0 | I7: =SUM(I6:I6) -> 0 | K7: 50000
C9: Offentlig tilskudd
A10: =Periodisert!A14 -> 3400 | C10: Adm og drifts bidrag (hodestøtte) | G10: 30536 | I10: 28784 | K10: 30000
A11: =Periodisert!A15 -> 3401 | C11: =Periodisert!C15 -> Aktivitetsmidler | G11: 67718 | I11: 75607 | K11: 70000
A12: =Periodisert!A16 -> 3440 | C12: Lokalleietilskudd kommune | G12: 5758 | I12: 6183 | K12: 7000
A13: 3450 | C13: Spillemiddeltilskudd | G13: 19332 | I13: 9471 | K13: 5000
A14: =Periodisert!A20 -> 3460 | C14: =Periodisert!C20 -> Annen offentlig støtte | G14: 325418 | I14: 136671 | K14: 140000
C15: =Periodisert!C21 -> Sum offentlig tilskudd | G15: =SUM(G10:G14) -> 448762 | I15: =SUM(I10:I14) -> 256716 | K15: 252000
C17: =Periodisert!C23 -> Andre inntekter
A18: =Periodisert!A24 -> 3911 | C18: =Periodisert!C24 -> Eventer | I18: =Periodisert!G24 -> 0 | K18: 10000
A19: =Periodisert!A25 -> 3920 | C19: =Periodisert!C25 -> Treningsavgifter junior | G19: 694622 | I19: 794900 | K19: 725000
A20: =Periodisert!A26 -> 3921 | C20: =Periodisert!C26 -> Treningsavgifter senior | G20: 14000 | I20: 5800 | K20: 0
A21: =Periodisert!A27 -> 3930 | C21: =Periodisert!C27 -> Stevneinntekter deltageravgifter | G21: 63910 | I21: 2550 | K21: 35000
A22: =Periodisert!A30 -> 3940 | C22: =Periodisert!C30 -> Egenandeler ved stevnedeltakelse og reiser | G22: 278005 | I22: 433551 | K22: 400000
A23: 3971 | C23: Tilskudd fra hovedlaget | G23: 7908 | I23: 0 | K23: 0
A24: =Periodisert!A32 -> 3970 | C24: =Periodisert!C32 -> Gaver | G24: 15000 | I24: 40000 | K24: 30000
A25: =Periodisert!A34 -> 3980 | C25: =Periodisert!C34 -> Dugnadsinntekter | G25: 82500 | I25: 417685 | K25: 400000
A26: =Periodisert!A35 -> 3990 | C26: =Periodisert!C35 -> Diverse inntekter | G26: 17700 | I26: 800 | K26: 5000
C27: =Periodisert!C36 -> Sum andre inntekter | G27: =SUM(G19:G26) -> 1173645 | I27: =SUM(I18:I26) -> 1695286 | K27: 1605000
C29: =Periodisert!C38 -> SUM INNTEKTER | G29: =G7+G15+G27 -> 1622407 | I29: 1938912 | K29: 1907000
C32: =Periodisert!C41 -> Vare- og arrangementkostnader
A33: 4201 | C33: =Periodisert!C43 -> Innkjøp til egne arrangement | G33: 22113 | I33: 0 | K33: 15000
A34: =Periodisert!A44 -> 4210 | C34: =Periodisert!C44 -> Innkjøp idrettsmateriell/utstyr | G34: 61049 | I34: 120629 | K34: 120000
A35: =Periodisert!A47 -> 4400 | C35: =Periodisert!C47 -> Andre kostnader ved arrangement | G35: 7575 | I35: 0 | K35: 10000
A36: 4410 | C36: Transaksjonskostnader medlemsinntekter | G36: 10704 | I36: 9590 | K36: 10000
A37: =Periodisert!A49 -> 4500 | C37: =Periodisert!C49 -> Startkontingenter | G37: 1000 | I37: 500 | K37: 1000
A38: =Periodisert!A50 -> 4501 | C38: =Periodisert!C50 -> Turneringsutgifter | I38: =Periodisert!G50 -> 0 | K38: =Periodisert!I50 -> 0
A39: =Periodisert!A51 -> 4800 | C39: =Periodisert!C51 -> Kostnader ved egne dugnader | G39: 50000 | I39: 15500 | K39: 15000
C40: =Periodisert!C53 -> Sum vare- og arrangementkostnader | G40: =SUM(G33:G39) -> 152441 | I40: =SUM(I33:I39) -> 146219 | K40: 171000
C42: =Periodisert!C55 -> Lønn- og personalkostnad
A43: =Periodisert!A56 -> 5000 | C43: =Periodisert!C56 -> Lønn til ansatte | G43: 563546 | I43: 579608 | K43: 590000
A44: =Periodisert!A57 -> 5010 | C44: =Periodisert!C57 -> Timelønn ansatte | G44: 325222 | I44: 476491 | K44: 400000
A45: 5092 | C45: =Periodisert!C61 -> Feriepenger | G45: 90246 | I45: 107722 | K45: 110000
A46: 5331 | C46: =Periodisert!C66 -> Selvstendig næringsdrivende instruktører | G46: 2000 | I46: 0 | K46: =Periodisert!I66 -> 0
A47: 5400 | C47: =Periodisert!C67 -> Arbeidsgiveravgift | G47: 125443 | I47: 127870 | K47: 130000
...

Sheet Periodisert
C1: NJÅRD | D1: Resultatbudsjett 2021 | F1: AVDELING
G3: Regnskap 2020 | I3: Budsjett 2021 | K3: Januar | L3: Februar | M3: Mars | N3: April | O3: Mai | P3: Juni | Q3: Juli | R3: August | S3: September | T3: Oktober | U3: November | V3: Desember | W3: Sum
C4: Salgsinntekter
A5: 3000 | C5: Salgsinntekter avgiftspliktige | I5: =W5 -> 0 | W5: =SUM(K5:V5) -> 0
A6: 3020 | C6: Sponsor/samarbeidsavtaler avgiftspliktige | I6: =W6 -> 0 | W6: =SUM(K6:V6) -> 0
A7: 3025 | C7: Sponsor/samarbeidsavtaler, videreført avd | I7: =W7 -> 0 | W7: =SUM(K7:V7) -> 0
A8: 3130 | C8: Kiosksalg | I8: =W8 -> 0 | W8: =SUM(K8:V8) -> 0
A9: 3131 | C9: Strenging av racketter | I9: =W9 -> 0 | W9: =SUM(K9:V9) -> 0
A10: 3200 | C10: Provisjonsinntekt | I10: =W10 -> 0 | W10: =SUM(K10:V10) -> 0
C11: Sum salgsinntekter | G11: =SUM(G5:G10) -> 0 | I11: =SUM(I5:I10) -> 0 | K11: =SUM(K5:K10) -> 0 | L11: =SUM(L5:L10) -> 0 | M11: =SUM(M5:M10) -> 0 | N11: =SUM(N5:N10) -> 0 | O11: =SUM(O5:O10) -> 0 | P11: =SUM(P5:P10) -> 0 | Q11: =SUM(Q5:Q10) -> 0 | R11: =SUM(R5:R10) -> 0 | ... W11: =SUM(W5:W10) -> 0
C13: Offentlig tilskudd
A14: 3400 | C14: Administrasjons- og driftsbidrag | I14: =W14 -> 0 | W14: =SUM(K14:V14) -> 0
A15: 3401 | C15: Aktivitetsmidler | I15: =W15 -> 0 | W15: =SUM(K15:V15) -> 0
A16: 3440 | C16: Refusjon anleggs- og lokalleie | I16: =W16 -> 0 | W16: =SUM(K16:V16) -> 0
A17: 3441 | C17: Anleggsstøtte | I17: =W17 -> 0 | W17: =SUM(K17:V17) -> 0
A18: 3442 | C18: Tilskudd øremerkede | I18: =W18 -> 0 | W18: =SUM(K18:V18) -> 0
A19: 3450 | C19: Spillemiddeltilskudd | I19: =W19 -> 0 | W19: =SUM(K19:V19) -> 0
A20: 3460 | C20: Annen offentlig støtte | I20: =W20 -> 0 | W20: =SUM(K20:V20) -> 0
C21: Sum offentlig tilskudd | G21: =SUM(G14:G20) -> 0 | I21: =SUM(I14:I20) -> 0 | K21: =SUM(K14:K20) -> 0 | L21: =SUM(L14:L20) -> 0 | M21: =SUM(M14:M20) -> 0 | N21: =SUM(N14:N20) -> 0 | O21: =SUM(O14:O20) -> 0 | P21: =SUM(P14:P20) -> 0 | Q21: =SUM(Q14:Q20) -> 0 | R21: =SUM(R14:R20) -> 0 | ... W21: =SUM(W14:W20) -> 0
C23: Andre inntekter
A24: 3911 | C24: Eventer | I24: =W24 -> 0 | W24: =SUM(K24:V24) -> 0
A25: 3920 | C25: Treningsavgifter junior | I25: =W25 -> 0 | W25: =SUM(K25:V25) -> 0
A26: 3921 | C26: Treningsavgifter senior | I26: =W26 -> 0 | W26: =SUM(K26:V26) -> 0
A27: 3930 | C27: Stevneinntekter deltageravgifter | I27: =W27 -> 0 | W27: =SUM(K27:V27) -> 0
A28: 3931 | C28: Inntekter fra idrettsskole/-leir | I28: =W28 -> 0 | W28: =SUM(K28:V28) -> 0
A29: 3932 | C29: Billettinntekter | I29: =W29 -> 0 | W29: =SUM(K29:V29) -> 0
A30: 3940 | C30: Egenandeler ved stevnedeltakelse og reiser | I30: =W30 -> 0 | W30: =SUM(K30:V30) -> 0
A31: 3960 | C31: Bingo/lotteriinntekter ol. | I31: =W31 -> 0 | W31: =SUM(K31:V31) -> 0
A32: 3970 | C32: Gaver | I32: =W32 -> 0 | W32: =SUM(K32:V32) -> 0
A33: 3971 | C33: Tilskudd fra Hovedlaget | I33: =W33 -> 0 | W33: =SUM(K33:V33) -> 0
A34: 3980 | C34: Dugnadsinntekter | I34: =W34 -> 0 | W34: =SUM(K34:V34) -> 0
A35: 3990 | C35: Diverse inntekter | I35: =W35 -> 0 | W35: =SUM(K35:V35) -> 0
C36: Sum andre inntekter | G36: =SUM(G24:G35) -> 0 | I36: =SUM(I24:I35) -> 0 | K36: =SUM(K24:K35) -> 0 | L36: =SUM(L24:L35) -> 0 | M36: =SUM(M24:M35) -> 0 | N36: =SUM(N24:N35) -> 0 | O36: =SUM(O24:O35) -> 0 | P36: =SUM(P24:P35) -> 0 | Q36: =SUM(Q24:Q35) -> 0 | R36: =SUM(R24:R35) -> 0 | ... W36: =SUM(W24:W35) -> 0
C38: SUM INNTEKTER | G38: =G11+G21+G36 -> 0 | I38: =I11+I21+I36 -> 0 | K38: =K11+K21+K36 -> 0 | L38: =L11+L21+L36 -> 0 | M38: =M11+M21+M36 -> 0 | N38: =N11+N21+N36 -> 0 | O38: =O11+O21+O36 -> 0 | P38: =P11+P21+P36 -> 0 | Q38: =Q11+Q21+Q36 -> 0 | R38: =R11+R21+R36 -> 0 | ... W38: =W11+W21+W36 -> 0
C41: Vare- og arrangementkostnader
A42: 4000 | C42: Innkjøp av råvarer og halvfabrikata høy sats | I42: =W42 -> 0 | W42: =SUM(K42:V42) -> 0
A43: 4201 | C43: Innkjøp til egne arrangement | I43: =W43 -> 0 | W43: =SUM(K43:V43) -> 0
A44: 4210 | C44: Innkjøp idrettsmateriell/utstyr | I44: =W44 -> 0 | W44: =SUM(K44:V44) -> 0
A45: 4211 | C45: Idrettsskolens kostnader | I45: =W45 -> 0 | W45: =SUM(K45:V45) -> 0
A46: 4300 | C46: Dommerutgifter | I46: =W46 -> 0 | W46: =SUM(K46:V46) -> 0
...
