Workbook

Sheet Sammendrag
C2: Njård Alpin
G3: Regnskap 2020 | I3: Regnskap 2021 | K3: Budsjett 2022
C4: Salgsinntekter
A5: 3000 | C5: Salgsinntekter avgiftspliktige | G5: 0 | I5: 0 | K5: 10000
A6: 3020 | C6: Sponsor/samarbeidsavtaler avgiftspliktige | G6: 0 | I6: 0 | K6: 40000
C7: =Periodisert!C11 -> Sum salgsinntekter | G7: =SUM(G5:G6) -> 0 | I7: =SUM(I6:I6) -> 0 | K7: 50000
C9: Offentlig tilskudd
A10: =Periodisert!A14 -> 3400 | C10: Adm og drifts bidrag (hodestøtte) | G10: 30536 | I10: 28784 | K10: 30000
A11: =Periodisert!A15 -> 3401 | C11: =Periodisert!C15 -> Aktivitetsmidler | G11: 67718 | I11: 75607 | K11: 70000
A12: =Periodisert!A16 -> 3440 | C12: Lokalleietilskudd kommune | G12: 5758 | I12: 6183 | K12: 7000
A13: 3450 | C13: Spillemiddeltilskudd | G13: 19332 | I13: 9471 | K13: 5000
A14: =Periodisert!A20 -> 3460 | C14: =Periodisert!C20 -> Annen offentlig støtte | G14: 325418 | I14: 136671 | K14: 140000
C15: =Periodisert!C21 -> Sum offentlig tilskudd | G15: =SUM(G10:G14) -> 448762 | I15: =SUM(I10:I14) -> 256716 | K15: 252000
C17: =Periodisert!C23 -> Andre inntekter
A18: =Periodisert!A24 -> 3911 | C18: =Periodisert!C24 -> Eventer | I18: =Periodisert!G24 -> 0 | K18: 10000
A19: =Periodisert!A25 -> 3920 | C19: =Periodisert!C25 -> Treningsavgifter junior | G19: 694622 | I19: 794900 | K19: 725000
A20: =Periodisert!A26 -> 3921 | C20: =Periodisert!C26 -> Treningsavgifter senior | G20: 14000 | I20: 5800 | K20: 0
A21: =Periodisert!A27 -> 3930 | C21: =Periodisert!C27 -> Stevneinntekter deltageravgifter | G21: 63910 | I21: 2550 | K21: 35000
A22: =Periodisert!A30 -> 3940 | C22: =Periodisert!C30 -> Egenandeler ved stevnedeltakelse og reiser | G22: 278005 | I22: 433551 | K22: 400000
A23: 3971 | C23: Tilskudd fra hovedlaget | G23: 7908 | I23: 0 | K23: 0
A24: =Periodisert!A32 -> 3970 | C24: =Periodisert!C32 -> Gaver | G24: 15000 | I24: 40000 | K24: 30000
A25: =Periodisert!A34 -> 3980 | C25: =Periodisert!C34 -> Dugnadsinntekter | G25: 82500 | I25: 417685 | K25: 400000
A26: =Periodisert!A35 -> 3990 | C26: =Periodisert!C35 -> Diverse inntekter | G26: 17700 | I26: 800 | K26: 5000
C27: =Periodisert!C36 -> Sum andre inntekter | G27: =SUM(G19:G26) -> 1173645 | I27: =SUM(I18:I26) -> 1695286 | K27: 1605000
C29: =Periodisert!C38 -> SUM INNTEKTER | G29: =G7+G15+G27 -> 1622407 | I29: 1938912 | K29: 1907000
C32: =Periodisert!C41 -> Vare- og arrangementkostnader
A33: 4201 | C33: =Periodisert!C43 -> Innkjøp til egne arrangement | G33: 22113 | I33: 0 | K33: 15000
A34: =Periodisert!A44 -> 4210 | C34: =Periodisert!C44 -> Innkjøp idrettsmateriell/utstyr | G34: 61049 | I34: 120629 | K34: 120000
A35: =Periodisert!A47 -> 4400 | C35: =Periodisert!C47 -> Andre kostnader ved arrangement | G35: 7575 | I35: 0 | K35: 10000
A36: 4410 | C36: Transaksjonskostnader medlemsinntekter | G36: 10704 | I36: 9590 | K36: 10000
A37: =Periodisert!A49 -> 4500 | C37: =Periodisert!C49 -> Startkontingenter | G37: 1000 | I37: 500 | K37: 1000
A38: =Periodisert!A50 -> 4501 | C38: =Periodisert!C50 -> Turneringsutgifter | I38: =Periodisert!G50 -> 0 | K38: =Periodisert!I50 -> 0
A39: =Periodisert!A51 -> 4800 | C39: =Periodisert!C51 -> Kostnader ved egne dugnader | G39: 50000 | I39: 15500 | K39: 15000
C40: =Periodisert!C53 -> Sum vare- og arrangementkostnader | G40: =SUM(G33:G39) -> 152441 | I40: =SUM(I33:I39) -> 146219 | K40: 171000
C42: =Periodisert!C55 -> Lønn- og personalkostnad
A43: =Periodisert!A56 -> 5000 | C43: =Periodisert!C56 -> Lønn til ansatte | G43: 563546 | I43: 579608 | K43: 590000
A44: =Periodisert!A57 -> 5010 | C44: =Periodisert!C57 -> Timelønn ansatte | G44: 325222 | I44: 476491 | K44: 400000
A45: 5092 | C45: =Periodisert!C61 -> Feriepenger | G45: 90246 | I45: 107722 | K45: 110000
A46: 5331 | C46: =Periodisert!C66 -> Selvstendig næringsdrivende instruktører | G46: 2000 | I46: 0 | K46: =Periodisert!I66 -> 0
A47: 5400 | C47: =Periodisert!C67 -> Arbeidsgiveravgift | G47: 125443 | I47: 127870 | K47: 130000
A48: 5402 | C48: Reduksjon ang Covid | G48: -7827
A49: 5405 | C49: =Periodisert!C68 -> Arbeidsgiveravgift av påløpte feriepenger | G49: 12725 | I49: 15189 | K49: 15000
A50: 5420 | C50: Refusjon Sykepenger | G50: -9075 | I50: -121628 | K50: =Periodisert!I69 -> 0
A51: 5950 | C51: =Periodisert!C73 -> Obligatorisk tjenestepensjon | G51: 22677 | I51: 22738 | K51: 23000
A52: 5951 | C52: =Periodisert!C74 -> Opplæring instruktører og funksjonærer | G52: 3130 | I52: 1800 | K52: 3000
A53: 5990 | C53: =Periodisert!C75 -> Andre personalkostnader | G53: 557 | I53: 0 | K53: =Periodisert!I75 -> 0
C54: =Periodisert!C76 -> Sum lønn og personalkostnad | G54: =SUM(G43:G53) -> 1128644 | I54: 1209790 | K54: 1301000
C56: Kostnader lokaler/leie maskiner
A57: =Periodisert!A79 -> 6300 | C57: =Periodisert!C79 -> Leie lokaler Njårdhallen | G57: 22880 | I57: 55067 | K57: 50000
A58: =Periodisert!A80 -> 6305 | C58: =Periodisert!C80 -> Leie eksterne lokaler | G58: 13400 | I58: 19541 | K58: 25000
C59: Sum lokaler/leie maskiner | G59: =SUM(G57:G58) -> 36280 | I59: 74608 | K59: 75000
C61: Inventar og driftsmateriale som ikke skal avskrives
A62: =Periodisert!A90 -> 6540 | C62: =Periodisert!C90 -> Inventar | G62: 1999 | I62: 5060 | K62: =Periodisert!I90 -> 0
A63: =Periodisert!A92 -> 6551 | C63: =Periodisert!C92 -> Datautstyr | I63: =Periodisert!G92 -> 0 | K63: 2000
A64: =Periodisert!A93 -> 6560 | C64: =Periodisert!C93 -> Innkjøp verktøy / utstyr | I64: =Periodisert!G93 -> 0 | K64: 5000
A65: 6490 | C65: Annen driftskostnad | I65: 2188 | K65: =Periodisert!I94 -> 0
C66: Sum inventar og driftsmateriale som ikke skal avskrives | G66: =SUM(G62:G65) -> 1999 | I66: 7788 | K66: 7000
A69: =Periodisert!A98 -> 6720 | C69: =Periodisert!C98 -> Datadrift og vedlikehold | I69: 4765 | K69: 3000
A70: =Periodisert!A99 -> 6790 | C70: =Periodisert!C99 -> Annen fremmedtjeneste | I70: =Periodisert!G99 -> 0 | K70: =Periodisert!I99 -> 0
A71: =Periodisert!A100 -> 6800 | C71: =Periodisert!C100 -> Kontorrekvisita | G71: 1898 | I71: 0 | K71: 1000
A72: 6820 | C72: =Periodisert!C101 -> Trykksaker | I72: =Periodisert!G101 -> 0 | K72: 2000
A73: 6840 | C73: =Periodisert!C102 -> Aviser, tidsskrifter mv | I73: =Periodisert!G102 -> 0 | K73: =Periodisert!I102 -> 0
A74: 6860 | C74: =Periodisert!C103 -> Møter, kurs, oppdatering o l | G74: 40 | I74: 0 | K74: =Periodisert!I103 -> 0
A75: 6890 | C75: =Periodisert!C104 -> Annen kontorkostnad | I75: 2188
A76: 6900 | C76: =Periodisert!C105 -> Telefon | G76: 5939 | I76: 7838 | K76: 7000
A77: 6940 | C77: Mobiltlf | I77: 10268 | K77: =Periodisert!I106 -> 0
A78: 7140 | C78: =Periodisert!C109 -> Reisekostnader - ikke oppg.pl. | G78: 147206 | I78: 339192 | K78: 275000
A79: 7320 | C79: =Periodisert!C113 -> Reklame/annonser | G79: 1998 | I79: 32394 | K79: 10000
A80: 7400 | C80: =Periodisert!C114 -> Kontingenter / gebyrer til krets og forbund | I80: =Periodisert!G114 -> 0 | K80: =Periodisert!I114 -> 0
A81: 7411 | C81: =Periodisert!C115 -> Andre kontingenter | I81: =Periodisert!G115 -> 0 | K81: =Periodisert!I115 -> 0
A82: 7420 | C82: Bankgebyr | G82: 3377 | I82: 3240 | K82: 3000
A83: 7430 | C83: Vipsgebyr | G83: 2902 | I83: 6828 | K83: 7000
A84: 7500 | C84: Gebyr Spond | G84: 1923 | I84: 103 | K84: 500
A85: 7790 | C85: =Periodisert!C119 -> Kostnad ved styre- og årsmøter | G85: 35 | I85: =Periodisert!G119 -> 0 | K85: 500
A86: 7798 | C86: Annen kostnad fradragsberettiget | G86: 1355
A87: 7830 | C87: =Periodisert!C120 -> Tap på fordringer | G87: -10000 | I87: =Periodisert!G120 -> 0 | K87: =Periodisert!I120 -> 0
C88: =Periodisert!C121 -> Sum andre driftskostnader | G88: =SUM(G70:G87) -> 156673 | I88: 474105 | K88: 309000
C90: =Periodisert!C123 -> SUM DRIFTSKOSTNADER | G90: =G40+G54+G59+G66+G88 -> 1476037 | I90: 1842492 | K90: 1863000
C92: =Periodisert!C125 -> DRIFTSRESULTAT | G92: =G29-G90 -> 146370 | I92: 109510 | K92: 44000

Sheet Periodisert
C1: NJÅRD | D1: Resultatbudsjett 2021 | F1: AVDELING
G3: Regnskap 2020 | I3: Budsjett 2021 | K3: Januar | L3: Februar | M3: Mars | N3: April | O3: Mai | P3: Juni | Q3: Juli | R3: August | S3: September | T3: Oktober | U3: November | V3: Desember | W3: Sum
C4: Salgsinntekter
A5: 3000 | C5: Salgsinntekter avgiftspliktige | I5: =W5 -> 0 | W5: =SUM(K5:V5) -> 0
A6: 3020 | C6: Sponsor/samarbeidsavtaler avgiftspliktige | I6: =W6 -> 0 | W6: =SUM(K6:V6) -> 0
A7: 3025 | C7: Sponsor/samarbeidsavtaler, videreført avd | I7: =W7 -> 0 | W7: =SUM(K7:V7) -> 0
A8: 3130 | C8: Kiosksalg | I8: =W8 -> 0 | W8: =SUM(K8:V8) -> 0
A9: 3131 | C9: Strenging av racketter | I9: =W9 -> 0 | W9: =SUM(K9:V9) -> 0
A10: 3200 | C10: Provisjonsinntekt | I10: =W10 -> 0 | W10: =SUM(K10:V10) -> 0
C11: Sum salgsinntekter | G11: =SUM(G5:G10) -> 0 | I11: =SUM(I5:I10) -> 0 | K11: =SUM(K5:K10) -> 0 | L11: =SUM(L5:L10) -> 0 | M11: =SUM(M5:M10) -> 0 | N11: =SUM(N5:N10) -> 0 | O11: =SUM(O5:O10) -> 0 | P11: =SUM(P5:P10) -> 0 | Q11: =SUM(Q5:Q10) -> 0 | R11: =SUM(R5:R10) -> 0 | ... W11: =SUM(W5:W10) -> 0
C13: Offentlig tilskudd
A14: 3400 | C14: Administrasjons- og driftsbidrag | I14: =W14 -> 0 | W14: =SUM(K14:V14) -> 0
A15: 3401 | C15: Aktivitetsmidler | I15: =W15 -> 0 | W15: =SUM(K15:V15) -> 0
A16: 3440 | C16: Refusjon anleggs- og lokalleie | I16: =W16 -> 0 | W16: =SUM(K16:V16) -> 0
A17: 3441 | C17: Anleggsstøtte | I17: =W17 -> 0 | W17: =SUM(K17:V17) -> 0
A18: 3442 | C18: Tilskudd øremerkede | I18: =W18 -> 0 | W18: =SUM(K18:V18) -> 0
A19: 3450 | C19: Spillemiddeltilskudd | I19: =W19 -> 0 | W19: =SUM(K19:V19) -> 0
A20: 3460 | C20: Annen offentlig støtte | I20: =W20 -> 0 | W20: =SUM(K20:V20) -> 0
C21: Sum offentlig tilskudd | G21: =SUM(G14:G20) -> 0 | I21: =SUM(I14:I20) -> 0 | K21: =SUM(K14:K20) -> 0 | L21: =SUM(L14:L20) -> 0 | M21: =SUM(M14:M20) -> 0 | N21: =SUM(N14:N20) -> 0 | O21: =SUM(O14:O20) -> 0 | P21: =SUM(P14:P20) -> 0 | Q21: =SUM(Q14:Q20) -> 0 | R21: =SUM(R14:R20) -> 0 | ... W21: =SUM(W14:W20) -> 0
C23: Andre inntekter
A24: 3911 | C24: Eventer | I24: =W24 -> 0 | W24: =SUM(K24:V24) -> 0
A25: 3920 | C25: Treningsavgifter junior | I25: =W25 -> 0 | W25: =SUM(K25:V25) -> 0
A26: 3921 | C26: Treningsavgifter senior | I26: =W26 -> 0 | W26: =SUM(K26:V26) -> 0
A27: 3930 | C27: Stevneinntekter deltageravgifter | I27: =W27 -> 0 | W27: =SUM(K27:V27) -> 0
A28: 3931 | C28: Inntekter fra idrettsskole/-leir | I28: =W28 -> 0 | W28: =SUM(K28:V28) -> 0
A29: 3932 | C29: Billettinntekter | I29: =W29 -> 0 | W29: =SUM(K29:V29) -> 0
A30: 3940 | C30: Egenandeler ved stevnedeltakelse og reiser | I30: =W30 -> 0 | W30: =SUM(K30:V30) -> 0
A31: 3960 | C31: Bingo/lotteriinntekter ol. | I31: =W31 -> 0 | W31: =SUM(K31:V31) -> 0
A32: 3970 | C32: Gaver | I32: =W32 -> 0 | W32: =SUM(K32:V32) -> 0
A33: 3971 | C33: Tilskudd fra Hovedlaget | I33: =W33 -> 0 | W33: =SUM(K33:V33) -> 0
A34: 3980 | C34: Dugnadsinntekter | I34: =W34 -> 0 | W34: =SUM(K34:V34) -> 0
A35: 3990 | C35: Diverse inntekter | I35: =W35 -> 0 | W35: =SUM(K35:V35) -> 0
C36: Sum andre inntekter | G36: =SUM(G24:G35) -> 0 | I36: =SUM(I24:I35) -> 0 | K36: =SUM(K24:K35) -> 0 | L36: =SUM(L24:L35) -> 0 | M36: =SUM(M24:M35) -> 0 | N36: =SUM(N24:N35) -> 0 | O36: =SUM(O24:O35) -> 0 | P36: =SUM(P24:P35) -> 0 | Q36: =SUM(Q24:Q35) -> 0 | R36: =SUM(R24:R35) -> 0 | ... W36: =SUM(W24:W35) -> 0
C38: SUM INNTEKTER | G38: =G11+G21+G36 -> 0 | I38: =I11+I21+I36 -> 0 | K38: =K11+K21+K36 -> 0 | L38: =L11+L21+L36 -> 0 | M38: =M11+M21+M36 -> 0 | N38: =N11+N21+N36 -> 0 | O38: =O11+O21+O36 -> 0 | P38: =P11+P21+P36 -> 0 | Q38: =Q11+Q21+Q36 -> 0 | R38: =R11+R21+R36 -> 0 | ... W38: =W11+W21+W36 -> 0
C41: Vare- og arrangementkostnader
A42: 4000 | C42: Innkjøp av råvarer og halvfabrikata høy sats | I42: =W42 -> 0 | W42: =SUM(K42:V42) -> 0
A43: 4201 | C43: Innkjøp til egne arrangement | I43: =W43 -> 0 | W43: =SUM(K43:V43) -> 0
A44: 4210 | C44: Innkjøp idrettsmateriell/utstyr | I44: =W44 -> 0 | W44: =SUM(K44:V44) -> 0
A45: 4211 | C45: Idrettsskolens kostnader | I45: =W45 -> 0 | W45: =SUM(K45:V45) -> 0
A46: 4300 | C46: Dommerutgifter | I46: =W46 -> 0 | W46: =SUM(K46:V46) -> 0
A47: 4400 | C47: Andre kostnader ved arrangement | I47: =W47 -> 0 | W47: =SUM(K47:V47) -> 0
A48: 4410 | C48: Transaksjonskostnader medlemsinntekter | I48: =W48 -> 0 | W48: =SUM(K48:V48) -> 0
A49: 4500 | C49: Startkontingenter | I49: =W49 -> 0 | W49: =SUM(K49:V49) -> 0
A50: 4501 | C50: Turneringsutgifter | I50: =W50 -> 0 | W50: =SUM(K50:V50) -> 0
A51: 4800 | C51: Kostnader ved egne dugnader | I51: =W51 -> 0 | W51: =SUM(K51:V51) -> 0
A52: 4900 | C52: Bingo- lotterikostnader | I52: =W52 -> 0 | W52: =SUM(K52:V52) -> 0
C53: Sum vare- og arrangementkostnader | G53: =SUM(G42:G52) -> 0 | I53: =SUM(I42:I52) -> 0 | K53: =SUM(K42:K52) -> 0 | L53: =SUM(L42:L52) -> 0 | M53: =SUM(M42:M52) -> 0 | N53: =SUM(N42:N52) -> 0 | O53: =SUM(O42:O52) -> 0 | P53: =SUM(P42:P52) -> 0 | Q53: =SUM(Q42:Q52) -> 0 | R53: =SUM(R42:R52) -> 0 | ... W53: =SUM(W42:W52) -> 0
C55: Lønn- og personalkostnad
A56: 5000 | C56: Lønn til ansatte | I56: =W56 -> 0 | W56: =SUM(K56:V56) -> 0
A57: 5010 | C57: Timelønn ansatte | I57: =W57 -> 0 | W57: =SUM(K57:V57) -> 0
A58: 5011 | C58: Annen lønn ansatte | I58: =W58 -> 0 | W58: =SUM(K58:V58) -> 0
A59: 5012 | C59: Timelønn ansatte - uten AGA | I59: =W59 -> 0 | W59: =SUM(K59:V59) -> 0
A60: 5013 | C60: Annen lønn ansatte - uten AGA | I60: =W60 -> 0 | W60: =SUM(K60:V60) -> 0
A61: 5092 | C61: Feriepenger | I61: =W61 -> 0 | W61: =SUM(K61:V61) -> 0
A62: 5210 | C62: Fri telefon | I62: =W62 -> 0 | W62: =SUM(K62:V62) -> 0
A63: 5270 | C63: Innberettet OTP | I63: =W63 -> 0 | W63: =SUM(K63:V63) -> 0
A64: 5280 | C64: Annen fordel i arbeidsforhold | I64: =W64 -> 0 | W64: =SUM(K64:V64) -> 0
A65: 5290 | C65: Motkonto fordeler gruppe 52 | I65: =W65 -> 0 | W65: =SUM(K65:V65) -> 0
A66: 5331 | C66: Selvstendig næringsdrivende instruktører | I66: =W66 -> 0 | W66: =SUM(K66:V66) -> 0
A67: 5400 | C67: Arbeidsgiveravgift | I67: =W67 -> 0 | W67: =SUM(K67:V67) -> 0
... A75: 5990 | C75: Andre personalkostnader | I75: =W75 -> 0 | W75: =SUM(K75:V75) -> 0
C76: Sum lønn og personalkostnad | G76: =SUM(G56:G75) -> 0 | I76: =SUM(I56:I75) -> 0 | K76: =SUM(K56:K75) -> 0 | L76: =SUM(L56:L75) -> 0 | M76: =SUM(M56:M75) -> 0 | N76: =SUM(N56:N75) -> 0 | O76: =SUM(O56:O75) -> 0 | P76: =SUM(P56:P75) -> 0 | Q76: =SUM(Q56:Q75) -> 0 | R76: =SUM(R56:R75) -> 0 | ... W76: =SUM(W56:W75) -> 0
C78: Kostnader lokaler/leie maskiner
A79: 6300 | C79: Leie lokaler Njårdhallen | G79: 0 | I79: =W79 -> 0 | W79: =SUM(K79:V79) -> 0
A80: 6305 | C80: Leie eksterne lokaler | G80: 0 | I80: =W80 -> 0 | W80: =SUM(K80:V80) -> 0
A81: 6320 | C81: Renovasjon | G81: 0 | I81: =W81 -> 0 | W81: =SUM(K81:V81) -> 0
A82: 6360 | C82: Renhold | G82: 0 | I82: =W82 -> 0 | W82: =SUM(K82:V82) -> 0
A83: 6361 | C83: Drift utomhusanlegg | G83: 0 | I83: =W83 -> 0 | W83: =SUM(K83:V83) -> 0
A84: 6400 | C84: Leie maskiner | G84: 0 | I84: =W84 -> 0 | W84: =SUM(K84:V84) -> 0
A85: 6420 | C85: Leie datasystemer | G85: 0 | I85: =W85 -> 0 | W85: =SUM(K85:V85) -> 0
A86: 6490 | C86: Annen leiekostnad | G86: 0 | I86: =W86 -> 0 | W86: =SUM(K86:V86) -> 0
C87: Sum kostnader lokaler/leie maskiner | G87: =SUM(G79:G86) -> 0 | I87: =SUM(I79:I86) -> 0 | K87: =SUM(K79:K86) -> 0 | L87: =SUM(L79:L86) -> 0 | M87: =SUM(M79:M86) -> 0 | N87: =SUM(N79:N86) -> 0 | O87: =SUM(O79:O86) -> 0 | P87: =SUM(P79:P86) -> 0 | Q87: =SUM(Q79:Q86) -> 0 | R87: =SUM(R79:R86) -> 0 | ... W87: =SUM(W79:W86) -> 0
C89: Inventar og driftsmateriale som ikke skal avskrives
A90: 6540 | C90: Inventar | G90: 0 | I90: =W90 -> 0 | W90: =SUM(K90:V90) -> 0
A91: 6550 | C91: Smittevernkostnader | I91: =W91 -> 0 | W91: =SUM(K91:V91) -> 0
A92: 6551 | C92: Datautstyr | G92: 0 | I92: =W92 -> 0 | W92: =SUM(K92:V92) -> 0
A93: 6560 | C93: Innkjøp verktøy / utstyr | G93: 0 | I93: =W93 -> 0 | W93: =SUM(K93:V93) -> 0
A94: 6590 | C94: Annen driftskostnad | G94: 0 | I94: =W94 -> 0 | W94: =SUM(K94:V94) -> 0
C95: Sum inventar og driftsmateriale som ikke skal avskrives | G95: =SUM(G90:G94) -> 0 | I95: =SUM(I90:I94) -> 0 | K95: =SUM(K90:K94) -> 0 | L95: =SUM(L90:L94) -> 0 | M95: =SUM(M90:M94) -> 0 | N95: =SUM(N90:N94) -> 0 | O95: =SUM(O90:O94) -> 0 | P95: =SUM(P90:P94) -> 0 | Q95: =SUM(Q90:Q94) -> 0 | R95: =SUM(R90:R94) -> 0 | ... W95: =SUM(W90:W94) -> 0
C97: Andre driftskostnader
A98: 6720 | C98: Datadrift og vedlikehold | G98: 0 | I98: =W98 -> 0 | W98: =SUM(K98:V98) -> 0
A99: 6790 | C99: Annen fremmedtjeneste | G99: 0 | I99: =W99 -> 0 | W99: =SUM(K99:V99) -> 0
A100: 6800 | C100: Kontorrekvisita | G100: 0 | I100: =W100 -> 0 | W100: =SUM(K100:V100) -> 0
A101: 6820 | C101: Trykksaker | G101: 0 | I101: =W101 -> 0 | W101: =SUM(K101:V101) -> 0
A102: 6840 | C102: Aviser, tidsskrifter mv | G102: 0 | I102: =W102 -> 0 | W102: =SUM(K102:V102) -> 0
A103: 6860 | C103: Møter, kurs, oppdatering o l | G103: 0 | I103: =W103 -> 0 | W103: =SUM(K103:V103) -> 0
A104: 6890 | C104: Annen kontorkostnad | G104: 0 | I104: =W104 -> 0 | W104: =SUM(K104:V104) -> 0
A105: 6900 | C105: Telefon | G105: 0 | I105: =W105 -> 0 | W105: =SUM(K105:V105) -> 0
A106: 6940 | C106: Porto | G106: 0 | I106: =W106 -> 0 | W106: =SUM(K106:V106) -> 0
A107: 7100 | C107: Bilgodtgjørelse oppgavepliktig | G107: 0 | I107: =W107 -> 0 | W107: =SUM(K107:V107) -> 0
A108: 7130 | C108: Reisekostnader oppgavepliktig | G108: 0 | I108: =W108 -> 0 | W108: =SUM(K108:V108) -> 0
A109: 7140 | C109: Reisekostnader - ikke oppg.pl. | G109: 0 | I109: =W109 -> 0 | W109: =SUM(K109:V109) -> 0
... A120: 7830 | C120: Tap på fordringer | G120: 0 | I120: =W120 -> 0 | W120: =SUM(K120:V120) -> 0
C121: Sum andre driftskostnader | G121: =SUM(G98:G120) -> 0 | I121: =SUM(I98:I120) -> 0 | K121: =SUM(K98:K120) -> 0 | L121: =SUM(L98:L120) -> 0 | M121: =SUM(M98:M120) -> 0 | N121: =SUM(N98:N120) -> 0 | O121: =SUM(O98:O120) -> 0 | P121: =SUM(P98:P120) -> 0 | Q121: =SUM(Q98:Q120) -> 0 | R121: =SUM(R98:R120) -> 0 | ... W121: =SUM(W98:W120) -> 0
C123: SUM DRIFTSKOSTNADER | G123: =G53+G76+G87+G95+G121 -> 0 | I123: =W123 -> 0 | K123: =K53+K76+K87+K95+K121 -> 0 | L123: =L53+L76+L87+L95+L121 -> 0 | M123: =M53+M76+M87+M95+M121 -> 0 | N123: =N53+N76+N87+N95+N121 -> 0 | O123: =O53+O76+O87+O95+O121 -> 0 | P123: =P53+P76+P87+P95+P121 -> 0 | Q123: =Q53+Q76+Q87+Q95+Q121 -> 0 | R123: =R53+R76+R87+R95+R121 -> 0 | ... W123: =W53+W76+W87+W95+W121 -> 0
C125: DRIFTSRESULTAT | G125: =G38-G123 -> 0 | I125: =W125 -> 0 | K125: =K38-K123 -> 0 | L125: =L38-L123 -> 0 | M125: =M38-M123 -> 0 | N125: =N38-N123 -> 0 | O125: =O38-O123 -> 0 | P125: =P38-P123 -> 0 | Q125: =Q38-Q123 -> 0 | R125: =R38-R123 -> 0 | ... W125: =W38-W123 -> 0
C127: Finansinntekter og -kostnader
A128: 8050 | C128: Renteinntekt bank | I128: =W128 -> 0 | W128: =SUM(K128:V128) -> 0
A129: 8059 | C129: Annen renteinntekt | I129: =W129 -> 0 | W129: =SUM(K129:V129) -> 0
A130: 8060 | C130: Purregebyr | I130: =W130 -> 0 | W130: =SUM(K130:V130) -> 0
...
