Workbook

Sheet Resultat 2022
A1: Rapport | B1: Resultatrapport
A2: Firma | B2: Tromsø Håndballklubb
A3: Søkekriterie | B3: Fra dato | C3: 2022-01-01
B4: Til dato | C4: 2022-12-31
B5: Datotype | C5: Dato
B6: Visning | C6: Måned
A7: Kontonr | B7: Kontonavn | C7: 1 | D7: 2 | E7: 3 | F7: 4 | G7: 5 | H7: 6 | I7: 7 | J7: 8 | K7: 9 | L7: 10 | M7: 11 | N7: 12 | O7: Totalt
A8: 3100 | B8: Viderefakturering utgiftsfordeling | C8: 0 | D8: 0 | E8: -8748 | F8: 0 | G8: 0 | H8: 0 | I8: 0 | J8: -25800 | K8: 0 | L8: 0 | M8: 0 | N8: 0 | O8: -34548
A9: 3120 | B9: Sponsormidler | C9: -34000 | D9: -10000 | E9: 0 | F9: -30000 | G9: -21000 | H9: 0 | I9: -35000 | J9: -10000 | K9: -397500 | L9: -30000 | M9: -3750 | N9: -168700 | O9: -739950
A10: 3210 | B10: Salgsinntekter Kiosk og Kafè | C10: -10729 | D10: -18226 | E10: -27911 | F10: -129389 | G10: -14473 | H10: 0 | I10: 0 | J10: -948 | K10: -35092 | L10: -56816 | M10: -87727 | N10: -41048 | O10: -422360
A11: 3220 | B11: Dugnadsinntekter | C11: -41064 | D11: -83256 | E11: -36273 | F11: -66972 | G11: -47454 | H11: -22200 | I11: -37000 | J11: -42728 | K11: -196323 | L11: -146258 | M11: -726516 | N11: -88501 | O11: -1534545
A12: 3440 | B12: Andre tilskudd | C12: 0 | D12: 0 | E12: 0 | F12: 0 | G12: 0 | H12: 0 | I12: -8000 | J12: 0 | K12: 0 | L12: 0 | M12: 0 | N12: 0 | O12: -8000
A13: 3441 | B13: Grasrotandelen | C13: -18780 | D13: 0 | E13: 0 | F13: 0 | G13: -20636 | H13: 0 | I13: 0 | J13: 0 | K13: -22217 | L13: 0 | M13: 0 | N13: 0 | O13: -61633
A14: 3442 | B14: Momskompensasjon | C14: 0 | D14: 0 | E14: 0 | F14: -448000 | G14: 0 | H14: 0 | I14: 0 | J14: 0 | K14: 0 | L14: 0 | M14: 0 | N14: -296428 | O14: -744428
A15: 3443 | B15: LAM- Lokale aktivitetsmidler | C15: 0 | D15: 0 | E15: 0 | F15: 0 | G15: 0 | H15: 0 | I15: 0 | J15: 0 | K15: 0 | L15: -50000 | M15: 0 | N15: 0 | O15: -50000
A16: 3900 | B16: Annen driftsrelatert inntekt | C16: 0 | D16: 0 | E16: 0 | F16: 0 | G16: 0 | H16: 0 | I16: 0 | J16: 0 | K16: -393 | L16: 0 | M16: 0 | N16: 0 | O16: -393
A17: 3920 | B17: Medlemskontingenter/treningsavgifter | C17: -29786 | D17: -7198 | E17: -71095 | F17: -179059 | G17: -19879 | H17: -10456 | I17: 0 | J17: -14076 | K17: -112111 | L17: -9925 | M17: -153073 | N17: -85403 | O17: -692061
A18: 3940 | B18: Egenandeler | C18: -15210 | D18: -52946 | E18: -92000 | F18: -68632 | G18: -52611 | H18: -75125 | I18: -2100 | J18: -48436 | K18: -79732 | L18: -92723 | M18: -101225 | N18: -46315 | O18: -727053
A19: 3950 | B19: Turneringsinntekter etc. | C19: -38400 | D19: 7400 | E19: 0 | F19: 0 | G19: 12000 | H19: 0 | I19: 0 | J19: 0 | K19: 0 | L19: -4000 | M19: 0 | N19: 0 | O19: -23000
... A21: 3990 | B21: Andre inntekter | C21: 0 | D21: -2093 | E21: -49102 | F21: -1356 | G21: -3735 | H21: 0 | I21: -503 | J21: 0 | K21: -10376 | L21: -21104 | M21: 0 | N21: 0 | O21: -88269
B22: Sum inntekter | C22: -195516 | D22: -173866 | E22: -292677 | F22: -923408 | G22: -167787 | H22: -107781 | I22: -82603 | J22: -170182 | K22: -853743 | L22: -436218 | M22: -1072291 | N22: -754957 | O22: -5231029
A23: 4300 | B23: Varekjøp kiosk/kafe | C23: 1318 | D23: 6119 | E23: 7064 | F23: 20004 | G23: 1521 | H23: 0 | I23: 0 | J23: 0 | K23: 14608 | L23: 18163 | M23: 0 | N23: 1199 | O23: 69996
A24: 4320 | B24: Varekjøp dugnad | C24: 0 | D24: 40924 | E24: 0 | F24: 12368 | G24: 0 | H24: 0 | I24: 0 | J24: 0 | K24: 0 | L24: 0 | M24: 460988 | N24: 0 | O24: 514280
A25: 4350 | B25: Kostnader egne arrangement | C25: 0 | D25: 0 | E25: 0 | F25: 24016 | G25: 0 | H25: 0 | I25: 0 | J25: 0 | K25: 0 | L25: 0 | M25: 0 | N25: 0 | O25: 24016
B26: Sum vare/materialkostnad | C26: 1318 | D26: 47043 | E26: 7064 | F26: 56388 | G26: 1521 | H26: 0 | I26: 0 | J26: 0 | K26: 14608 | L26: 18163 | M26: 460988 | N26: 1199 | O26: 608292
B27: Dekningsbidrag | C27: -194198 | D27: -126823 | E27: -285613 | F27: -867021 | G27: -166266 | H27: -107781 | I27: -82603 | J27: -170182 | K27: -839135 | L27: -418055 | M27: -611303 | N27: -753758 | O27: -4622738
A28: 5000 | B28: Lønn til ansatte | C28: 0 | D28: 0 | E28: 0 | F28: 0 | G28: 0 | H28: 0 | I28: 0 | J28: 0 | K28: 0 | L28: 0 | M28: 84000 | N28: 9000 | O28: 93000
A29: 5010 | B29: Lønn til ansatte, ikke AGA | C29: 9000 | D29: 9000 | E29: 9000 | F29: 9000 | G29: 9000 | H29: 3186 | I29: 9000 | J29: 9000 | K29: 9000 | L29: 27000 | M29: 15000 | N29: 15000 | O29: 132186
A30: 5092 | B30: Periodisering feriepenger | C30: 918 | D30: 918 | E30: 918 | F30: 918 | G30: 918 | H30: 325 | I30: 918 | J30: 918 | K30: 918 | L30: 2754 | M30: 10098 | N30: 2448 | O30: 22969
A31: 5100 | B31: Honorar Trenere, innberettet | C31: 0 | D31: 0 | E31: 0 | F31: 0 | G31: 0 | H31: 8000 | I31: 0 | J31: 0 | K31: 0 | L31: 0 | M31: 0 | N31: 0 | O31: 8000
B32: Sum lønnskostnader | C32: 9918 | D32: 9918 | E32: 9918 | F32: 9918 | G32: 9918 | H32: 11510 | I32: 9918 | J32: 9918 | K32: 9918 | L32: 29754 | M32: 109098 | N32: 26448 | O32: 256154
A33: 5400 | B33: Arbeidsgiveravgift | C33: 0 | D33: 0 | E33: 0 | F33: 0 | G33: 0 | H33: 0 | I33: 0 | J33: 0 | K33: 0 | L33: 0 | M33: 6636 | N33: 711 | O33: 7347
A34: 5401 | B34: Arbeidsgiveravgift av påløpt ferielønn | C34: 0 | D34: 0 | E34: 0 | F34: 0 | G34: 0 | H34: 0 | I34: 0 | J34: 0 | K34: 0 | L34: 0 | M34: 677 | N34: 73 | O34: 749
A35: 5500 | B35: Annen kostnadsgodtgjørelse | C35: 0 | D35: 0 | E35: 0 | F35: 0 | G35: 0 | H35: 0 | I35: 0 | J35: 10000 | K35: 0 | L35: 0 | M35: 0 | N35: 10000 | O35: 20000
A36: 5560 | B36: Dommerutgifter. utgiftsgodtgjørelse | C36: 12030 | D36: 20950 | E36: 17365 | F36: 28375 | G36: 13855 | H36: 555 | I36: 0 | J36: 0 | K36: 7775 | L36: 6020 | M36: 18470 | N36: 7180 | O36: 132575
A37: 5561 | B37: Trenerugifter, honorar | C37: 0 | D37: 10000 | E37: 0 | F37: 4000 | G37: 0 | H37: -4000 | I37: 0 | J37: 0 | K37: 0 | L37: 0 | M37: 0 | N37: 6500 | O37: 16500
A38: 5562 | B38: Musikk hjemmekamp | C38: 0 | D38: 600 | E38: 600 | F38: 0 | G38: 0 | H38: 0 | I38: 0 | J38: 0 | K38: 0 | L38: 600 | M38: 0 | N38: 0 | O38: 1800
A39: 5900 | B39: Gave til ansatte, fradragsberettiget | C39: 0 | D39: 0 | E39: 0 | F39: 1372 | G39: 1248 | H39: 0 | I39: 0 | J39: 0 | K39: 0 | L39: 0 | M39: 0 | N39: 1438 | O39: 4058
A40: 5990 | B40: Annen personalkostnad | C40: 3125 | D40: 0 | E40: 0 | F40: 5225 | G40: 0 | H40: 4359 | I40: 0 | J40: 0 | K40: 1803 | L40: 561 | M40: 351 | N40: 1411 | O40: 16835
B41: Sum annen personalkostnad | C41: 15155 | D41: 31550 | E41: 17965 | F41: 38972 | G41: 15103 | H41: 914 | I41: 0 | J41: 10000 | K41: 9578 | L41: 7181 | M41: 26134 | N41: 27313 | O41: 199864
...

Sheet Budsjett 2023
A1: Kontonr | B1: Kontonavn | C1: 2022 | D1: Budsjett 2023 | E1: Jan | F1: Feb | G1: Mar | H1: Apr | I1: Mai | J1: Jun | K1: Jul | L1: Aug | M1: Sep | N1: Okt | O1: Nov | P1: Des
A2: 3100 | B2: Viderefakturering utgiftsfordeling | C2: =VLOOKUP(A2,'Resultat 2022'!A:O,15,0) -> -34548 | D2: =SUM(E2:P2) -> 0
A3: 3120 | B3: Sponsormidler | C3: =VLOOKUP(A3,'Resultat 2022'!A:O,15,0) -> -739950 | D3: =SUM(E3:P3) -> -797500 | E3: -35000 | F3: -22500 | I3: -50000 | M3: -600000 | O3: -30000 | P3: -60000
A4: 3210 | B4: Salgsinntekter Kiosk og Kafè | C4: =VLOOKUP(A4,'Resultat 2022'!A:O,15,0) -> -422360 | D4: =SUM(E4:P4) -> -685439.54 | E4: -219051.88 | F4: -32364.571 | G4: -49562.577 | H4: -29760.749 | I4: -25700.232 | J4: 0 | K4: 0 | L4: -1683.398 | M4: =-62314.1395965527-2 -> -62316.14 | N4: -80000 | O4: -120000 | P4: -65000
A5: 3220 | B5: Dugnadsinntekter | C5: =VLOOKUP(A5,'Resultat 2022'!A:O,15,0) -> -1534545 | D5: =SUM(E5:P5) -> -1566357.1 | E5: -26759.724 | F5: -54254.518 | G5: -23637.625 | H5: -240000 | I5: -60923.824 | J5: -14466.829 | K5: -24111.382 | L5: -27844.084 | M5: -167935.64 | N5: -95310.336 | O5: -773440.66 | P5: -57672.47
A6: 3440 | B6: Andre tilskudd | C6: =VLOOKUP(A6,'Resultat 2022'!A:O,15,0) -> -8000 | D6: =SUM(E6:P6) -> 0
A7: 3441 | B7: Grasrotandelen | C7: =VLOOKUP(A7,'Resultat 2022'!A:O,15,0) -> -61633 | D7: =SUM(E7:P7) -> -70000 | E7: -25000 | I7: -20000 | M7: -25000
A8: 3442 | B8: Momskompensasjon | C8: =VLOOKUP(A8,'Resultat 2022'!A:O,15,0) -> -744428 | D8: =SUM(E8:P8) -> -350000 | P8: -350000
A9: 3443 | B9: LAM- Lokale aktivitetsmidler | C9: =VLOOKUP(A9,'Resultat 2022'!A:O,15,0) -> -50000 | D9: =SUM(E9:P9) -> -250000 | N9: -250000
A10: 3900 | B10: Annen driftsrelatert inntekt | C10: =VLOOKUP(A10,'Resultat 2022'!A:O,15,0) -> -393 | D10: =SUM(E10:P10) -> 0
A11: 3920 | B11: Medlemskontingenter/treningsavgifter | C11: =VLOOKUP(A11,'Resultat 2022'!A:O,15,0) -> -692061 | D11: =SUM(E11:P11) -> -730000 | E11: -35000 | F11: -5000 | G11: -100000 | H11: -250000 | N11: -300000 | O11: -40000
A12: 3940 | B12: Egenandeler | C12: =VLOOKUP(A12,'Resultat 2022'!A:O,15,0) -> -727053 | D12: =SUM(E12:P12) -> -1000000 | E12: -20920.083 | F12: -72822.794 | G12: -126538.3 | H12: -94397.575 | I12: -72362.03 | J12: -103328.15 | K12: -2888.3743 | L12: -66619.666 | M12: -109664.7 | N12: -127532.73 | O12: -139223.19 | P12: -63702.408
A13: 3950 | B13: Turneringsinntekter etc. | C13: =VLOOKUP(A13,'Resultat 2022'!A:O,15,0) -> -23000 | D13: =SUM(E13:P13) -> -250000 | E13: -250000
A14: 3960 | B14: Lotteri, bingo etc. | C14: =VLOOKUP(A14,'Resultat 2022'!A:O,15,0) -> -104789 | D14: =SUM(E14:P14) -> -120000 | G14: -30000 | J14: -30000 | M14: -30000 | P14: -30000
A15: 3990 | B15: Andre inntekter | C15: =VLOOKUP(A15,'Resultat 2022'!A:O,15,0) -> -88269 | D15: =SUM(E15:P15) -> -100000 | G15: -40000 | M15: -40000 | P15: -20000
B16: Sum inntekter | C16: =SUM(C2:C15) -> -5231029 | D16: =SUM(D2:D15) -> -5919296.6 | E16: =SUM(E2:E15) -> -611731.68 | F16: =SUM(F2:F15) -> -186941.88 | G16: =SUM(G2:G15) -> -369738.51 | H16: =SUM(H2:H15) -> -614158.32 | I16: =SUM(I2:I15) -> -228986.09 | J16: =SUM(J2:J15) -> -147794.98 | ... P16: =SUM(P2:P15) -> -646374.88
A17: 4300 | B17: Varekjøp kiosk/kafe | C17: =VLOOKUP(A17,'Resultat 2022'!A:O,15,0) -> 69996 | D17: =SUM(E17:P17) -> 161250 | E17: 3036.2806 | F17: 14096.359 | G17: 16273.358 | H17: 46083.276 | I17: 3503.9324 | J17: 0 | K17: 0 | L17: 0 | M17: 33652.494 | N17: 41842.159 | O17: 0 | P17: 2762.14
A18: 4320 | B18: Varekjøp dugnad | C18: =VLOOKUP(A18,'Resultat 2022'!A:O,15,0) -> 514280 | D18: =SUM(E18:P18) -> 530000 | E18: 10000 | H18: 140000 | O18: 380000
A19: 4350 | B19: Kostnader egne arrangement | C19: =VLOOKUP(A19,'Resultat 2022'!A:O,15,0) -> 24016 | D19: =SUM(E19:P19) -> 20000 | E19: 20000
B20: Sum vare/materialkostnad | C20: =SUM(C17:C19) -> 608292 | D20: =SUM(D17:D19) -> 711250 | E20: =SUM(E17:E19) -> 33036.281 | F20: =SUM(F17:F19) -> 14096.359 | G20: =SUM(G17:G19) -> 16273.358 | H20: =SUM(H17:H19) -> 186083.28 | I20: =SUM(I17:I19) -> 3503.9324 | J20: =SUM(J17:J19) -> 0 | ... P20: =SUM(P17:P19) -> 2762.14
A21: 5000 | B21: Lønn til ansatte | C21: =VLOOKUP(A21,'Resultat 2022'!A:O,15,0) -> 93000 | D21: =SUM(E21:P21) -> 234000 | E21: 21272.727 | F21: 21272.727 | G21: 21272.727 | H21: 21272.727 | I21: 21272.727 | K21: 21272.727 | L21: 21272.727 | M21: 21272.727 | N21: 21272.727 | O21: 21272.727 | P21: 21272.727
A22: 5010 | B22: Lønn til ansatte, ikke AGA | C22: =VLOOKUP(A22,'Resultat 2022'!A:O,15,0) -> 132186 | D22: =SUM(E22:P22) -> 0
A23: 5092 | B23: Periodisering feriepenger | C23: =VLOOKUP(A23,'Resultat 2022'!A:O,15,0) -> 22969 | D23: =SUM(E23:P23) -> 24000 | E23: 2000 | F23: 2000 | G23: 2000 | H23: 2000 | I23: 2000 | J23: 2000 | K23: 2000 | L23: 2000 | M23: 2000 | N23: 2000 | O23: 2000 | P23: 2000
A24: 5100 | B24: Honorar Trenere, innberettet | C24: =VLOOKUP(A24,'Resultat 2022'!A:O,15,0) -> 8000 | D24: =SUM(E24:P24) -> 8000 | J24: 8000
B25: Sum lønnskostnader | C25: =SUM(C21:C24) -> 256155 | D25: =SUM(D21:D24) -> 266000 | E25: =SUM(E21:E24) -> 23272.727 | F25: =SUM(F21:F24) -> 23272.727 | G25: =SUM(G21:G24) -> 23272.727 | H25: =SUM(H21:H24) -> 23272.727 | I25: =SUM(I21:I24) -> 23272.727 | J25: =SUM(J21:J24) -> 10000 | ... P25: =SUM(P21:P24) -> 23272.727
A26: 5400 | B26: Arbeidsgiveravgift | C26: =VLOOKUP(A26,'Resultat 2022'!A:O,15,0) -> 7347 | D26: =SUM(E26:P26) -> 7500 | P26: 7500
A27: 5401 | B27: Arbeidsgiveravgift av påløpt ferielønn | C27: =VLOOKUP(A27,'Resultat 2022'!A:O,15,0) -> 749 | D27: =SUM(E27:P27) -> 750 | P27: 750
A28: 5500 | B28: Annen kostnadsgodtgjørelse | C28: =VLOOKUP(A28,'Resultat 2022'!A:O,15,0) -> 20000 | D28: =SUM(E28:P28) -> 20000 | E28: 1500 | F28: 1500 | G28: 1500 | H28: 1500 | I28: 1500 | J28: 1500 | K28: 1500 | L28: 1500 | M28: 1500 | N28: 1500 | O28: 1500 | P28: 3500
A29: 5560 | B29: Dommerutgifter. utgiftsgodtgjørelse | C29: =VLOOKUP(A29,'Resultat 2022'!A:O,15,0) -> 132575 | D29: =SUM(E29:P29) -> 130000 | E29: 11796.342 | F29: 20543.089 | G29: 17027.72 | H29: 27823.873 | I29: 13585.895 | J29: 544.22025 | K29: 0 | L29: 0 | M29: 7623.9864 | N29: 5903.0737 | O29: 18111.258 | P29: 7040.5431
A30: 5561 | B30: Trenerugifter, honorar | C30: =VLOOKUP(A30,'Resultat 2022'!A:O,15,0) -> 16500 | D30: =SUM(E30:P30) -> 13000 | H30: 4000 | L30: 4000 | P30: 5000
A31: 5562 | B31: Musikk hjemmekamp | C31: =VLOOKUP(A31,'Resultat 2022'!A:O,15,0) -> 1800 | D31: =SUM(E31:P31) -> 2000 | G31: 500 | J31: 500 | M31: 500 | P31: 500
A32: 5900 | B32: Gave til ansatte, fradragsberettiget | C32: =VLOOKUP(A32,'Resultat 2022'!A:O,15,0) -> 4058 | D32: =SUM(E32:P32) -> 2500 | J32: 1250 | P32: 1250
A33: 5990 | B33: Annen personalkostnad | C33: =VLOOKUP(A33,'Resultat 2022'!A:O,15,0) -> 16835 | D33: =SUM(E33:P33) -> 15000 | E33: 1000 | F33: 1000 | G33: 1000 | H33: 1000 | I33: 1000 | J33: 1000 | K33: 1000 | L33: 1000 | M33: 1000 | N33: 1000 | O33: 2500 | P33: 2500
B34: Sum annen personalkostnad | C34: =SUM(C26:C33) -> 199864 | D34: =SUM(D26:D33) -> 190750 | E34: =SUM(E26:E33) -> 14296.342 | F34: =SUM(F26:F33) -> 23043.089 | G34: =SUM(G26:G33) -> 20027.72 | H34: =SUM(H26:H33) -> 34323.873 | I34: =SUM(I26:I33) -> 16085.895 | J34: =SUM(J26:J33) -> 4794.2203 | ... P34: =SUM(P26:P33) -> 28040.543
B35: Sum personalkostnader | C35: =+C34+C25 -> 456019 | D35: =+D34+D25 -> 456750 | E35: =+E34+E25 -> 37569.069 | F35: =+F34+F25 -> 46315.816 | G35: =+G34+G25 -> 43300.447 | H35: =+H34+H25 -> 57596.601 | I35: =+I34+I25 -> 39358.622 | J35: =+J34+J25 -> 14794.22 | ... P35: =+P34+P25 -> 51313.27
A36: 6300 | B36: Leie lokaler/Haller | C36: =VLOOKUP(A36,'Resultat 2022'!A:O,15,0) -> 186636 | D36: =SUM(E36:P36) -> 210000 | E36: 55000 | F36: 110000 | I36: 10000 | M36: 15000 | P36: 20000
A37: 6370 | B37: Vakthold | C37: =VLOOKUP(A37,'Resultat 2022'!A:O,15,0) -> 4050 | D37: =SUM(E37:P37) -> 4000 | G37: 4000
A38: 6390 | B38: Annen kostnad lokaler | C38: =VLOOKUP(A38,'Resultat 2022'!A:O,15,0) -> 3298 | D38: =SUM(E38:P38) -> 3000 | H38: 3000
B39: Sum kostnader lokaler | C39: =SUM(C36:C38) -> 193984 | D39: =SUM(D36:D38) -> 217000 | E39: =SUM(E36:E38) -> 55000 | F39: =SUM(F36:F38) -> 110000 | G39: =SUM(G36:G38) -> 4000 | H39: =SUM(H36:H38) -> 3000 | I39: =SUM(I36:I38) -> 10000 | J39: =SUM(J36:J38) -> 0 | ... P39: =SUM(P36:P38) -> 20000
A40: 6420 | B40: Leie datasystemer | C40: =VLOOKUP(A40,'Resultat 2022'!A:O,15,0) -> 25158 | D40: =SUM(E40:P40) -> 25000 | E40: 2000 | F40: 2000 | G40: 2000 | H40: 2000 | I40: 2000 | J40: 2000 | K40: 2000 | L40: 2000 | M40: 2000 | N40: 2000 | O40: 2000 | P40: 3000
...
