Workbook

Sheet Resultat 2022
A1: Rapport | B1: Resultatrapport
A2: Firma | B2: Tromsø Håndballklubb
A3: Søkekriterie | B3: Fra dato | C3: 2022-01-01
B4: Til dato | C4: 2022-12-31
B5: Datotype | C5: Dato
B6: Visning | C6: Måned
A7: Kontonr | B7: Kontonavn | C7: 1 | D7: 2 | E7: 3 | F7: 4 | G7: 5 | H7: 6 | I7: 7 | J7: 8 | K7: 9 | L7: 10 | M7: 11 | N7: 12 | O7: Totalt
A8: 3100 | B8: Viderefakturering utgiftsfordeling | C8: 0 | D8: 0 | E8: -8748 | F8: 0 | G8: 0 | H8: 0 | I8: 0 | J8: -25800 | K8: 0 | L8: 0 | M8: 0 | N8: 0 | O8: -34548
A9: 3120 | B9: Sponsormidler | C9: -34000 | D9: -10000 | E9: 0 | F9: -30000 | G9: -21000 | H9: 0 | I9: -35000 | J9: -10000 | K9: -397500 | L9: -30000 | M9: -3750 | N9: -168700 | O9: -739950
A10: 3210 | B10: Salgsinntekter Kiosk og Kafè | C10: -10729 | D10: -18226 | E10: -27911 | F10: -129389 | G10: -14473 | H10: 0 | I10: 0 | J10: -948 | K10: -35092 | L10: -56816 | M10: -87727 | N10: -41048 | O10: -422360
A11: 3220 | B11: Dugnadsinntekter | C11: -41064 | D11: -83256 | E11: -36273 | F11: -66972 | G11: -47454 | H11: -22200 | I11: -37000 | J11: -42728 | K11: -196323 | L11: -146258 | M11: -726516 | N11: -88501 | O11: -1534545
A12: 3440 | B12: Andre tilskudd | C12: 0 | D12: 0 | E12: 0 | F12: 0 | G12: 0 | H12: 0 | I12: -8000 | J12: 0 | K12: 0 | L12: 0 | M12: 0 | N12: 0 | O12: -8000
A13: 3441 | B13: Grasrotandelen | C13: -18780 | D13: 0 | E13: 0 | F13: 0 | G13: -20636 | H13: 0 | I13: 0 | J13: 0 | K13: -22217 | L13: 0 | M13: 0 | N13: 0 | O13: -61633
A14: 3442 | B14: Momskompensasjon | C14: 0 | D14: 0 | E14: 0 | F14: -448000 | G14: 0 | H14: 0 | I14: 0 | J14: 0 | K14: 0 | L14: 0 | M14: 0 | N14: -296428 | O14: -744428
A15: 3443 | B15: LAM- Lokale aktivitetsmidler | C15: 0 | D15: 0 | E15: 0 | F15: 0 | G15: 0 | H15: 0 | I15: 0 | J15: 0 | K15: 0 | L15: -50000 | M15: 0 | N15: 0 | O15: -50000
A16: 3900 | B16: Annen driftsrelatert inntekt | C16: 0 | D16: 0 | E16: 0 | F16: 0 | G16: 0 | H16: 0 | I16: 0 | J16: 0 | K16: -393 | L16: 0 | M16: 0 | N16: 0 | O16: -393
A17: 3920 | B17: Medlemskontingenter/treningsavgifter | C17: -29786 | D17: -7198 | E17: -71095 | F17: -179059 | G17: -19879 | H17: -10456 | I17: 0 | J17: -14076 | K17: -112111 | L17: -9925 | M17: -153073 | N17: -85403 | O17: -692061
A18: 3940 | B18: Egenandeler | C18: -15210 | D18: -52946 | E18: -92000 | F18: -68632 | G18: -52611 | H18: -75125 | I18: -2100 | J18: -48436 | K18: -79732 | L18: -92723 | M18: -101225 | N18: -46315 | O18: -727053
A19: 3950 | B19: Turneringsinntekter etc. | C19: -38400 | D19: 7400 | E19: 0 | F19: 0 | G19: 12000 | H19: 0 | I19: 0 | J19: 0 | K19: 0 | L19: -4000 | M19: 0 | N19: 0 | O19: -23000
... A21: 3990 | B21: Andre inntekter | C21: 0 | D21: -2093 | E21: -49102 | F21: -1356 | G21: -3735 | H21: 0 | I21: -503 | J21: 0 | K21: -10376 | L21: -21104 | M21: 0 | N21: 0 | O21: -88269
B22: Sum inntekter | C22: -195516 | D22: -173866 | E22: -292677 | F22: -923408 | G22: -167787 | H22: -107781 | I22: -82603 | J22: -170182 | K22: -853743 | L22: -436218 | M22: -1072291 | N22: -754957 | O22: -5231029
A23: 4300 | B23: Varekjøp kiosk/kafe | C23: 1318 | D23: 6119 | E23: 7064 | F23: 20004 | G23: 1521 | H23: 0 | I23: 0 | J23: 0 | K23: 14608 | L23: 18163 | M23: 0 | N23: 1199 | O23: 69996
A24: 4320 | B24: Varekjøp dugnad | C24: 0 | D24: 40924 | E24: 0 | F24: 12368 | G24: 0 | H24: 0 | I24: 0 | J24: 0 | K24: 0 | L24: 0 | M24: 460988 | N24: 0 | O24: 514280
A25: 4350 | B25: Kostnader egne arrangement | C25: 0 | D25: 0 | E25: 0 | F25: 24016 | G25: 0 | H25: 0 | I25: 0 | J25: 0 | K25: 0 | L25: 0 | M25: 0 | N25: 0 | O25: 24016
B26: Sum vare/materialkostnad | C26: 1318 | D26: 47043 | E26: 7064 | F26: 56388 | G26: 1521 | H26: 0 | I26: 0 | J26: 0 | K26: 14608 | L26: 18163 | M26: 460988 | N26: 1199 | O26: 608292
B27: Dekningsbidrag | C27: -194198 | D27: -126823 | E27: -285613 | F27: -867021 | G27: -166266 | H27: -107781 | I27: -82603 | J27: -170182 | K27: -839135 | L27: -418055 | M27: -611303 | N27: -753758 | O27: -4622738
A28: 5000 | B28: Lønn til ansatte | C28: 0 | D28: 0 | E28: 0 | F28: 0 | G28: 0 | H28: 0 | I28: 0 | J28: 0 | K28: 0 | L28: 0 | M28: 84000 | N28: 9000 | O28: 93000
A29: 5010 | B29: Lønn til ansatte, ikke AGA | C29: 9000 | D29: 9000 | E29: 9000 | F29: 9000 | G29: 9000 | H29: 3186 | I29: 9000 | J29: 9000 | K29: 9000 | L29: 27000 | M29: 15000 | N29: 15000 | O29: 132186
A30: 5092 | B30: Periodisering feriepenger | C30: 918 | D30: 918 | E30: 918 | F30: 918 | G30: 918 | H30: 325 | I30: 918 | J30: 918 | K30: 918 | L30: 2754 | M30: 10098 | N30: 2448 | O30: 22969
A31: 5100 | B31: Honorar Trenere, innberettet | C31: 0 | D31: 0 | E31: 0 | F31: 0 | G31: 0 | H31: 8000 | I31: 0 | J31: 0 | K31: 0 | L31: 0 | M31: 0 | N31: 0 | O31: 8000
B32: Sum lønnskostnader | C32: 9918 | D32: 9918 | E32: 9918 | F32: 9918 | G32: 9918 | H32: 11510 | I32: 9918 | J32: 9918 | K32: 9918 | L32: 29754 | M32: 109098 | N32: 26448 | O32: 256154
A33: 5400 | B33: Arbeidsgiveravgift | C33: 0 | D33: 0 | E33: 0 | F33: 0 | G33: 0 | H33: 0 | I33: 0 | J33: 0 | K33: 0 | L33: 0 | M33: 6636 | N33: 711 | O33: 7347
A34: 5401 | B34: Arbeidsgiveravgift av påløpt ferielønn | C34: 0 | D34: 0 | E34: 0 | F34: 0 | G34: 0 | H34: 0 | I34: 0 | J34: 0 | K34: 0 | L34: 0 | M34: 677 | N34: 73 | O34: 749
A35: 5500 | B35: Annen kostnadsgodtgjørelse | C35: 0 | D35: 0 | E35: 0 | F35: 0 | G35: 0 | H35: 0 | I35: 0 | J35: 10000 | K35: 0 | L35: 0 | M35: 0 | N35: 10000 | O35: 20000
A36: 5560 | B36: Dommerutgifter. utgiftsgodtgjørelse | C36: 12030 | D36: 20950 | E36: 17365 | F36: 28375 | G36: 13855 | H36: 555 | I36: 0 | J36: 0 | K36: 7775 | L36: 6020 | M36: 18470 | N36: 7180 | O36: 132575
A37: 5561 | B37: Trenerugifter, honorar | C37: 0 | D37: 10000 | E37: 0 | F37: 4000 | G37: 0 | H37: -4000 | I37: 0 | J37: 0 | K37: 0 | L37: 0 | M37: 0 | N37: 6500 | O37: 16500
A38: 5562 | B38: Musikk hjemmekamp | C38: 0 | D38: 600 | E38: 600 | F38: 0 | G38: 0 | H38: 0 | I38: 0 | J38: 0 | K38: 0 | L38: 600 | M38: 0 | N38: 0 | O38: 1800
A39: 5900 | B39: Gave til ansatte, fradragsberettiget | C39: 0 | D39: 0 | E39: 0 | F39: 1372 | G39: 1248 | H39: 0 | I39: 0 | J39: 0 | K39: 0 | L39: 0 | M39: 0 | N39: 1438 | O39: 4058
A40: 5990 | B40: Annen personalkostnad | C40: 3125 | D40: 0 | E40: 0 | F40: 5225 | G40: 0 | H40: 4359 | I40: 0 | J40: 0 | K40: 1803 | L40: 561 | M40: 351 | N40: 1411 | O40: 16835
B41: Sum annen personalkostnad | C41: 15155 | D41: 31550 | E41: 17965 | F41: 38972 | G41: 15103 | H41: 914 | I41: 0 | J41: 10000 | K41: 9578 | L41: 7181 | M41: 26134 | N41: 27313 | O41: 199864
B42: Sum personalkostnader | C42: 25073 | D42: 41468 | E42: 27883 | F42: 48890 | G42: 25021 | H42: 12424 | I42: 9918 | J42: 19918 | K42: 19496 | L42: 36935 | M42: 135232 | N42: 53761 | O42: 456019
B43: Sum avskrivninger | C43: 0 | D43: 0 | E43: 0 | F43: 0 | G43: 0 | H43: 0 | I43: 0 | J43: 0 | K43: 0 | L43: 0 | M43: 0 | N43: 0 | O43: 0
B44: Sum frakt/transport ved salg | C44: 0 | D44: 0 | E44: 0 | F44: 0 | G44: 0 | H44: 0 | I44: 0 | J44: 0 | K44: 0 | L44: 0 | M44: 0 | N44: 0 | O44: 0
B45: Sum kostnader ved produksjon | C45: 0 | D45: 0 | E45: 0 | F45: 0 | G45: 0 | H45: 0 | I45: 0 | J45: 0 | K45: 0 | L45: 0 | M45: 0 | N45: 0 | O45: 0
A46: 6300 | B46: Leie lokaler/Haller | C46: 0 | D46: 0 | E46: 0 | F46: 0 | G46: 70204 | H46: 40373 | I46: 0 | J46: 2867 | K46: 16540 | L46: 54540 | M46: 0 | N46: 2113 | O46: 186636
A47: 6370 | B47: Vakthold | C47: 0 | D47: 0 | E47: 0 | F47: 4050 | G47: 0 | H47: 0 | I47: 0 | J47: 0 | K47: 0 | L47: 0 | M47: 0 | N47: 0 | O47: 4050
A48: 6390 | B48: Annen kostnad lokaler | C48: 3298 | D48: 0 | E48: 0 | F48: 0 | G48: 0 | H48: 0 | I48: 0 | J48: 0 | K48: 0 | L48: 0 | M48: 0 | N48: 0 | O48: 3298
B49: Sum kostnader lokaler | C49: 3298 | D49: 0 | E49: 0 | F49: 4050 | G49: 70204 | H49: 40373 | I49: 0 | J49: 2867 | K49: 16540 | L49: 54540 | M49: 0 | N49: 2113 | O49: 193984
A50: 6420 | B50: Leie datasystemer | C50: 495 | D50: 1466 | E50: 2909 | F50: 1834 | G50: 2172 | H50: 1583 | I50: 3213 | J50: 1720 | K50: 2348 | L50: 2112 | M50: 3115 | N50: 2189 | O50: 25158
A51: 6490 | B51: Annen leiekostnad | C51: 2060 | D51: 0 | E51: 0 | F51: 0 | G51: 0 | H51: 0 | I51: 0 | J51: 0 | K51: 0 | L51: 0 | M51: 0 | N51: 0 | O51: 2060
B52: Sum leiekostnader maskiner/inventar | C52: 2555 | D52: 1466 | E52: 2909 | F52: 1834 | G52: 2172 | H52: 1583 | I52: 3213 | J52: 1720 | K52: 2348 | L52: 2112 | M52: 3115 | N52: 2189 | O52: 27218
A53: 6540 | B53: Inventar | C53: 0 | D53: 0 | E53: 0 | F53: 2244 | G53: 0 | H53: 0 | I53: 0 | J53: 0 | K53: 4215 | L53: 0 | M53: 0 | N53: 4990 | O53: 11449
A54: 6550 | B54: Driftsmateriale | C54: 0 | D54: 0 | E54: 0 | F54: 0 | G54: 0 | H54: 0 | I54: 0 | J54: 0 | K54: 817 | L54: 2507 | M54: 0 | N54: 0 | O54: 3325
A55: 6560 | B55: Rekvisita, førstehjelpsutstyr etc. | C55: 606 | D55: 1712 | E55: 732 | F55: 5009 | G55: 465 | H55: 0 | I55: 0 | J55: 371 | K55: 1661 | L55: 0 | M55: 7405 | N55: 920 | O55: 18881
A56: 6570 | B56: Premier | C56: 0 | D56: 0 | E56: 391 | F56: 0 | G56: 0 | H56: 0 | I56: 0 | J56: 0 | K56: 0 | L56: 0 | M56: 0 | N56: 0 | O56: 391
A57: 6580 | B57: Idrettsutstyr, drakter etc. | C57: 11320 | D57: 17544 | E57: 8042 | F57: 11880 | G57: 30912 | H57: 2739 | I57: 0 | J57: 32722 | K57: 81634 | L57: 17215 | M57: 9833 | N57: 7502 | O57: 231343
B58: Sum kostnadsført verktøy/inventar mv | C58: 11926 | D58: 19256 | E58: 9165 | F58: 19133 | G58: 31377 | H58: 2739 | I58: 0 | J58: 33093 | K58: 88327 | L58: 19722 | M58: 17238 | N58: 13412 | O58: 265390
B59: Sum reparasjon og vedlikehold | C59: 0 | D59: 0 | E59: 0 | F59: 0 | G59: 0 | H59: 0 | I59: 0 | J59: 0 | K59: 0 | L59: 0 | M59: 0 | N59: 0 | O59: 0
A60: 6705 | B60: Honorar regnskap | C60: 6013 | D60: 8003 | E60: 18400 | F60: 22222 | G60: 6013 | H60: 7719 | I60: 11984 | J60: 12000 | K60: 11416 | L60: 6013 | M60: 11416 | N60: 7719 | O60: 128916
A61: 6780 | B61: Treningssenter | C61: 5341 | D61: 5341 | E61: 5341 | F61: 5431 | G61: 5431 | H61: 5431 | I61: 5132 | J61: 6248 | K61: 0 | L61: 14464 | M61: 9733 | N61: 3876 | O61: 71769
A62: 6790 | B62: Annen fremmed tjeneste | C62: 0 | D62: 1500 | E62: 0 | F62: 200600 | G62: 0 | H62: 3020 | I62: 0 | J62: 0 | K62: 1181 | L62: 0 | M62: 0 | N62: 5475 | O62: 211776
B63: Sum fremmedtjenester | C63: 11354 | D63: 14844 | E63: 23741 | F63: 228253 | G63: 11444 | H63: 16170 | I63: 17116 | J63: 18248 | K63: 12597 | L63: 20477 | M63: 21149 | N63: 17070 | O63: 412461
A64: 6810 | B64: Data/EDB kostnad | C64: 120 | D64: 0 | E64: 0 | F64: 0 | G64: 0 | H64: 5394 | I64: 1775 | J64: 0 | K64: 0 | L64: 0 | M64: 0 | N64: 0 | O64: 7289
A65: 6820 | B65: Trykksak | C65: 0 | D65: 0 | E65: 0 | F65: 0 | G65: 3885 | H65: 0 | I65: 0 | J65: 0 | K65: 0 | L65: 0 | M65: 2313 | N65: 0 | O65: 6198
A66: 6860 | B66: Møte, kurs, oppdatering o.l | C66: 0 | D66: 0 | E66: 0 | F66: 2175 | G66: 0 | H66: 0 | I66: 0 | J66: 3450 | K66: 5976 | L66: 2531 | M66: 0 | N66: 0 | O66: 14132
A67: 6861 | B67: Utdanning trenere | C67: 0 | D67: 0 | E67: 0 | F67: 0 | G67: 0 | H67: 9669 | I67: 0 | J67: 0 | K67: 4500 | L67: 0 | M67: 0 | N67: 9660 | O67: 23829
A68: 6862 | B68: Utdanning dommere | C68: 0 | D68: 0 | E68: 0 | F68: 0 | G68: 0 | H68: 4785 | I68: 0 | J68: 0 | K68: 0 | L68: 0 | M68: 0 | N68: 5850 | O68: 10635
B69: Sum kontorkostnader | C69: 120 | D69: 0 | E69: 0 | F69: 2175 | G69: 3885 | H69: 19848 | I69: 1775 | J69: 3450 | K69: 10476 | L69: 2531 | M69: 2313 | N69: 15510 | O69: 62083
A70: 6900 | B70: Telefon | C70: 524 | D70: 524 | E70: 524 | F70: 524 | G70: 524 | H70: 524 | I70: 524 | J70: 524 | K70: 524 | L70: 524 | M70: 524 | N70: 524 | O70: 6285
B71: Sum telefon porto mv | C71: 524 | D71: 524 | E71: 524 | F71: 524 | G71: 524 | H71: 524 | I71: 524 | J71: 524 | K71: 524 | L71: 524 | M71: 524 | N71: 524 | O71: 6285
A72: 7140 | B72: Reisekostnad, ikke oppgavepliktig | C72: -7661 | D72: 18339 | E72: 44629 | F72: -89017 | G72: 15644 | H72: -141898 | I72: 6903 | J72: -50755 | K72: 5431 | L72: 40308 | M72: 90934 | N72: 790 | O72: -66355
A73: 7141 | B73: Flyreiser | C73: 176510 | D73: 123175 | E73: 81841 | F73: 32301 | G73: 90743 | H73: 1000 | I73: 0 | J73: 129651 | K73: 126950 | L73: 80913 | M73: 259607 | N73: 337165 | O73: 1439856
A74: 7142 | B74: Bussreiser, Tog, Båt, Taxi | C74: 46651 | D74: 97925 | E74: 126615 | F74: 35128 | G74: 47404 | H74: 463 | I74: 82505 | J74: 25876 | K74: 43524 | L74: 26194 | M74: 38890 | N74: 462579 | O74: 1033753
A75: 7144 | B75: Hotell og overnatting | C75: 17964 | D75: 53762 | E75: 90496 | F75: 48250 | G75: 48687 | H75: 24960 | I75: 2380 | J75: 113714 | K75: 40045 | L75: 50040 | M75: 53640 | N75: 61650 | O75: 605587
A76: 7145 | B76: Leie bil- andre reisekostnader | C76: 21459 | D76: 0 | E76: 606 | F76: 26295 | G76: 3694 | H76: 11501 | I76: 0 | J76: 0 | K76: 21177 | L76: 0 | M76: 0 | N76: 0 | O76: 84732
A77: 7162 | B77: Bevertning | C77: 0 | D77: 0 | E77: 0 | F77: 0 | G77: 0 | H77: 0 | I77: 0 | J77: 0 | K77: 0 | L77: 0 | M77: 0 | N77: 2618 | O77: 2618
A78: 7190 | B78: Annen kostnadsgodtgjørelse | C78: 500 | D78: 0 | E78: 0 | F78: 0 | G78: 0 | H78: 0 | I78: 0 | J78: 0 | K78: 0 | L78: 0 | M78: 0 | N78: 1192 | O78: 1692
A79: 7195 | B79: Reisekostnad dommere | C79: 5989 | D79: 7247 | E79: 13541 | F79: 18807 | G79: 10981 | H79: 0 | I79: 0 | J79: 0 | K79: 7201 | L79: 2470 | M79: 9366 | N79: 3171 | O79: 78772
A80: 7320 | B80: Reklamekostnad | C80: 0 | D80: 0 | E80: 0 | F80: 0 | G80: 0 | H80: 0 | I80: 0 | J80: 0 | K80: 0 | L80: 66667 | M80: 66947 | N80: 66667 | O80: 200280
A81: 7400 | B81: Kontingent, fradragsberettiget | C81: 0 | D81: 0 | E81: 0 | F81: 0 | G81: 0 | H81: 0 | I81: 0 | J81: 0 | K81: 0 | L81: 3500 | M81: 0 | N81: 0 | O81: 3500
A82: 7410 | B82: Påmelding serier, turneringer, samlinger etc. | C82: 61140 | D82: 2450 | E82: 77900 | F82: 43600 | G82: 245200 | H82: 81433 | I82: 0 | J82: 0 | K82: 91940 | L82: 34328 | M82: 45659 | N82: 26900 | O82: 710550
A83: 7415 | B83: Trenerlisens | C83: 0 | D83: 0 | E83: 0 | F83: 0 | G83: 0 | H83: 0 | I83: 0 | J83: 1390 | K83: 12585 | L83: 0 | M83: 0 | N83: 0 | O83: 13975
... A91: 7790 | B91: Annen kostnad, fradragsberettiget | C91: 11 | D91: 29960 | E91: 5839 | F91: -4414 | G91: 3890 | H91: -279 | I91: 0 | J91: 0 | K91: 25000 | L91: 7401 | M91: 0 | N91: 14680 | O91: 82088
B92: Sum andre driftskostnader | C92: 324080 | D92: 334183 | E92: 463370 | F92: 111744 | G92: 475099 | H92: -19196 | I92: 115234 | J92: 224133 | K92: 399721 | L92: 313962 | M92: 568973 | N92: 1009832 | O92: 4321134
B93: Sum driftskostnader | C93: 353856 | D93: 370273 | E93: 499709 | F93: 367713 | G93: 594704 | H93: 62041 | I93: 137862 | J93: 284035 | K93: 530532 | L93: 413868 | M93: 613312 | N93: 1060650 | O93: 5288555
B94: Driftresultat | C94: 184731 | D94: 284918 | E94: 241979 | F94: -450417 | G94: 453459 | H94: -33316 | I94: 65177 | J94: 133771 | K94: -289107 | L94: 32748 | M94: 137240 | N94: 360652 | O94: 1121836
A95: 8150 | B95: Annen rentekostnad | C95: 0 | D95: 0 | E95: 0 | F95: 280 | G95: 0 | H95: 0 | I95: 0 | J95: 0 | K95: 0 | L95: 169 | M95: 62 | N95: 877 | O95: 1388
B96: Sum finansposter | C96: 0 | D96: 0 | E96: 0 | F96: 280 | G96: 0 | H96: 0 | I96: 0 | J96: 0 | K96: 0 | L96: 169 | M96: 62 | N96: 877 | O96: 1388
B97: Sum betalbar skatt og EO poster | C97: 0 | D97: 0 | E97: 0 | F97: 0 | G97: 0 | H97: 0 | I97: 0 | J97: 0 | K97: 0 | L97: 0 | M97: 0 | N97: 0 | O97: 0
B98: Finansposter | C98: 0 | D98: 0 | E98: 0 | F98: 280 | G98: 0 | H98: 0 | I98: 0 | J98: 0 | K98: 0 | L98: 169 | M98: 62 | N98: 877 | O98: 1388
B99: Periodens resultat før disponeringer | C99: 184731 | D99: 284918 | E99: 241979 | F99: -450138 | G99: 453459 | H99: -33316 | I99: 65177 | J99: 133771 | K99: -289107 | L99: 32917 | M99: 137303 | N99: 361529 | O99: 1123224
B100: Sum disponeringer | C100: 0 | D100: 0 | E100: 0 | F100: 0 | G100: 0 | H100: 0 | I100: 0 | J100: 0 | K100: 0 | L100: 0 | M100: 0 | N100: 0 | O100: 0
B101: Disponeringer | C101: 0 | D101: 0 | E101: 0 | F101: 0 | G101: 0 | H101: 0 | I101: 0 | J101: 0 | K101: 0 | L101: 0 | M101: 0 | N101: 0 | O101: 0
B102: Periodens resultat | C102: 184731 | D102: 284918 | E102: 241979 | F102: -450138 | G102: 453459 | H102: -33316 | I102: 65177 | J102: 133771 | K102: -289107 | L102: 32917 | M102: 137303 | N102: 361529 | O102: 1123224

Sheet Budsjett 2023
A1: Kontonr | B1: Kontonavn | C1: 2022 | D1: Budsjett 2023 | E1: Jan | F1: Feb | G1: Mar | H1: Apr | I1: Mai | J1: Jun | K1: Jul | L1: Aug | M1: Sep | N1: Okt | O1: Nov | P1: Des
A2: 3100 | B2: Viderefakturering utgiftsfordeling | C2: =VLOOKUP(A2,'Resultat 2022'!A:O,15,0) -> -34548 | D2: =SUM(E2:P2) -> 0
A3: 3120 | B3: Sponsormidler | C3: =VLOOKUP(A3,'Resultat 2022'!A:O,15,0) -> -739950 | D3: =SUM(E3:P3) -> -797500 | E3: -35000 | F3: -22500 | I3: -50000 | M3: -600000 | O3: -30000 | P3: -60000
A4: 3210 | B4: Salgsinntekter Kiosk og Kafè | C4: =VLOOKUP(A4,'Resultat 2022'!A:O,15,0) -> -422360 | D4: =SUM(E4:P4) -> -685439.54 | E4: -219051.88 | F4: -32364.571 | G4: -49562.577 | H4: -29760.749 | I4: -25700.232 | J4: 0 | K4: 0 | L4: -1683.398 | M4: =-62314.1395965527-2 -> -62316.14 | N4: -80000 | O4: -120000 | P4: -65000
A5: 3220 | B5: Dugnadsinntekter | C5: =VLOOKUP(A5,'Resultat 2022'!A:O,15,0) -> -1534545 | D5: =SUM(E5:P5) -> -1566357.1 | E5: -26759.724 | F5: -54254.518 | G5: -23637.625 | H5: -240000 | I5: -60923.824 | J5: -14466.829 | K5: -24111.382 | L5: -27844.084 | M5: -167935.64 | N5: -95310.336 | O5: -773440.66 | P5: -57672.47
A6: 3440 | B6: Andre tilskudd | C6: =VLOOKUP(A6,'Resultat 2022'!A:O,15,0) -> -8000 | D6: =SUM(E6:P6) -> 0
A7: 3441 | B7: Grasrotandelen | C7: =VLOOKUP(A7,'Resultat 2022'!A:O,15,0) -> -61633 | D7: =SUM(E7:P7) -> -70000 | E7: -25000 | I7: -20000 | M7: -25000
A8: 3442 | B8: Momskompensasjon | C8: =VLOOKUP(A8,'Resultat 2022'!A:O,15,0) -> -744428 | D8: =SUM(E8:P8) -> -350000 | P8: -350000
A9: 3443 | B9: LAM- Lokale aktivitetsmidler | C9: =VLOOKUP(A9,'Resultat 2022'!A:O,15,0) -> -50000 | D9: =SUM(E9:P9) -> -250000 | N9: -250000
A10: 3900 | B10: Annen driftsrelatert inntekt | C10: =VLOOKUP(A10,'Resultat 2022'!A:O,15,0) -> -393 | D10: =SUM(E10:P10) -> 0
A11: 3920 | B11: Medlemskontingenter/treningsavgifter | C11: =VLOOKUP(A11,'Resultat 2022'!A:O,15,0) -> -692061 | D11: =SUM(E11:P11) -> -730000 | E11: -35000 | F11: -5000 | G11: -100000 | H11: -250000 | N11: -300000 | O11: -40000
A12: 3940 | B12: Egenandeler | C12: =VLOOKUP(A12,'Resultat 2022'!A:O,15,0) -> -727053 | D12: =SUM(E12:P12) -> -1000000 | E12: -20920.083 | F12: -72822.794 | G12: -126538.3 | H12: -94397.575 | I12: -72362.03 | J12: -103328.15 | K12: -2888.3743 | L12: -66619.666 | M12: -109664.7 | N12: -127532.73 | O12: -139223.19 | P12: -63702.408
A13: 3950 | B13: Turneringsinntekter etc. | C13: =VLOOKUP(A13,'Resultat 2022'!A:O,15,0) -> -23000 | D13: =SUM(E13:P13) -> -250000 | E13: -250000
A14: 3960 | B14: Lotteri, bingo etc. | C14: =VLOOKUP(A14,'Resultat 2022'!A:O,15,0) -> -104789 | D14: =SUM(E14:P14) -> -120000 | G14: -30000 | J14: -30000 | M14: -30000 | P14: -30000
A15: 3990 | B15: Andre inntekter | C15: =VLOOKUP(A15,'Resultat 2022'!A:O,15,0) -> -88269 | D15: =SUM(E15:P15) -> -100000 | G15: -40000 | M15: -40000 | P15: -20000
B16: Sum inntekter | C16: =SUM(C2:C15) -> -5231029 | D16: =SUM(D2:D15) -> -5919296.6 | E16: =SUM(E2:E15) -> -611731.68 | F16: =SUM(F2:F15) -> -186941.88 | G16: =SUM(G2:G15) -> -369738.51 | H16: =SUM(H2:H15) -> -614158.32 | I16: =SUM(I2:I15) -> -228986.09 | J16: =SUM(J2:J15) -> -147794.98 | ... P16: =SUM(P2:P15) -> -646374.88
A17: 4300 | B17: Varekjøp kiosk/kafe | C17: =VLOOKUP(A17,'Resultat 2022'!A:O,15,0) -> 69996 | D17: =SUM(E17:P17) -> 161250 | E17: 3036.2806 | F17: 14096.359 | G17: 16273.358 | H17: 46083.276 | I17: 3503.9324 | J17: 0 | K17: 0 | L17: 0 | M17: 33652.494 | N17: 41842.159 | O17: 0 | P17: 2762.14
A18: 4320 | B18: Varekjøp dugnad | C18: =VLOOKUP(A18,'Resultat 2022'!A:O,15,0) -> 514280 | D18: =SUM(E18:P18) -> 530000 | E18: 10000 | H18: 140000 | O18: 380000
A19: 4350 | B19: Kostnader egne arrangement | C19: =VLOOKUP(A19,'Resultat 2022'!A:O,15,0) -> 24016 | D19: =SUM(E19:P19) -> 20000 | E19: 20000
B20: Sum vare/materialkostnad | C20: =SUM(C17:C19) -> 608292 | D20: =SUM(D17:D19) -> 711250 | E20: =SUM(E17:E19) -> 33036.281 | F20: =SUM(F17:F19) -> 14096.359 | G20: =SUM(G17:G19) -> 16273.358 | H20: =SUM(H17:H19) -> 186083.28 | I20: =SUM(I17:I19) -> 3503.9324 | J20: =SUM(J17:J19) -> 0 | ... P20: =SUM(P17:P19) -> 2762.14
A21: 5000 | B21: Lønn til ansatte | C21: =VLOOKUP(A21,'Resultat 2022'!A:O,15,0) -> 93000 | D21: =SUM(E21:P21) -> 234000 | E21: 21272.727 | F21: 21272.727 | G21: 21272.727 | H21: 21272.727 | I21: 21272.727 | K21: 21272.727 | L21: 21272.727 | M21: 21272.727 | N21: 21272.727 | O21: 21272.727 | P21: 21272.727
A22: 5010 | B22: Lønn til ansatte, ikke AGA | C22: =VLOOKUP(A22,'Resultat 2022'!A:O,15,0) -> 132186 | D22: =SUM(E22:P22) -> 0
A23: 5092 | B23: Periodisering feriepenger | C23: =VLOOKUP(A23,'Resultat 2022'!A:O,15,0) -> 22969 | D23: =SUM(E23:P23) -> 24000 | E23: 2000 | F23: 2000 | G23: 2000 | H23: 2000 | I23: 2000 | J23: 2000 | K23: 2000 | L23: 2000 | M23: 2000 | N23: 2000 | O23: 2000 | P23: 2000
A24: 5100 | B24: Honorar Trenere, innberettet | C24: =VLOOKUP(A24,'Resultat 2022'!A:O,15,0) -> 8000 | D24: =SUM(E24:P24) -> 8000 | J24: 8000
B25: Sum lønnskostnader | C25: =SUM(C21:C24) -> 256155 | D25: =SUM(D21:D24) -> 266000 | E25: =SUM(E21:E24) -> 23272.727 | F25: =SUM(F21:F24) -> 23272.727 | G25: =SUM(G21:G24) -> 23272.727 | H25: =SUM(H21:H24) -> 23272.727 | I25: =SUM(I21:I24) -> 23272.727 | J25: =SUM(J21:J24) -> 10000 | ... P25: =SUM(P21:P24) -> 23272.727
A26: 5400 | B26: Arbeidsgiveravgift | C26: =VLOOKUP(A26,'Resultat 2022'!A:O,15,0) -> 7347 | D26: =SUM(E26:P26) -> 7500 | P26: 7500
A27: 5401 | B27: Arbeidsgiveravgift av påløpt ferielønn | C27: =VLOOKUP(A27,'Resultat 2022'!A:O,15,0) -> 749 | D27: =SUM(E27:P27) -> 750 | P27: 750
A28: 5500 | B28: Annen kostnadsgodtgjørelse | C28: =VLOOKUP(A28,'Resultat 2022'!A:O,15,0) -> 20000 | D28: =SUM(E28:P28) -> 20000 | E28: 1500 | F28: 1500 | G28: 1500 | H28: 1500 | I28: 1500 | J28: 1500 | K28: 1500 | L28: 1500 | M28: 1500 | N28: 1500 | O28: 1500 | P28: 3500
A29: 5560 | B29: Dommerutgifter. utgiftsgodtgjørelse | C29: =VLOOKUP(A29,'Resultat 2022'!A:O,15,0) -> 132575 | D29: =SUM(E29:P29) -> 130000 | E29: 11796.342 | F29: 20543.089 | G29: 17027.72 | H29: 27823.873 | I29: 13585.895 | J29: 544.22025 | K29: 0 | L29: 0 | M29: 7623.9864 | N29: 5903.0737 | O29: 18111.258 | P29: 7040.5431
A30: 5561 | B30: Trenerugifter, honorar | C30: =VLOOKUP(A30,'Resultat 2022'!A:O,15,0) -> 16500 | D30: =SUM(E30:P30) -> 13000 | H30: 4000 | L30: 4000 | P30: 5000
A31: 5562 | B31: Musikk hjemmekamp | C31: =VLOOKUP(A31,'Resultat 2022'!A:O,15,0) -> 1800 | D31: =SUM(E31:P31) -> 2000 | G31: 500 | J31: 500 | M31: 500 | P31: 500
A32: 5900 | B32: Gave til ansatte, fradragsberettiget | C32: =VLOOKUP(A32,'Resultat 2022'!A:O,15,0) -> 4058 | D32: =SUM(E32:P32) -> 2500 | J32: 1250 | P32: 1250
A33: 5990 | B33: Annen personalkostnad | C33: =VLOOKUP(A33,'Resultat 2022'!A:O,15,0) -> 16835 | D33: =SUM(E33:P33) -> 15000 | E33: 1000 | F33: 1000 | G33: 1000 | H33: 1000 | I33: 1000 | J33: 1000 | K33: 1000 | L33: 1000 | M33: 1000 | N33: 1000 | O33: 2500 | P33: 2500
B34: Sum annen personalkostnad | C34: =SUM(C26:C33) -> 199864 | D34: =SUM(D26:D33) -> 190750 | E34: =SUM(E26:E33) -> 14296.342 | F34: =SUM(F26:F33) -> 23043.089 | G34: =SUM(G26:G33) -> 20027.72 | H34: =SUM(H26:H33) -> 34323.873 | I34: =SUM(I26:I33) -> 16085.895 | J34: =SUM(J26:J33) -> 4794.2203 | ... P34: =SUM(P26:P33) -> 28040.543
B35: Sum personalkostnader | C35: =+C34+C25 -> 456019 | D35: =+D34+D25 -> 456750 | E35: =+E34+E25 -> 37569.069 | F35: =+F34+F25 -> 46315.816 | G35: =+G34+G25 -> 43300.447 | H35: =+H34+H25 -> 57596.601 | I35: =+I34+I25 -> 39358.622 | J35: =+J34+J25 -> 14794.22 | ... P35: =+P34+P25 -> 51313.27
A36: 6300 | B36: Leie lokaler/Haller | C36: =VLOOKUP(A36,'Resultat 2022'!A:O,15,0) -> 186636 | D36: =SUM(E36:P36) -> 210000 | E36: 55000 | F36: 110000 | I36: 10000 | M36: 15000 | P36: 20000
A37: 6370 | B37: Vakthold | C37: =VLOOKUP(A37,'Resultat 2022'!A:O,15,0) -> 4050 | D37: =SUM(E37:P37) -> 4000 | G37: 4000
A38: 6390 | B38: Annen kostnad lokaler | C38: =VLOOKUP(A38,'Resultat 2022'!A:O,15,0) -> 3298 | D38: =SUM(E38:P38) -> 3000 | H38: 3000
B39: Sum kostnader lokaler | C39: =SUM(C36:C38) -> 193984 | D39: =SUM(D36:D38) -> 217000 | E39: =SUM(E36:E38) -> 55000 | F39: =SUM(F36:F38) -> 110000 | G39: =SUM(G36:G38) -> 4000 | H39: =SUM(H36:H38) -> 3000 | I39: =SUM(I36:I38) -> 10000 | J39: =SUM(J36:J38) -> 0 | ... P39: =SUM(P36:P38) -> 20000
A40: 6420 | B40: Leie datasystemer | C40: =VLOOKUP(A40,'Resultat 2022'!A:O,15,0) -> 25158 | D40: =SUM(E40:P40) -> 25000 | E40: 2000 | F40: 2000 | G40: 2000 | H40: 2000 | I40: 2000 | J40: 2000 | K40: 2000 | L40: 2000 | M40: 2000 | N40: 2000 | O40: 2000 | P40: 3000
A41: 6490 | B41: Annen leiekostnad | C41: =VLOOKUP(A41,'Resultat 2022'!A:O,15,0) -> 2060 | D41: =SUM(E41:P41) -> 2000 | I41: 1000 | O41: 1000
B42: Sum leiekostnader maskiner/inventar | C42: =SUM(C40:C41) -> 27218 | D42: =SUM(D40:D41) -> 27000 | E42: =SUM(E40:E41) -> 2000 | F42: =SUM(F40:F41) -> 2000 | G42: =SUM(G40:G41) -> 2000 | H42: =SUM(H40:H41) -> 2000 | I42: =SUM(I40:I41) -> 3000 | J42: =SUM(J40:J41) -> 2000 | ... P42: =SUM(P40:P41) -> 3000
A43: 6540 | B43: Inventar | C43: =VLOOKUP(A43,'Resultat 2022'!A:O,15,0) -> 11449 | D43: =SUM(E43:P43) -> 5000 | E43: 500 | F43: 500 | G43: 500 | H43: 500 | I43: 500 | L43: 500 | M43: 500 | N43: 500 | O43: 500 | P43: 500
A44: 6550 | B44: Driftsmateriale | C44: =VLOOKUP(A44,'Resultat 2022'!A:O,15,0) -> 3325 | D44: =SUM(E44:P44) -> 3000 | I44: 1500 | O44: 1500
A45: 6560 | B45: Rekvisita, førstehjelpsutstyr etc. | C45: =VLOOKUP(A45,'Resultat 2022'!A:O,15,0) -> 18881 | D45: =SUM(E45:P45) -> 15000 | H45: 5000 | L45: 5000 | P45: 5000
A46: 6570 | B46: Premier | C46: =VLOOKUP(A46,'Resultat 2022'!A:O,15,0) -> 391 | D46: =SUM(E46:P46) -> 5000 | E46: 5000
A47: 6580 | B47: Idrettsutstyr, drakter etc. | C47: =VLOOKUP(A47,'Resultat 2022'!A:O,15,0) -> 231343 | D47: =SUM(E47:P47) -> 100000 | E47: 10000 | F47: 10000 | G47: 10000 | H47: 10000 | I47: 10000 | L47: 10000 | M47: 10000 | N47: 10000 | O47: 10000 | P47: 10000
B48: Sum kostnadsført verktøy/inventar mv | C48: =SUM(C43:C47) -> 265389 | D48: =SUM(D43:D47) -> 128000 | E48: =SUM(E43:E47) -> 15500 | F48: =SUM(F43:F47) -> 10500 | G48: =SUM(G43:G47) -> 10500 | H48: =SUM(H43:H47) -> 15500 | I48: =SUM(I43:I47) -> 12000 | J48: =SUM(J43:J47) -> 0 | ... P48: =SUM(P43:P47) -> 15500
A49: 6705 | B49: Honorar regnskap | C49: =VLOOKUP(A49,'Resultat 2022'!A:O,15,0) -> 128916 | D49: =SUM(E49:P49) -> 130000 | E49: 10000 | F49: 10000 | G49: 10000 | H49: 10000 | I49: 10000 | J49: 10000 | K49: 10000 | L49: 10000 | M49: 10000 | N49: 10000 | O49: 10000 | P49: 20000
A50: 6780 | B50: Treningssenter | C50: =VLOOKUP(A50,'Resultat 2022'!A:O,15,0) -> 71769 | D50: =SUM(E50:P50) -> 20000 | E50: 1800 | F50: 1800 | G50: 1800 | H50: 1800 | I50: 1800 | J50: 1000 | K50: 1000 | L50: 1800 | M50: 1800 | N50: 1800 | O50: 1800 | P50: 1800
A51: 6790 | B51: Annen fremmed tjeneste | C51: =VLOOKUP(A51,'Resultat 2022'!A:O,15,0) -> 211776 | D51: =SUM(E51:P51) -> 400000 | E51: 33000 | F51: 33000 | G51: 33000 | H51: 33000 | I51: 33000 | J51: 33000 | K51: 33000 | L51: 33000 | M51: 33000 | N51: 33000 | O51: 33000 | P51: 37000
B52: Sum fremmedtjenester | C52: =SUM(C49:C51) -> 412461 | D52: =SUM(D49:D51) -> 550000 | E52: =SUM(E49:E51) -> 44800 | F52: =SUM(F49:F51) -> 44800 | G52: =SUM(G49:G51) -> 44800 | H52: =SUM(H49:H51) -> 44800 | I52: =SUM(I49:I51) -> 44800 | J52: =SUM(J49:J51) -> 44000 | ... P52: =SUM(P49:P51) -> 58800
A53: 6810 | B53: Data/EDB kostnad | C53: =VLOOKUP(A53,'Resultat 2022'!A:O,15,0) -> 7289 | D53: =SUM(E53:P53) -> 7000 | E53: 1500 | F53: 500 | G53: 500 | H53: 500 | I53: 500 | J53: 500 | K53: 500 | L53: 500 | M53: 500 | N53: 500 | O53: 500 | P53: 500
A54: 6820 | B54: Trykksak | C54: =VLOOKUP(A54,'Resultat 2022'!A:O,15,0) -> 6198 | D54: =SUM(E54:P54) -> 6000 | E54: 500 | F54: 500 | G54: 500 | H54: 500 | I54: 500 | J54: 500 | K54: 500 | L54: 500 | M54: 500 | N54: 500 | O54: 500 | P54: 500
A55: 6860 | B55: Møte, kurs, oppdatering o.l | C55: =VLOOKUP(A55,'Resultat 2022'!A:O,15,0) -> 14132 | D55: =SUM(E55:P55) -> 10000 | E55: 1000 | F55: 1000 | G55: 1000 | H55: 1000 | I55: 1000 | L55: 1000 | M55: 1000 | N55: 1000 | O55: 1000 | P55: 1000
A56: 6861 | B56: Utdanning trenere | C56: =VLOOKUP(A56,'Resultat 2022'!A:O,15,0) -> 23829 | D56: =SUM(E56:P56) -> 25000 | E56: 2000 | F56: 2000 | G56: 2000 | H56: 2000 | I56: 2000 | J56: 2000 | K56: 2000 | L56: 2000 | M56: 2000 | N56: 2000 | O56: 2000 | P56: 3000
A57: 6862 | B57: Utdanning dommere | C57: =VLOOKUP(A57,'Resultat 2022'!A:O,15,0) -> 10635 | D57: =SUM(E57:P57) -> 5000 | E57: 500 | F57: 500 | G57: 500 | H57: 500 | I57: 500 | L57: 500 | M57: 500 | N57: 500 | O57: 500 | P57: 500
B58: Sum kontorkostnader | C58: =SUM(C53:C57) -> 62083 | D58: =SUM(D53:D57) -> 53000 | E58: =SUM(E53:E57) -> 5500 | F58: =SUM(F53:F57) -> 4500 | G58: =SUM(G53:G57) -> 4500 | H58: =SUM(H53:H57) -> 4500 | I58: =SUM(I53:I57) -> 4500 | J58: =SUM(J53:J57) -> 3000 | ... P58: =SUM(P53:P57) -> 5500
A59: 6900 | B59: Telefon | C59: =VLOOKUP(A59,'Resultat 2022'!A:O,15,0) -> 6285 | D59: =SUM(E59:P59) -> 6500 | E59: 1000 | F59: 500 | G59: 500 | H59: 500 | I59: 500 | J59: 500 | K59: 500 | L59: 500 | M59: 500 | N59: 500 | O59: 500 | P59: 500
B60: Sum telefon porto mv | C60: =+C59 -> 6285 | D60: =+D59 -> 6500 | E60: =+E59 -> 1000 | F60: =+F59 -> 500 | G60: =+G59 -> 500 | H60: =+H59 -> 500 | I60: =+I59 -> 500 | J60: =+J59 -> 500 | ... P60: =+P59 -> 500
A61: 7140 | B61: Reisekostnad, ikke oppgavepliktig | C61: =VLOOKUP(A61,'Resultat 2022'!A:O,15,0) -> -66355 | D61: 0
A62: 7141 | B62: Flyreiser | C62: =VLOOKUP(A62,'Resultat 2022'!A:O,15,0) -> 1439856 | D62: =SUM(E62:P62) -> 1419557.5 | E62: 32023.523 | F62: 264542.14 | G62: 94967.363 | H62: 37481.712 | I62: 27846.541 | J62: 1160.3886 | K62: 0 | L62: 27846.541 | M62: 147311.33 | N62: 93890.522 | O62: 301245 | P62: 391242.42
A63: 7142 | B63: Bussreiser, Tog, Båt, Taxi | C63: =VLOOKUP(A63,'Resultat 2022'!A:O,15,0) -> 1033753 | D63: =SUM(E63:P63) -> 859861.45 | E63: 190000 | F63: 40000 | G63: 50000 | H63: 32281.986 | I63: 43563.404 | J63: 425.48849 | K63: 20000 | L63: 23779.568 | M63: 20000 | N63: 24071.804 | O63: 35739.195 | P63: 380000
A64: 7144 | B64: Hotell og overnatting | C64: =VLOOKUP(A64,'Resultat 2022'!A:O,15,0) -> 605587 | D64: =SUM(E64:P64) -> 461352.9 | E64: 20000 | F64: 80000 | G64: 40000 | H64: 25000 | I64: 25000 | J64: 22668.915 | K64: 2161.5391 | L64: 60000 | M64: 36369.258 | N64: 45446.814 | O64: 48716.369 | P64: 55990
A65: 7145 | B65: Leie bil- andre reisekostnader | C65: =VLOOKUP(A65,'Resultat 2022'!A:O,15,0) -> 84732 | D65: =SUM(E65:P65) -> 80000 | E65: 20260.586 | F65: 0 | G65: 572.15692 | H65: 24826.512 | I65: 3487.7024 | J65: 10858.707 | K65: 0 | L65: 0 | M65: 19994.335 | N65: 0 | O65: 0 | P65: 0
A66: 7162 | B66: Bevertning | C66: =VLOOKUP(A66,'Resultat 2022'!A:O,15,0) -> 2618 | D66: =SUM(E66:P66) -> 2500 | E66: 1000 | N66: 1500
A67: 7190 | B67: Annen kostnadsgodtgjørelse | C67: =VLOOKUP(A67,'Resultat 2022'!A:O,15,0) -> 1692 | D67: =SUM(E67:P67) -> 1500 | M67: 1500
A68: 7195 | B68: Reisekostnad dommere | C68: =VLOOKUP(A68,'Resultat 2022'!A:O,15,0) -> 78772 | D68: =SUM(E68:P68) -> 80000.006 | E68: 6082.3643 | F68: 7359.9756 | G68: 13752.095 | H68: 19100.188 | I68: 11152.186 | J68: 0 | K68: 0 | L68: 0 | M68: 7313.2585 | N68: 2508.5056 | O68: 9511 | P68: 3220.4337
A69: 7320 | B69: Reklamekostnad | C69: =VLOOKUP(A69,'Resultat 2022'!A:O,15,0) -> 200280 | D69: =SUM(E69:P69) -> 0
A70: 7400 | B70: Kontingent, fradragsberettiget | C70: =VLOOKUP(A70,'Resultat 2022'!A:O,15,0) -> 3500 | D70: =SUM(E70:P70) -> 5000 | H70: 2500 | M70: 2500
A71: 7410 | B71: Påmelding serier, turneringer, samlinger etc. | C71: =VLOOKUP(A71,'Resultat 2022'!A:O,15,0) -> 710550 | D71: =SUM(E71:P71) -> 635000 | E71: 10000 | F71: 235000 | I71: 165000 | K71: 0 | L71: 0 | M71: 120000 | N71: 50000 | O71: 35000 | P71: 20000
A72: 7415 | B72: Trenerlisens | C72: =VLOOKUP(A72,'Resultat 2022'!A:O,15,0) -> 13975 | D72: =SUM(E72:P72) -> 14000 | E72: 1000 | F72: 1000 | G72: 1000 | H72: 1000 | I72: 2000 | J72: 1000 | K72: 1000 | L72: 1000 | M72: 1000 | N72: 1000 | O72: 2000 | P72: 1000
A73: 7416 | B73: Overgang spillere | C73: =VLOOKUP(A73,'Resultat 2022'!A:O,15,0) -> 6311 | D73: =SUM(E73:P73) -> 6000 | E73: 500 | F73: 500 | G73: 500 | H73: 500 | I73: 500 | J73: 500 | K73: 500 | L73: 500 | M73: 500 | N73: 500 | O73: 500 | P73: 500
A74: 7420 | B74: Gave, fradragsberettiget | C74: =VLOOKUP(A74,'Resultat 2022'!A:O,15,0) -> 2335 | D74: =SUM(E74:P74) -> 2400 | E74: 200 | F74: 200 | G74: 200 | H74: 200 | I74: 200 | J74: 200 | K74: 200 | L74: 200 | M74: 200 | N74: 200 | O74: 200 | P74: 200
A75: 7450 | B75: Dommerkostnader | C75: =VLOOKUP(A75,'Resultat 2022'!A:O,15,0) -> 92228 | D75: =SUM(E75:P75) -> 95000 | E75: 0 | F75: 0 | G75: 10300.559 | H75: 0 | I75: 6720.085 | J75: 0 | K75: 23514.117 | L75: 0 | M75: 22610.758 | N75: 0 | O75: 952.80175 | P75: 30901.678
A76: 7500 | B76: Forsikringspremie | C76: =VLOOKUP(A76,'Resultat 2022'!A:O,15,0) -> 7270 | D76: =SUM(E76:P76) -> 7200 | E76: 600 | F76: 600 | G76: 600 | H76: 600 | I76: 600 | J76: 600 | K76: 600 | L76: 600 | M76: 600 | N76: 600 | O76: 600 | P76: 600
A77: 7600 | B77: Lisensavgift | C77: =VLOOKUP(A77,'Resultat 2022'!A:O,15,0) -> 11975 | D77: =SUM(E77:P77) -> 9000 | E77: 750 | F77: 750 | G77: 750 | H77: 750 | I77: 750 | J77: 750 | K77: 750 | L77: 750 | M77: 750 | N77: 750 | O77: 750 | P77: 750
A78: 7740 | B78: Øreavrunding | C78: =VLOOKUP(A78,'Resultat 2022'!A:O,15,0) -> -1 | D78: =SUM(E78:P78) -> 0
A79: 7770 | B79: Bank og kortgebyr | C79: =VLOOKUP(A79,'Resultat 2022'!A:O,15,0) -> 9968 | D79: =SUM(E79:P79) -> 8000 | E79: 750 | F79: 750 | G79: 750 | H79: 750 | I79: 750 | J79: 750 | K79: 750 | L79: 750 | M79: 500 | N79: 500 | O79: 500 | P79: 500
A80: 7790 | B80: Annen kostnad, fradragsberettiget | C80: =VLOOKUP(A80,'Resultat 2022'!A:O,15,0) -> 82088 | D80: =SUM(E80:P80) -> 80000 | E80: 6000 | F80: 6000 | G80: 6000 | H80: 6000 | I80: 6000 | J80: 6000 | K80: 6000 | L80: 6000 | M80: 8000 | N80: 8000 | O80: 8000 | P80: 8000
B81: Sum andre driftskostnader | C81: =SUM(C61:C80) -> 4321134 | D81: =SUM(D61:D80) -> 3766371.8 | E81: =SUM(E61:E80) -> 289166.47 | F81: =SUM(F61:F80) -> 636702.12 | G81: =SUM(G61:G80) -> 219392.17 | H81: =SUM(H61:H80) -> 150990.4 | I81: =SUM(I61:I80) -> 293569.92 | J81: =SUM(J61:J80) -> 44913.499 | ... P81: =SUM(P61:P80) -> 892904.53
B82: Sum driftskostnader | C82: =+C81+C39+C42+C48+C52+C58+C60 -> 5288554 | D82: =+D81+D39+D42+D48+D52+D58+D60 -> 4747871.8 | E82: =+E81+E39+E42+E48+E52+E58+E60 -> 412966.47 | F82: =+F81+F39+F42+F48+F52+F58+F60 -> 809002.12 | G82: =+G81+G39+G42+G48+G52+G58+G60 -> 285692.17 | H82: =+H81+H39+H42+H48+H52+H58+H60 -> 221290.4 | I82: =+I81+I39+I42+I48+I52+I58+I60 -> 368369.92 | J82: =+J81+J39+J42+J48+J52+J58+J60 -> 94413.499 | ... P82: =+P81+P39+P42+P48+P52+P58+P60 -> 996204.53
B83: Driftresultat | C83: =+(C16+C20+C35+C82)*-1 -> -1121836 | D83: =+(D16+D20+D35+D82)*-1 -> 3424.7998 | E83: =+E16+E20+E35+E82 -> -128159.86 | F83: =+F16+F20+F35+F82 -> 682472.41 | G83: =+G16+G20+G35+G82 -> -24472.527 | H83: =+H16+H20+H35+H82 -> -149188.05 | I83: =+I16+I20+I35+I82 -> 182246.39 | J83: =+J16+J20+J35+J82 -> -38587.263 | K83: =+K16+K20+K35+K82 -> 103748.63 | L83: =+L16+L20+L35+L82 -> 122351.69 | ... P83: =+P16+P20+P35+P82 -> 403905.07
