Workbook

Sheet Budsjett avd. 10
A1: Budsjett 2025 - Hovedlaget avd. 10
A2: Kontonr. | B2: Konto | C2: Budsjett 2024 | D2: Budsjett 2025 | E2: Kommentar
B3: Salgsinntekt
A4: 3110 | B4: Salgsinntekter, avgiftsfri
A5: 3115 | B5: Salgsinntekter arrangement/ kiosk | D5: 160000
A6: 3180 | B6: Rabatt og annen salgsinntektsreduksjon - Kickback
A7: 3400 | B7: Tilskudd | C7: 245000 | D7: 650000
A8: 3401 | B8: Aktivitetsstøtte (hodestøtte) | C8: 50000 | D8: 50000
A9: 3402 | B9: LAM | C9: 50000 | D9: 50000
A10: 3403 | B10: Grasrotmidler - Norsk Tipping | C10: 50000 | D10: 50000
A11: 3404 | B11: Drifttilskudd BYM | D11: 180741
B12: Annen driftsinntekt
A13: 3600 | B13: Leieinntekter (Bymil, hallvakter) | C13: 35000 | D13: 25000
A14: 3610 | B14: Leieinntekt andre varige driftsmidler
A15: 3900 | B15: Annen driftsrelatert inntekt
A16: 3920 | B16: Medlemskontingenter | C16: 75000 | D16: 60000
A17: 3930 | B17: Treningsavgifter
A18: 3960 | B18: Bingo, loddsalg, innsamlinger o.l
A19: 3970 | B19: Momskompensasjon | C19: 96000 | D19: 100000
A20: 3990 | B20: Andre inntekter | C20: 787000 | D20: 657000
A21: 3991 | B21: Uidentifiserte inntekter
B22: Sum driftsinntekter | C22: =SUM(C3:C21) -> 1388000 | D22: =SUM(D3:D21) -> 1982741
B23: Varekostnad
A24: 4300 | B24: Varekostnad, varer for videresalg
A25: 4315 | B25: Varekostnad, kiosk | D25: 150000
A26: 4500 | B26: Fremmedytelse og underentreprise
B27: Lønnskostnad
A28: 5000 | B28: Lønn til ansatte
A29: 5014 | B29: Honorar uten AGA (inkl.feriepenger) | C29: 240000 | D29: 280000
A30: 5015 | B30: Trenerlønn (ikke innberettet)
A31: 5092 | B31: Feriepenger
A32: 5331 | B32: Godtgjørelse til styret, uten AGA | C32: 37000 | D32: 43000
A33: 5400 | B33: Arbeidsgiveravgift
A34: 5405 | B34: Arb.giv.avg av pål. feriepenger
A35: 5900 | B35: Gaver til ansatte
A36: 5950 | B36: OTP | D36: 5600
A37: 5990 | B37: Andre personalkostnader
B38: Annen driftskostnad
A39: 6310 | B39: Banekostnader
A40: 6320 | B40: Renovasjon, vann, avløp | C40: 25000 | D40: 25000
A41: 6360 | B41: Renhold | C41: 5000 | D41: 10000
A42: 6390 | B42: Annen kostnad lokaler | C42: 5000 | D42: 10000
A43: 6420 | B43: Leie datasystemer | C43: 40000 | D43: 25000
A44: 6490 | B44: Annen leiekostnad
A45: 6540 | B45: Inventar | C45: 20000 | D45: 10000
A46: 6545 | B46: Datautstyr | D46: 25000
A47: 6550 | B47: Driftsmateriale
A48: 6560 | B48: Rekvisita
A49: 6580 | B49: Idrettsutstyr | C49: 45000 | D49: 70000
A50: 6600 | B50: Reparasjon og vedlikehold bygninger | C50: 70000 | D50: 40000
A51: 6705 | B51: Regnskapshonorar | D51: 84000
A52: 6720 | B52: Økonomisk og juridisk bistand | C52: 180000 | D52: 75000
A53: 6730 | B53: Idrettsfaglig bistand
A54: 6770 | B54: Medisinsk behandling, utstyr etc | C54: 15000 | D54: 5000
A55: 6790 | B55: Annen fremmed tjeneste
A56: 6800 | B56: Kontorrekvisita | C56: 5000 | D56: 5000
A57: 6860 | B57: Møte, kurs, oppdatering etc | C57: 10000 | D57: 25000
A58: 6890 | B58: Annen kontorkostnader
A59: 6900 | B59: Internett | C59: 15000 | D59: 15000
A60: 6907 | B60: Internett
A61: 6940 | B61: Porte
A62: 6990 | B62: Andre kostnader | C62: 787000 | D62: 857000
A63: 7100 | B63: Bilgodtgjørelse | C63: 5000 | D63: 5000
A64: 7140 | B64: Reisekostnad, ikke oppgavepliktig
A65: 7162 | B65: Bevertning/mat | C65: 10000 | D65: 10000
A66: 7300 | B66: Salgskostnad
A67: 7320 | B67: Reklame og annonser | C67: 40000 | D67: 15000
A68: 7400 | B68: Medlemskontingenter
A69: 7410 | B69: Påmelding serier, turneringer etc
A70: 7420 | B70: Gaver og premier | C70: 4000 | D70: 5000
A71: 7430 | B71: Sosiale kostnader | C71: 5000 | D71: 15000
A72: 7500 | B72: Forsikringspremier | C72: 50000 | D72: 45000
A73: 7560 | B73: Servicekostnad | D73: 2000
A74: 7710 | B74: Styre- og bedriftsforsamlingsmøter | C74: 2000
A75: 7740 | B75: Øresavrunding
A76: 7770 | B76: Bank og kortgebyrer | C76: 10000 | D76: 10000
A77: 7775 | B77: Gebyr Buypass, Vipps o.l | D77: 15000
A78: 7790 | B78: Diverse kostnader | C78: 550000
A79: 7799 | B79: Konto til oppfølging
B80: Sum driftskostnader | C80: =SUM(C23:C79) -> 2175000 | D80: =SUM(D23:D79) -> 1881600
B81: Driftsresultat | C81: =SUM(C22-C80) -> -787000 | D81: =SUM(D22-D80) -> 101141
B82: Annen finansinntekt | D82: =SUM(D83:D84) -> 100000
A83: 8050 | B83: Annen renteinntekt | D83: 100000
A84: 8060 | B84: Valutagevinst (agio)
B85: Annen finanskostnad
A86: 8150 | B86: Annen rentekostnad
B87: Netto finansposter
B88: Udisponert overskudd/underskudd | C88: =C81 -> -787000 | D88: =SUM(D81+D87) -> 101141

Sheet Budsjett avd. 20 turn 
A1: Budsjett turn avd.20
A2: Kontonr. | B2: Konto | C2: Budsjett 2024 | D2: Budsjett 2025 | E2: Kommentar
B3: Salgsinntekt
A4: 3110 | B4: Salgsinntekter, avgiftsfri | C4: 50000 | D4: 25000
A5: 3115 | B5: Salgsinntekter arrangement/ kiosk | C5: 20000 | D5: 25000
A6: 3120 | B6: Sponsorinntekter, avgiftsfri
A7: 3180 | B7: Rabatt og annen salgsinntektsreduksjon - Kickback
A8: 3400 | B8: Tilskudd | C8: 150000 | D8: 90000
A9: 3401 | B9: Aktivitetsstøtte (hodestøtte) | C9: 25000 | D9: 30000
A10: 3402 | B10: LAM | C10: 60000 | D10: 60000
A11: 3403 | B11: Grasrotmidler - Norsk Tipping | C11: 60000 | D11: 60000
A12: 3404 | B12: Drifttilskudd BYM
B13: Annen driftsinntekt
A14: 3600 | B14: Leieinntekter (Bymil, hallvakter) | C14: 45000 | D14: 45000
A15: 3610 | B15: Leieinntekt andre varige driftsmidler
A16: 3620 | B16: Halleie
A17: 3900 | B17: Annen driftsrelatert inntekt
A18: 3920 | B18: Medlemskontingenter
A19: 3930 | B19: Treningsavgifter | C19: 200000 | D19: 240000
A20: 3940 | B20: Egenandeler | C20: 8000
A21: 3950 | B21: Dugnadsinntekter | D21: 13000
A22: 3960 | B22: Bingo, loddsalg, innsamlinger o.l | C22: 35000 | D22: 25000
A23: 3970 | B23: Momskompensasjon | C23: 40000 | D23: 50000
A24: 3980 | B24: Interne bøter
A25: 3990 | B25: Andre inntekter
A26: 3991 | B26: Uidentifiserte inntekter
B27: Sum driftsinntekter | C27: =SUM(C3:C26) -> 693000 | D27: =SUM(D3:D26) -> 663000
B28: Varekostnad
A29: 4300 | B29: Varekostnad, varer for videresalg | C29: 50000 | D29: 20000
A30: 4315 | B30: Varekostnad, kiosk | C30: 10000 | D30: 5000
A31: 4500 | B31: Fremmedytelse og underentreprise
A32: 4510 | B32: Tilrettelegging Spond | C32: 10000
B33: Lønnskostnad
A34: 5000 | B34: Lønn til ansatte
A35: 5014 | B35: Honorar uten AGA (inkl.feriepenger) | C35: 300000 | D35: 367000
A36: 5015 | B36: Trenerlønn (ikke innberettet)
A37: 5092 | B37: Feriepenger
A38: 5330 | B38: Godtgjørelse til styret
A39: 5331 | B39: Godtgjørelse til styret, uten AGA | C39: 35000 | D39: 35000
A40: 5400 | B40: Arbeidsgiveravgift
A41: 5405 | B41: Arb.giv.avg av pål. feriepenger
A42: 5505 | B42: Utstyrsgodtgjørelse, dommer
A43: 5900 | B43: Gaver til ansatte | D43: 5000
A44: 5917 | B44: Dommerhonorar | C44: 2000
A45: 5950 | B45: OTP | D45: 7340
A46: 5990 | B46: Andre personalkostnader
B47: Annen driftskostnad
A48: 6300 | B48: Leie lokale
A49: 6310 | B49: Banekostnader
A50: 6320 | B50: Renovasjon, vann, avløp
A51: 6360 | B51: Renhold
A52: 6390 | B52: Annen kostnad lokaler
A53: 6420 | B53: Leie datasystemer
A54: 6490 | B54: Annen leiekostnad
A55: 6510 | B55: Håndverktøy
A56: 6540 | B56: Inventar
A57: 6545 | B57: Datautstyr | C57: 15000
A58: 6550 | B58: Driftsmateriale
A59: 6560 | B59: Rekvisita
A60: 6580 | B60: Idrettsutstyr | C60: 100000 | D60: 100000
A61: 6600 | B61: Reparasjon og vedlikehold bygninger
A62: 6705 | B62: Regnskapshonorar
A63: 6720 | B63: Økonomisk og juridisk bistand
A64: 6730 | B64: Idrettsfaglig bistand
A65: 6770 | B65: Medisinsk behandling, utstyr etc | C65: 1500 | D65: 2000
A66: 6790 | B66: Annen fremmed tjeneste
A67: 6800 | B67: Kontorrekvisita | C67: 1000 | D67: 3000
A68: 6840 | B68: Aviser, tidsskrifter, bøker o.l.
A69: 6860 | B69: Møte, kurs, oppdatering etc | C69: 25000 | D69: 10000
A70: 6890 | B70: Annen kontorkostnader
A71: 6900 | B71: Internett
A72: 6907 | B72: Internett
A73: 6940 | B73: Porte
A74: 6990 | B74: Andre kostnader
A75: 7100 | B75: Bilgodtgjørelse | C75: 5000
A76: 7103 | B76: Kilometergodtgjørelse, dommer
A77: 7140 | B77: Reisekostnad, ikke oppgavepliktig | C77: 1000
A78: 7144 | B78: Hotell/overnatting
A79: 7145 | B79: Andre reisekostnader
A80: 7162 | B80: Bevertning/mat | C80: 10000 | D80: 4000
A81: 7300 | B81: Salgskostnad
A82: 7320 | B82: Reklame og annonser
A83: 7400 | B83: Medlemskontingenter | C83: 4000 | D83: 4000
A84: 7410 | B84: Påmelding serier, turneringer etc | D84: 20000
A85: 7420 | B85: Gaver og premier | C85: 13000 | D85: 10000
A86: 7430 | B86: Sosiale kostnader | C86: 20000 | D86: 10000
A87: 7440 | B87: Overgangsgebyr
A88: 7500 | B88: Forsikringspremier | C88: 45000 | D88: 50000
A89: 7560 | B89: Servicekostnad | C89: 45000
A90: 7600 | B90: Lisenser, på trenere og dommere | D90: 5000
A91: 7710 | B91: Styre- og bedriftsforsamlingsmøter
A92: 7740 | B92: Øresavrunding
A93: 7770 | B93: Bank og kortgebyrer
A94: 7775 | B94: Gebyr Buypass, Vipps o.l
A95: 7780 | B95: Bøter, sanksjoner
A96: 7790 | B96: Diverse kostnader
A97: 7799 | B97: Konto til oppfølging
B98: Sum driftskostnader | C98: =SUM(C28:C97) -> 692500 | D98: =SUM(D28:D97) -> 657340
B99: Driftsresultat | C99: =SUM(C27-C98) -> 500 | D99: =SUM(D27-D98) -> 5660

Sheet Budsjett avd. 30 håndball
A1: Budsjett Håndball avd.30
A2: Kontonr. | B2: Konto | C2: Budsjett 2024 | D2: Budsjett 2025 | E2: Kommentar
B3: Salgsinntekt
A4: 3110 | B4: Salgsinntekter, avgiftsfri | C4: 8000
A5: 3115 | B5: Salgsinntekter arrangement/ kiosk | C5: 52000 | D5: 20000
A6: 3120 | B6: Sponsorinntekter, avgiftsfri
A7: 3180 | B7: Rabatt og annen salgsinntektsreduksjon - Kickback
A8: 3400 | B8: Tilskudd | C8: 25000 | D8: 35000
A9: 3401 | B9: Aktivitetsstøtte (hodestøtte) | C9: 8000 | D9: 7700
A10: 3402 | B10: LAM | C10: 10000 | D10: 10000
A11: 3403 | B11: Grasrotmidler - Norsk Tipping | C11: 15000 | D11: 15000
A12: 3404 | B12: Drifttilskudd BYM
B13: Annen driftsinntekt
A14: 3600 | B14: Leieinntekter (Bymil, hallvakter) | C14: 50000 | D14: 15000
A15: 3610 | B15: Leieinntekt andre varige driftsmidler
A16: 3620 | B16: Halleie
A17: 3900 | B17: Annen driftsrelatert inntekt
A18: 3920 | B18: Medlemskontingenter
A19: 3930 | B19: Treningsavgifter | C19: 40000 | D19: 65000
A20: 3940 | B20: Egenandeler
A21: 3950 | B21: Dugnadsinntekter
A22: 3960 | B22: Bingo, loddsalg, innsamlinger o.l | C22: 3000 | D22: 2500
A23: 3970 | B23: Momskompensasjon | C23: 15000 | D23: 25000
A24: 3980 | B24: Interne bøter
A25: 3990 | B25: Andre inntekter | C25: 1000
A26: 3991 | B26: Uidentifiserte inntekter
B27: Sum driftsinntekter | C27: =SUM(C3:C26) -> 227000 | D27: =SUM(D3:D26) -> 195200
B28: Varekostnad
A29: 4300 | B29: Varekostnad, varer for videresalg
A30: 4315 | B30: Varekostnad, kiosk | C30: 15000
A31: 4500 | B31: Fremmedytelse og underentreprise
A32: 4510 | B32: Tilrettelegging Spond
B33: Lønnskostnad
A34: 5000 | B34: Lønn til ansatte
A35: 5014 | B35: Honorar uten AGA (inkl.feriepenger) | C35: 60000 | D35: 40000
A36: 5015 | B36: Trenerlønn (ikke innberettet)
A37: 5092 | B37: Feriepenger
A38: 5330 | B38: Godtgjørelse til styret
A39: 5331 | B39: Godtgjørelse til styret, uten AGA | C39: 40000 | D39: 30000
A40: 5400 | B40: Arbeidsgiveravgift
A41: 5405 | B41: Arb.giv.avg av pål. feriepenger
A42: 5505 | B42: Utstyrsgodtgjørelse, dommer
A43: 5900 | B43: Gaver til ansatte
A44: 5917 | B44: Dommerhonorar | C44: 20000 | D44: 15000
A45: 5950 | B45: OTP | D45: 800
A46: 5990 | B46: Andre personalkostnader
B47: Annen driftskostnad
A48: 6300 | B48: Leie lokaler | C48: 3000 | D48: 6000
A49: 6310 | B49: Banekostnader
A50: 6320 | B50: Renovasjon, vann, avløp
A51: 6360 | B51: Renhold
A52: 6390 | B52: Annen kostnad lokaler
A53: 6420 | B53: Leie datasystemer
A54: 6490 | B54: Annen leiekostnad
A55: 6510 | B55: Håndverktøy
A56: 6540 | B56: Inventar
A57: 6545 | B57: Datautstyr | C57: 4000
A58: 6550 | B58: Driftsmateriale
A59: 6560 | B59: Rekvisita
A60: 6580 | B60: Idrettsutstyr | C60: 15000 | D60: 40000
A61: 6600 | B61: Reparasjon og vedlikehold bygninger
A62: 6705 | B62: Regnskapshonorar
A63: 6720 | B63: Økonomisk og juridisk bistand
A64: 6730 | B64: Idrettsfaglig bistand | C64: 4000
A65: 6770 | B65: Medisinsk behandling, utstyr etc
A66: 6790 | B66: Annen fremmed tjeneste
A67: 6800 | B67: Kontorrekvisita | C67: 3000
A68: 6840 | B68: Aviser, tidsskrifter, bøker o.l.
A69: 6860 | B69: Møte, kurs, oppdatering etc | C69: 4000
A70: 6890 | B70: Annen kontorkostnader | C70: 500
A71: 6900 | B71: Internett
A72: 6907 | B72: Internett
A73: 6940 | B73: Porte
A74: 6990 | B74: Andre kostnader
A75: 7100 | B75: Bilgodtgjørelse | C75: 1000
A76: 7103 | B76: Kilometergodtgjørelse, dommer | C76: 4000
A77: 7140 | B77: Reisekostnad, ikke oppgavepliktig
A78: 7144 | B78: Hotell/overnatting
A79: 7145 | B79: Andre reisekostnader
A80: 7162 | B80: Bevertning/mat | C80: 2000 | D80: 3000
A81: 7300 | B81: Salgskostnad
A82: 7320 | B82: Reklame og annonser
A83: 7400 | B83: Medlemskontingenter
A84: 7410 | B84: Påmelding serier, turneringer etc | C84: 45000 | D84: 35000
A85: 7420 | B85: Gaver og premier | C85: 4000
A86: 7430 | B86: Sosiale kostnader | C86: 10000
A87: 7440 | B87: Overgangsgebyrer | C87: 3000
A88: 7500 | B88: Forsikringspremier
A89: 7560 | B89: Servicekostnad
A90: 7600 | B90: Lisenser, på trenere og dommere | C90: 5000
A91: 7710 | B91: Styre- og bedriftsforsamlingsmøter
A92: 7740 | B92: Øresavrunding
A93: 7770 | B93: Bank og kortgebyrer | C93: 500
A94: 7775 | B94: Gebyr Buypass, Vipps o.l | D94: 1000
A95: 7780 | B95: Bøter, sanksjoner | C95: 30000 | D95: 20000
A96: 7790 | B96: Diverse kostnader
A97: 7799 | B97: Konto til oppfølging
B98: Sum driftskostnader | C98: =SUM(C28:C97) -> 273000 | D98: =SUM(D28:D97) -> 190800
B99: Driftsresultat | C99: =SUM(C27-C98) -> -46000 | D99: =SUM(D27-D98) -> 4400

Sheet Budsjett avd. 40 fotball
A1: Budsjett Fotball avd.40
A3: Kontonr. | B3: Konto | C3: Budsjett 2024 | D3: Budsjett 2025 | E3: Kommentar
B4: Salgsinntekt
A5: 3110 | B5: Salgsinntekter, avgiftsfri
A6: 3115 | B6: Salgsinntekter arrangement/ kiosk | C6: 45000 | D6: 50000
A7: 3120 | B7: Sponsorinntekter, avgiftsfri | C7: 50000 | D7: 50000
A8: 3180 | B8: Rabatt og annen salgsinntektsreduksjon - Kickback
A9: 3400 | B9: Tilskudd | C9: 190000 | D9: 110000
A10: 3401 | B10: Aktivitetsstøtte (hodestøtte) | C10: 45000 | D10: 45000
A11: 3402 | B11: LAM | C11: 70000 | D11: 85000
A12: 3403 | B12: Grasrotmidler - Norsk Tipping | C12: 105000 | D12: 105000
A13: 3404 | B13: Drifttilskudd BYM
B14: Annen driftsinntekt
A15: 3600 | B15: Leieinntekter (Bymil, hallvakter) | C15: 30000 | D15: 30000
A16: 3610 | B16: Leieinntekt andre varige driftsmidler
A17: 3620 | B17: Halleie
A18: 3900 | B18: Annen driftsrelatert inntekt
A19: 3920 | B19: Medlemskontingenter
A20: 3930 | B20: Treningsavgifter | C20: 300000 | D20: 400000
A21: 3940 | B21: Egenandeler
A22: 3950 | B22: Dugnadsinntekter
A23: 3960 | B23: Bingo, loddsalg, innsamlinger o.l | C23: 25000 | D23: 75000
A24: 3970 | B24: Momskompensasjon | C24: 65000 | D24: 110000
A25: 3980 | B25: Interne bøter | C25: 15000 | D25: 10000
A26: 3990 | B26: Andre inntekter
A27: 3991 | B27: Uidentifiserte inntekter
B28: Sum driftsinntekter | C28: =SUM(C4:C27) -> 940000 | D28: =SUM(D4:D27) -> 1070000
B29: Varekostnad
A30: 4300 | B30: Varekostnad, varer for videresalg
A31: 4315 | B31: Varekostnad, kiosk | C31: 30000
A32: 4500 | B32: Fremmedytelse og underentreprise
A33: 4510 | B33: Tilrettelegging Spond
B34: Lønnskostnad
A35: 5000 | B35: Lønn til ansatte
A36: 5014 | B36: Honorar uten AGA (inkl.feriepenger) | C36: 310000 | D36: 350000
A37: 5015 | B37: Trenerlønn (ikke innberettet)
A38: 5092 | B38: Feriepenger
A39: 5330 | B39: Godtgjørelse til styret
A40: 5331 | B40: Godtgjørelse til styret, uten AGA | C40: 50000 | D40: 50000
A41: 5400 | B41: Arbeidsgiveravgift
A42: 5405 | B42: Arb.giv.avg av pål. feriepenger
A43: 5505 | B43: Utstyrsgodgjørelse, dommer | C43: 2000 | D43: 2000
A44: 5900 | B44: Gaver til ansatte
A45: 5917 | B45: Dommerhonorar | C45: 15000 | D45: 25000
A46: 5950 | B46: OTP | D46: 7000
A47: 5990 | B47: Andre personalkostnader
B48: Annen driftskostnad
A49: 6300 | B49: Leie lokaler
A50: 6310 | B50: Banekostnader | C50: 160000
A51: 6320 | B51: Renovasjon, vann, avløp
A52: 6360 | B52: Renhold
A53: 6390 | B53: Annen kostnad lokaler
A54: 6420 | B54: Leie datasystemer
A55: 6490 | B55: Annen leiekostnad
A56: 6510 | B56: Håndverktøy
A57: 6540 | B57: Inventar
A58: 6545 | B58: Datautstyr | D58: 10000
A59: 6550 | B59: Driftsmateriale
A60: 6560 | B60: Rekvisita | D60: 1000
A61: 6580 | B61: Idrettsutstyr | C61: 150000 | D61: 300000
A62: 6600 | B62: Reparasjon og vedlikehold bygninger | D62: 60000
A63: 6705 | B63: Regnskapshonorar
A64: 6720 | B64: Økonomisk og juridisk bistand
A65: 6730 | B65: Idrettsfaglig bistand
A66: 6770 | B66: Medisinsk behandling, utstyr etc | C66: 5000 | D66: 5000
A67: 6790 | B67: Annen fremmed tjeneste
A68: 6800 | B68: Kontorrekvisita
A69: 6840 | B69: Aviser, tidsskrifter, bøker o.l.
A70: 6860 | B70: Møte, kurs, oppdatering etc | C70: 15000 | D70: 10000
A71: 6890 | B71: Annen kontorkostnader | C71: 1000
A72: 6900 | B72: Internett
A73: 6907 | B73: Internett
A74: 6940 | B74: Porte
A75: 6990 | B75: Andre kostnader
A76: 7100 | B76: Bilgodtgjørelse | C76: 20000 | D76: 15000
A77: 7103 | B77: Kilometergodtgjørelse, dommer | C77: 4000 | D77: 4000
A78: 7140 | B78: Reisekostnad, ikke oppgavepliktig | C78: 3000 | D78: 4000
A79: 7144 | B79: Hotell/overnatting
A80: 7145 | B80: Andre reisekostnader | C80: 2000 | D80: 2500
A81: 7162 | B81: Bevertning/mat | C81: 10000 | D81: 10000
A82: 7300 | B82: Salgskostnad
A83: 7320 | B83: Reklame og annonser
A84: 7400 | B84: Medlemskontingenter
A85: 7410 | B85: Påmelding serier, turneringer etc | C85: 100000 | D85: 100000
A86: 7420 | B86: Gaver og premier | C86: 7000 | D86: 2000
A87: 7430 | B87: Sosiale kostnader | C87: 40000 | D87: 20000
A88: 7440 | B88: Overgangsgebyrer | C88: 10000 | D88: 10000
A89: 7500 | B89: Forsikringspremier | C89: 50000 | D89: 81000
A90: 7560 | B90: Servicekostnad
A91: 7600 | B91: Lisenser, på trenere og dommere
A92: 7710 | B92: Styre- og bedriftsforsamlingsmøter
A93: 7740 | B93: Øresavrunding
A94: 7770 | B94: Bank og kortgebyrer | C94: 10000
A95: 7775 | B95: Gebyr Buypass, Vipps o.l
A96: 7780 | B96: Bøter, sanksjoner | C96: 30000 | D96: 20000
A97: 7790 | B97: Diverse kostnader
A98: 7799 | B98: Konto til oppfølging
B99: Sum driftskostnader | C99: =SUM(C29:C98) -> 1024000 | D99: =SUM(D29:D98) -> 1088500
B100: Driftsresultat | C100: =SUM(C28-C99) -> -84000 | D100: =SUM(D28-D99) -> -18500

Sheet Budsjett avd. 50 areobic
A1: Budsjett Aerobic avd.50
A2: Kontonr. | B2: Konto | C2: Budsjett 2024 | D2: Budsjett 2025 | E2: Kommentar
B3: Salgsinntekt
A4: 3110 | B4: Salgsinntekter, avgiftsfri
A5: 3115 | B5: Salgsinntekter arrangement/ kiosk
A6: 3120 | B6: Sponsorinntekter, avgiftsfri
A7: 3180 | B7: Rabatt og annen salgsinntektsreduksjon - Kickback
A8: 3400 | B8: Tilskudd | C8: 7500
A9: 3401 | B9: Aktivitetsstøtte (hodestøtte) | D9: 9000
A10: 3402 | B10: LAM | C10: 1000 | D10: 2000
A11: 3403 | B11: Grasrotmidler - Norsk Tipping | D11: 1000
A12: 3404 | B12: Drifttilskudd BYM
B13: Annen driftsinntekt
A14: 3600 | B14: Leieinntekter (Bymil, hallvakter)
A15: 3610 | B15: Leieinntekt andre varige driftsmidler
A16: 3620 | B16: Halleie
A17: 3900 | B17: Annen driftsrelatert inntekt
A18: 3920 | B18: Medlemskontingenter
A19: 3930 | B19: Treningsavgifter | C19: 24000 | D19: 25000
A20: 3940 | B20: Egenandeler
A21: 3950 | B21: Dugnadsinntekter
A22: 3960 | B22: Bingo, loddsalg, innsamlinger o.l
A23: 3970 | B23: Momskompensasjon | C23: 3000
A24: 3980 | B24: Interne bøter
A25: 3990 | B25: Andre inntekter
A26: 3991 | B26: Uidentifiserte inntekter
B27: Sum driftsinntekter | C27: =SUM(C3:C26) -> 35500 | D27: =SUM(D3:D26) -> 37000
B28: Varekostnad
A29: 4300 | B29: Varekostnad, varer for videresalg
A30: 4315 | B30: Varekostnad, kiosk
A31: 4500 | B31: Fremmedytelse og underentreprise
A32: 4510 | B32: Tilrettelegging Spond
B33: Lønnskostnad
A34: 5000 | B34: Lønn til ansatte
A35: 5014 | B35: Honorar uten AGA (inkl.feriepenger) | C35: 35000 | D35: 38000
A36: 5015 | B36: Trenerlønn (ikke innberettet)
A37: 5092 | B37: Feriepenger
A38: 5330 | B38: Godtgjørelse til styret
A39: 5331 | B39: Godtgjørelse til styret, uten AGA
A40: 5400 | B40: Arbeidsgiveravgift
A41: 5405 | B41: Arb.giv.avg av pål. feriepenger
A42: 5505 | B42: Utstyrsgodgjørelse, dommer
A43: 5900 | B43: Gaver til ansatte
A44: 5917 | B44: Dommerhonorar
A45: 5950 | B45: OTP | D45: 760
A46: 5990 | B46: Andre personalkostnader
B47: Annen driftskostnad
A48: 6300 | B48: Leie lokaler | C48: 12000
A49: 6310 | B49: Banekostnader
A50: 6320 | B50: Renovasjon, vann, avløp
A51: 6360 | B51: Renhold
A52: 6390 | B52: Annen kostnad lokaler
A53: 6420 | B53: Leie datasystemer
A54: 6490 | B54: Annen leiekostnad
A55: 6510 | B55: Håndverktøy
A56: 6540 | B56: Inventar
A57: 6545 | B57: Datautstyr
A58: 6550 | B58: Driftsmateriale
A59: 6560 | B59: Rekvisita
A60: 6580 | B60: Idrettsutstyr | C60: 5000 | D60: 5000
A61: 6600 | B61: Reparasjon og vedlikehold bygninger
A62: 6705 | B62: Regnskapshonorar
A63: 6720 | B63: Økonomisk og juridisk bistand
A64: 6730 | B64: Idrettsfaglig bistand
A65: 6770 | B65: Medisinsk behandling, utstyr etc
A66: 6790 | B66: Annen fremmed tjeneste
A67: 6800 | B67: Kontorrekvisita
A68: 6840 | B68: Aviser, tidsskrifter, bøker o.l.
A69: 6860 | B69: Møte, kurs, oppdatering etc
A70: 6890 | B70: Annen kontorkostnader
A71: 6900 | B71: Internett
A72: 6907 | B72: Internett
... A74: 6990 | B74: Andre kostnader
A75: 7100 | B75: Bilgodtgjørelse | C75: 6000 | D75: 10000
A76: 7103 | B76: Kilometergodtgjørelse, dommer
A77: 7140 | B77: Reisekostnad, ikke oppgavepliktig | C77: 4000
A78: 7144 | B78: Hotell/overnatting
A79: 7145 | B79: Andre reisekostnader
A80: 7162 | B80: Bevertning/mat | C80: 1000 | D80: 1000
A81: 7300 | B81: Salgskostnad
A82: 7320 | B82: Reklame og annonser
A83: 7400 | B83: Medlemskontingenter
A84: 7410 | B84: Påmelding serier, turneringer etc
A85: 7420 | B85: Gaver og premier
A86: 7430 | B86: Sosiale kostnader
A87: 7440 | B87: Overgangsgebyrer
A88: 7500 | B88: Forsikringspremier
A89: 7560 | B89: Servicekostnad
A90: 7600 | B90: Lisenser, på trenere og dommere
A91: 7710 | B91: Styre- og bedriftsforsamlingsmøter
A92: 7740 | B92: Øresavrunding
A93: 7770 | B93: Bank og kortgebyrer | C93: 1000 | D93: 1000
A94: 7775 | B94: Gebyr Buypass, Vipps o.l
A95: 7780 | B95: Bøter, sanksjoner
A96: 7790 | B96: Diverse kostnader
A97: 7799 | B97: Konto til oppfølging
B98: Sum driftskostnader | C98: =SUM(C28:C97) -> 64000 | D98: =SUM(D28:D97) -> 55760
B99: Driftsresultat | C99: =SUM(C27-C98) -> -28500 | D99: =SUM(D27-D98) -> -18760

Sheet Budsjett avd.60 hallen
A1: Budsjett avd. 60 hallen
A2: Kontonr. | B2: Konto | C2: Budsjett 2024 | D2: Budsjett 2025 | E2: Kommentar
B3: Salgsinntekt
A4: 3110 | B4: Salgsinntekter, avgiftsfri
A5: 3115 | B5: Salgsinntekter arrangement/ kiosk
A6: 3120 | B6: Sponsorinntekter, avgiftsfri
A7: 3180 | B7: Rabatt og annen salgsinntektsreduksjon - Kickback
A8: 3400 | B8: Tilskudd | C8: 40000
A9: 3401 | B9: Aktivitetsstøtte (hodestøtte)
A10: 3402 | B10: LAM
A11: 3403 | B11: Grasrotmidler - Norsk Tipping
A12: 3404 | B12: Drifttilskudd BYM
B13: Annen driftsinntekt
A14: 3600 | B14: Leieinntekter (Bymil, hallvakter) | C14: 30000 | D14: 40000
A15: 3610 | B15: Leieinntekt andre varige driftsmidler
A16: 3620 | B16: Halleie
A17: 3900 | B17: Annen driftsrelatert inntekt
A18: 3920 | B18: Medlemskontingenter
A19: 3930 | B19: Treningsavgifter
A20: 3940 | B20: Egenandeler
A21: 3950 | B21: Dugnadsinntekter
A22: 3960 | B22: Bingo, loddsalg, innsamlinger o.l
A23: 3970 | B23: Momskompensasjon | C23: 6000
A24: 3980 | B24: Interne bøter
A25: 3990 | B25: Andre inntekter | C25: 20000
A26: 3991 | B26: Uidentifiserte inntekter
B27: Sum driftsinntekter | C27: =SUM(C3:C26) -> 96000 | D27: =SUM(D3:D26) -> 40000
B28: Varekostnad
A29: 4300 | B29: Varekostnad, varer for videresalg
A30: 4315 | B30: Varekostnad, kiosk
A31: 4500 | B31: Fremmedytelse og underentreprise
A32: 4510 | B32: Tilrettelegging Spond
B33: Lønnskostnad
A34: 5000 | B34: Lønn til ansatte
A35: 5014 | B35: Honorar uten AGA (inkl.feriepenger)
A36: 5015 | B36: Trenerlønn (ikke innberettet)
A37: 5092 | B37: Feriepenger
A38: 5330 | B38: Godtgjørelse til styret
A39: 5331 | B39: Godtgjørelse til styret, uten AGA | C39: 5000 | D39: 5000
A40: 5400 | B40: Arbeidsgiveravgift
A41: 5405 | B41: Arb.giv.avg av pål. feriepenger
A42: 5505 | B42: Utstyrsgodgjørelse, dommer
A43: 5900 | B43: Gaver til ansatte
A44: 5917 | B44: Dommerhonorar
A45: 5950 | B45: OTP
A46: 5990 | B46: Andre personalkostnader
B47: Annen driftskostnad
A48: 6300 | B48: Leie lokaler
A49: 6310 | B49: Banekostnader
A50: 6320 | B50: Renovasjon, vann, avløp
A51: 6360 | B51: Renhold | C51: 1000 | D51: 5000
A52: 6390 | B52: Annen kostnad lokaler | C52: 15000 | D52: 15000
A53: 6420 | B53: Leie datasystemer
A54: 6490 | B54: Annen leiekostnad | C54: 15000
A55: 6510 | B55: Håndverktøy
A56: 6540 | B56: Inventar | C56: 150000
A57: 6545 | B57: Datautstyr
A58: 6550 | B58: Driftsmateriale | D58: 5000
A59: 6560 | B59: Rekvisita | D59: 5000
A60: 6580 | B60: Idrettsutstyr | C60: 40000
A61: 6600 | B61: Reparasjon og vedlikehold bygninger | D61: 100000
A62: 6705 | B62: Regnskapshonorar
A63: 6720 | B63: Økonomisk og juridisk bistand
A64: 6730 | B64: Idrettsfaglig bistand
A65: 6770 | B65: Medisinsk behandling, utstyr etc | C65: 10000 | D65: 5000
A66: 6790 | B66: Annen fremmed tjeneste
A67: 6800 | B67: Kontorrekvisita | C67: 10000 | D67: 10000
A68: 6840 | B68: Aviser, tidsskrifter, bøker o.l.
A69: 6860 | B69: Møte, kurs, oppdatering etc
A70: 6890 | B70: Annen kontorkostnader
A71: 6900 | B71: Internett
A72: 6907 | B72: Internett
A73: 6940 | B73: Porte
A74: 6990 | B74: Andre kostnader
A75: 7100 | B75: Bilgodtgjørelse
A76: 7103 | B76: Kilometergodtgjørelse, dommer
A77: 7140 | B77: Reisekostnad, ikke oppgavepliktig
A78: 7144 | B78: Hotell/overnatting
A79: 7145 | B79: Andre reisekostnader
A80: 7162 | B80: Bevertning/mat | C80: 3000
A81: 7300 | B81: Salgskostnad
A82: 7320 | B82: Reklame og annonser
A83: 7400 | B83: Medlemskontingenter
A84: 7410 | B84: Påmelding serier, turneringer etc
A85: 7420 | B85: Gaver og premier
A86: 7430 | B86: Sosiale kostnader
A87: 7440 | B87: Overgangsgebyrer
A88: 7500 | B88: Forsikringspremier
A89: 7560 | B89: Servicekostnad
A90: 7600 | B90: Lisenser, på trenere og dommere
A91: 7710 | B91: Styre- og bedriftsforsamlingsmøter
A92: 7740 | B92: Øresavrunding
... A97: 7799 | B97: Konto til oppfølging
B98: Sum driftskostnader | C98: =SUM(C28:C97) -> 249000 | D98: =SUM(D28:D97) -> 150000
B99: Driftsresultat | C99: =SUM(C27-C98) -> -153000 | D99: =SUM(D27-D98) -> -110000

Sheet Budsjett avd. 70 allidrett
A1: Budsjett Allidrett avd.70
A2: Kontonr. | B2: Konto | C2: Budsjett 2024 | D2: Budsjett 2025 | E2: Kommentar
B3: Salgsinntekt
A4: 3110 | B4: Salgsinntekter, avgiftsfri
A5: 3115 | B5: Salgsinntekter arrangement/ kiosk
A6: 3120 | B6: Sponsorinntekter, avgiftsfri
A7: 3180 | B7: Rabatt og annen salgsinntektsreduksjon - Kickback
A8: 3400 | B8: Tilskudd | C8: 32575 | D8: 59800
A9: 3401 | B9: Aktivitetsstøtte (hodestøtte) | C9: 800 | D9: 2500
A10: 3402 | B10: LAM | C10: 500 | D10: 1500
A11: 3403 | B11: Grasrotmidler - Norsk Tipping | C11: 1000 | D11: 1000
A12: 3404 | B12: Drifttilskudd BYM
B13: Annen driftsinntekt
A14: 3600 | B14: Leieinntekter (Bymil, hallvakter) | C14: 7000
A15: 3610 | B15: Leieinntekt andre varige driftsmidler
A16: 3620 | B16: Halleie
A17: 3900 | B17: Annen driftsrelatert inntekt
A18: 3920 | B18: Medlemskontingenter
A19: 3930 | B19: Treningsavgifter | C19: 5000 | D19: 5600
A20: 3940 | B20: Egenandeler
A21: 3950 | B21: Dugnadsinntekter
A22: 3960 | B22: Bingo, loddsalg, innsamlinger o.l | C22: 1000 | D22: 1000
A23: 3970 | B23: Momskompensasjon | C23: 500 | D23: 1500
A24: 3980 | B24: Interne bøter
A25: 3990 | B25: Andre inntekter
A26: 3991 | B26: Uidentifiserte inntekter
B27: Sum driftsinntekter | C27: =SUM(C3:C26) -> 48375 | D27: =SUM(D3:D26) -> 72900
B28: Varekostnad
A29: 4300 | B29: Varekostnad, varer for videresalg
A30: 4315 | B30: Varekostnad, kiosk
A31: 4500 | B31: Fremmedytelse og underentreprise
A32: 4510 | B32: Tilrettelegging Spond
B33: Lønnskostnad
A34: 5000 | B34: Lønn til ansatte
A35: 5014 | B35: Honorar uten AGA (inkl.feriepenger) | C35: 25000 | D35: 40000
A36: 5015 | B36: Trenerlønn (ikke innberettet)
A37: 5092 | B37: Feriepenger
A38: 5330 | B38: Godtgjørelse til styret
A39: 5331 | B39: Godtgjørelse til styret, uten AGA
A40: 5400 | B40: Arbeidsgiveravgift
A41: 5405 | B41: Arb.giv.avg av pål. feriepenger
A42: 5505 | B42: Utstyrsgodgjørelse, dommer
A43: 5900 | B43: Gaver til ansatte
A44: 5917 | B44: Dommerhonorar
A45: 5950 | B45: OTP | D45: 800
A46: 5990 | B46: Andre personalkostnader
B47: Annen driftskostnad
A48: 6300 | B48: Leie lokaler
A49: 6310 | B49: Banekostnader
A50: 6320 | B50: Renovasjon, vann, avløp
A51: 6360 | B51: Renhold
A52: 6390 | B52: Annen kostnad lokaler
A53: 6420 | B53: Leie datasystemer
A54: 6490 | B54: Annen leiekostnad
A55: 6510 | B55: Håndverktøy
A56: 6540 | B56: Inventar
A57: 6545 | B57: Datautstyr
A58: 6550 | B58: Driftsmateriale
A59: 6560 | B59: Rekvisita
A60: 6580 | B60: Idrettsutstyr | C60: 5000 | D60: 15000
A61: 6600 | B61: Reparasjon og vedlikehold bygninger
A62: 6705 | B62: Regnskapshonorar
A63: 6720 | B63: Økonomisk og juridisk bistand
A64: 6730 | B64: Idrettsfaglig bistand
A65: 6770 | B65: Medisinsk behandling, utstyr etc | C65: 5000
A66: 6790 | B66: Annen fremmed tjeneste
A67: 6800 | B67: Kontorrekvisita
A68: 6840 | B68: Aviser, tidsskrifter, bøker o.l.
A69: 6860 | B69: Møte, kurs, oppdatering etc | C69: 4000 | D69: 6000
A70: 6890 | B70: Annen kontorkostnader
A71: 6900 | B71: Internett
A72: 6907 | B72: Internett
A73: 6940 | B73: Porte
A74: 6990 | B74: Andre kostnader
A75: 7100 | B75: Bilgodtgjørelse
A76: 7103 | B76: Kilometergodtgjørelse, dommer
A77: 7140 | B77: Reisekostnad, ikke oppgavepliktig
A78: 7144 | B78: Hotell/overnatting
A79: 7145 | B79: Andre reisekostnader
A80: 7162 | B80: Bevertning/mat | C80: 2000
A81: 7300 | B81: Salgskostnad
A82: 7320 | B82: Reklame og annonser
A83: 7400 | B83: Medlemskontingenter
A84: 7410 | B84: Påmelding serier, turneringer etc
A85: 7420 | B85: Gaver og premier
A86: 7430 | B86: Sosiale kostnader
A87: 7440 | B87: Overgangsgebyrer
A88: 7500 | B88: Forsikringspremier
A89: 7560 | B89: Servicekostnad
A90: 7600 | B90: Lisenser, på trenere og dommere
A91: 7710 | B91: Styre- og bedriftsforsamlingsmøter
A92: 7740 | B92: Øresavrunding
... A97: 7799 | B97: Konto til oppfølging
B98: Sum driftskostnader | C98: =SUM(C28:C97) -> 41000 | D98: =SUM(D28:D97) -> 61800
B99: Driftsresultat | C99: =SUM(C27-C98) -> 7375 | D99: =SUM(D27-D98) -> 11100

Sheet Budsjett avd. 80 sykkel
A1: Budsjett Sykkel avd.80
A2: Kontonr. | B2: Konto | C2: Budsjett 2024 | D2: Budsjett 2025 | E2: Kommentar
B3: Salgsinntekt
A4: 3110 | B4: Salgsinntekter, avgiftsfri | D4: 3000
A5: 3115 | B5: Salgsinntekter arrangement/ kiosk
A6: 3120 | B6: Sponsorinntekter, avgiftsfri | D6: 1000
A7: 3180 | B7: Rabatt og annen salgsinntektsreduksjon - Kickback
A8: 3400 | B8: Tilskudd | C8: 130000 | D8: 1168000
A9: 3401 | B9: Aktivitetsstøtte (hodestøtte) | C9: 8000 | D9: 8000
A10: 3402 | B10: LAM | C10: 2500 | D10: 7000
A11: 3403 | B11: Grasrotmidler - Norsk Tipping | C11: 10000 | D11: 4000
A12: 3404 | B12: Driftstilskudd BYM
B13: Annen driftsinntekt
A14: 3600 | B14: Leieinntekter (Bymil, hallvakter)
A15: 3610 | B15: Leieinntekt andre varige driftsmidler
A16: 3620 | B16: Halleie
A17: 3900 | B17: Annen driftsrelatert inntekt
A18: 3920 | B18: Medlemskontingenter
A19: 3930 | B19: Treningsavgifter | C19: 25000 | D19: 25000
A20: 3940 | B20: Egenandeler
A21: 3950 | B21: Dugnadsinntekter
A22: 3960 | B22: Bingo, loddsalg, innsamlinger o.l | D22: 7000
A23: 3970 | B23: Momskompensasjon | C23: 25000 | D23: 15000
A24: 3980 | B24: Interne bøter
A25: 3990 | B25: Andre inntekter | D25: 15000
A26: 3991 | B26: Uidentifiserte inntekter
B27: Sum driftsinntekter | C27: =SUM(C3:C26) -> 200500 | D27: =SUM(D3:D26) -> 1253000
B28: Varekostnad
A29: 4300 | B29: Varekostnad, varer for videresalg
A30: 4315 | B30: Varekostnad, kiosk
A31: 4500 | B31: Fremmedytelse og underentreprise
A32: 4510 | B32: Tilrettelegging Spond
B33: Lønnskostnad
A34: 5000 | B34: Lønn til ansatte
A35: 5014 | B35: Honorar uten AGA (inkl.feriepenger) | C35: 15000 | D35: 318000
A36: 5015 | B36: Trenerlønn (ikke innberettet)
A37: 5092 | B37: Feriepenger
A38: 5330 | B38: Godtgjørelse til styret
A39: 5331 | B39: Godtgjørelse til styret, uten AGA | C39: 20000 | D39: 20000
A40: 5400 | B40: Arbeidsgiveravgift
A41: 5405 | B41: Arb.giv.avg av pål. feriepenger
A42: 5505 | B42: Utstyrsgodgjørelse, dommer
A43: 5900 | B43: Gaver til ansatte
A44: 5917 | B44: Dommerhonorar
A45: 5950 | B45: OTP | D45: 6360
A46: 5990 | B46: Andre personalkostnader
B47: Annen driftskostnad
A48: 6300 | B48: Leie lokaler
A49: 6310 | B49: Banekostnader
A50: 6320 | B50: Renovasjon, vann, avløp
A51: 6360 | B51: Renhold
A52: 6390 | B52: Annen kostnad lokaler
A53: 6420 | B53: Leie datasystemer | D53: 5000
A54: 6490 | B54: Annen leiekostnad
A55: 6510 | B55: Håndverktøy | D55: 25000
A56: 6540 | B56: Inventar | D56: 500000
A57: 6545 | B57: Datautstyr | D57: 100000
A58: 6550 | B58: Driftsmateriale
A59: 6560 | B59: Rekvisita
A60: 6580 | B60: Idrettsutstyr | C60: 135000 | D60: 120000
A61: 6600 | B61: Reparasjon og vedlikehold bygninger
A62: 6705 | B62: Regnskapshonorar
A63: 6720 | B63: Økonomisk og juridisk bistand
A64: 6730 | B64: Idrettsfaglig bistand
A65: 6770 | B65: Medisinsk behandling, utstyr etc | C65: 2500 | D65: 7000
A66: 6790 | B66: Annen fremmed tjeneste
A67: 6800 | B67: Kontorrekvisita
A68: 6840 | B68: Aviser, tidsskrifter, bøker o.l.
A69: 6860 | B69: Møte, kurs, oppdatering etc | C69: 26000 | D69: 20000
A70: 6890 | B70: Annen kontorkostnader
A71: 6900 | B71: Internett
A72: 6907 | B72: Internett
A73: 6940 | B73: Porte
A74: 6990 | B74: Andre kostnader | C74: 5000 | D74: 45000
A75: 7100 | B75: Bilgodtgjørelse
A76: 7103 | B76: Kilometergodtgjørelse, dommer
A77: 7140 | B77: Reisekostnad, ikke oppgavepliktig
A78: 7144 | B78: Hotell/overnatting
A79: 7145 | B79: Andre reisekostnader
A80: 7162 | B80: Bevertning/mat | D80: 5000
A81: 7300 | B81: Salgskostnad
A82: 7320 | B82: Reklame og annonser
A83: 7400 | B83: Medlemskontingenter | C83: 7000 | D83: 7000
A84: 7410 | B84: Påmelding serier, turneringer etc
A85: 7420 | B85: Gaver og premier | D85: 2000
A86: 7430 | B86: Sosiale kostnader | C86: 20000 | D86: 35000
A87: 7440 | B87: Overgangsgebyrer
A88: 7500 | B88: Forsikringspremier
A89: 7560 | B89: Servicekostnad
A90: 7600 | B90: Lisenser, på trenere og dommere
A91: 7710 | B91: Styre- og bedriftsforsamlingsmøter
A92: 7740 | B92: Øresavrunding
A93: 7770 | B93: Bank og kortgebyrer
A94: 7775 | B94: Gebyr Buypass, Vipps o.l
A95: 7780 | B95: Bøter, sanksjoner
A96: 7790 | B96: Diverse kostnader
A97: 7799 | B97: Konto til oppfølging
B98: Sum driftskostnader | C98: =SUM(C28:C97) -> 230500 | D98: =SUM(D28:D97) -> 1215360
B99: Driftsresultat | C99: =SUM(C27-C98) -> -30000 | D99: =SUM(D27-D98) -> 37640

Sheet Budsjett avd. 90 dans
A1: Budsjett Dans avd.90
A2: Kontonr. | B2: Konto | C2: Budsjett 2024 | D2: Budsjett 2025 | E2: Kommentar
B3: Salgsinntekt
A4: 3110 | B4: Salgsinntekter, avgiftsfri
A5: 3115 | B5: Salgsinntekter arrangement/ kiosk
A6: 3120 | B6: Sponsorinntekter, avgiftsfri
A7: 3180 | B7: Rabatt og annen salgsinntektsreduksjon - Kickback
A8: 3400 | B8: Tilskudd | C8: 75509 | D8: 146000
A9: 3401 | B9: Aktivitetsstøtte (hodestøtte) | C9: 1000 | D9: 4000
A10: 3402 | B10: LAM | C10: 500 | D10: 2000
A11: 3403 | B11: Grasrotmidler - Norsk Tipping | C11: 5000 | D11: 5000
A12: 3404 | B12: Drifttilskudd BYM
B13: Annen driftsinntekt
A14: 3600 | B14: Leieinntekter (Bymil, hallvakter)
A15: 3610 | B15: Leieinntekt andre varige driftsmidler
A16: 3620 | B16: Halleie
A17: 3900 | B17: Annen driftsrelatert inntekt
A18: 3920 | B18: Medlemskontingenter
A19: 3930 | B19: Treningsavgifter | C19: 4200 | D19: 4800
A20: 3940 | B20: Egenandeler
A21: 3950 | B21: Dugnadsinntekter
A22: 3960 | B22: Bingo, loddsalg, innsamlinger o.l
A23: 3970 | B23: Momskompensasjon | C23: 2500 | D23: 2500
A24: 3980 | B24: Interne bøter
A25: 3990 | B25: Andre inntekter
A26: 3991 | B26: Uidentifiserte inntekter
B27: Sum driftsinntekter | C27: =SUM(C3:C26) -> 88709 | D27: =SUM(D3:D26) -> 164300
B28: Varekostnad
A29: 4300 | B29: Varekostnad, varer for videresalg
A30: 4315 | B30: Varekostnad, kiosk
A31: 4500 | B31: Fremmedytelse og underentreprise
A32: 4510 | B32: Tilrettelegging Spond
B33: Lønnskostnad
A34: 5000 | B34: Lønn til ansatte
A35: 5014 | B35: Honorar uten AGA (inkl.feriepenger) | C35: 24000 | D35: 96000
A36: 5015 | B36: Trenerlønn (ikke innberettet)
A37: 5092 | B37: Feriepenger
A38: 5330 | B38: Godtgjørelse til styret | C38: 6000 | D38: 12000
A39: 5331 | B39: Godtgjørelse til styret, uten AGA
A40: 5400 | B40: Arbeidsgiveravgift
A41: 5405 | B41: Arb.giv.avg av pål. feriepenger
A42: 5505 | B42: Utstyrsgodgjørelse, dommer
A43: 5900 | B43: Gaver til ansatte
A44: 5917 | B44: Dommerhonorar
A45: 5950 | B45: OTP | D45: 1920
A46: 5990 | B46: Andre personalkostnader
B47: Annen driftskostnad
A48: 6300 | B48: Leie lokaler
A49: 6310 | B49: Banekostnader
A50: 6320 | B50: Renovasjon, vann, avløp
A51: 6360 | B51: Renhold
A52: 6390 | B52: Annen kostnad lokaler
A53: 6420 | B53: Leie datasystemer
A54: 6490 | B54: Annen leiekostnad
A55: 6510 | B55: Håndverktøy
A56: 6540 | B56: Inventar
A57: 6545 | B57: Datautstyr
A58: 6550 | B58: Driftsmateriale
A59: 6560 | B59: Rekvisita
A60: 6580 | B60: Idrettsutstyr | C60: 20000 | D60: 25000
A61: 6600 | B61: Reparasjon og vedlikehold bygninger
A62: 6705 | B62: Regnskapshonorar
A63: 6720 | B63: Økonomisk og juridisk bistand | D63: 20000
A64: 6730 | B64: Idrettsfaglig bistand
A65: 6770 | B65: Medisinsk behandling, utstyr etc
A66: 6790 | B66: Annen fremmed tjeneste
A67: 6800 | B67: Kontorrekvisita
A68: 6840 | B68: Aviser, tidsskrifter, bøker o.l.
A69: 6860 | B69: Møte, kurs, oppdatering etc
A70: 6890 | B70: Annen kontorkostnader
A71: 6900 | B71: Internett
A72: 6907 | B72: Internett
A73: 6940 | B73: Porte
A74: 6990 | B74: Andre kostnader
A75: 7100 | B75: Bilgodtgjørelse | C75: 6000 | D75: 6000
A76: 7103 | B76: Kilometergodtgjørelse, dommer
A77: 7140 | B77: Reisekostnad, ikke oppgavepliktig
A78: 7144 | B78: Hotell/overnatting
A79: 7145 | B79: Andre reisekostnader
A80: 7162 | B80: Bevertning/mat | C80: 3000 | D80: 3000
A81: 7300 | B81: Salgskostnad
A82: 7320 | B82: Reklame og annonser
A83: 7400 | B83: Medlemskontingenter
A84: 7410 | B84: Påmelding serier, turneringer etc
A85: 7420 | B85: Gaver og premier | C85: 1000 | D85: 1000
A86: 7430 | B86: Sosiale kostnader | C86: 3000 | D86: 3000
A87: 7440 | B87: Overgangsgebyrer
A88: 7500 | B88: Forsikringspremier
A89: 7560 | B89: Servicekostnad
A90: 7600 | B90: Lisenser, på trenere og dommere
A91: 7710 | B91: Styre- og bedriftsforsamlingsmøter
A92: 7740 | B92: Øresavrunding
A93: 7770 | B93: Bank og kortgebyrer
A94: 7775 | B94: Gebyr Buypass, Vipps o.l
A95: 7780 | B95: Bøter, sanksjoner
A96: 7790 | B96: Diverse kostnader
A97: 7799 | B97: Konto til oppfølging
B98: Sum driftskostnader | C98: =SUM(C28:C97) -> 63000 | D98: =SUM(D28:D97) -> 167920
B99: Driftsresultat | C99: =SUM(C27-C98) -> 25709 | D99: =SUM(D27-D98) -> -3620

Sheet Alle Grupper
A1: Budsjett 2025
A2: Romsås idrettslag
A5: Kontonr. | B5: Konto | C5: Totalt | D5: Styret | E5: Turn | F5: Håndball | G5: Fotball | H5: Aerobic | I5: Hallen | J5: Allidrett | K5: Sykkel | L5: Dans
D6: 10 | E6: 20 | F6: 30 | G6: 40 | H6: 50 | I6: 60 | J6: 70 | K6: 80 | L6: 90
B7: Salgsinntekt
A8: 3110 | B8: Salgsinntekter, avgiftsfri | C8: =SUM(D8:L8) -> 28000 | D8: =SUM('Budsjett avd. 10'!D4) -> 0 | E8: =SUM('Budsjett avd. 20 turn '!D4) -> 25000 | F8: =SUM('Budsjett avd. 30 håndball'!D4) -> 0 | G8: =SUM('Budsjett avd. 40 fotball'!D5) -> 0 | H8: =SUM('Budsjett avd. 50 areobic'!D4) -> 0 | I8: =SUM('Budsjett avd.60 hallen'!D4) -> 0 | J8: =SUM('Budsjett avd. 70 allidrett'!D4) -> 0 | K8: =SUM('Budsjett avd. 80 sykkel'!D4) -> 3000 | L8: =SUM('Budsjett avd. 90 dans'!D4) -> 0
A9: 3115 | B9: Salgsinntekter arrangement/ kiosk | C9: =SUM(D9:L9) -> 255000 | D9: =SUM('Budsjett avd. 10'!D5) -> 160000 | E9: =SUM('Budsjett avd. 20 turn '!D5) -> 25000 | F9: =SUM('Budsjett avd. 30 håndball'!D5) -> 20000 | G9: =SUM('Budsjett avd. 40 fotball'!D6) -> 50000 | H9: =SUM('Budsjett avd. 50 areobic'!D5) -> 0 | I9: =SUM('Budsjett avd.60 hallen'!D5) -> 0 | J9: =SUM('Budsjett avd. 70 allidrett'!D5) -> 0 | K9: =SUM('Budsjett avd. 80 sykkel'!D5) -> 0 | L9: =SUM('Budsjett avd. 90 dans'!D5) -> 0
A10: 3120 | B10: Sponsorinntekter, avgiftsfri | C10: =SUM(D10:L10) -> 51000 | D10: 0 | E10: =SUM('Budsjett avd. 20 turn '!D6) -> 0 | F10: =SUM('Budsjett avd. 30 håndball'!D6) -> 0 | G10: =SUM('Budsjett avd. 40 fotball'!D7) -> 50000 | H10: =SUM('Budsjett avd. 50 areobic'!D6) -> 0 | I10: =SUM('Budsjett avd.60 hallen'!D6) -> 0 | J10: =SUM('Budsjett avd. 70 allidrett'!D6) -> 0 | K10: =SUM('Budsjett avd. 80 sykkel'!D6) -> 1000 | L10: =SUM('Budsjett avd. 90 dans'!D6) -> 0
A11: 3180 | B11: Rabatt og annen salgsinntektsreduksjon - Kickback | C11: =SUM(D11:L11) -> 0 | D11: =SUM('Budsjett avd. 10'!D6) -> 0 | E11: =SUM('Budsjett avd. 20 turn '!D7) -> 0 | F11: =SUM('Budsjett avd. 30 håndball'!D7) -> 0 | G11: =SUM('Budsjett avd. 40 fotball'!D8) -> 0 | H11: =SUM('Budsjett avd. 50 areobic'!D7) -> 0 | I11: =SUM('Budsjett avd.60 hallen'!D7) -> 0 | J11: =SUM('Budsjett avd. 70 allidrett'!D7) -> 0 | K11: =SUM('Budsjett avd. 80 sykkel'!D7) -> 0 | L11: =SUM('Budsjett avd. 90 dans'!D7) -> 0
A12: 3400 | B12: Tilskudd | C12: =SUM(D12:L12) -> 2258800 | D12: =SUM('Budsjett avd. 10'!D7) -> 650000 | E12: =SUM('Budsjett avd. 20 turn '!D8) -> 90000 | F12: =SUM('Budsjett avd. 30 håndball'!D8) -> 35000 | G12: =SUM('Budsjett avd. 40 fotball'!D9) -> 110000 | H12: =SUM('Budsjett avd. 50 areobic'!D8) -> 0 | I12: =SUM('Budsjett avd.60 hallen'!D8) -> 0 | J12: =SUM('Budsjett avd. 70 allidrett'!D8) -> 59800 | K12: =SUM('Budsjett avd. 80 sykkel'!D8) -> 1168000 | L12: =SUM('Budsjett avd. 90 dans'!D8) -> 146000
A13: 3401 | B13: Aktivitetsstøtte (hodestøtte) | C13: =SUM(D13:L13) -> 156200 | D13: =SUM('Budsjett avd. 10'!D8) -> 50000 | E13: =SUM('Budsjett avd. 20 turn '!D9) -> 30000 | F13: =SUM('Budsjett avd. 30 håndball'!D9) -> 7700 | G13: =SUM('Budsjett avd. 40 fotball'!D10) -> 45000 | H13: =SUM('Budsjett avd. 50 areobic'!D9) -> 9000 | I13: =SUM('Budsjett avd.60 hallen'!D9) -> 0 | J13: =SUM('Budsjett avd. 70 allidrett'!D9) -> 2500 | K13: =SUM('Budsjett avd. 80 sykkel'!D9) -> 8000 | L13: =SUM('Budsjett avd. 90 dans'!D9) -> 4000
A14: 3402 | B14: LAM | C14: =SUM(D14:L14) -> 217500 | D14: =SUM('Budsjett avd. 10'!D9) -> 50000 | E14: =SUM('Budsjett avd. 20 turn '!D10) -> 60000 | F14: =SUM('Budsjett avd. 30 håndball'!D10) -> 10000 | G14: =SUM('Budsjett avd. 40 fotball'!D11) -> 85000 | H14: =SUM('Budsjett avd. 50 areobic'!D10) -> 2000 | I14: =SUM('Budsjett avd.60 hallen'!D10) -> 0 | J14: =SUM('Budsjett avd. 70 allidrett'!D10) -> 1500 | K14: =SUM('Budsjett avd. 80 sykkel'!D10) -> 7000 | L14: =SUM('Budsjett avd. 90 dans'!D10) -> 2000
A15: 3403 | B15: Grasrotmidler - Norsk Tipping | C15: =SUM(D15:L15) -> 241000 | D15: =SUM('Budsjett avd. 10'!D10) -> 50000 | E15: =SUM('Budsjett avd. 20 turn '!D11) -> 60000 | F15: =SUM('Budsjett avd. 30 håndball'!D11) -> 15000 | G15: =SUM('Budsjett avd. 40 fotball'!D12) -> 105000 | H15: =SUM('Budsjett avd. 50 areobic'!D11) -> 1000 | I15: =SUM('Budsjett avd.60 hallen'!D11) -> 0 | J15: =SUM('Budsjett avd. 70 allidrett'!D11) -> 1000 | K15: =SUM('Budsjett avd. 80 sykkel'!D11) -> 4000 | L15: =SUM('Budsjett avd. 90 dans'!D11) -> 5000
A16: 3404 | B16: Driftsinntekter BYM | C16: =SUM(D16:L16) -> 180741 | D16: =SUM('Budsjett avd. 10'!D11) -> 180741 | E16: =SUM('Budsjett avd. 20 turn '!D12) -> 0 | F16: =SUM('Budsjett avd. 30 håndball'!D12) -> 0 | G16: =SUM('Budsjett avd. 40 fotball'!D13) -> 0 | H16: =SUM('Budsjett avd. 50 areobic'!D12) -> 0 | I16: =SUM('Budsjett avd.60 hallen'!D12) -> 0 | J16: =SUM('Budsjett avd. 70 allidrett'!D12) -> 0 | K16: =SUM('Budsjett avd. 80 sykkel'!D12) -> 0 | L16: =SUM('Budsjett avd. 90 dans'!D12) -> 0
B17: Annen driftsinntekt | C17: =SUM(D17:L17) -> 0 | D17: =SUM('Budsjett avd. 10'!D12) -> 0 | E17: =SUM('Budsjett avd. 20 turn '!D13) -> 0 | F17: =SUM('Budsjett avd. 30 håndball'!D13) -> 0 | G17: =SUM('Budsjett avd. 40 fotball'!D14) -> 0 | H17: =SUM('Budsjett avd. 50 areobic'!D13) -> 0 | I17: =SUM('Budsjett avd.60 hallen'!D13) -> 0 | J17: =SUM('Budsjett avd. 70 allidrett'!D13) -> 0 | K17: =SUM('Budsjett avd. 80 sykkel'!D13) -> 0 | L17: =SUM('Budsjett avd. 90 dans'!D13) -> 0
A18: 3600 | B18: Leieinntekter (Bymil, hallvakter) | C18: =SUM(D18:L18) -> 155000 | D18: =SUM('Budsjett avd. 10'!D13) -> 25000 | E18: =SUM('Budsjett avd. 20 turn '!D14) -> 45000 | F18: =SUM('Budsjett avd. 30 håndball'!D14) -> 15000 | G18: =SUM('Budsjett avd. 40 fotball'!D15) -> 30000 | H18: =SUM('Budsjett avd. 50 areobic'!D14) -> 0 | I18: =SUM('Budsjett avd.60 hallen'!D14) -> 40000 | J18: =SUM('Budsjett avd. 70 allidrett'!D14) -> 0 | K18: =SUM('Budsjett avd. 80 sykkel'!D14) -> 0 | L18: =SUM('Budsjett avd. 90 dans'!D14) -> 0
A19: 3610 | B19: Leieinntekt andre varige driftsmidler | C19: =SUM(D19:L19) -> 0 | D19: =SUM('Budsjett avd. 10'!D14) -> 0 | E19: =SUM('Budsjett avd. 20 turn '!D15) -> 0 | F19: =SUM('Budsjett avd. 30 håndball'!D15) -> 0 | G19: =SUM('Budsjett avd. 40 fotball'!D16) -> 0 | H19: =SUM('Budsjett avd. 50 areobic'!D15) -> 0 | I19: =SUM('Budsjett avd.60 hallen'!D15) -> 0 | J19: =SUM('Budsjett avd. 70 allidrett'!D15) -> 0 | K19: =SUM('Budsjett avd. 80 sykkel'!D15) -> 0 | L19: =SUM('Budsjett avd. 90 dans'!D15) -> 0
A20: 3620 | B20: Halleie | C20: =SUM(D20:L20) -> 0 | D20: 0 | E20: =SUM('Budsjett avd. 20 turn '!D16) -> 0 | F20: =SUM('Budsjett avd. 30 håndball'!D16) -> 0 | G20: =SUM('Budsjett avd. 40 fotball'!D17) -> 0 | H20: =SUM('Budsjett avd. 50 areobic'!D16) -> 0 | I20: =SUM('Budsjett avd.60 hallen'!D16) -> 0 | J20: =SUM('Budsjett avd. 70 allidrett'!D16) -> 0 | K20: =SUM('Budsjett avd. 80 sykkel'!D16) -> 0 | L20: =SUM('Budsjett avd. 90 dans'!D16) -> 0
A21: 3900 | B21: Annen driftsrelatert inntekt | C21: =SUM(D21:L21) -> 0 | D21: =SUM('Budsjett avd. 10'!D15) -> 0 | E21: =SUM('Budsjett avd. 20 turn '!D17) -> 0 | F21: =SUM('Budsjett avd. 30 håndball'!D17) -> 0 | G21: =SUM('Budsjett avd. 40 fotball'!D18) -> 0 | H21: =SUM('Budsjett avd. 50 areobic'!D17) -> 0 | I21: =SUM('Budsjett avd.60 hallen'!D17) -> 0 | J21: =SUM('Budsjett avd. 70 allidrett'!D17) -> 0 | K21: =SUM('Budsjett avd. 80 sykkel'!D17) -> 0 | L21: =SUM('Budsjett avd. 90 dans'!D17) -> 0
A22: 3920 | B22: Medlemskontingenter | C22: =SUM(D22:L22) -> 60000 | D22: =SUM('Budsjett avd. 10'!D16) -> 60000 | E22: =SUM('Budsjett avd. 20 turn '!D18) -> 0 | F22: =SUM('Budsjett avd. 30 håndball'!D18) -> 0 | G22: =SUM('Budsjett avd. 40 fotball'!D19) -> 0 | H22: =SUM('Budsjett avd. 50 areobic'!D18) -> 0 | I22: =SUM('Budsjett avd.60 hallen'!D18) -> 0 | J22: =SUM('Budsjett avd. 70 allidrett'!D18) -> 0 | K22: =SUM('Budsjett avd. 80 sykkel'!D18) -> 0 | L22: =SUM('Budsjett avd. 90 dans'!D18) -> 0
A23: 3930 | B23: Treningsavgifter | C23: =SUM(D23:L23) -> 765400 | D23: =SUM('Budsjett avd. 10'!D17) -> 0 | E23: =SUM('Budsjett avd. 20 turn '!D19) -> 240000 | F23: =SUM('Budsjett avd. 30 håndball'!D19) -> 65000 | G23: =SUM('Budsjett avd. 40 fotball'!D20) -> 400000 | H23: =SUM('Budsjett avd. 50 areobic'!D19) -> 25000 | I23: =SUM('Budsjett avd.60 hallen'!D19) -> 0 | J23: =SUM('Budsjett avd. 70 allidrett'!D19) -> 5600 | K23: =SUM('Budsjett avd. 80 sykkel'!D19) -> 25000 | L23: =SUM('Budsjett avd. 90 dans'!D19) -> 4800
A24: 3940 | B24: Egenandeler | C24: =SUM(D24:L24) -> 0 | D24: 0 | E24: =SUM('Budsjett avd. 20 turn '!D20) -> 0 | F24: =SUM('Budsjett avd. 30 håndball'!D20) -> 0 | G24: =SUM('Budsjett avd. 40 fotball'!D21) -> 0 | H24: =SUM('Budsjett avd. 50 areobic'!D20) -> 0 | I24: =SUM('Budsjett avd.60 hallen'!D20) -> 0 | J24: =SUM('Budsjett avd. 70 allidrett'!D20) -> 0 | K24: =SUM('Budsjett avd. 80 sykkel'!D20) -> 0 | L24: =SUM('Budsjett avd. 90 dans'!D20) -> 0
A25: 3950 | B25: Dugnadsinntekter | C25: =SUM(D25:L25) -> 13000 | D25: 0 | E25: =SUM('Budsjett avd. 20 turn '!D21) -> 13000 | F25: =SUM('Budsjett avd. 30 håndball'!D21) -> 0 | G25: =SUM('Budsjett avd. 40 fotball'!D22) -> 0 | H25: =SUM('Budsjett avd. 50 areobic'!D21) -> 0 | I25: =SUM('Budsjett avd.60 hallen'!D21) -> 0 | J25: =SUM('Budsjett avd. 70 allidrett'!D21) -> 0 | K25: =SUM('Budsjett avd. 80 sykkel'!D21) -> 0 | L25: =SUM('Budsjett avd. 90 dans'!D21) -> 0
A26: 3960 | B26: Bingo, loddsalg, innsamlinger o.l | C26: =SUM(D26:L26) -> 110500 | D26: =SUM('Budsjett avd. 10'!D18) -> 0 | E26: =SUM('Budsjett avd. 20 turn '!D22) -> 25000 | F26: =SUM('Budsjett avd. 30 håndball'!D22) -> 2500 | G26: =SUM('Budsjett avd. 40 fotball'!D23) -> 75000 | H26: =SUM('Budsjett avd. 50 areobic'!D22) -> 0 | I26: =SUM('Budsjett avd.60 hallen'!D22) -> 0 | J26: =SUM('Budsjett avd. 70 allidrett'!D22) -> 1000 | K26: =SUM('Budsjett avd. 80 sykkel'!D22) -> 7000 | L26: =SUM('Budsjett avd. 90 dans'!D22) -> 0
A27: 3970 | B27: Momskompensasjon | C27: =SUM(D27:L27) -> 304000 | D27: =SUM('Budsjett avd. 10'!D19) -> 100000 | E27: =SUM('Budsjett avd. 20 turn '!D23) -> 50000 | F27: =SUM('Budsjett avd. 30 håndball'!D23) -> 25000 | G27: =SUM('Budsjett avd. 40 fotball'!D24) -> 110000 | H27: =SUM('Budsjett avd. 50 areobic'!D23) -> 0 | I27: =SUM('Budsjett avd.60 hallen'!D23) -> 0 | J27: =SUM('Budsjett avd. 70 allidrett'!D23) -> 1500 | K27: =SUM('Budsjett avd. 80 sykkel'!D23) -> 15000 | L27: =SUM('Budsjett avd. 90 dans'!D23) -> 2500
A28: 3980 | B28: Interne bøter | C28: =SUM(D28:L28) -> 10000 | D28: 0 | E28: =SUM('Budsjett avd. 20 turn '!D24) -> 0 | F28: =SUM('Budsjett avd. 30 håndball'!D24) -> 0 | G28: =SUM('Budsjett avd. 40 fotball'!D25) -> 10000 | H28: =SUM('Budsjett avd. 50 areobic'!D24) -> 0 | I28: =SUM('Budsjett avd.60 hallen'!D24) -> 0 | J28: =SUM('Budsjett avd. 70 allidrett'!D24) -> 0 | K28: =SUM('Budsjett avd. 80 sykkel'!D24) -> 0 | L28: =SUM('Budsjett avd. 90 dans'!D24) -> 0
A29: 3990 | B29: Andre inntekter | C29: =SUM(D29:L29) -> 672000 | D29: =SUM('Budsjett avd. 10'!D20) -> 657000 | E29: =SUM('Budsjett avd. 20 turn '!D25) -> 0 | F29: =SUM('Budsjett avd. 30 håndball'!D25) -> 0 | G29: =SUM('Budsjett avd. 40 fotball'!D26) -> 0 | H29: =SUM('Budsjett avd. 50 areobic'!D25) -> 0 | I29: =SUM('Budsjett avd.60 hallen'!D25) -> 0 | J29: =SUM('Budsjett avd. 70 allidrett'!D25) -> 0 | K29: =SUM('Budsjett avd. 80 sykkel'!D25) -> 15000 | L29: =SUM('Budsjett avd. 90 dans'!D25) -> 0
A30: 3991 | B30: Uidentifiserte inntekter | C30: =SUM(D30:L30) -> 0 | D30: =SUM('Budsjett avd. 10'!D21) -> 0 | E30: =SUM('Budsjett avd. 20 turn '!D26) -> 0 | F30: =SUM('Budsjett avd. 30 håndball'!D26) -> 0 | G30: =SUM('Budsjett avd. 40 fotball'!D27) -> 0 | H30: =SUM('Budsjett avd. 50 areobic'!D26) -> 0 | I30: =SUM('Budsjett avd.60 hallen'!D26) -> 0 | J30: =SUM('Budsjett avd. 70 allidrett'!D26) -> 0 | K30: =SUM('Budsjett avd. 80 sykkel'!D26) -> 0 | L30: =SUM('Budsjett avd. 90 dans'!D26) -> 0
B31: Sum driftsinntekter | C31: =SUM(C7:C30) -> 5478141 | D31: =SUM(D7:D30) -> 1982741 | E31: =SUM(E7:E30) -> 663000 | F31: =SUM(F7:F30) -> 195200 | G31: =SUM(G7:G30) -> 1070000 | H31: =SUM(H7:H30) -> 37000 | I31: =SUM(I7:I30) -> 40000 | J31: =SUM(J7:J30) -> 72900 | ... L31: =SUM(L7:L30) -> 164300
B32: Varekostnad | C32: =SUM(D32:L32) -> 0 | D32: =SUM('Budsjett avd. 10'!D23) -> 0 | E32: =SUM('Budsjett avd. 20 turn '!D28) -> 0 | F32: =SUM('Budsjett avd. 30 håndball'!D28) -> 0 | G32: =SUM('Budsjett avd. 40 fotball'!D29) -> 0 | H32: =SUM('Budsjett avd. 50 areobic'!D28) -> 0 | I32: =SUM('Budsjett avd.60 hallen'!D28) -> 0 | J32: =SUM('Budsjett avd. 70 allidrett'!D28) -> 0 | K32: =SUM('Budsjett avd. 80 sykkel'!D28) -> 0 | L32: =SUM('Budsjett avd. 90 dans'!D28) -> 0
A33: 4300 | B33: Varekostnad, varer for videresalg | C33: =SUM(D33:L33) -> 20000 | D33: =SUM('Budsjett avd. 10'!D24) -> 0 | E33: =SUM('Budsjett avd. 20 turn '!D29) -> 20000 | F33: =SUM('Budsjett avd. 30 håndball'!D29) -> 0 | G33: =SUM('Budsjett avd. 40 fotball'!D30) -> 0 | H33: =SUM('Budsjett avd. 50 areobic'!D29) -> 0 | I33: =SUM('Budsjett avd.60 hallen'!D29) -> 0 | J33: =SUM('Budsjett avd. 70 allidrett'!D29) -> 0 | K33: =SUM('Budsjett avd. 80 sykkel'!D29) -> 0 | L33: =SUM('Budsjett avd. 90 dans'!D29) -> 0
A34: 4315 | B34: Varekostnad, kiosk | C34: =SUM(D34:L34) -> 155000 | D34: =SUM('Budsjett avd. 10'!D25) -> 150000 | E34: =SUM('Budsjett avd. 20 turn '!D30) -> 5000 | F34: =SUM('Budsjett avd. 30 håndball'!D30) -> 0 | G34: =SUM('Budsjett avd. 40 fotball'!D31) -> 0 | H34: =SUM('Budsjett avd. 50 areobic'!D30) -> 0 | I34: =SUM('Budsjett avd.60 hallen'!D30) -> 0 | J34: =SUM('Budsjett avd. 70 allidrett'!D30) -> 0 | K34: =SUM('Budsjett avd. 80 sykkel'!D30) -> 0 | L34: =SUM('Budsjett avd. 90 dans'!D30) -> 0
A35: 4500 | B35: Fremmedytelse og underentreprise | C35: =SUM(D35:L35) -> 0 | D35: =SUM('Budsjett avd. 10'!D26) -> 0 | E35: =SUM('Budsjett avd. 20 turn '!D31) -> 0 | F35: =SUM('Budsjett avd. 30 håndball'!D31) -> 0 | G35: =SUM('Budsjett avd. 40 fotball'!D32) -> 0 | H35: =SUM('Budsjett avd. 50 areobic'!D31) -> 0 | I35: =SUM('Budsjett avd.60 hallen'!D31) -> 0 | J35: =SUM('Budsjett avd. 70 allidrett'!D31) -> 0 | K35: =SUM('Budsjett avd. 80 sykkel'!D31) -> 0 | L35: =SUM('Budsjett avd. 90 dans'!D31) -> 0
A36: 4510 | B36: Tilrettelegging Spond | C36: =SUM(D36:L36) -> 0 | D36: 0 | E36: =SUM('Budsjett avd. 20 turn '!D32) -> 0 | F36: =SUM('Budsjett avd. 30 håndball'!D32) -> 0 | G36: =SUM('Budsjett avd. 40 fotball'!D33) -> 0 | H36: =SUM('Budsjett avd. 50 areobic'!D32) -> 0 | I36: =SUM('Budsjett avd.60 hallen'!D32) -> 0 | J36: =SUM('Budsjett avd. 70 allidrett'!D32) -> 0 | K36: =SUM('Budsjett avd. 80 sykkel'!D32) -> 0 | L36: =SUM('Budsjett avd. 90 dans'!D32) -> 0
B37: Lønnskostnad | C37: =SUM(D37:L37) -> 0 | D37: =SUM('Budsjett avd. 10'!D27) -> 0 | E37: =SUM('Budsjett avd. 20 turn '!D33) -> 0 | F37: =SUM('Budsjett avd. 30 håndball'!D33) -> 0 | G37: =SUM('Budsjett avd. 40 fotball'!D34) -> 0 | H37: =SUM('Budsjett avd. 50 areobic'!D33) -> 0 | I37: =SUM('Budsjett avd.60 hallen'!D33) -> 0 | J37: =SUM('Budsjett avd. 70 allidrett'!D33) -> 0 | K37: =SUM('Budsjett avd. 80 sykkel'!D33) -> 0 | L37: =SUM('Budsjett avd. 90 dans'!D33) -> 0
A38: 5000 | B38: Lønn til ansatte | C38: =SUM(D38:L38) -> 0 | D38: =SUM('Budsjett avd. 10'!D28) -> 0 | E38: =SUM('Budsjett avd. 20 turn '!D34) -> 0 | F38: =SUM('Budsjett avd. 30 håndball'!D34) -> 0 | G38: =SUM('Budsjett avd. 40 fotball'!D35) -> 0 | H38: =SUM('Budsjett avd. 50 areobic'!D34) -> 0 | I38: =SUM('Budsjett avd.60 hallen'!D34) -> 0 | J38: =SUM('Budsjett avd. 70 allidrett'!D34) -> 0 | K38: =SUM('Budsjett avd. 80 sykkel'!D34) -> 0 | L38: =SUM('Budsjett avd. 90 dans'!D34) -> 0
A39: 5014 | B39: Honorar uten AGA (inkl.feriepenger) | C39: =SUM(D39:L39) -> 1529000 | D39: =SUM('Budsjett avd. 10'!D29) -> 280000 | E39: =SUM('Budsjett avd. 20 turn '!D35) -> 367000 | F39: =SUM('Budsjett avd. 30 håndball'!D35) -> 40000 | G39: =SUM('Budsjett avd. 40 fotball'!D36) -> 350000 | H39: =SUM('Budsjett avd. 50 areobic'!D35) -> 38000 | I39: =SUM('Budsjett avd.60 hallen'!D35) -> 0 | J39: =SUM('Budsjett avd. 70 allidrett'!D35) -> 40000 | K39: =SUM('Budsjett avd. 80 sykkel'!D35) -> 318000 | L39: =SUM('Budsjett avd. 90 dans'!D35) -> 96000 | M39: Åpen hall: 3 trenere. Trener 1. og 2 = 250 kr timen = til sammen 90 000 kr , Trener 3= 180 kr timen = til sammen 31500 kr. Sommerinstruktører 50 000 kr
A40: 5015 | B40: Trenerlønn (ikke innberettet) | C40: =SUM(D40:L40) -> 0 | D40: =SUM('Budsjett avd. 10'!D30) -> 0 | E40: =SUM('Budsjett avd. 20 turn '!D36) -> 0 | F40: =SUM('Budsjett avd. 30 håndball'!D36) -> 0 | G40: =SUM('Budsjett avd. 40 fotball'!D37) -> 0 | H40: =SUM('Budsjett avd. 50 areobic'!D36) -> 0 | I40: =SUM('Budsjett avd.60 hallen'!D36) -> 0 | J40: =SUM('Budsjett avd. 70 allidrett'!D36) -> 0 | K40: =SUM('Budsjett avd. 80 sykkel'!D36) -> 0 | L40: =SUM('Budsjett avd. 90 dans'!D36) -> 0
A41: 5092 | B41: Feriepenger | C41: =SUM(D41:L41) -> 0 | D41: =SUM('Budsjett avd. 10'!D31) -> 0 | E41: =SUM('Budsjett avd. 20 turn '!D37) -> 0 | F41: =SUM('Budsjett avd. 30 håndball'!D37) -> 0 | G41: =SUM('Budsjett avd. 40 fotball'!D38) -> 0 | H41: =SUM('Budsjett avd. 50 areobic'!D37) -> 0 | I41: =SUM('Budsjett avd.60 hallen'!D37) -> 0 | J41: =SUM('Budsjett avd. 70 allidrett'!D37) -> 0 | K41: =SUM('Budsjett avd. 80 sykkel'!D37) -> 0 | L41: =SUM('Budsjett avd. 90 dans'!D37) -> 0
A42: 5330 | B42: Godtgjørelse til styret | C42: =SUM(D42:L42) -> 12000 | D42: 0 | E42: =SUM('Budsjett avd. 20 turn '!D38) -> 0 | F42: =SUM('Budsjett avd. 30 håndball'!D38) -> 0 | G42: =SUM('Budsjett avd. 40 fotball'!D39) -> 0 | H42: =SUM('Budsjett avd. 50 areobic'!D38) -> 0 | I42: =SUM('Budsjett avd.60 hallen'!D38) -> 0 | J42: =SUM('Budsjett avd. 70 allidrett'!D38) -> 0 | K42: =SUM('Budsjett avd. 80 sykkel'!D38) -> 0 | L42: =SUM('Budsjett avd. 90 dans'!D38) -> 12000
A43: 5331 | B43: Godtgjørelse til styret, uten AGA | C43: =SUM(D43:L43) -> 183000 | D43: =SUM('Budsjett avd. 10'!D32) -> 43000 | E43: =SUM('Budsjett avd. 20 turn '!D39) -> 35000 | F43: =SUM('Budsjett avd. 30 håndball'!D39) -> 30000 | G43: =SUM('Budsjett avd. 40 fotball'!D40) -> 50000 | H43: =SUM('Budsjett avd. 50 areobic'!D39) -> 0 | I43: =SUM('Budsjett avd.60 hallen'!D39) -> 5000 | J43: =SUM('Budsjett avd. 70 allidrett'!D39) -> 0 | K43: =SUM('Budsjett avd. 80 sykkel'!D39) -> 20000 | L43: =SUM('Budsjett avd. 90 dans'!D39) -> 0
A44: 5400 | B44: Arbeidsgiveravgift | C44: =SUM(D44:L44) -> 0 | D44: =SUM('Budsjett avd. 10'!D33) -> 0 | E44: =SUM('Budsjett avd. 20 turn '!D40) -> 0 | F44: =SUM('Budsjett avd. 30 håndball'!D40) -> 0 | G44: =SUM('Budsjett avd. 40 fotball'!D41) -> 0 | H44: =SUM('Budsjett avd. 50 areobic'!D40) -> 0 | I44: =SUM('Budsjett avd.60 hallen'!D40) -> 0 | J44: =SUM('Budsjett avd. 70 allidrett'!D40) -> 0 | K44: =SUM('Budsjett avd. 80 sykkel'!D40) -> 0 | L44: =SUM('Budsjett avd. 90 dans'!D40) -> 0
A45: 5405 | B45: Arb.giv.avg av pål. feriepenger | C45: =SUM(D45:L45) -> 0 | D45: =SUM('Budsjett avd. 10'!D34) -> 0 | E45: =SUM('Budsjett avd. 20 turn '!D41) -> 0 | F45: =SUM('Budsjett avd. 30 håndball'!D41) -> 0 | G45: =SUM('Budsjett avd. 40 fotball'!D42) -> 0 | H45: =SUM('Budsjett avd. 50 areobic'!D41) -> 0 | I45: =SUM('Budsjett avd.60 hallen'!D41) -> 0 | J45: =SUM('Budsjett avd. 70 allidrett'!D41) -> 0 | K45: =SUM('Budsjett avd. 80 sykkel'!D41) -> 0 | L45: =SUM('Budsjett avd. 90 dans'!D41) -> 0
A46: 5505 | B46: Utstyrsgodgjørelse, dommer | C46: =SUM(D46:L46) -> 2000 | D46: 0 | E46: =SUM('Budsjett avd. 20 turn '!D42) -> 0 | F46: =SUM('Budsjett avd. 30 håndball'!D42) -> 0 | G46: =SUM('Budsjett avd. 40 fotball'!D43) -> 2000 | H46: =SUM('Budsjett avd. 50 areobic'!D42) -> 0 | I46: =SUM('Budsjett avd.60 hallen'!D42) -> 0 | J46: =SUM('Budsjett avd. 70 allidrett'!D42) -> 0 | K46: =SUM('Budsjett avd. 80 sykkel'!D42) -> 0 | L46: =SUM('Budsjett avd. 90 dans'!D42) -> 0
A47: 5900 | B47: Gaver til ansatte | C47: =SUM(D47:L47) -> 5000 | D47: =SUM('Budsjett avd. 10'!D35) -> 0 | E47: =SUM('Budsjett avd. 20 turn '!D43) -> 5000 | F47: =SUM('Budsjett avd. 30 håndball'!D43) -> 0 | G47: =SUM('Budsjett avd. 40 fotball'!D44) -> 0 | H47: =SUM('Budsjett avd. 50 areobic'!D43) -> 0 | I47: =SUM('Budsjett avd.60 hallen'!D43) -> 0 | J47: =SUM('Budsjett avd. 70 allidrett'!D43) -> 0 | K47: =SUM('Budsjett avd. 80 sykkel'!D43) -> 0 | L47: =SUM('Budsjett avd. 90 dans'!D43) -> 0
A48: 5917 | B48: Dommerhonorarer | C48: =SUM(D48:L48) -> 40000 | D48: 0 | E48: =SUM('Budsjett avd. 20 turn '!D44) -> 0 | F48: =SUM('Budsjett avd. 30 håndball'!D44) -> 15000 | G48: =SUM('Budsjett avd. 40 fotball'!D45) -> 25000 | H48: =SUM('Budsjett avd. 50 areobic'!D44) -> 0 | I48: =SUM('Budsjett avd.60 hallen'!D44) -> 0 | J48: =SUM('Budsjett avd. 70 allidrett'!D44) -> 0 | K48: =SUM('Budsjett avd. 80 sykkel'!D44) -> 0 | L48: =SUM('Budsjett avd. 90 dans'!D44) -> 0
A49: 5950 | B49: OTP | C49: =SUM(D49:L49) -> 30580 | D49: =SUM('Budsjett avd. 10'!D36) -> 5600 | E49: =SUM('Budsjett avd. 20 turn '!D45) -> 7340 | F49: =SUM('Budsjett avd. 30 håndball'!D45) -> 800 | G49: =SUM('Budsjett avd. 40 fotball'!D46) -> 7000 | H49: =SUM('Budsjett avd. 50 areobic'!D45) -> 760 | I49: =SUM('Budsjett avd.60 hallen'!D45) -> 0 | J49: =SUM('Budsjett avd. 70 allidrett'!D45) -> 800 | K49: =SUM('Budsjett avd. 80 sykkel'!D45) -> 6360 | L49: =SUM('Budsjett avd. 90 dans'!D45) -> 1920
A50: 5990 | B50: Andre personalkostnader | C50: =SUM(D50:L50) -> 0 | D50: =SUM('Budsjett avd. 10'!D37) -> 0 | E50: =SUM('Budsjett avd. 20 turn '!D46) -> 0 | F50: =SUM('Budsjett avd. 30 håndball'!D46) -> 0 | G50: =SUM('Budsjett avd. 40 fotball'!D47) -> 0 | H50: =SUM('Budsjett avd. 50 areobic'!D46) -> 0 | I50: =SUM('Budsjett avd.60 hallen'!D46) -> 0 | J50: =SUM('Budsjett avd. 70 allidrett'!D46) -> 0 | K50: =SUM('Budsjett avd. 80 sykkel'!D46) -> 0 | L50: =SUM('Budsjett avd. 90 dans'!D46) -> 0
B51: Annen driftskostnad | C51: =SUM(D51:L51) -> 0 | D51: =SUM('Budsjett avd. 10'!D38) -> 0 | E51: =SUM('Budsjett avd. 20 turn '!D47) -> 0 | F51: =SUM('Budsjett avd. 30 håndball'!D47) -> 0 | G51: =SUM('Budsjett avd. 40 fotball'!D48) -> 0 | H51: =SUM('Budsjett avd. 50 areobic'!D47) -> 0 | I51: =SUM('Budsjett avd.60 hallen'!D47) -> 0 | J51: =SUM('Budsjett avd. 70 allidrett'!D47) -> 0 | K51: =SUM('Budsjett avd. 80 sykkel'!D47) -> 0 | L51: =SUM('Budsjett avd. 90 dans'!D47) -> 0
A52: 6300 | B52: Leie lokale | C52: =SUM(D52:L52) -> 6000 | D52: 0 | E52: =SUM('Budsjett avd. 20 turn '!D48) -> 0 | F52: =SUM('Budsjett avd. 30 håndball'!D48) -> 6000 | G52: =SUM('Budsjett avd. 40 fotball'!D49) -> 0 | H52: =SUM('Budsjett avd. 50 areobic'!D48) -> 0 | I52: =SUM('Budsjett avd.60 hallen'!D48) -> 0 | J52: =SUM('Budsjett avd. 70 allidrett'!D48) -> 0 | K52: =SUM('Budsjett avd. 80 sykkel'!D48) -> 0 | L52: =SUM('Budsjett avd. 90 dans'!D48) -> 0
A53: 6310 | B53: Banekostnader | C53: =SUM(D53:L53) -> 0 | D53: =SUM('Budsjett avd. 10'!D39) -> 0 | E53: =SUM('Budsjett avd. 20 turn '!D49) -> 0 | F53: =SUM('Budsjett avd. 30 håndball'!D49) -> 0 | G53: =SUM('Budsjett avd. 40 fotball'!D50) -> 0 | H53: =SUM('Budsjett avd. 50 areobic'!D49) -> 0 | I53: =SUM('Budsjett avd.60 hallen'!D49) -> 0 | J53: =SUM('Budsjett avd. 70 allidrett'!D49) -> 0 | K53: =SUM('Budsjett avd. 80 sykkel'!D49) -> 0 | L53: =SUM('Budsjett avd. 90 dans'!D49) -> 0
A54: 6320 | B54: Renovasjon, vann, avløp | C54: =SUM(D54:L54) -> 25000 | D54: =SUM('Budsjett avd. 10'!D40) -> 25000 | E54: =SUM('Budsjett avd. 20 turn '!D50) -> 0 | F54: =SUM('Budsjett avd. 30 håndball'!D50) -> 0 | G54: =SUM('Budsjett avd. 40 fotball'!D51) -> 0 | H54: =SUM('Budsjett avd. 50 areobic'!D50) -> 0 | I54: =SUM('Budsjett avd.60 hallen'!D50) -> 0 | J54: =SUM('Budsjett avd. 70 allidrett'!D50) -> 0 | K54: =SUM('Budsjett avd. 80 sykkel'!D50) -> 0 | L54: =SUM('Budsjett avd. 90 dans'!D50) -> 0
A55: 6360 | B55: Renhold | C55: =SUM(D55:L55) -> 15000 | D55: =SUM('Budsjett avd. 10'!D41) -> 10000 | E55: =SUM('Budsjett avd. 20 turn '!D51) -> 0 | F55: =SUM('Budsjett avd. 30 håndball'!D51) -> 0 | G55: =SUM('Budsjett avd. 40 fotball'!D52) -> 0 | H55: =SUM('Budsjett avd. 50 areobic'!D51) -> 0 | I55: =SUM('Budsjett avd.60 hallen'!D51) -> 5000 | J55: =SUM('Budsjett avd. 70 allidrett'!D51) -> 0 | K55: =SUM('Budsjett avd. 80 sykkel'!D51) -> 0 | L55: =SUM('Budsjett avd. 90 dans'!D51) -> 0
A56: 6390 | B56: Annen kostnad lokaler | C56: =SUM(D56:L56) -> 25000 | D56: =SUM('Budsjett avd. 10'!D42) -> 10000 | E56: =SUM('Budsjett avd. 20 turn '!D52) -> 0 | F56: =SUM('Budsjett avd. 30 håndball'!D52) -> 0 | G56: =SUM('Budsjett avd. 40 fotball'!D53) -> 0 | H56: =SUM('Budsjett avd. 50 areobic'!D52) -> 0 | I56: =SUM('Budsjett avd.60 hallen'!D52) -> 15000 | J56: =SUM('Budsjett avd. 70 allidrett'!D52) -> 0 | K56: =SUM('Budsjett avd. 80 sykkel'!D52) -> 0 | L56: =SUM('Budsjett avd. 90 dans'!D52) -> 0
A57: 6420 | B57: Leie datasystemer | C57: =SUM(D57:L57) -> 30000 | D57: =SUM('Budsjett avd. 10'!D43) -> 25000 | E57: =SUM('Budsjett avd. 20 turn '!D53) -> 0 | F57: =SUM('Budsjett avd. 30 håndball'!D53) -> 0 | G57: =SUM('Budsjett avd. 40 fotball'!D54) -> 0 | H57: =SUM('Budsjett avd. 50 areobic'!D53) -> 0 | I57: =SUM('Budsjett avd.60 hallen'!D53) -> 0 | J57: =SUM('Budsjett avd. 70 allidrett'!D53) -> 0 | K57: =SUM('Budsjett avd. 80 sykkel'!D53) -> 5000 | L57: =SUM('Budsjett avd. 90 dans'!D53) -> 0
A58: 6490 | B58: Annen leiekostnad | C58: =SUM(D58:L58) -> 0 | D58: =SUM('Budsjett avd. 10'!D44) -> 0 | E58: =SUM('Budsjett avd. 20 turn '!D54) -> 0 | F58: =SUM('Budsjett avd. 30 håndball'!D54) -> 0 | G58: =SUM('Budsjett avd. 40 fotball'!D55) -> 0 | H58: =SUM('Budsjett avd. 50 areobic'!D54) -> 0 | I58: =SUM('Budsjett avd.60 hallen'!D54) -> 0 | J58: =SUM('Budsjett avd. 70 allidrett'!D54) -> 0 | K58: =SUM('Budsjett avd. 80 sykkel'!D54) -> 0 | L58: =SUM('Budsjett avd. 90 dans'!D54) -> 0
A59: 6510 | B59: Håndverktøy | C59: =SUM(D59:L59) -> 25000 | D59: 0 | E59: =SUM('Budsjett avd. 20 turn '!D55) -> 0 | F59: =SUM('Budsjett avd. 30 håndball'!D55) -> 0 | G59: =SUM('Budsjett avd. 40 fotball'!D56) -> 0 | H59: =SUM('Budsjett avd. 50 areobic'!D55) -> 0 | I59: =SUM('Budsjett avd.60 hallen'!D55) -> 0 | J59: =SUM('Budsjett avd. 70 allidrett'!D55) -> 0 | K59: =SUM('Budsjett avd. 80 sykkel'!D55) -> 25000 | L59: =SUM('Budsjett avd. 90 dans'!D55) -> 0
A60: 6540 | B60: Inventar | C60: =SUM(D60:L60) -> 510000 | D60: =SUM('Budsjett avd. 10'!D45) -> 10000 | E60: =SUM('Budsjett avd. 20 turn '!D56) -> 0 | F60: =SUM('Budsjett avd. 30 håndball'!D56) -> 0 | G60: =SUM('Budsjett avd. 40 fotball'!D57) -> 0 | H60: =SUM('Budsjett avd. 50 areobic'!D56) -> 0 | I60: =SUM('Budsjett avd.60 hallen'!D56) -> 0 | J60: =SUM('Budsjett avd. 70 allidrett'!D56) -> 0 | K60: =SUM('Budsjett avd. 80 sykkel'!D56) -> 500000 | L60: =SUM('Budsjett avd. 90 dans'!D56) -> 0
A61: 6545 | B61: Datautstyr | C61: =SUM(D61:L61) -> 135000 | D61: =SUM('Budsjett avd. 10'!D46) -> 25000 | E61: =SUM('Budsjett avd. 20 turn '!D57) -> 0 | F61: =SUM('Budsjett avd. 30 håndball'!D57) -> 0 | G61: =SUM('Budsjett avd. 40 fotball'!D58) -> 10000 | H61: =SUM('Budsjett avd. 50 areobic'!D57) -> 0 | I61: =SUM('Budsjett avd.60 hallen'!D57) -> 0 | J61: =SUM('Budsjett avd. 70 allidrett'!D57) -> 0 | K61: =SUM('Budsjett avd. 80 sykkel'!D57) -> 100000 | L61: =SUM('Budsjett avd. 90 dans'!D57) -> 0
A62: 6550 | B62: Driftsmateriale | C62: =SUM(D62:L62) -> 5000 | D62: =SUM('Budsjett avd. 10'!D47) -> 0 | E62: =SUM('Budsjett avd. 20 turn '!D58) -> 0 | F62: =SUM('Budsjett avd. 30 håndball'!D58) -> 0 | G62: =SUM('Budsjett avd. 40 fotball'!D59) -> 0 | H62: =SUM('Budsjett avd. 50 areobic'!D58) -> 0 | I62: =SUM('Budsjett avd.60 hallen'!D58) -> 5000 | J62: =SUM('Budsjett avd. 70 allidrett'!D58) -> 0 | K62: =SUM('Budsjett avd. 80 sykkel'!D58) -> 0 | L62: =SUM('Budsjett avd. 90 dans'!D58) -> 0
A63: 6560 | B63: Rekvisita | C63: =SUM(D63:L63) -> 6000 | D63: =SUM('Budsjett avd. 10'!D48) -> 0 | E63: =SUM('Budsjett avd. 20 turn '!D59) -> 0 | F63: =SUM('Budsjett avd. 30 håndball'!D59) -> 0 | G63: =SUM('Budsjett avd. 40 fotball'!D60) -> 1000 | H63: =SUM('Budsjett avd. 50 areobic'!D59) -> 0 | I63: =SUM('Budsjett avd.60 hallen'!D59) -> 5000 | J63: =SUM('Budsjett avd. 70 allidrett'!D59) -> 0 | K63: =SUM('Budsjett avd. 80 sykkel'!D59) -> 0 | L63: =SUM('Budsjett avd. 90 dans'!D59) -> 0
A64: 6580 | B64: Idrettsutstyr | C64: =SUM(D64:L64) -> 675000 | D64: =SUM('Budsjett avd. 10'!D49) -> 70000 | E64: =SUM('Budsjett avd. 20 turn '!D60) -> 100000 | F64: =SUM('Budsjett avd. 30 håndball'!D60) -> 40000 | G64: =SUM('Budsjett avd. 40 fotball'!D61) -> 300000 | H64: =SUM('Budsjett avd. 50 areobic'!D60) -> 5000 | I64: =SUM('Budsjett avd.60 hallen'!D60) -> 0 | J64: =SUM('Budsjett avd. 70 allidrett'!D60) -> 15000 | K64: =SUM('Budsjett avd. 80 sykkel'!D60) -> 120000 | L64: =SUM('Budsjett avd. 90 dans'!D60) -> 25000
A65: 6600 | B65: Reparasjon og vedlikehold bygninger | C65: =SUM(D65:L65) -> 200000 | D65: =SUM('Budsjett avd. 10'!D50) -> 40000 | E65: =SUM('Budsjett avd. 20 turn '!D61) -> 0 | F65: =SUM('Budsjett avd. 30 håndball'!D61) -> 0 | G65: =SUM('Budsjett avd. 40 fotball'!D62) -> 60000 | H65: =SUM('Budsjett avd. 50 areobic'!D61) -> 0 | I65: =SUM('Budsjett avd.60 hallen'!D61) -> 100000 | J65: =SUM('Budsjett avd. 70 allidrett'!D61) -> 0 | K65: =SUM('Budsjett avd. 80 sykkel'!D61) -> 0 | L65: =SUM('Budsjett avd. 90 dans'!D61) -> 0
A66: 6705 | B66: Regnskapshonorar | C66: =SUM(D66:L66) -> 84000 | D66: =SUM('Budsjett avd. 10'!D51) -> 84000 | E66: =SUM('Budsjett avd. 20 turn '!D62) -> 0 | F66: =SUM('Budsjett avd. 30 håndball'!D62) -> 0 | G66: =SUM('Budsjett avd. 40 fotball'!D63) -> 0 | H66: =SUM('Budsjett avd. 50 areobic'!D62) -> 0 | I66: =SUM('Budsjett avd.60 hallen'!D62) -> 0 | J66: =SUM('Budsjett avd. 70 allidrett'!D62) -> 0 | K66: =SUM('Budsjett avd. 80 sykkel'!D62) -> 0 | L66: =SUM('Budsjett avd. 90 dans'!D62) -> 0
A67: 6720 | B67: Økonomisk og juridisk bistand | C67: =SUM(D67:L67) -> 95000 | D67: =SUM('Budsjett avd. 10'!D52) -> 75000 | E67: =SUM('Budsjett avd. 20 turn '!D63) -> 0 | F67: =SUM('Budsjett avd. 30 håndball'!D63) -> 0 | G67: =SUM('Budsjett avd. 40 fotball'!D64) -> 0 | H67: =SUM('Budsjett avd. 50 areobic'!D63) -> 0 | I67: =SUM('Budsjett avd.60 hallen'!D63) -> 0 | J67: =SUM('Budsjett avd. 70 allidrett'!D63) -> 0 | K67: =SUM('Budsjett avd. 80 sykkel'!D63) -> 0 | L67: =SUM('Budsjett avd. 90 dans'!D63) -> 20000
A68: 6730 | B68: Idrettsfaglig bistand | C68: =SUM(D68:L68) -> 0 | D68: =SUM('Budsjett avd. 10'!D53) -> 0 | E68: =SUM('Budsjett avd. 20 turn '!D64) -> 0 | F68: =SUM('Budsjett avd. 30 håndball'!D64) -> 0 | G68: =SUM('Budsjett avd. 40 fotball'!D65) -> 0 | H68: =SUM('Budsjett avd. 50 areobic'!D64) -> 0 | I68: =SUM('Budsjett avd.60 hallen'!D64) -> 0 | J68: =SUM('Budsjett avd. 70 allidrett'!D64) -> 0 | K68: =SUM('Budsjett avd. 80 sykkel'!D64) -> 0 | L68: =SUM('Budsjett avd. 90 dans'!D64) -> 0
A69: 6770 | B69: Medisinsk behandling, utstyr etc | C69: =SUM(D69:L69) -> 24000 | D69: =SUM('Budsjett avd. 10'!D54) -> 5000 | E69: =SUM('Budsjett avd. 20 turn '!D65) -> 2000 | F69: =SUM('Budsjett avd. 30 håndball'!D65) -> 0 | G69: =SUM('Budsjett avd. 40 fotball'!D66) -> 5000 | H69: =SUM('Budsjett avd. 50 areobic'!D65) -> 0 | I69: =SUM('Budsjett avd.60 hallen'!D65) -> 5000 | J69: =SUM('Budsjett avd. 70 allidrett'!D65) -> 0 | K69: =SUM('Budsjett avd. 80 sykkel'!D65) -> 7000 | L69: =SUM('Budsjett avd. 90 dans'!D65) -> 0
A70: 6790 | B70: Annen fremmed tjeneste | C70: =SUM(D70:L70) -> 0 | D70: =SUM('Budsjett avd. 10'!D55) -> 0 | E70: =SUM('Budsjett avd. 20 turn '!D66) -> 0 | F70: =SUM('Budsjett avd. 30 håndball'!D66) -> 0 | G70: =SUM('Budsjett avd. 40 fotball'!D67) -> 0 | H70: =SUM('Budsjett avd. 50 areobic'!D66) -> 0 | I70: =SUM('Budsjett avd.60 hallen'!D66) -> 0 | J70: =SUM('Budsjett avd. 70 allidrett'!D66) -> 0 | K70: =SUM('Budsjett avd. 80 sykkel'!D66) -> 0 | L70: =SUM('Budsjett avd. 90 dans'!D66) -> 0
A71: 6800 | B71: Kontorrekvisita | C71: =SUM(D71:L71) -> 18000 | D71: =SUM('Budsjett avd. 10'!D56) -> 5000 | E71: =SUM('Budsjett avd. 20 turn '!D67) -> 3000 | F71: =SUM('Budsjett avd. 30 håndball'!D67) -> 0 | G71: =SUM('Budsjett avd. 40 fotball'!D68) -> 0 | H71: =SUM('Budsjett avd. 50 areobic'!D67) -> 0 | I71: =SUM('Budsjett avd.60 hallen'!D67) -> 10000 | J71: =SUM('Budsjett avd. 70 allidrett'!D67) -> 0 | K71: =SUM('Budsjett avd. 80 sykkel'!D67) -> 0 | L71: =SUM('Budsjett avd. 90 dans'!D67) -> 0
A72: 6840 | B72: Aviser, tidsskrifter, bøker o.l. | C72: =SUM(D72:L72) -> 0 | D72: 0 | E72: =SUM('Budsjett avd. 20 turn '!D68) -> 0 | F72: =SUM('Budsjett avd. 30 håndball'!D68) -> 0 | G72: =SUM('Budsjett avd. 40 fotball'!D69) -> 0 | H72: =SUM('Budsjett avd. 50 areobic'!D68) -> 0 | I72: =SUM('Budsjett avd.60 hallen'!D68) -> 0 | J72: =SUM('Budsjett avd. 70 allidrett'!D68) -> 0 | K72: =SUM('Budsjett avd. 80 sykkel'!D68) -> 0 | L72: =SUM('Budsjett avd. 90 dans'!D68) -> 0
A73: 6860 | B73: Møte, kurs, oppdatering etc | C73: =SUM(D73:L73) -> 71000 | D73: =SUM('Budsjett avd. 10'!D57) -> 25000 | E73: =SUM('Budsjett avd. 20 turn '!D69) -> 10000 | F73: =SUM('Budsjett avd. 30 håndball'!D69) -> 0 | G73: =SUM('Budsjett avd. 40 fotball'!D70) -> 10000 | H73: =SUM('Budsjett avd. 50 areobic'!D69) -> 0 | I73: =SUM('Budsjett avd.60 hallen'!D69) -> 0 | J73: =SUM('Budsjett avd. 70 allidrett'!D69) -> 6000 | K73: =SUM('Budsjett avd. 80 sykkel'!D69) -> 20000 | L73: =SUM('Budsjett avd. 90 dans'!D69) -> 0
A74: 6890 | B74: Annen kontorkostnader | C74: =SUM(D74:L74) -> 0 | D74: =SUM('Budsjett avd. 10'!D58) -> 0 | E74: =SUM('Budsjett avd. 20 turn '!D70) -> 0 | F74: =SUM('Budsjett avd. 30 håndball'!D70) -> 0 | G74: =SUM('Budsjett avd. 40 fotball'!D71) -> 0 | H74: =SUM('Budsjett avd. 50 areobic'!D70) -> 0 | I74: =SUM('Budsjett avd.60 hallen'!D70) -> 0 | J74: =SUM('Budsjett avd. 70 allidrett'!D70) -> 0 | K74: =SUM('Budsjett avd. 80 sykkel'!D70) -> 0 | L74: =SUM('Budsjett avd. 90 dans'!D70) -> 0
A75: 6900 | B75: Internett | C75: =SUM(D75:L75) -> 15000 | D75: =SUM('Budsjett avd. 10'!D59) -> 15000 | E75: =SUM('Budsjett avd. 20 turn '!D71) -> 0 | F75: =SUM('Budsjett avd. 30 håndball'!D71) -> 0 | G75: =SUM('Budsjett avd. 40 fotball'!D72) -> 0 | H75: =SUM('Budsjett avd. 50 areobic'!D71) -> 0 | I75: =SUM('Budsjett avd.60 hallen'!D71) -> 0 | J75: =SUM('Budsjett avd. 70 allidrett'!D71) -> 0 | K75: =SUM('Budsjett avd. 80 sykkel'!D71) -> 0 | L75: =SUM('Budsjett avd. 90 dans'!D71) -> 0
A76: 6907 | B76: Internett | C76: =SUM(D76:L76) -> 0 | D76: =SUM('Budsjett avd. 10'!D60) -> 0 | E76: =SUM('Budsjett avd. 20 turn '!D72) -> 0 | F76: =SUM('Budsjett avd. 30 håndball'!D72) -> 0 | G76: =SUM('Budsjett avd. 40 fotball'!D73) -> 0 | H76: =SUM('Budsjett avd. 50 areobic'!D72) -> 0 | I76: =SUM('Budsjett avd.60 hallen'!D72) -> 0 | J76: =SUM('Budsjett avd. 70 allidrett'!D72) -> 0 | K76: =SUM('Budsjett avd. 80 sykkel'!D72) -> 0 | L76: =SUM('Budsjett avd. 90 dans'!D72) -> 0
A77: 6940 | B77: Porte | C77: =SUM(D77:L77) -> 0 | D77: =SUM('Budsjett avd. 10'!D61) -> 0 | E77: =SUM('Budsjett avd. 20 turn '!D73) -> 0 | F77: =SUM('Budsjett avd. 30 håndball'!D73) -> 0 | G77: =SUM('Budsjett avd. 40 fotball'!D74) -> 0 | H77: =SUM('Budsjett avd. 50 areobic'!D73) -> 0 | I77: =SUM('Budsjett avd.60 hallen'!D73) -> 0 | J77: =SUM('Budsjett avd. 70 allidrett'!D73) -> 0 | K77: =SUM('Budsjett avd. 80 sykkel'!D73) -> 0 | L77: =SUM('Budsjett avd. 90 dans'!D73) -> 0
A78: 6990 | B78: Andre kostnader | C78: =SUM(D78:L78) -> 902000 | D78: =SUM('Budsjett avd. 10'!D62) -> 857000 | E78: =SUM('Budsjett avd. 20 turn '!D74) -> 0 | F78: =SUM('Budsjett avd. 30 håndball'!D74) -> 0 | G78: =SUM('Budsjett avd. 40 fotball'!D75) -> 0 | H78: =SUM('Budsjett avd. 50 areobic'!D74) -> 0 | I78: =SUM('Budsjett avd.60 hallen'!D74) -> 0 | J78: =SUM('Budsjett avd. 70 allidrett'!D74) -> 0 | K78: =SUM('Budsjett avd. 80 sykkel'!D74) -> 45000 | L78: =SUM('Budsjett avd. 90 dans'!D74) -> 0
A79: 7100 | B79: Bilgodtgjørelse | C79: =SUM(D79:L79) -> 36000 | D79: =SUM('Budsjett avd. 10'!D63) -> 5000 | E79: =SUM('Budsjett avd. 20 turn '!D75) -> 0 | F79: =SUM('Budsjett avd. 30 håndball'!D75) -> 0 | G79: =SUM('Budsjett avd. 40 fotball'!D76) -> 15000 | H79: =SUM('Budsjett avd. 50 areobic'!D75) -> 10000 | I79: =SUM('Budsjett avd.60 hallen'!D75) -> 0 | J79: =SUM('Budsjett avd. 70 allidrett'!D75) -> 0 | K79: =SUM('Budsjett avd. 80 sykkel'!D75) -> 0 | L79: =SUM('Budsjett avd. 90 dans'!D75) -> 6000
A80: 7103 | B80: Kilometergodtgjørelse, dommer | C80: =SUM(D80:L80) -> 4000 | D80: 0 | E80: =SUM('Budsjett avd. 20 turn '!D76) -> 0 | F80: =SUM('Budsjett avd. 30 håndball'!D76) -> 0 | G80: =SUM('Budsjett avd. 40 fotball'!D77) -> 4000 | H80: =SUM('Budsjett avd. 50 areobic'!D76) -> 0 | I80: =SUM('Budsjett avd.60 hallen'!D76) -> 0 | J80: =SUM('Budsjett avd. 70 allidrett'!D76) -> 0 | K80: =SUM('Budsjett avd. 80 sykkel'!D76) -> 0 | L80: =SUM('Budsjett avd. 90 dans'!D76) -> 0
A81: 7140 | B81: Reisekostnad, ikke oppgavepliktig | C81: =SUM(D81:L81) -> 4000 | D81: =SUM('Budsjett avd. 10'!D64) -> 0 | E81: =SUM('Budsjett avd. 20 turn '!D77) -> 0 | F81: =SUM('Budsjett avd. 30 håndball'!D77) -> 0 | G81: =SUM('Budsjett avd. 40 fotball'!D78) -> 4000 | H81: =SUM('Budsjett avd. 50 areobic'!D77) -> 0 | I81: =SUM('Budsjett avd.60 hallen'!D77) -> 0 | J81: =SUM('Budsjett avd. 70 allidrett'!D77) -> 0 | K81: =SUM('Budsjett avd. 80 sykkel'!D77) -> 0 | L81: =SUM('Budsjett avd. 90 dans'!D77) -> 0
A82: 7144 | B82: Hotell/overnatting | C82: =SUM(D82:L82) -> 0 | D82: 0 | E82: =SUM('Budsjett avd. 20 turn '!D78) -> 0 | F82: =SUM('Budsjett avd. 30 håndball'!D78) -> 0 | G82: =SUM('Budsjett avd. 40 fotball'!D79) -> 0 | H82: =SUM('Budsjett avd. 50 areobic'!D78) -> 0 | I82: =SUM('Budsjett avd.60 hallen'!D78) -> 0 | J82: =SUM('Budsjett avd. 70 allidrett'!D78) -> 0 | K82: =SUM('Budsjett avd. 80 sykkel'!D78) -> 0 | L82: =SUM('Budsjett avd. 90 dans'!D78) -> 0
A83: 7145 | B83: Andre reisekostnader | C83: =SUM(D83:L83) -> 2500 | D83: 0 | E83: =SUM('Budsjett avd. 20 turn '!D79) -> 0 | F83: =SUM('Budsjett avd. 30 håndball'!D79) -> 0 | G83: =SUM('Budsjett avd. 40 fotball'!D80) -> 2500 | H83: =SUM('Budsjett avd. 50 areobic'!D79) -> 0 | I83: =SUM('Budsjett avd.60 hallen'!D79) -> 0 | J83: =SUM('Budsjett avd. 70 allidrett'!D79) -> 0 | K83: =SUM('Budsjett avd. 80 sykkel'!D79) -> 0 | L83: =SUM('Budsjett avd. 90 dans'!D79) -> 0
A84: 7162 | B84: Bevertning/mat | C84: =SUM(D84:L84) -> 36000 | D84: =SUM('Budsjett avd. 10'!D65) -> 10000 | E84: =SUM('Budsjett avd. 20 turn '!D80) -> 4000 | F84: =SUM('Budsjett avd. 30 håndball'!D80) -> 3000 | G84: =SUM('Budsjett avd. 40 fotball'!D81) -> 10000 | H84: =SUM('Budsjett avd. 50 areobic'!D80) -> 1000 | I84: =SUM('Budsjett avd.60 hallen'!D80) -> 0 | J84: =SUM('Budsjett avd. 70 allidrett'!D80) -> 0 | K84: =SUM('Budsjett avd. 80 sykkel'!D80) -> 5000 | L84: =SUM('Budsjett avd. 90 dans'!D80) -> 3000
A85: 7300 | B85: Salgskostnad | C85: =SUM(D85:L85) -> 0 | D85: =SUM('Budsjett avd. 10'!D66) -> 0 | E85: =SUM('Budsjett avd. 20 turn '!D81) -> 0 | F85: =SUM('Budsjett avd. 30 håndball'!D81) -> 0 | G85: =SUM('Budsjett avd. 40 fotball'!D82) -> 0 | H85: =SUM('Budsjett avd. 50 areobic'!D81) -> 0 | I85: =SUM('Budsjett avd.60 hallen'!D81) -> 0 | J85: =SUM('Budsjett avd. 70 allidrett'!D81) -> 0 | K85: =SUM('Budsjett avd. 80 sykkel'!D81) -> 0 | L85: =SUM('Budsjett avd. 90 dans'!D81) -> 0
A86: 7320 | B86: Reklame og annonser | C86: =SUM(D86:L86) -> 15000 | D86: =SUM('Budsjett avd. 10'!D67) -> 15000 | E86: =SUM('Budsjett avd. 20 turn '!D82) -> 0 | F86: =SUM('Budsjett avd. 30 håndball'!D82) -> 0 | G86: =SUM('Budsjett avd. 40 fotball'!D83) -> 0 | H86: =SUM('Budsjett avd. 50 areobic'!D82) -> 0 | I86: =SUM('Budsjett avd.60 hallen'!D82) -> 0 | J86: =SUM('Budsjett avd. 70 allidrett'!D82) -> 0 | K86: =SUM('Budsjett avd. 80 sykkel'!D82) -> 0 | L86: =SUM('Budsjett avd. 90 dans'!D82) -> 0
A87: 7400 | B87: Medlemskontingenter | C87: =SUM(D87:L87) -> 11000 | D87: =SUM('Budsjett avd. 10'!D68) -> 0 | E87: =SUM('Budsjett avd. 20 turn '!D83) -> 4000 | F87: =SUM('Budsjett avd. 30 håndball'!D83) -> 0 | G87: =SUM('Budsjett avd. 40 fotball'!D84) -> 0 | H87: =SUM('Budsjett avd. 50 areobic'!D83) -> 0 | I87: =SUM('Budsjett avd.60 hallen'!D83) -> 0 | J87: =SUM('Budsjett avd. 70 allidrett'!D83) -> 0 | K87: =SUM('Budsjett avd. 80 sykkel'!D83) -> 7000 | L87: =SUM('Budsjett avd. 90 dans'!D83) -> 0
A88: 7410 | B88: Påmelding serier, turneringer etc | C88: =SUM(D88:L88) -> 155000 | D88: =SUM('Budsjett avd. 10'!D69) -> 0 | E88: =SUM('Budsjett avd. 20 turn '!D84) -> 20000 | F88: =SUM('Budsjett avd. 30 håndball'!D84) -> 35000 | G88: =SUM('Budsjett avd. 40 fotball'!D85) -> 100000 | H88: =SUM('Budsjett avd. 50 areobic'!D84) -> 0 | I88: =SUM('Budsjett avd.60 hallen'!D84) -> 0 | J88: =SUM('Budsjett avd. 70 allidrett'!D84) -> 0 | K88: =SUM('Budsjett avd. 80 sykkel'!D84) -> 0 | L88: =SUM('Budsjett avd. 90 dans'!D84) -> 0
A89: 7420 | B89: Gaver og premier | C89: =SUM(D89:L89) -> 20000 | D89: =SUM('Budsjett avd. 10'!D70) -> 5000 | E89: =SUM('Budsjett avd. 20 turn '!D85) -> 10000 | F89: =SUM('Budsjett avd. 30 håndball'!D85) -> 0 | G89: =SUM('Budsjett avd. 40 fotball'!D86) -> 2000 | H89: =SUM('Budsjett avd. 50 areobic'!D85) -> 0 | I89: =SUM('Budsjett avd.60 hallen'!D85) -> 0 | J89: =SUM('Budsjett avd. 70 allidrett'!D85) -> 0 | K89: =SUM('Budsjett avd. 80 sykkel'!D85) -> 2000 | L89: =SUM('Budsjett avd. 90 dans'!D85) -> 1000
A90: 7430 | B90: Sosiale kostnader | C90: =SUM(D90:L90) -> 83000 | D90: =SUM('Budsjett avd. 10'!D71) -> 15000 | E90: =SUM('Budsjett avd. 20 turn '!D86) -> 10000 | F90: =SUM('Budsjett avd. 30 håndball'!D86) -> 0 | G90: =SUM('Budsjett avd. 40 fotball'!D87) -> 20000 | H90: =SUM('Budsjett avd. 50 areobic'!D86) -> 0 | I90: =SUM('Budsjett avd.60 hallen'!D86) -> 0 | J90: =SUM('Budsjett avd. 70 allidrett'!D86) -> 0 | K90: =SUM('Budsjett avd. 80 sykkel'!D86) -> 35000 | L90: =SUM('Budsjett avd. 90 dans'!D86) -> 3000
A91: 7440 | B91: Overgangsgebyr | C91: =SUM(D91:L91) -> 10000 | D91: 0 | E91: =SUM('Budsjett avd. 20 turn '!D87) -> 0 | F91: =SUM('Budsjett avd. 30 håndball'!D87) -> 0 | G91: =SUM('Budsjett avd. 40 fotball'!D88) -> 10000 | H91: =SUM('Budsjett avd. 50 areobic'!D87) -> 0 | I91: =SUM('Budsjett avd.60 hallen'!D87) -> 0 | J91: =SUM('Budsjett avd. 70 allidrett'!D87) -> 0 | K91: =SUM('Budsjett avd. 80 sykkel'!D87) -> 0 | L91: =SUM('Budsjett avd. 90 dans'!D87) -> 0
A92: 7500 | B92: Forsikringspremier | C92: =SUM(D92:L92) -> 176000 | D92: =SUM('Budsjett avd. 10'!D72) -> 45000 | E92: =SUM('Budsjett avd. 20 turn '!D88) -> 50000 | F92: =SUM('Budsjett avd. 30 håndball'!D88) -> 0 | G92: =SUM('Budsjett avd. 40 fotball'!D89) -> 81000 | H92: =SUM('Budsjett avd. 50 areobic'!D88) -> 0 | I92: =SUM('Budsjett avd.60 hallen'!D88) -> 0 | J92: =SUM('Budsjett avd. 70 allidrett'!D88) -> 0 | K92: =SUM('Budsjett avd. 80 sykkel'!D88) -> 0 | L92: =SUM('Budsjett avd. 90 dans'!D88) -> 0
A93: 7560 | B93: Servicekostnad | C93: =SUM(D93:L93) -> 2000 | D93: =SUM('Budsjett avd. 10'!D73) -> 2000 | E93: =SUM('Budsjett avd. 20 turn '!D89) -> 0 | F93: =SUM('Budsjett avd. 30 håndball'!D89) -> 0 | G93: =SUM('Budsjett avd. 40 fotball'!D90) -> 0 | H93: =SUM('Budsjett avd. 50 areobic'!D89) -> 0 | I93: =SUM('Budsjett avd.60 hallen'!D89) -> 0 | J93: =SUM('Budsjett avd. 70 allidrett'!D89) -> 0 | K93: =SUM('Budsjett avd. 80 sykkel'!D89) -> 0 | L93: =SUM('Budsjett avd. 90 dans'!D89) -> 0
A94: 7600 | B94: Lisenser, på trenere og dommere | C94: =SUM(D94:L94) -> 5000 | D94: 0 | E94: =SUM('Budsjett avd. 20 turn '!D90) -> 5000 | F94: =SUM('Budsjett avd. 30 håndball'!D90) -> 0 | G94: =SUM('Budsjett avd. 40 fotball'!D91) -> 0 | H94: =SUM('Budsjett avd. 50 areobic'!D90) -> 0 | I94: =SUM('Budsjett avd.60 hallen'!D90) -> 0 | J94: =SUM('Budsjett avd. 70 allidrett'!D90) -> 0 | K94: =SUM('Budsjett avd. 80 sykkel'!D90) -> 0 | L94: =SUM('Budsjett avd. 90 dans'!D90) -> 0
A95: 7710 | B95: Styre- og bedriftsforsamlingsmøter | C95: =SUM(D95:L95) -> 0 | D95: =SUM('Budsjett avd. 10'!D74) -> 0 | E95: =SUM('Budsjett avd. 20 turn '!D91) -> 0 | F95: =SUM('Budsjett avd. 30 håndball'!D91) -> 0 | G95: =SUM('Budsjett avd. 40 fotball'!D92) -> 0 | H95: =SUM('Budsjett avd. 50 areobic'!D91) -> 0 | I95: =SUM('Budsjett avd.60 hallen'!D91) -> 0 | J95: =SUM('Budsjett avd. 70 allidrett'!D91) -> 0 | K95: =SUM('Budsjett avd. 80 sykkel'!D91) -> 0 | L95: =SUM('Budsjett avd. 90 dans'!D91) -> 0
A96: 7740 | B96: Øresavrunding | C96: =SUM(D96:L96) -> 0 | D96: =SUM('Budsjett avd. 10'!D75) -> 0 | E96: =SUM('Budsjett avd. 20 turn '!D92) -> 0 | F96: =SUM('Budsjett avd. 30 håndball'!D92) -> 0 | G96: =SUM('Budsjett avd. 40 fotball'!D93) -> 0 | H96: =SUM('Budsjett avd. 50 areobic'!D92) -> 0 | I96: =SUM('Budsjett avd.60 hallen'!D92) -> 0 | J96: =SUM('Budsjett avd. 70 allidrett'!D92) -> 0 | K96: =SUM('Budsjett avd. 80 sykkel'!D92) -> 0 | L96: =SUM('Budsjett avd. 90 dans'!D92) -> 0
A97: 7770 | B97: Bank og kortgebyrer | C97: =SUM(D97:L97) -> 11000 | D97: =SUM('Budsjett avd. 10'!D76) -> 10000 | E97: =SUM('Budsjett avd. 20 turn '!D93) -> 0 | F97: =SUM('Budsjett avd. 30 håndball'!D93) -> 0 | G97: =SUM('Budsjett avd. 40 fotball'!D94) -> 0 | H97: =SUM('Budsjett avd. 50 areobic'!D93) -> 1000 | I97: =SUM('Budsjett avd.60 hallen'!D93) -> 0 | J97: =SUM('Budsjett avd. 70 allidrett'!D93) -> 0 | K97: =SUM('Budsjett avd. 80 sykkel'!D93) -> 0 | L97: =SUM('Budsjett avd. 90 dans'!D93) -> 0
A98: 7775 | B98: Gebyr Buypass, Vipps o.l | C98: =SUM(D98:L98) -> 16000 | D98: =SUM('Budsjett avd. 10'!D77) -> 15000 | E98: =SUM('Budsjett avd. 20 turn '!D94) -> 0 | F98: =SUM('Budsjett avd. 30 håndball'!D94) -> 1000 | G98: =SUM('Budsjett avd. 40 fotball'!D95) -> 0 | H98: =SUM('Budsjett avd. 50 areobic'!D94) -> 0 | I98: =SUM('Budsjett avd.60 hallen'!D94) -> 0 | J98: =SUM('Budsjett avd. 70 allidrett'!D94) -> 0 | K98: =SUM('Budsjett avd. 80 sykkel'!D94) -> 0 | L98: =SUM('Budsjett avd. 90 dans'!D94) -> 0
A99: 7780 | B99: Bøter, sanksjoner | C99: =SUM(D99:L99) -> 40000 | E99: =SUM('Budsjett avd. 20 turn '!D95) -> 0 | F99: =SUM('Budsjett avd. 30 håndball'!D95) -> 20000 | G99: =SUM('Budsjett avd. 40 fotball'!D96) -> 20000 | H99: =SUM('Budsjett avd. 50 areobic'!D95) -> 0 | I99: =SUM('Budsjett avd.60 hallen'!D95) -> 0 | J99: =SUM('Budsjett avd. 70 allidrett'!D95) -> 0 | K99: =SUM('Budsjett avd. 80 sykkel'!D95) -> 0 | L99: =SUM('Budsjett avd. 90 dans'!D95) -> 0
A100: 7790 | B100: Diverse kostnader | C100: =SUM(D100:L100) -> 0 | D100: =SUM('Budsjett avd. 10'!D78) -> 0 | E100: =SUM('Budsjett avd. 20 turn '!D96) -> 0 | F100: =SUM('Budsjett avd. 30 håndball'!D96) -> 0 | G100: =SUM('Budsjett avd. 40 fotball'!D97) -> 0 | H100: =SUM('Budsjett avd. 50 areobic'!D96) -> 0 | I100: =SUM('Budsjett avd.60 hallen'!D96) -> 0 | J100: =SUM('Budsjett avd. 70 allidrett'!D96) -> 0 | K100: =SUM('Budsjett avd. 80 sykkel'!D96) -> 0 | L100: =SUM('Budsjett avd. 90 dans'!D96) -> 0
A101: 7799 | B101: Konto til oppfølging | C101: =SUM(D101:L101) -> 0 | D101: =SUM('Budsjett avd. 10'!D79) -> 0 | E101: =SUM('Budsjett avd. 20 turn '!D97) -> 0 | F101: =SUM('Budsjett avd. 30 håndball'!D97) -> 0 | G101: =SUM('Budsjett avd. 40 fotball'!D98) -> 0 | H101: =SUM('Budsjett avd. 50 areobic'!D97) -> 0 | I101: =SUM('Budsjett avd.60 hallen'!D97) -> 0 | J101: =SUM('Budsjett avd. 70 allidrett'!D97) -> 0 | K101: =SUM('Budsjett avd. 80 sykkel'!D97) -> 0 | L101: =SUM('Budsjett avd. 90 dans'!D97) -> 0
B102: Sum driftskostnader | C102: =SUM(C32:C101) -> 5469080 | D102: =SUM(D32:D101) -> 1881600 | E102: =SUM(E32:E101) -> 657340 | F102: =SUM(F32:F101) -> 190800 | G102: =SUM(G32:G101) -> 1088500 | H102: =SUM(H32:H101) -> 55760 | I102: =SUM(I32:I101) -> 150000 | J102: =SUM(J32:J101) -> 61800 | ... L102: =SUM(L32:L101) -> 167920
...
