Workbook

Sheet Budsjett avd. 10
A1: Budsjett 2025 - Hovedlaget avd. 10
A2: Kontonr. | B2: Konto | C2: Budsjett 2024 | D2: Budsjett 2025 | E2: Kommentar
B3: Salgsinntekt
A4: 3110 | B4: Salgsinntekter, avgiftsfri
A5: 3115 | B5: Salgsinntekter arrangement/ kiosk | D5: 160000
A6: 3180 | B6: Rabatt og annen salgsinntektsreduksjon - Kickback
A7: 3400 | B7: Tilskudd | C7: 245000 | D7: 650000
A8: 3401 | B8: Aktivitetsstøtte (hodestøtte) | C8: 50000 | D8: 50000
A9: 3402 | B9: LAM | C9: 50000 | D9: 50000
A10: 3403 | B10: Grasrotmidler - Norsk Tipping | C10: 50000 | D10: 50000
A11: 3404 | B11: Drifttilskudd BYM | D11: 180741
B12: Annen driftsinntekt
A13: 3600 | B13: Leieinntekter (Bymil, hallvakter) | C13: 35000 | D13: 25000
A14: 3610 | B14: Leieinntekt andre varige driftsmidler
A15: 3900 | B15: Annen driftsrelatert inntekt
A16: 3920 | B16: Medlemskontingenter | C16: 75000 | D16: 60000
A17: 3930 | B17: Treningsavgifter
A18: 3960 | B18: Bingo, loddsalg, innsamlinger o.l
A19: 3970 | B19: Momskompensasjon | C19: 96000 | D19: 100000
A20: 3990 | B20: Andre inntekter | C20: 787000 | D20: 657000
A21: 3991 | B21: Uidentifiserte inntekter
B22: Sum driftsinntekter | C22: =SUM(C3:C21) -> 1388000 | D22: =SUM(D3:D21) -> 1982741
B23: Varekostnad
A24: 4300 | B24: Varekostnad, varer for videresalg
A25: 4315 | B25: Varekostnad, kiosk | D25: 150000
A26: 4500 | B26: Fremmedytelse og underentreprise
B27: Lønnskostnad
A28: 5000 | B28: Lønn til ansatte
A29: 5014 | B29: Honorar uten AGA (inkl.feriepenger) | C29: 240000 | D29: 280000
A30: 5015 | B30: Trenerlønn (ikke innberettet)
A31: 5092 | B31: Feriepenger
A32: 5331 | B32: Godtgjørelse til styret, uten AGA | C32: 37000 | D32: 43000
A33: 5400 | B33: Arbeidsgiveravgift
A34: 5405 | B34: Arb.giv.avg av pål. feriepenger
A35: 5900 | B35: Gaver til ansatte
A36: 5950 | B36: OTP | D36: 5600
A37: 5990 | B37: Andre personalkostnader
B38: Annen driftskostnad
A39: 6310 | B39: Banekostnader
A40: 6320 | B40: Renovasjon, vann, avløp | C40: 25000 | D40: 25000
...

Sheet Budsjett avd. 20 turn 
A1: Budsjett turn avd.20
A2: Kontonr. | B2: Konto | C2: Budsjett 2024 | D2: Budsjett 2025 | E2: Kommentar
B3: Salgsinntekt
A4: 3110 | B4: Salgsinntekter, avgiftsfri | C4: 50000 | D4: 25000
A5: 3115 | B5: Salgsinntekter arrangement/ kiosk | C5: 20000 | D5: 25000
A6: 3120 | B6: Sponsorinntekter, avgiftsfri
A7: 3180 | B7: Rabatt og annen salgsinntektsreduksjon - Kickback
A8: 3400 | B8: Tilskudd | C8: 150000 | D8: 90000
A9: 3401 | B9: Aktivitetsstøtte (hodestøtte) | C9: 25000 | D9: 30000
A10: 3402 | B10: LAM | C10: 60000 | D10: 60000
A11: 3403 | B11: Grasrotmidler - Norsk Tipping | C11: 60000 | D11: 60000
A12: 3404 | B12: Drifttilskudd BYM
B13: Annen driftsinntekt
A14: 3600 | B14: Leieinntekter (Bymil, hallvakter) | C14: 45000 | D14: 45000
A15: 3610 | B15: Leieinntekt andre varige driftsmidler
A16: 3620 | B16: Halleie
A17: 3900 | B17: Annen driftsrelatert inntekt
A18: 3920 | B18: Medlemskontingenter
A19: 3930 | B19: Treningsavgifter | C19: 200000 | D19: 240000
A20: 3940 | B20: Egenandeler | C20: 8000
A21: 3950 | B21: Dugnadsinntekter | D21: 13000
A22: 3960 | B22: Bingo, loddsalg, innsamlinger o.l | C22: 35000 | D22: 25000
A23: 3970 | B23: Momskompensasjon | C23: 40000 | D23: 50000
A24: 3980 | B24: Interne bøter
A25: 3990 | B25: Andre inntekter
A26: 3991 | B26: Uidentifiserte inntekter
B27: Sum driftsinntekter | C27: =SUM(C3:C26) -> 693000 | D27: =SUM(D3:D26) -> 663000
B28: Varekostnad
A29: 4300 | B29: Varekostnad, varer for videresalg | C29: 50000 | D29: 20000
A30: 4315 | B30: Varekostnad, kiosk | C30: 10000 | D30: 5000
A31: 4500 | B31: Fremmedytelse og underentreprise
A32: 4510 | B32: Tilrettelegging Spond | C32: 10000
B33: Lønnskostnad
A34: 5000 | B34: Lønn til ansatte
A35: 5014 | B35: Honorar uten AGA (inkl.feriepenger) | C35: 300000 | D35: 367000
A36: 5015 | B36: Trenerlønn (ikke innberettet)
A37: 5092 | B37: Feriepenger
A38: 5330 | B38: Godtgjørelse til styret
A39: 5331 | B39: Godtgjørelse til styret, uten AGA | C39: 35000 | D39: 35000
A40: 5400 | B40: Arbeidsgiveravgift
...

Sheet Budsjett avd. 30 håndball
A1: Budsjett Håndball avd.30
A2: Kontonr. | B2: Konto | C2: Budsjett 2024 | D2: Budsjett 2025 | E2: Kommentar
B3: Salgsinntekt
A4: 3110 | B4: Salgsinntekter, avgiftsfri | C4: 8000
A5: 3115 | B5: Salgsinntekter arrangement/ kiosk | C5: 52000 | D5: 20000
A6: 3120 | B6: Sponsorinntekter, avgiftsfri
A7: 3180 | B7: Rabatt og annen salgsinntektsreduksjon - Kickback
A8: 3400 | B8: Tilskudd | C8: 25000 | D8: 35000
A9: 3401 | B9: Aktivitetsstøtte (hodestøtte) | C9: 8000 | D9: 7700
A10: 3402 | B10: LAM | C10: 10000 | D10: 10000
A11: 3403 | B11: Grasrotmidler - Norsk Tipping | C11: 15000 | D11: 15000
A12: 3404 | B12: Drifttilskudd BYM
B13: Annen driftsinntekt
A14: 3600 | B14: Leieinntekter (Bymil, hallvakter) | C14: 50000 | D14: 15000
A15: 3610 | B15: Leieinntekt andre varige driftsmidler
A16: 3620 | B16: Halleie
A17: 3900 | B17: Annen driftsrelatert inntekt
A18: 3920 | B18: Medlemskontingenter
A19: 3930 | B19: Treningsavgifter | C19: 40000 | D19: 65000
A20: 3940 | B20: Egenandeler
A21: 3950 | B21: Dugnadsinntekter
A22: 3960 | B22: Bingo, loddsalg, innsamlinger o.l | C22: 3000 | D22: 2500
A23: 3970 | B23: Momskompensasjon | C23: 15000 | D23: 25000
A24: 3980 | B24: Interne bøter
A25: 3990 | B25: Andre inntekter | C25: 1000
A26: 3991 | B26: Uidentifiserte inntekter
B27: Sum driftsinntekter | C27: =SUM(C3:C26) -> 227000 | D27: =SUM(D3:D26) -> 195200
B28: Varekostnad
A29: 4300 | B29: Varekostnad, varer for videresalg
A30: 4315 | B30: Varekostnad, kiosk | C30: 15000
A31: 4500 | B31: Fremmedytelse og underentreprise
A32: 4510 | B32: Tilrettelegging Spond
B33: Lønnskostnad
A34: 5000 | B34: Lønn til ansatte
A35: 5014 | B35: Honorar uten AGA (inkl.feriepenger) | C35: 60000 | D35: 40000
A36: 5015 | B36: Trenerlønn (ikke innberettet)
A37: 5092 | B37: Feriepenger
A38: 5330 | B38: Godtgjørelse til styret
A39: 5331 | B39: Godtgjørelse til styret, uten AGA | C39: 40000 | D39: 30000
A40: 5400 | B40: Arbeidsgiveravgift
...

Sheet Budsjett avd. 40 fotball
A1: Budsjett Fotball avd.40
A3: Kontonr. | B3: Konto | C3: Budsjett 2024 | D3: Budsjett 2025 | E3: Kommentar
B4: Salgsinntekt
A5: 3110 | B5: Salgsinntekter, avgiftsfri
A6: 3115 | B6: Salgsinntekter arrangement/ kiosk | C6: 45000 | D6: 50000
A7: 3120 | B7: Sponsorinntekter, avgiftsfri | C7: 50000 | D7: 50000
A8: 3180 | B8: Rabatt og annen salgsinntektsreduksjon - Kickback
A9: 3400 | B9: Tilskudd | C9: 190000 | D9: 110000
A10: 3401 | B10: Aktivitetsstøtte (hodestøtte) | C10: 45000 | D10: 45000
A11: 3402 | B11: LAM | C11: 70000 | D11: 85000
A12: 3403 | B12: Grasrotmidler - Norsk Tipping | C12: 105000 | D12: 105000
A13: 3404 | B13: Drifttilskudd BYM
B14: Annen driftsinntekt
A15: 3600 | B15: Leieinntekter (Bymil, hallvakter) | C15: 30000 | D15: 30000
A16: 3610 | B16: Leieinntekt andre varige driftsmidler
A17: 3620 | B17: Halleie
A18: 3900 | B18: Annen driftsrelatert inntekt
A19: 3920 | B19: Medlemskontingenter
A20: 3930 | B20: Treningsavgifter | C20: 300000 | D20: 400000
A21: 3940 | B21: Egenandeler
A22: 3950 | B22: Dugnadsinntekter
A23: 3960 | B23: Bingo, loddsalg, innsamlinger o.l | C23: 25000 | D23: 75000
A24: 3970 | B24: Momskompensasjon | C24: 65000 | D24: 110000
A25: 3980 | B25: Interne bøter | C25: 15000 | D25: 10000
A26: 3990 | B26: Andre inntekter
A27: 3991 | B27: Uidentifiserte inntekter
B28: Sum driftsinntekter | C28: =SUM(C4:C27) -> 940000 | D28: =SUM(D4:D27) -> 1070000
B29: Varekostnad
A30: 4300 | B30: Varekostnad, varer for videresalg
A31: 4315 | B31: Varekostnad, kiosk | C31: 30000
A32: 4500 | B32: Fremmedytelse og underentreprise
A33: 4510 | B33: Tilrettelegging Spond
B34: Lønnskostnad
A35: 5000 | B35: Lønn til ansatte
A36: 5014 | B36: Honorar uten AGA (inkl.feriepenger) | C36: 310000 | D36: 350000
A37: 5015 | B37: Trenerlønn (ikke innberettet)
A38: 5092 | B38: Feriepenger
A39: 5330 | B39: Godtgjørelse til styret
A40: 5331 | B40: Godtgjørelse til styret, uten AGA | C40: 50000 | D40: 50000
A41: 5400 | B41: Arbeidsgiveravgift
...

Sheet Budsjett avd. 50 areobic
A1: Budsjett Aerobic avd.50
A2: Kontonr. | B2: Konto | C2: Budsjett 2024 | D2: Budsjett 2025 | E2: Kommentar
B3: Salgsinntekt
A4: 3110 | B4: Salgsinntekter, avgiftsfri
A5: 3115 | B5: Salgsinntekter arrangement/ kiosk
A6: 3120 | B6: Sponsorinntekter, avgiftsfri
A7: 3180 | B7: Rabatt og annen salgsinntektsreduksjon - Kickback
A8: 3400 | B8: Tilskudd | C8: 7500
A9: 3401 | B9: Aktivitetsstøtte (hodestøtte) | D9: 9000
A10: 3402 | B10: LAM | C10: 1000 | D10: 2000
A11: 3403 | B11: Grasrotmidler - Norsk Tipping | D11: 1000
A12: 3404 | B12: Drifttilskudd BYM
B13: Annen driftsinntekt
A14: 3600 | B14: Leieinntekter (Bymil, hallvakter)
A15: 3610 | B15: Leieinntekt andre varige driftsmidler
A16: 3620 | B16: Halleie
A17: 3900 | B17: Annen driftsrelatert inntekt
A18: 3920 | B18: Medlemskontingenter
A19: 3930 | B19: Treningsavgifter | C19: 24000 | D19: 25000
A20: 3940 | B20: Egenandeler
A21: 3950 | B21: Dugnadsinntekter
A22: 3960 | B22: Bingo, loddsalg, innsamlinger o.l
A23: 3970 | B23: Momskompensasjon | C23: 3000
A24: 3980 | B24: Interne bøter
A25: 3990 | B25: Andre inntekter
A26: 3991 | B26: Uidentifiserte inntekter
B27: Sum driftsinntekter | C27: =SUM(C3:C26) -> 35500 | D27: =SUM(D3:D26) -> 37000
B28: Varekostnad
A29: 4300 | B29: Varekostnad, varer for videresalg
A30: 4315 | B30: Varekostnad, kiosk
A31: 4500 | B31: Fremmedytelse og underentreprise
A32: 4510 | B32: Tilrettelegging Spond
B33: Lønnskostnad
A34: 5000 | B34: Lønn til ansatte
A35: 5014 | B35: Honorar uten AGA (inkl.feriepenger) | C35: 35000 | D35: 38000
A36: 5015 | B36: Trenerlønn (ikke innberettet)
A37: 5092 | B37: Feriepenger
A38: 5330 | B38: Godtgjørelse til styret
A39: 5331 | B39: Godtgjørelse til styret, uten AGA
A40: 5400 | B40: Arbeidsgiveravgift
...

Sheet Budsjett avd.60 hallen
A1: Budsjett avd. 60 hallen
A2: Kontonr. | B2: Konto | C2: Budsjett 2024 | D2: Budsjett 2025 | E2: Kommentar
B3: Salgsinntekt
A4: 3110 | B4: Salgsinntekter, avgiftsfri
A5: 3115 | B5: Salgsinntekter arrangement/ kiosk
A6: 3120 | B6: Sponsorinntekter, avgiftsfri
A7: 3180 | B7: Rabatt og annen salgsinntektsreduksjon - Kickback
A8: 3400 | B8: Tilskudd | C8: 40000
A9: 3401 | B9: Aktivitetsstøtte (hodestøtte)
A10: 3402 | B10: LAM
A11: 3403 | B11: Grasrotmidler - Norsk Tipping
A12: 3404 | B12: Drifttilskudd BYM
B13: Annen driftsinntekt
A14: 3600 | B14: Leieinntekter (Bymil, hallvakter) | C14: 30000 | D14: 40000
A15: 3610 | B15: Leieinntekt andre varige driftsmidler
A16: 3620 | B16: Halleie
A17: 3900 | B17: Annen driftsrelatert inntekt
A18: 3920 | B18: Medlemskontingenter
A19: 3930 | B19: Treningsavgifter
A20: 3940 | B20: Egenandeler
A21: 3950 | B21: Dugnadsinntekter
A22: 3960 | B22: Bingo, loddsalg, innsamlinger o.l
A23: 3970 | B23: Momskompensasjon | C23: 6000
A24: 3980 | B24: Interne bøter
A25: 3990 | B25: Andre inntekter | C25: 20000
A26: 3991 | B26: Uidentifiserte inntekter
B27: Sum driftsinntekter | C27: =SUM(C3:C26) -> 96000 | D27: =SUM(D3:D26) -> 40000
B28: Varekostnad
A29: 4300 | B29: Varekostnad, varer for videresalg
A30: 4315 | B30: Varekostnad, kiosk
A31: 4500 | B31: Fremmedytelse og underentreprise
A32: 4510 | B32: Tilrettelegging Spond
B33: Lønnskostnad
A34: 5000 | B34: Lønn til ansatte
A35: 5014 | B35: Honorar uten AGA (inkl.feriepenger)
A36: 5015 | B36: Trenerlønn (ikke innberettet)
A37: 5092 | B37: Feriepenger
A38: 5330 | B38: Godtgjørelse til styret
A39: 5331 | B39: Godtgjørelse til styret, uten AGA | C39: 5000 | D39: 5000
A40: 5400 | B40: Arbeidsgiveravgift
...

Sheet Budsjett avd. 70 allidrett
A1: Budsjett Allidrett avd.70
A2: Kontonr. | B2: Konto | C2: Budsjett 2024 | D2: Budsjett 2025 | E2: Kommentar
B3: Salgsinntekt
A4: 3110 | B4: Salgsinntekter, avgiftsfri
A5: 3115 | B5: Salgsinntekter arrangement/ kiosk
A6: 3120 | B6: Sponsorinntekter, avgiftsfri
A7: 3180 | B7: Rabatt og annen salgsinntektsreduksjon - Kickback
A8: 3400 | B8: Tilskudd | C8: 32575 | D8: 59800
A9: 3401 | B9: Aktivitetsstøtte (hodestøtte) | C9: 800 | D9: 2500
A10: 3402 | B10: LAM | C10: 500 | D10: 1500
A11: 3403 | B11: Grasrotmidler - Norsk Tipping | C11: 1000 | D11: 1000
A12: 3404 | B12: Drifttilskudd BYM
B13: Annen driftsinntekt
A14: 3600 | B14: Leieinntekter (Bymil, hallvakter) | C14: 7000
A15: 3610 | B15: Leieinntekt andre varige driftsmidler
A16: 3620 | B16: Halleie
A17: 3900 | B17: Annen driftsrelatert inntekt
A18: 3920 | B18: Medlemskontingenter
A19: 3930 | B19: Treningsavgifter | C19: 5000 | D19: 5600
A20: 3940 | B20: Egenandeler
A21: 3950 | B21: Dugnadsinntekter
A22: 3960 | B22: Bingo, loddsalg, innsamlinger o.l | C22: 1000 | D22: 1000
A23: 3970 | B23: Momskompensasjon | C23: 500 | D23: 1500
A24: 3980 | B24: Interne bøter
A25: 3990 | B25: Andre inntekter
A26: 3991 | B26: Uidentifiserte inntekter
B27: Sum driftsinntekter | C27: =SUM(C3:C26) -> 48375 | D27: =SUM(D3:D26) -> 72900
B28: Varekostnad
A29: 4300 | B29: Varekostnad, varer for videresalg
A30: 4315 | B30: Varekostnad, kiosk
A31: 4500 | B31: Fremmedytelse og underentreprise
A32: 4510 | B32: Tilrettelegging Spond
B33: Lønnskostnad
A34: 5000 | B34: Lønn til ansatte
A35: 5014 | B35: Honorar uten AGA (inkl.feriepenger) | C35: 25000 | D35: 40000
A36: 5015 | B36: Trenerlønn (ikke innberettet)
A37: 5092 | B37: Feriepenger
A38: 5330 | B38: Godtgjørelse til styret
A39: 5331 | B39: Godtgjørelse til styret, uten AGA
A40: 5400 | B40: Arbeidsgiveravgift
...

Sheet Budsjett avd. 80 sykkel
A1: Budsjett Sykkel avd.80
A2: Kontonr. | B2: Konto | C2: Budsjett 2024 | D2: Budsjett 2025 | E2: Kommentar
B3: Salgsinntekt
A4: 3110 | B4: Salgsinntekter, avgiftsfri | D4: 3000
A5: 3115 | B5: Salgsinntekter arrangement/ kiosk
A6: 3120 | B6: Sponsorinntekter, avgiftsfri | D6: 1000
A7: 3180 | B7: Rabatt og annen salgsinntektsreduksjon - Kickback
A8: 3400 | B8: Tilskudd | C8: 130000 | D8: 1168000
A9: 3401 | B9: Aktivitetsstøtte (hodestøtte) | C9: 8000 | D9: 8000
A10: 3402 | B10: LAM | C10: 2500 | D10: 7000
A11: 3403 | B11: Grasrotmidler - Norsk Tipping | C11: 10000 | D11: 4000
A12: 3404 | B12: Driftstilskudd BYM
B13: Annen driftsinntekt
A14: 3600 | B14: Leieinntekter (Bymil, hallvakter)
A15: 3610 | B15: Leieinntekt andre varige driftsmidler
A16: 3620 | B16: Halleie
A17: 3900 | B17: Annen driftsrelatert inntekt
A18: 3920 | B18: Medlemskontingenter
A19: 3930 | B19: Treningsavgifter | C19: 25000 | D19: 25000
A20: 3940 | B20: Egenandeler
A21: 3950 | B21: Dugnadsinntekter
A22: 3960 | B22: Bingo, loddsalg, innsamlinger o.l | D22: 7000
A23: 3970 | B23: Momskompensasjon | C23: 25000 | D23: 15000
A24: 3980 | B24: Interne bøter
A25: 3990 | B25: Andre inntekter | D25: 15000
A26: 3991 | B26: Uidentifiserte inntekter
B27: Sum driftsinntekter | C27: =SUM(C3:C26) -> 200500 | D27: =SUM(D3:D26) -> 1253000
B28: Varekostnad
A29: 4300 | B29: Varekostnad, varer for videresalg
A30: 4315 | B30: Varekostnad, kiosk
A31: 4500 | B31: Fremmedytelse og underentreprise
A32: 4510 | B32: Tilrettelegging Spond
B33: Lønnskostnad
A34: 5000 | B34: Lønn til ansatte
A35: 5014 | B35: Honorar uten AGA (inkl.feriepenger) | C35: 15000 | D35: 318000
A36: 5015 | B36: Trenerlønn (ikke innberettet)
A37: 5092 | B37: Feriepenger
A38: 5330 | B38: Godtgjørelse til styret
A39: 5331 | B39: Godtgjørelse til styret, uten AGA | C39: 20000 | D39: 20000
A40: 5400 | B40: Arbeidsgiveravgift
...

Sheet Budsjett avd. 90 dans
A1: Budsjett Dans avd.90
A2: Kontonr. | B2: Konto | C2: Budsjett 2024 | D2: Budsjett 2025 | E2: Kommentar
B3: Salgsinntekt
A4: 3110 | B4: Salgsinntekter, avgiftsfri
A5: 3115 | B5: Salgsinntekter arrangement/ kiosk
A6: 3120 | B6: Sponsorinntekter, avgiftsfri
A7: 3180 | B7: Rabatt og annen salgsinntektsreduksjon - Kickback
A8: 3400 | B8: Tilskudd | C8: 75509 | D8: 146000
A9: 3401 | B9: Aktivitetsstøtte (hodestøtte) | C9: 1000 | D9: 4000
A10: 3402 | B10: LAM | C10: 500 | D10: 2000
A11: 3403 | B11: Grasrotmidler - Norsk Tipping | C11: 5000 | D11: 5000
A12: 3404 | B12: Drifttilskudd BYM
B13: Annen driftsinntekt
A14: 3600 | B14: Leieinntekter (Bymil, hallvakter)
A15: 3610 | B15: Leieinntekt andre varige driftsmidler
A16: 3620 | B16: Halleie
A17: 3900 | B17: Annen driftsrelatert inntekt
A18: 3920 | B18: Medlemskontingenter
A19: 3930 | B19: Treningsavgifter | C19: 4200 | D19: 4800
A20: 3940 | B20: Egenandeler
A21: 3950 | B21: Dugnadsinntekter
A22: 3960 | B22: Bingo, loddsalg, innsamlinger o.l
A23: 3970 | B23: Momskompensasjon | C23: 2500 | D23: 2500
A24: 3980 | B24: Interne bøter
A25: 3990 | B25: Andre inntekter
A26: 3991 | B26: Uidentifiserte inntekter
B27: Sum driftsinntekter | C27: =SUM(C3:C26) -> 88709 | D27: =SUM(D3:D26) -> 164300
B28: Varekostnad
A29: 4300 | B29: Varekostnad, varer for videresalg
A30: 4315 | B30: Varekostnad, kiosk
A31: 4500 | B31: Fremmedytelse og underentreprise
A32: 4510 | B32: Tilrettelegging Spond
B33: Lønnskostnad
A34: 5000 | B34: Lønn til ansatte
A35: 5014 | B35: Honorar uten AGA (inkl.feriepenger) | C35: 24000 | D35: 96000
A36: 5015 | B36: Trenerlønn (ikke innberettet)
A37: 5092 | B37: Feriepenger
A38: 5330 | B38: Godtgjørelse til styret | C38: 6000 | D38: 12000
A39: 5331 | B39: Godtgjørelse til styret, uten AGA
A40: 5400 | B40: Arbeidsgiveravgift
...

Sheet Alle Grupper
A1: Budsjett 2025
A2: Romsås idrettslag
A5: Kontonr. | B5: Konto | C5: Totalt | D5: Styret | E5: Turn | F5: Håndball | G5: Fotball | H5: Aerobic | I5: Hallen | J5: Allidrett | K5: Sykkel | L5: Dans
D6: 10 | E6: 20 | F6: 30 | G6: 40 | H6: 50 | I6: 60 | J6: 70 | K6: 80 | L6: 90
B7: Salgsinntekt
A8: 3110 | B8: Salgsinntekter, avgiftsfri | C8: =SUM(D8:L8) -> 28000 | D8: =SUM('Budsjett avd. 10'!D4) -> 0 | E8: =SUM('Budsjett avd. 20 turn '!D4) -> 25000 | F8: =SUM('Budsjett avd. 30 håndball'!D4) -> 0 | G8: =SUM('Budsjett avd. 40 fotball'!D5) -> 0 | H8: =SUM('Budsjett avd. 50 areobic'!D4) -> 0 | I8: =SUM('Budsjett avd.60 hallen'!D4) -> 0 | J8: =SUM('Budsjett avd. 70 allidrett'!D4) -> 0 | K8: =SUM('Budsjett avd. 80 sykkel'!D4) -> 3000 | L8: =SUM('Budsjett avd. 90 dans'!D4) -> 0
A9: 3115 | B9: Salgsinntekter arrangement/ kiosk | C9: =SUM(D9:L9) -> 255000 | D9: =SUM('Budsjett avd. 10'!D5) -> 160000 | E9: =SUM('Budsjett avd. 20 turn '!D5) -> 25000 | F9: =SUM('Budsjett avd. 30 håndball'!D5) -> 20000 | G9: =SUM('Budsjett avd. 40 fotball'!D6) -> 50000 | H9: =SUM('Budsjett avd. 50 areobic'!D5) -> 0 | I9: =SUM('Budsjett avd.60 hallen'!D5) -> 0 | J9: =SUM('Budsjett avd. 70 allidrett'!D5) -> 0 | K9: =SUM('Budsjett avd. 80 sykkel'!D5) -> 0 | L9: =SUM('Budsjett avd. 90 dans'!D5) -> 0
A10: 3120 | B10: Sponsorinntekter, avgiftsfri | C10: =SUM(D10:L10) -> 51000 | D10: 0 | E10: =SUM('Budsjett avd. 20 turn '!D6) -> 0 | F10: =SUM('Budsjett avd. 30 håndball'!D6) -> 0 | G10: =SUM('Budsjett avd. 40 fotball'!D7) -> 50000 | H10: =SUM('Budsjett avd. 50 areobic'!D6) -> 0 | I10: =SUM('Budsjett avd.60 hallen'!D6) -> 0 | J10: =SUM('Budsjett avd. 70 allidrett'!D6) -> 0 | K10: =SUM('Budsjett avd. 80 sykkel'!D6) -> 1000 | L10: =SUM('Budsjett avd. 90 dans'!D6) -> 0
A11: 3180 | B11: Rabatt og annen salgsinntektsreduksjon - Kickback | C11: =SUM(D11:L11) -> 0 | D11: =SUM('Budsjett avd. 10'!D6) -> 0 | E11: =SUM('Budsjett avd. 20 turn '!D7) -> 0 | F11: =SUM('Budsjett avd. 30 håndball'!D7) -> 0 | G11: =SUM('Budsjett avd. 40 fotball'!D8) -> 0 | H11: =SUM('Budsjett avd. 50 areobic'!D7) -> 0 | I11: =SUM('Budsjett avd.60 hallen'!D7) -> 0 | J11: =SUM('Budsjett avd. 70 allidrett'!D7) -> 0 | K11: =SUM('Budsjett avd. 80 sykkel'!D7) -> 0 | L11: =SUM('Budsjett avd. 90 dans'!D7) -> 0
A12: 3400 | B12: Tilskudd | C12: =SUM(D12:L12) -> 2258800 | D12: =SUM('Budsjett avd. 10'!D7) -> 650000 | E12: =SUM('Budsjett avd. 20 turn '!D8) -> 90000 | F12: =SUM('Budsjett avd. 30 håndball'!D8) -> 35000 | G12: =SUM('Budsjett avd. 40 fotball'!D9) -> 110000 | H12: =SUM('Budsjett avd. 50 areobic'!D8) -> 0 | I12: =SUM('Budsjett avd.60 hallen'!D8) -> 0 | J12: =SUM('Budsjett avd. 70 allidrett'!D8) -> 59800 | K12: =SUM('Budsjett avd. 80 sykkel'!D8) -> 1168000 | L12: =SUM('Budsjett avd. 90 dans'!D8) -> 146000
A13: 3401 | B13: Aktivitetsstøtte (hodestøtte) | C13: =SUM(D13:L13) -> 156200 | D13: =SUM('Budsjett avd. 10'!D8) -> 50000 | E13: =SUM('Budsjett avd. 20 turn '!D9) -> 30000 | F13: =SUM('Budsjett avd. 30 håndball'!D9) -> 7700 | G13: =SUM('Budsjett avd. 40 fotball'!D10) -> 45000 | H13: =SUM('Budsjett avd. 50 areobic'!D9) -> 9000 | I13: =SUM('Budsjett avd.60 hallen'!D9) -> 0 | J13: =SUM('Budsjett avd. 70 allidrett'!D9) -> 2500 | K13: =SUM('Budsjett avd. 80 sykkel'!D9) -> 8000 | L13: =SUM('Budsjett avd. 90 dans'!D9) -> 4000
A14: 3402 | B14: LAM | C14: =SUM(D14:L14) -> 217500 | D14: =SUM('Budsjett avd. 10'!D9) -> 50000 | E14: =SUM('Budsjett avd. 20 turn '!D10) -> 60000 | F14: =SUM('Budsjett avd. 30 håndball'!D10) -> 10000 | G14: =SUM('Budsjett avd. 40 fotball'!D11) -> 85000 | H14: =SUM('Budsjett avd. 50 areobic'!D10) -> 2000 | I14: =SUM('Budsjett avd.60 hallen'!D10) -> 0 | J14: =SUM('Budsjett avd. 70 allidrett'!D10) -> 1500 | K14: =SUM('Budsjett avd. 80 sykkel'!D10) -> 7000 | L14: =SUM('Budsjett avd. 90 dans'!D10) -> 2000
A15: 3403 | B15: Grasrotmidler - Norsk Tipping | C15: =SUM(D15:L15) -> 241000 | D15: =SUM('Budsjett avd. 10'!D10) -> 50000 | E15: =SUM('Budsjett avd. 20 turn '!D11) -> 60000 | F15: =SUM('Budsjett avd. 30 håndball'!D11) -> 15000 | G15: =SUM('Budsjett avd. 40 fotball'!D12) -> 105000 | H15: =SUM('Budsjett avd. 50 areobic'!D11) -> 1000 | I15: =SUM('Budsjett avd.60 hallen'!D11) -> 0 | J15: =SUM('Budsjett avd. 70 allidrett'!D11) -> 1000 | K15: =SUM('Budsjett avd. 80 sykkel'!D11) -> 4000 | L15: =SUM('Budsjett avd. 90 dans'!D11) -> 5000
A16: 3404 | B16: Driftsinntekter BYM | C16: =SUM(D16:L16) -> 180741 | D16: =SUM('Budsjett avd. 10'!D11) -> 180741 | E16: =SUM('Budsjett avd. 20 turn '!D12) -> 0 | F16: =SUM('Budsjett avd. 30 håndball'!D12) -> 0 | G16: =SUM('Budsjett avd. 40 fotball'!D13) -> 0 | H16: =SUM('Budsjett avd. 50 areobic'!D12) -> 0 | I16: =SUM('Budsjett avd.60 hallen'!D12) -> 0 | J16: =SUM('Budsjett avd. 70 allidrett'!D12) -> 0 | K16: =SUM('Budsjett avd. 80 sykkel'!D12) -> 0 | L16: =SUM('Budsjett avd. 90 dans'!D12) -> 0
B17: Annen driftsinntekt | C17: =SUM(D17:L17) -> 0 | D17: =SUM('Budsjett avd. 10'!D12) -> 0 | E17: =SUM('Budsjett avd. 20 turn '!D13) -> 0 | F17: =SUM('Budsjett avd. 30 håndball'!D13) -> 0 | G17: =SUM('Budsjett avd. 40 fotball'!D14) -> 0 | H17: =SUM('Budsjett avd. 50 areobic'!D13) -> 0 | I17: =SUM('Budsjett avd.60 hallen'!D13) -> 0 | J17: =SUM('Budsjett avd. 70 allidrett'!D13) -> 0 | K17: =SUM('Budsjett avd. 80 sykkel'!D13) -> 0 | L17: =SUM('Budsjett avd. 90 dans'!D13) -> 0
A18: 3600 | B18: Leieinntekter (Bymil, hallvakter) | C18: =SUM(D18:L18) -> 155000 | D18: =SUM('Budsjett avd. 10'!D13) -> 25000 | E18: =SUM('Budsjett avd. 20 turn '!D14) -> 45000 | F18: =SUM('Budsjett avd. 30 håndball'!D14) -> 15000 | G18: =SUM('Budsjett avd. 40 fotball'!D15) -> 30000 | H18: =SUM('Budsjett avd. 50 areobic'!D14) -> 0 | I18: =SUM('Budsjett avd.60 hallen'!D14) -> 40000 | J18: =SUM('Budsjett avd. 70 allidrett'!D14) -> 0 | K18: =SUM('Budsjett avd. 80 sykkel'!D14) -> 0 | L18: =SUM('Budsjett avd. 90 dans'!D14) -> 0
A19: 3610 | B19: Leieinntekt andre varige driftsmidler | C19: =SUM(D19:L19) -> 0 | D19: =SUM('Budsjett avd. 10'!D14) -> 0 | E19: =SUM('Budsjett avd. 20 turn '!D15) -> 0 | F19: =SUM('Budsjett avd. 30 håndball'!D15) -> 0 | G19: =SUM('Budsjett avd. 40 fotball'!D16) -> 0 | H19: =SUM('Budsjett avd. 50 areobic'!D15) -> 0 | I19: =SUM('Budsjett avd.60 hallen'!D15) -> 0 | J19: =SUM('Budsjett avd. 70 allidrett'!D15) -> 0 | K19: =SUM('Budsjett avd. 80 sykkel'!D15) -> 0 | L19: =SUM('Budsjett avd. 90 dans'!D15) -> 0
A20: 3620 | B20: Halleie | C20: =SUM(D20:L20) -> 0 | D20: 0 | E20: =SUM('Budsjett avd. 20 turn '!D16) -> 0 | F20: =SUM('Budsjett avd. 30 håndball'!D16) -> 0 | G20: =SUM('Budsjett avd. 40 fotball'!D17) -> 0 | H20: =SUM('Budsjett avd. 50 areobic'!D16) -> 0 | I20: =SUM('Budsjett avd.60 hallen'!D16) -> 0 | J20: =SUM('Budsjett avd. 70 allidrett'!D16) -> 0 | K20: =SUM('Budsjett avd. 80 sykkel'!D16) -> 0 | L20: =SUM('Budsjett avd. 90 dans'!D16) -> 0
A21: 3900 | B21: Annen driftsrelatert inntekt | C21: =SUM(D21:L21) -> 0 | D21: =SUM('Budsjett avd. 10'!D15) -> 0 | E21: =SUM('Budsjett avd. 20 turn '!D17) -> 0 | F21: =SUM('Budsjett avd. 30 håndball'!D17) -> 0 | G21: =SUM('Budsjett avd. 40 fotball'!D18) -> 0 | H21: =SUM('Budsjett avd. 50 areobic'!D17) -> 0 | I21: =SUM('Budsjett avd.60 hallen'!D17) -> 0 | J21: =SUM('Budsjett avd. 70 allidrett'!D17) -> 0 | K21: =SUM('Budsjett avd. 80 sykkel'!D17) -> 0 | L21: =SUM('Budsjett avd. 90 dans'!D17) -> 0
A22: 3920 | B22: Medlemskontingenter | C22: =SUM(D22:L22) -> 60000 | D22: =SUM('Budsjett avd. 10'!D16) -> 60000 | E22: =SUM('Budsjett avd. 20 turn '!D18) -> 0 | F22: =SUM('Budsjett avd. 30 håndball'!D18) -> 0 | G22: =SUM('Budsjett avd. 40 fotball'!D19) -> 0 | H22: =SUM('Budsjett avd. 50 areobic'!D18) -> 0 | I22: =SUM('Budsjett avd.60 hallen'!D18) -> 0 | J22: =SUM('Budsjett avd. 70 allidrett'!D18) -> 0 | K22: =SUM('Budsjett avd. 80 sykkel'!D18) -> 0 | L22: =SUM('Budsjett avd. 90 dans'!D18) -> 0
A23: 3930 | B23: Treningsavgifter | C23: =SUM(D23:L23) -> 765400 | D23: =SUM('Budsjett avd. 10'!D17) -> 0 | E23: =SUM('Budsjett avd. 20 turn '!D19) -> 240000 | F23: =SUM('Budsjett avd. 30 håndball'!D19) -> 65000 | G23: =SUM('Budsjett avd. 40 fotball'!D20) -> 400000 | H23: =SUM('Budsjett avd. 50 areobic'!D19) -> 25000 | I23: =SUM('Budsjett avd.60 hallen'!D19) -> 0 | J23: =SUM('Budsjett avd. 70 allidrett'!D19) -> 5600 | K23: =SUM('Budsjett avd. 80 sykkel'!D19) -> 25000 | L23: =SUM('Budsjett avd. 90 dans'!D19) -> 4800
A24: 3940 | B24: Egenandeler | C24: =SUM(D24:L24) -> 0 | D24: 0 | E24: =SUM('Budsjett avd. 20 turn '!D20) -> 0 | F24: =SUM('Budsjett avd. 30 håndball'!D20) -> 0 | G24: =SUM('Budsjett avd. 40 fotball'!D21) -> 0 | H24: =SUM('Budsjett avd. 50 areobic'!D20) -> 0 | I24: =SUM('Budsjett avd.60 hallen'!D20) -> 0 | J24: =SUM('Budsjett avd. 70 allidrett'!D20) -> 0 | K24: =SUM('Budsjett avd. 80 sykkel'!D20) -> 0 | L24: =SUM('Budsjett avd. 90 dans'!D20) -> 0
A25: 3950 | B25: Dugnadsinntekter | C25: =SUM(D25:L25) -> 13000 | D25: 0 | E25: =SUM('Budsjett avd. 20 turn '!D21) -> 13000 | F25: =SUM('Budsjett avd. 30 håndball'!D21) -> 0 | G25: =SUM('Budsjett avd. 40 fotball'!D22) -> 0 | H25: =SUM('Budsjett avd. 50 areobic'!D21) -> 0 | I25: =SUM('Budsjett avd.60 hallen'!D21) -> 0 | J25: =SUM('Budsjett avd. 70 allidrett'!D21) -> 0 | K25: =SUM('Budsjett avd. 80 sykkel'!D21) -> 0 | L25: =SUM('Budsjett avd. 90 dans'!D21) -> 0
A26: 3960 | B26: Bingo, loddsalg, innsamlinger o.l | C26: =SUM(D26:L26) -> 110500 | D26: =SUM('Budsjett avd. 10'!D18) -> 0 | E26: =SUM('Budsjett avd. 20 turn '!D22) -> 25000 | F26: =SUM('Budsjett avd. 30 håndball'!D22) -> 2500 | G26: =SUM('Budsjett avd. 40 fotball'!D23) -> 75000 | H26: =SUM('Budsjett avd. 50 areobic'!D22) -> 0 | I26: =SUM('Budsjett avd.60 hallen'!D22) -> 0 | J26: =SUM('Budsjett avd. 70 allidrett'!D22) -> 1000 | K26: =SUM('Budsjett avd. 80 sykkel'!D22) -> 7000 | L26: =SUM('Budsjett avd. 90 dans'!D22) -> 0
A27: 3970 | B27: Momskompensasjon | C27: =SUM(D27:L27) -> 304000 | D27: =SUM('Budsjett avd. 10'!D19) -> 100000 | E27: =SUM('Budsjett avd. 20 turn '!D23) -> 50000 | F27: =SUM('Budsjett avd. 30 håndball'!D23) -> 25000 | G27: =SUM('Budsjett avd. 40 fotball'!D24) -> 110000 | H27: =SUM('Budsjett avd. 50 areobic'!D23) -> 0 | I27: =SUM('Budsjett avd.60 hallen'!D23) -> 0 | J27: =SUM('Budsjett avd. 70 allidrett'!D23) -> 1500 | K27: =SUM('Budsjett avd. 80 sykkel'!D23) -> 15000 | L27: =SUM('Budsjett avd. 90 dans'!D23) -> 2500
A28: 3980 | B28: Interne bøter | C28: =SUM(D28:L28) -> 10000 | D28: 0 | E28: =SUM('Budsjett avd. 20 turn '!D24) -> 0 | F28: =SUM('Budsjett avd. 30 håndball'!D24) -> 0 | G28: =SUM('Budsjett avd. 40 fotball'!D25) -> 10000 | H28: =SUM('Budsjett avd. 50 areobic'!D24) -> 0 | I28: =SUM('Budsjett avd.60 hallen'!D24) -> 0 | J28: =SUM('Budsjett avd. 70 allidrett'!D24) -> 0 | K28: =SUM('Budsjett avd. 80 sykkel'!D24) -> 0 | L28: =SUM('Budsjett avd. 90 dans'!D24) -> 0
A29: 3990 | B29: Andre inntekter | C29: =SUM(D29:L29) -> 672000 | D29: =SUM('Budsjett avd. 10'!D20) -> 657000 | E29: =SUM('Budsjett avd. 20 turn '!D25) -> 0 | F29: =SUM('Budsjett avd. 30 håndball'!D25) -> 0 | G29: =SUM('Budsjett avd. 40 fotball'!D26) -> 0 | H29: =SUM('Budsjett avd. 50 areobic'!D25) -> 0 | I29: =SUM('Budsjett avd.60 hallen'!D25) -> 0 | J29: =SUM('Budsjett avd. 70 allidrett'!D25) -> 0 | K29: =SUM('Budsjett avd. 80 sykkel'!D25) -> 15000 | L29: =SUM('Budsjett avd. 90 dans'!D25) -> 0
A30: 3991 | B30: Uidentifiserte inntekter | C30: =SUM(D30:L30) -> 0 | D30: =SUM('Budsjett avd. 10'!D21) -> 0 | E30: =SUM('Budsjett avd. 20 turn '!D26) -> 0 | F30: =SUM('Budsjett avd. 30 håndball'!D26) -> 0 | G30: =SUM('Budsjett avd. 40 fotball'!D27) -> 0 | H30: =SUM('Budsjett avd. 50 areobic'!D26) -> 0 | I30: =SUM('Budsjett avd.60 hallen'!D26) -> 0 | J30: =SUM('Budsjett avd. 70 allidrett'!D26) -> 0 | K30: =SUM('Budsjett avd. 80 sykkel'!D26) -> 0 | L30: =SUM('Budsjett avd. 90 dans'!D26) -> 0
B31: Sum driftsinntekter | C31: =SUM(C7:C30) -> 5478141 | D31: =SUM(D7:D30) -> 1982741 | E31: =SUM(E7:E30) -> 663000 | F31: =SUM(F7:F30) -> 195200 | G31: =SUM(G7:G30) -> 1070000 | H31: =SUM(H7:H30) -> 37000 | I31: =SUM(I7:I30) -> 40000 | J31: =SUM(J7:J30) -> 72900 | ... L31: =SUM(L7:L30) -> 164300
B32: Varekostnad | C32: =SUM(D32:L32) -> 0 | D32: =SUM('Budsjett avd. 10'!D23) -> 0 | E32: =SUM('Budsjett avd. 20 turn '!D28) -> 0 | F32: =SUM('Budsjett avd. 30 håndball'!D28) -> 0 | G32: =SUM('Budsjett avd. 40 fotball'!D29) -> 0 | H32: =SUM('Budsjett avd. 50 areobic'!D28) -> 0 | I32: =SUM('Budsjett avd.60 hallen'!D28) -> 0 | J32: =SUM('Budsjett avd. 70 allidrett'!D28) -> 0 | K32: =SUM('Budsjett avd. 80 sykkel'!D28) -> 0 | L32: =SUM('Budsjett avd. 90 dans'!D28) -> 0
A33: 4300 | B33: Varekostnad, varer for videresalg | C33: =SUM(D33:L33) -> 20000 | D33: =SUM('Budsjett avd. 10'!D24) -> 0 | E33: =SUM('Budsjett avd. 20 turn '!D29) -> 20000 | F33: =SUM('Budsjett avd. 30 håndball'!D29) -> 0 | G33: =SUM('Budsjett avd. 40 fotball'!D30) -> 0 | H33: =SUM('Budsjett avd. 50 areobic'!D29) -> 0 | I33: =SUM('Budsjett avd.60 hallen'!D29) -> 0 | J33: =SUM('Budsjett avd. 70 allidrett'!D29) -> 0 | K33: =SUM('Budsjett avd. 80 sykkel'!D29) -> 0 | L33: =SUM('Budsjett avd. 90 dans'!D29) -> 0
A34: 4315 | B34: Varekostnad, kiosk | C34: =SUM(D34:L34) -> 155000 | D34: =SUM('Budsjett avd. 10'!D25) -> 150000 | E34: =SUM('Budsjett avd. 20 turn '!D30) -> 5000 | F34: =SUM('Budsjett avd. 30 håndball'!D30) -> 0 | G34: =SUM('Budsjett avd. 40 fotball'!D31) -> 0 | H34: =SUM('Budsjett avd. 50 areobic'!D30) -> 0 | I34: =SUM('Budsjett avd.60 hallen'!D30) -> 0 | J34: =SUM('Budsjett avd. 70 allidrett'!D30) -> 0 | K34: =SUM('Budsjett avd. 80 sykkel'!D30) -> 0 | L34: =SUM('Budsjett avd. 90 dans'!D30) -> 0
A35: 4500 | B35: Fremmedytelse og underentreprise | C35: =SUM(D35:L35) -> 0 | D35: =SUM('Budsjett avd. 10'!D26) -> 0 | E35: =SUM('Budsjett avd. 20 turn '!D31) -> 0 | F35: =SUM('Budsjett avd. 30 håndball'!D31) -> 0 | G35: =SUM('Budsjett avd. 40 fotball'!D32) -> 0 | H35: =SUM('Budsjett avd. 50 areobic'!D31) -> 0 | I35: =SUM('Budsjett avd.60 hallen'!D31) -> 0 | J35: =SUM('Budsjett avd. 70 allidrett'!D31) -> 0 | K35: =SUM('Budsjett avd. 80 sykkel'!D31) -> 0 | L35: =SUM('Budsjett avd. 90 dans'!D31) -> 0
A36: 4510 | B36: Tilrettelegging Spond | C36: =SUM(D36:L36) -> 0 | D36: 0 | E36: =SUM('Budsjett avd. 20 turn '!D32) -> 0 | F36: =SUM('Budsjett avd. 30 håndball'!D32) -> 0 | G36: =SUM('Budsjett avd. 40 fotball'!D33) -> 0 | H36: =SUM('Budsjett avd. 50 areobic'!D32) -> 0 | I36: =SUM('Budsjett avd.60 hallen'!D32) -> 0 | J36: =SUM('Budsjett avd. 70 allidrett'!D32) -> 0 | K36: =SUM('Budsjett avd. 80 sykkel'!D32) -> 0 | L36: =SUM('Budsjett avd. 90 dans'!D32) -> 0
B37: Lønnskostnad | C37: =SUM(D37:L37) -> 0 | D37: =SUM('Budsjett avd. 10'!D27) -> 0 | E37: =SUM('Budsjett avd. 20 turn '!D33) -> 0 | F37: =SUM('Budsjett avd. 30 håndball'!D33) -> 0 | G37: =SUM('Budsjett avd. 40 fotball'!D34) -> 0 | H37: =SUM('Budsjett avd. 50 areobic'!D33) -> 0 | I37: =SUM('Budsjett avd.60 hallen'!D33) -> 0 | J37: =SUM('Budsjett avd. 70 allidrett'!D33) -> 0 | K37: =SUM('Budsjett avd. 80 sykkel'!D33) -> 0 | L37: =SUM('Budsjett avd. 90 dans'!D33) -> 0
A38: 5000 | B38: Lønn til ansatte | C38: =SUM(D38:L38) -> 0 | D38: =SUM('Budsjett avd. 10'!D28) -> 0 | E38: =SUM('Budsjett avd. 20 turn '!D34) -> 0 | F38: =SUM('Budsjett avd. 30 håndball'!D34) -> 0 | G38: =SUM('Budsjett avd. 40 fotball'!D35) -> 0 | H38: =SUM('Budsjett avd. 50 areobic'!D34) -> 0 | I38: =SUM('Budsjett avd.60 hallen'!D34) -> 0 | J38: =SUM('Budsjett avd. 70 allidrett'!D34) -> 0 | K38: =SUM('Budsjett avd. 80 sykkel'!D34) -> 0 | L38: =SUM('Budsjett avd. 90 dans'!D34) -> 0
A39: 5014 | B39: Honorar uten AGA (inkl.feriepenger) | C39: =SUM(D39:L39) -> 1529000 | D39: =SUM('Budsjett avd. 10'!D29) -> 280000 | E39: =SUM('Budsjett avd. 20 turn '!D35) -> 367000 | F39: =SUM('Budsjett avd. 30 håndball'!D35) -> 40000 | G39: =SUM('Budsjett avd. 40 fotball'!D36) -> 350000 | H39: =SUM('Budsjett avd. 50 areobic'!D35) -> 38000 | I39: =SUM('Budsjett avd.60 hallen'!D35) -> 0 | J39: =SUM('Budsjett avd. 70 allidrett'!D35) -> 40000 | K39: =SUM('Budsjett avd. 80 sykkel'!D35) -> 318000 | L39: =SUM('Budsjett avd. 90 dans'!D35) -> 96000 | M39: Åpen hall: 3 trenere. Trener 1. og 2 = 250 kr timen = til sammen 90 000 kr , Trener 3= 180 kr timen = til sammen 31500 kr. Sommerinstruktører 50 000 kr
A40: 5015 | B40: Trenerlønn (ikke innberettet) | C40: =SUM(D40:L40) -> 0 | D40: =SUM('Budsjett avd. 10'!D30) -> 0 | E40: =SUM('Budsjett avd. 20 turn '!D36) -> 0 | F40: =SUM('Budsjett avd. 30 håndball'!D36) -> 0 | G40: =SUM('Budsjett avd. 40 fotball'!D37) -> 0 | H40: =SUM('Budsjett avd. 50 areobic'!D36) -> 0 | I40: =SUM('Budsjett avd.60 hallen'!D36) -> 0 | J40: =SUM('Budsjett avd. 70 allidrett'!D36) -> 0 | K40: =SUM('Budsjett avd. 80 sykkel'!D36) -> 0 | L40: =SUM('Budsjett avd. 90 dans'!D36) -> 0
A41: 5092 | B41: Feriepenger | C41: =SUM(D41:L41) -> 0 | D41: =SUM('Budsjett avd. 10'!D31) -> 0 | E41: =SUM('Budsjett avd. 20 turn '!D37) -> 0 | F41: =SUM('Budsjett avd. 30 håndball'!D37) -> 0 | G41: =SUM('Budsjett avd. 40 fotball'!D38) -> 0 | H41: =SUM('Budsjett avd. 50 areobic'!D37) -> 0 | I41: =SUM('Budsjett avd.60 hallen'!D37) -> 0 | J41: =SUM('Budsjett avd. 70 allidrett'!D37) -> 0 | K41: =SUM('Budsjett avd. 80 sykkel'!D37) -> 0 | L41: =SUM('Budsjett avd. 90 dans'!D37) -> 0
A42: 5330 | B42: Godtgjørelse til styret | C42: =SUM(D42:L42) -> 12000 | D42: 0 | E42: =SUM('Budsjett avd. 20 turn '!D38) -> 0 | F42: =SUM('Budsjett avd. 30 håndball'!D38) -> 0 | G42: =SUM('Budsjett avd. 40 fotball'!D39) -> 0 | H42: =SUM('Budsjett avd. 50 areobic'!D38) -> 0 | I42: =SUM('Budsjett avd.60 hallen'!D38) -> 0 | J42: =SUM('Budsjett avd. 70 allidrett'!D38) -> 0 | K42: =SUM('Budsjett avd. 80 sykkel'!D38) -> 0 | L42: =SUM('Budsjett avd. 90 dans'!D38) -> 12000
...
