Workbook

Sheet J-13
A1: Klasse - Jenter 13 år
A2: Utøveren må ha fullført 3 av 5 renn i cupen for å bli premiert.
A3: De 3 beste rennene teller sammenlagt
A4: Lista viser alle som har deltatt i TV - Cup.
A6: Evt. feil sendes til tvsk@skiforbundet.no | D6: Fristil | F6: Klassisk | H6: Sprint Klassisk | J6: Klassisk | L6: Finale Tour | N6: Finale Tour | P6: Renn1 | Q6: Renn2 | R6: Renn3 | S6: Renn4 | U6: Renn5 | V6: Total Poeng | W6: Antall renn
A7: Oppdatert: 12.02.2019 | D7: Oseberg Skilag | F7: Svarstad IL | H7: IL Runar | J7: Høydalsmo IL | L7: Runar | N7: IL Ivrig/Botne SK
D8: 43450 | F8: 43464 | H8: 43499 | J8: 43505 | L8: 42812 | N8: 16.03-17.03.2019
A9: Plass | B9: Navn | C9: Klubb | D9: Plass | E9: Poeng | F9: Plass | G9: Poeng | H9: Plass | I9: Poeng | J9: Plass | K9: Poeng | L9: Plass | M9: Poeng | N9: Plass | O9: Poeng
A10: 1 | B10: Maren Sofie Fremstad | C10: Nanset IF | D10: 0 | E10: =IF(D10>0,VLOOKUP(D10,Poengskala!$B$4:$C$34,2,TRUE),0) -> 0 | F10: 1 | G10: =IF(F10>0,VLOOKUP(F10,Poengskala!$B$4:$C$34,2,TRUE),0) -> 100 | I10: =IF(H10>0,VLOOKUP(H10,Poengskala!$B$4:$C$34,2,TRUE),0) -> 0 | J10: 1 | K10: =IF(J10>0,VLOOKUP(J10,Poengskala!$B$4:$C$34,2,TRUE),0) -> 100 | M10: =IF(L10>0,VLOOKUP(L10,Poengskala!$B$4:$C$34,2,TRUE),0) -> 0 | N10: 1 | O10: =IF(N10>0,VLOOKUP(N10,Poengskala!$B$4:$D$34,3,TRUE),0) -> 150 | P10: =E10 -> 0 | Q10: =G10 -> 100 | R10: =I10 -> 0 | S10: =K10 -> 100 | T10: =M10 -> 0 | U10: =O10 -> 150 | V10: =MAX(LARGE(P10:U10,1)+LARGE(P10:U10,2)+LARGE(P10:U10,3),0) -> 350 | W10: =COUNTIF(P10:U10,">0") -> 3
A11: 2 | B11: Heidi Hovde Løndal | C11: Gransherad IL | D11: 2 | E11: =IF(D11>0,VLOOKUP(D11,Poengskala!$B$4:$C$34,2,TRUE),0) -> 90 | F11: 4 | G11: =IF(F11>0,VLOOKUP(F11,Poengskala!$B$4:$C$34,2,TRUE),0) -> 75 | H11: 1 | I11: =IF(H11>0,VLOOKUP(H11,Poengskala!$B$4:$C$34,2,TRUE),0) -> 100 | J11: 2 | K11: =IF(J11>0,VLOOKUP(J11,Poengskala!$B$4:$C$34,2,TRUE),0) -> 90 | M11: =IF(L11>0,VLOOKUP(L11,Poengskala!$B$4:$C$34,2,TRUE),0) -> 0 | N11: 2 | O11: =IF(N11>0,VLOOKUP(N11,Poengskala!$B$4:$D$34,3,TRUE),0) -> 135 | P11: =E11 -> 90 | Q11: =G11 -> 75 | R11: =I11 -> 100 | S11: =K11 -> 90 | T11: =M11 -> 0 | U11: =O11 -> 135 | V11: =MAX(LARGE(P11:U11,1)+LARGE(P11:U11,2)+LARGE(P11:U11,3),0) -> 325 | W11: =COUNTIF(P11:U11,">0") -> 5
A12: 3 | B12: Tuva Svindland | C12: Oseberg Skilag | D12: 1 | E12: =IF(D12>0,VLOOKUP(D12,Poengskala!$B$4:$C$34,2,TRUE),0) -> 100 | G12: =IF(F12>0,VLOOKUP(F12,Poengskala!$B$4:$C$34,2,TRUE),0) -> 0 | H12: 2 | I12: =IF(H12>0,VLOOKUP(H12,Poengskala!$B$4:$C$34,2,TRUE),0) -> 90 | K12: =IF(J12>0,VLOOKUP(J12,Poengskala!$B$4:$C$34,2,TRUE),0) -> 0 | M12: =IF(L12>0,VLOOKUP(L12,Poengskala!$B$4:$C$34,2,TRUE),0) -> 0 | N12: 4 | O12: =IF(N12>0,VLOOKUP(N12,Poengskala!$B$4:$D$34,3,TRUE),0) -> 112.5 | P12: =E12 -> 100 | Q12: =G12 -> 0 | R12: =I12 -> 90 | S12: =K12 -> 0 | T12: =M12 -> 0 | U12: =O12 -> 112.5 | V12: =MAX(LARGE(P12:U12,1)+LARGE(P12:U12,2)+LARGE(P12:U12,3),0) -> 302.5 | W12: =COUNTIF(P12:U12,">0") -> 3
A13: 4 | B13: Mille Tomine Polland Lekman | C13: Stathelle og Omegn | D13: 0 | E13: =IF(D13>0,VLOOKUP(D13,Poengskala!$B$4:$C$34,2,TRUE),0) -> 0 | F13: 2 | G13: =IF(F13>0,VLOOKUP(F13,Poengskala!$B$4:$C$34,2,TRUE),0) -> 90 | H13: 3 | I13: =IF(H13>0,VLOOKUP(H13,Poengskala!$B$4:$C$34,2,TRUE),0) -> 82 | J13: 3 | K13: =IF(J13>0,VLOOKUP(J13,Poengskala!$B$4:$C$34,2,TRUE),0) -> 82 | M13: =IF(L13>0,VLOOKUP(L13,Poengskala!$B$4:$C$34,2,TRUE),0) -> 0 | N13: 3 | O13: =IF(N13>0,VLOOKUP(N13,Poengskala!$B$4:$D$34,3,TRUE),0) -> 123 | P13: =E13 -> 0 | Q13: =G13 -> 90 | R13: =I13 -> 82 | S13: =K13 -> 82 | T13: =M13 -> 0 | U13: =O13 -> 123 | V13: =MAX(LARGE(P13:U13,1)+LARGE(P13:U13,2)+LARGE(P13:U13,3),0) -> 295 | W13: =COUNTIF(P13:U13,">0") -> 4
A14: 5 | B14: Emma Kvendbø Johansen | C14: Andebu IL | D14: 4 | E14: =IF(D14>0,VLOOKUP(D14,Poengskala!$B$4:$C$34,2,TRUE),0) -> 75 | G14: =IF(F14>0,VLOOKUP(F14,Poengskala!$B$4:$C$34,2,TRUE),0) -> 0 | H14: 5 | I14: =IF(H14>0,VLOOKUP(H14,Poengskala!$B$4:$C$34,2,TRUE),0) -> 70 | J14: 4 | K14: =IF(J14>0,VLOOKUP(J14,Poengskala!$B$4:$C$34,2,TRUE),0) -> 75 | M14: =IF(L14>0,VLOOKUP(L14,Poengskala!$B$4:$C$34,2,TRUE),0) -> 0 | N14: 5 | O14: =IF(N14>0,VLOOKUP(N14,Poengskala!$B$4:$D$34,3,TRUE),0) -> 105 | P14: =E14 -> 75 | Q14: =G14 -> 0 | R14: =I14 -> 70 | S14: =K14 -> 75 | T14: =M14 -> 0 | U14: =O14 -> 105 | V14: =MAX(LARGE(P14:U14,1)+LARGE(P14:U14,2)+LARGE(P14:U14,3),0) -> 255 | W14: =COUNTIF(P14:U14,">0") -> 4
A15: 6 | B15: Thea Tveitan Aaland | C15: IL Ivrig | D15: 3 | E15: =IF(D15>0,VLOOKUP(D15,Poengskala!$B$4:$C$34,2,TRUE),0) -> 82 | F15: 5 | G15: =IF(F15>0,VLOOKUP(F15,Poengskala!$B$4:$C$34,2,TRUE),0) -> 70 | H15: 6 | I15: =IF(H15>0,VLOOKUP(H15,Poengskala!$B$4:$C$34,2,TRUE),0) -> 66 | K15: =IF(J15>0,VLOOKUP(J15,Poengskala!$B$4:$C$34,2,TRUE),0) -> 0 | M15: =IF(L15>0,VLOOKUP(L15,Poengskala!$B$4:$C$34,2,TRUE),0) -> 0 | N15: 6 | O15: =IF(N15>0,VLOOKUP(N15,Poengskala!$B$4:$D$34,3,TRUE),0) -> 99 | P15: =E15 -> 82 | Q15: =G15 -> 70 | R15: =I15 -> 66 | S15: =K15 -> 0 | T15: =M15 -> 0 | U15: =O15 -> 99 | V15: =MAX(LARGE(P15:U15,1)+LARGE(P15:U15,2)+LARGE(P15:U15,3),0) -> 251 | W15: =COUNTIF(P15:U15,">0") -> 4
A16: 7 | B16: Mari Oksfjell Onsøien | C16: Larvik ski | D16: 6 | E16: =IF(D16>0,VLOOKUP(D16,Poengskala!$B$4:$C$34,2,TRUE),0) -> 66 | F16: 7 | G16: =IF(F16>0,VLOOKUP(F16,Poengskala!$B$4:$C$34,2,TRUE),0) -> 62 | H16: 9 | I16: =IF(H16>0,VLOOKUP(H16,Poengskala!$B$4:$C$34,2,TRUE),0) -> 55 | K16: =IF(J16>0,VLOOKUP(J16,Poengskala!$B$4:$C$34,2,TRUE),0) -> 0 | M16: =IF(L16>0,VLOOKUP(L16,Poengskala!$B$4:$C$34,2,TRUE),0) -> 0 | O16: =IF(N16>0,VLOOKUP(N16,Poengskala!$B$4:$D$34,3,TRUE),0) -> 0 | P16: =E16 -> 66 | Q16: =G16 -> 62 | R16: =I16 -> 55 | S16: =K16 -> 0 | T16: =M16 -> 0 | U16: =O16 -> 0 | V16: =MAX(LARGE(P16:U16,1)+LARGE(P16:U16,2)+LARGE(P16:U16,3),0) -> 183 | W16: =COUNTIF(P16:U16,">0") -> 3
A17: 8 | B17: Gjertrud Oksfjell Onsøien | C17: Larvik Ski | D17: 7 | E17: =IF(D17>0,VLOOKUP(D17,Poengskala!$B$4:$C$34,2,TRUE),0) -> 62 | F17: 8 | G17: =IF(F17>0,VLOOKUP(F17,Poengskala!$B$4:$C$34,2,TRUE),0) -> 58 | H17: 8 | I17: =IF(H17>0,VLOOKUP(H17,Poengskala!$B$4:$C$34,2,TRUE),0) -> 58 | K17: =IF(J17>0,VLOOKUP(J17,Poengskala!$B$4:$C$34,2,TRUE),0) -> 0 | M17: =IF(L17>0,VLOOKUP(L17,Poengskala!$B$4:$C$34,2,TRUE),0) -> 0 | O17: =IF(N17>0,VLOOKUP(N17,Poengskala!$B$4:$D$34,3,TRUE),0) -> 0 | P17: =E17 -> 62 | Q17: =G17 -> 58 | R17: =I17 -> 58 | S17: =K17 -> 0 | T17: =M17 -> 0 | U17: =O17 -> 0 | V17: =MAX(LARGE(P17:U17,1)+LARGE(P17:U17,2)+LARGE(P17:U17,3),0) -> 178 | W17: =COUNTIF(P17:U17,">0") -> 3
A18: 9 | B18: Camilla Vataker Liverød | C18: Andebu IL | D18: 0 | E18: =IF(D18>0,VLOOKUP(D18,Poengskala!$B$4:$C$34,2,TRUE),0) -> 0 | F18: 3 | G18: =IF(F18>0,VLOOKUP(F18,Poengskala!$B$4:$C$34,2,TRUE),0) -> 82 | H18: 4 | I18: =IF(H18>0,VLOOKUP(H18,Poengskala!$B$4:$C$34,2,TRUE),0) -> 75 | K18: =IF(J18>0,VLOOKUP(J18,Poengskala!$B$4:$C$34,2,TRUE),0) -> 0 | M18: =IF(L18>0,VLOOKUP(L18,Poengskala!$B$4:$C$34,2,TRUE),0) -> 0 | O18: =IF(N18>0,VLOOKUP(N18,Poengskala!$B$4:$D$34,3,TRUE),0) -> 0 | P18: =E18 -> 0 | Q18: =G18 -> 82 | R18: =I18 -> 75 | S18: =K18 -> 0 | T18: =M18 -> 0 | U18: =O18 -> 0 | V18: =MAX(LARGE(P18:U18,1)+LARGE(P18:U18,2)+LARGE(P18:U18,3),0) -> 157 | W18: =COUNTIF(P18:U18,">0") -> 2
A19: 10 | B19: Aasa Kjosavik | C19: IL Runar | D19: 0 | E19: =IF(D19>0,VLOOKUP(D19,Poengskala!$B$4:$C$34,2,TRUE),0) -> 0 | G19: =IF(F19>0,VLOOKUP(F19,Poengskala!$B$4:$C$34,2,TRUE),0) -> 0 | H19: 11 | I19: =IF(H19>0,VLOOKUP(H19,Poengskala!$B$4:$C$34,2,TRUE),0) -> 49 | K19: =IF(J19>0,VLOOKUP(J19,Poengskala!$B$4:$C$34,2,TRUE),0) -> 0 | M19: =IF(L19>0,VLOOKUP(L19,Poengskala!$B$4:$C$34,2,TRUE),0) -> 0 | N19: 7 | O19: =IF(N19>0,VLOOKUP(N19,Poengskala!$B$4:$D$34,3,TRUE),0) -> 93 | P19: =E19 -> 0 | Q19: =G19 -> 0 | R19: =I19 -> 49 | S19: =K19 -> 0 | T19: =M19 -> 0 | U19: =O19 -> 93 | V19: =MAX(LARGE(P19:U19,1)+LARGE(P19:U19,2)+LARGE(P19:U19,3),0) -> 142 | W19: =COUNTIF(P19:U19,">0") -> 2
A20: 11 | B20: Jenny Elise Carlsen | C20: IL Runar | D20: 0 | E20: =IF(D20>0,VLOOKUP(D20,Poengskala!$B$4:$C$34,2,TRUE),0) -> 0 | G20: =IF(F20>0,VLOOKUP(F20,Poengskala!$B$4:$C$34,2,TRUE),0) -> 0 | H20: 10 | I20: =IF(H20>0,VLOOKUP(H20,Poengskala!$B$4:$C$34,2,TRUE),0) -> 52 | K20: =IF(J20>0,VLOOKUP(J20,Poengskala!$B$4:$C$34,2,TRUE),0) -> 0 | M20: =IF(L20>0,VLOOKUP(L20,Poengskala!$B$4:$C$34,2,TRUE),0) -> 0 | N20: 8 | O20: =IF(N20>0,VLOOKUP(N20,Poengskala!$B$4:$D$34,3,TRUE),0) -> 87 | P20: =E20 -> 0 | Q20: =G20 -> 0 | R20: =I20 -> 52 | S20: =K20 -> 0 | T20: =M20 -> 0 | U20: =O20 -> 87 | V20: =MAX(LARGE(P20:U20,1)+LARGE(P20:U20,2)+LARGE(P20:U20,3),0) -> 139 | W20: =COUNTIF(P20:U20,">0") -> 2
A21: 12 | B21: Vilde Aakre Leistad | C21: Gulset IF | D21: 5 | E21: =IF(D21>0,VLOOKUP(D21,Poengskala!$B$4:$C$34,2,TRUE),0) -> 70 | F21: 6 | G21: =IF(F21>0,VLOOKUP(F21,Poengskala!$B$4:$C$34,2,TRUE),0) -> 66 | I21: =IF(H21>0,VLOOKUP(H21,Poengskala!$B$4:$C$34,2,TRUE),0) -> 0 | K21: =IF(J21>0,VLOOKUP(J21,Poengskala!$B$4:$C$34,2,TRUE),0) -> 0 | M21: =IF(L21>0,VLOOKUP(L21,Poengskala!$B$4:$C$34,2,TRUE),0) -> 0 | O21: =IF(N21>0,VLOOKUP(N21,Poengskala!$B$4:$D$34,3,TRUE),0) -> 0 | P21: =E21 -> 70 | Q21: =G21 -> 66 | R21: =I21 -> 0 | S21: =K21 -> 0 | T21: =M21 -> 0 | U21: =O21 -> 0 | V21: =MAX(LARGE(P21:U21,1)+LARGE(P21:U21,2)+LARGE(P21:U21,3),0) -> 136 | W21: =COUNTIF(P21:U21,">0") -> 2
A22: 13 | B22: Alette Stavnum | C22: Stokke IL | D22: 8 | E22: =IF(D22>0,VLOOKUP(D22,Poengskala!$B$4:$C$34,2,TRUE),0) -> 58 | G22: =IF(F22>0,VLOOKUP(F22,Poengskala!$B$4:$C$34,2,TRUE),0) -> 0 | H22: 12 | I22: =IF(H22>0,VLOOKUP(H22,Poengskala!$B$4:$C$34,2,TRUE),0) -> 46 | K22: =IF(J22>0,VLOOKUP(J22,Poengskala!$B$4:$C$34,2,TRUE),0) -> 0 | M22: =IF(L22>0,VLOOKUP(L22,Poengskala!$B$4:$C$34,2,TRUE),0) -> 0 | O22: =IF(N22>0,VLOOKUP(N22,Poengskala!$B$4:$D$34,3,TRUE),0) -> 0 | P22: =E22 -> 58 | Q22: =G22 -> 0 | R22: =I22 -> 46 | S22: =K22 -> 0 | T22: =M22 -> 0 | U22: =O22 -> 0 | V22: =MAX(LARGE(P22:U22,1)+LARGE(P22:U22,2)+LARGE(P22:U22,3),0) -> 104 | W22: =COUNTIF(P22:U22,">0") -> 2
A23: 14 | B23: Johanne Berven Agard | C23: Berger IL | D23: 0 | E23: =IF(D23>0,VLOOKUP(D23,Poengskala!$B$4:$C$34,2,TRUE),0) -> 0 | G23: =IF(F23>0,VLOOKUP(F23,Poengskala!$B$4:$C$34,2,TRUE),0) -> 0 | H23: 7 | I23: =IF(H23>0,VLOOKUP(H23,Poengskala!$B$4:$C$34,2,TRUE),0) -> 62 | K23: =IF(J23>0,VLOOKUP(J23,Poengskala!$B$4:$C$34,2,TRUE),0) -> 0 | M23: =IF(L23>0,VLOOKUP(L23,Poengskala!$B$4:$C$34,2,TRUE),0) -> 0 | O23: =IF(N23>0,VLOOKUP(N23,Poengskala!$B$4:$D$34,3,TRUE),0) -> 0 | P23: =E23 -> 0 | Q23: =G23 -> 0 | R23: =I23 -> 62 | S23: =K23 -> 0 | T23: =M23 -> 0 | U23: =O23 -> 0 | V23: =MAX(LARGE(P23:U23,1)+LARGE(P23:U23,2)+LARGE(P23:U23,3),0) -> 62 | W23: =COUNTIF(P23:U23,">0") -> 1
A24: 15 | B24: Malene Schøne Tallakstad | C24: Kvelde IL | D24: 0 | E24: =IF(D24>0,VLOOKUP(D24,Poengskala!$B$4:$C$34,2,TRUE),0) -> 0 | F24: 9 | G24: =IF(F24>0,VLOOKUP(F24,Poengskala!$B$4:$C$34,2,TRUE),0) -> 55 | I24: =IF(H24>0,VLOOKUP(H24,Poengskala!$B$4:$C$34,2,TRUE),0) -> 0 | K24: =IF(J24>0,VLOOKUP(J24,Poengskala!$B$4:$C$34,2,TRUE),0) -> 0 | M24: =IF(L24>0,VLOOKUP(L24,Poengskala!$B$4:$C$34,2,TRUE),0) -> 0 | O24: =IF(N24>0,VLOOKUP(N24,Poengskala!$B$4:$D$34,3,TRUE),0) -> 0 | P24: =E24 -> 0 | Q24: =G24 -> 55 | R24: =I24 -> 0 | S24: =K24 -> 0 | T24: =M24 -> 0 | U24: =O24 -> 0 | V24: =MAX(LARGE(P24:U24,1)+LARGE(P24:U24,2)+LARGE(P24:U24,3),0) -> 55 | W24: =COUNTIF(P24:U24,">0") -> 1
D25: 0 | E25: =IF(D25>0,VLOOKUP(D25,Poengskala!$B$4:$C$34,2,TRUE),0) -> 0 | G25: =IF(F25>0,VLOOKUP(F25,Poengskala!$B$4:$C$34,2,TRUE),0) -> 0 | I25: =IF(H25>0,VLOOKUP(H25,Poengskala!$B$4:$C$34,2,TRUE),0) -> 0 | K25: =IF(J25>0,VLOOKUP(J25,Poengskala!$B$4:$C$34,2,TRUE),0) -> 0 | M25: =IF(L25>0,VLOOKUP(L25,Poengskala!$B$4:$C$34,2,TRUE),0) -> 0 | O25: =IF(N25>0,VLOOKUP(N25,Poengskala!$B$4:$D$34,3,TRUE),0) -> 0 | P25: =E25 -> 0 | Q25: =G25 -> 0 | R25: =I25 -> 0 | S25: =K25 -> 0 | T25: =M25 -> 0 | U25: =O25 -> 0 | V25: =MAX(LARGE(P25:U25,1)+LARGE(P25:U25,2)+LARGE(P25:U25,3),0) -> 0 | W25: =COUNTIF(P25:U25,">0") -> 0
D26: 0 | E26: =IF(D26>0,VLOOKUP(D26,Poengskala!$B$4:$C$34,2,TRUE),0) -> 0 | G26: =IF(F26>0,VLOOKUP(F26,Poengskala!$B$4:$C$34,2,TRUE),0) -> 0 | I26: =IF(H26>0,VLOOKUP(H26,Poengskala!$B$4:$C$34,2,TRUE),0) -> 0 | K26: =IF(J26>0,VLOOKUP(J26,Poengskala!$B$4:$C$34,2,TRUE),0) -> 0 | M26: =IF(L26>0,VLOOKUP(L26,Poengskala!$B$4:$C$34,2,TRUE),0) -> 0 | O26: =IF(N26>0,VLOOKUP(N26,Poengskala!$B$4:$D$34,3,TRUE),0) -> 0 | P26: =E26 -> 0 | Q26: =G26 -> 0 | R26: =I26 -> 0 | S26: =K26 -> 0 | T26: =M26 -> 0 | U26: =O26 -> 0 | V26: =MAX(LARGE(P26:U26,1)+LARGE(P26:U26,2)+LARGE(P26:U26,3),0) -> 0 | W26: =COUNTIF(P26:U26,">0") -> 0
D27: 0 | E27: =IF(D27>0,VLOOKUP(D27,Poengskala!$B$4:$C$34,2,TRUE),0) -> 0 | G27: =IF(F27>0,VLOOKUP(F27,Poengskala!$B$4:$C$34,2,TRUE),0) -> 0 | I27: =IF(H27>0,VLOOKUP(H27,Poengskala!$B$4:$C$34,2,TRUE),0) -> 0 | K27: =IF(J27>0,VLOOKUP(J27,Poengskala!$B$4:$C$34,2,TRUE),0) -> 0 | M27: =IF(L27>0,VLOOKUP(L27,Poengskala!$B$4:$C$34,2,TRUE),0) -> 0 | O27: =IF(N27>0,VLOOKUP(N27,Poengskala!$B$4:$D$34,3,TRUE),0) -> 0 | P27: =E27 -> 0 | Q27: =G27 -> 0 | R27: =I27 -> 0 | S27: =K27 -> 0 | T27: =M27 -> 0 | U27: =O27 -> 0 | V27: =MAX(LARGE(P27:U27,1)+LARGE(P27:U27,2)+LARGE(P27:U27,3),0) -> 0 | W27: =COUNTIF(P27:U27,">0") -> 0
D28: 0 | E28: =IF(D28>0,VLOOKUP(D28,Poengskala!$B$4:$C$34,2,TRUE),0) -> 0 | G28: =IF(F28>0,VLOOKUP(F28,Poengskala!$B$4:$C$34,2,TRUE),0) -> 0 | I28: =IF(H28>0,VLOOKUP(H28,Poengskala!$B$4:$C$34,2,TRUE),0) -> 0 | K28: =IF(J28>0,VLOOKUP(J28,Poengskala!$B$4:$C$34,2,TRUE),0) -> 0 | M28: =IF(L28>0,VLOOKUP(L28,Poengskala!$B$4:$C$34,2,TRUE),0) -> 0 | O28: =IF(N28>0,VLOOKUP(N28,Poengskala!$B$4:$D$34,3,TRUE),0) -> 0 | P28: =E28 -> 0 | Q28: =G28 -> 0 | R28: =I28 -> 0 | S28: =K28 -> 0 | T28: =M28 -> 0 | U28: =O28 -> 0 | V28: =MAX(LARGE(P28:U28,1)+LARGE(P28:U28,2)+LARGE(P28:U28,3),0) -> 0 | W28: =COUNTIF(P28:U28,">0") -> 0
D29: 0 | E29: =IF(D29>0,VLOOKUP(D29,Poengskala!$B$4:$C$34,2,TRUE),0) -> 0 | G29: =IF(F29>0,VLOOKUP(F29,Poengskala!$B$4:$C$34,2,TRUE),0) -> 0 | I29: =IF(H29>0,VLOOKUP(H29,Poengskala!$B$4:$C$34,2,TRUE),0) -> 0 | K29: =IF(J29>0,VLOOKUP(J29,Poengskala!$B$4:$C$34,2,TRUE),0) -> 0 | M29: =IF(L29>0,VLOOKUP(L29,Poengskala!$B$4:$C$34,2,TRUE),0) -> 0 | O29: =IF(N29>0,VLOOKUP(N29,Poengskala!$B$4:$D$34,3,TRUE),0) -> 0 | P29: =E29 -> 0 | Q29: =G29 -> 0 | R29: =I29 -> 0 | S29: =K29 -> 0 | T29: =M29 -> 0 | U29: =O29 -> 0 | V29: =MAX(LARGE(P29:U29,1)+LARGE(P29:U29,2)+LARGE(P29:U29,3),0) -> 0 | W29: =COUNTIF(P29:U29,">0") -> 0
D30: 0 | E30: =IF(D30>0,VLOOKUP(D30,Poengskala!$B$4:$C$34,2,TRUE),0) -> 0 | G30: =IF(F30>0,VLOOKUP(F30,Poengskala!$B$4:$C$34,2,TRUE),0) -> 0 | I30: =IF(H30>0,VLOOKUP(H30,Poengskala!$B$4:$C$34,2,TRUE),0) -> 0 | K30: =IF(J30>0,VLOOKUP(J30,Poengskala!$B$4:$C$34,2,TRUE),0) -> 0 | M30: =IF(L30>0,VLOOKUP(L30,Poengskala!$B$4:$C$34,2,TRUE),0) -> 0 | O30: =IF(N30>0,VLOOKUP(N30,Poengskala!$B$4:$D$34,3,TRUE),0) -> 0 | P30: =E30 -> 0 | Q30: =G30 -> 0 | R30: =I30 -> 0 | S30: =K30 -> 0 | T30: =M30 -> 0 | U30: =O30 -> 0 | V30: =MAX(LARGE(P30:U30,1)+LARGE(P30:U30,2)+LARGE(P30:U30,3),0) -> 0 | W30: =COUNTIF(P30:U30,">0") -> 0
D31: 0 | E31: =IF(D31>0,VLOOKUP(D31,Poengskala!$B$4:$C$34,2,TRUE),0) -> 0 | G31: =IF(F31>0,VLOOKUP(F31,Poengskala!$B$4:$C$34,2,TRUE),0) -> 0 | I31: =IF(H31>0,VLOOKUP(H31,Poengskala!$B$4:$C$34,2,TRUE),0) -> 0 | K31: =IF(J31>0,VLOOKUP(J31,Poengskala!$B$4:$C$34,2,TRUE),0) -> 0 | M31: =IF(L31>0,VLOOKUP(L31,Poengskala!$B$4:$C$34,2,TRUE),0) -> 0 | O31: =IF(N31>0,VLOOKUP(N31,Poengskala!$B$4:$D$34,3,TRUE),0) -> 0 | P31: =E31 -> 0 | Q31: =G31 -> 0 | R31: =I31 -> 0 | S31: =K31 -> 0 | T31: =M31 -> 0 | U31: =O31 -> 0 | V31: =MAX(LARGE(P31:U31,1)+LARGE(P31:U31,2)+LARGE(P31:U31,3),0) -> 0 | W31: =COUNTIF(P31:U31,">0") -> 0
D32: 0 | E32: =IF(D32>0,VLOOKUP(D32,Poengskala!$B$4:$C$34,2,TRUE),0) -> 0 | G32: =IF(F32>0,VLOOKUP(F32,Poengskala!$B$4:$C$34,2,TRUE),0) -> 0 | I32: =IF(H32>0,VLOOKUP(H32,Poengskala!$B$4:$C$34,2,TRUE),0) -> 0 | K32: =IF(J32>0,VLOOKUP(J32,Poengskala!$B$4:$C$34,2,TRUE),0) -> 0 | M32: =IF(L32>0,VLOOKUP(L32,Poengskala!$B$4:$C$34,2,TRUE),0) -> 0 | O32: =IF(N32>0,VLOOKUP(N32,Poengskala!$B$4:$D$34,3,TRUE),0) -> 0 | P32: =E32 -> 0 | Q32: =G32 -> 0 | R32: =I32 -> 0 | S32: =K32 -> 0 | T32: =M32 -> 0 | U32: =O32 -> 0 | V32: =MAX(LARGE(P32:U32,1)+LARGE(P32:U32,2)+LARGE(P32:U32,3),0) -> 0 | W32: =COUNTIF(P32:U32,">0") -> 0
D33: 0 | E33: =IF(D33>0,VLOOKUP(D33,Poengskala!$B$4:$C$34,2,TRUE),0) -> 0 | G33: =IF(F33>0,VLOOKUP(F33,Poengskala!$B$4:$C$34,2,TRUE),0) -> 0 | I33: =IF(H33>0,VLOOKUP(H33,Poengskala!$B$4:$C$34,2,TRUE),0) -> 0 | K33: =IF(J33>0,VLOOKUP(J33,Poengskala!$B$4:$C$34,2,TRUE),0) -> 0 | M33: =IF(L33>0,VLOOKUP(L33,Poengskala!$B$4:$C$34,2,TRUE),0) -> 0 | O33: =IF(N33>0,VLOOKUP(N33,Poengskala!$B$4:$D$34,3,TRUE),0) -> 0 | P33: =E33 -> 0 | Q33: =G33 -> 0 | R33: =I33 -> 0 | S33: =K33 -> 0 | T33: =M33 -> 0 | U33: =O33 -> 0 | V33: =MAX(LARGE(P33:U33,1)+LARGE(P33:U33,2)+LARGE(P33:U33,3),0) -> 0 | W33: =COUNTIF(P33:U33,">0") -> 0
D34: 0 | E34: =IF(D34>0,VLOOKUP(D34,Poengskala!$B$4:$C$34,2,TRUE),0) -> 0 | G34: =IF(F34>0,VLOOKUP(F34,Poengskala!$B$4:$C$34,2,TRUE),0) -> 0 | I34: =IF(H34>0,VLOOKUP(H34,Poengskala!$B$4:$C$34,2,TRUE),0) -> 0 | K34: =IF(J34>0,VLOOKUP(J34,Poengskala!$B$4:$C$34,2,TRUE),0) -> 0 | M34: =IF(L34>0,VLOOKUP(L34,Poengskala!$B$4:$C$34,2,TRUE),0) -> 0 | O34: =IF(N34>0,VLOOKUP(N34,Poengskala!$B$4:$D$34,3,TRUE),0) -> 0 | P34: =E34 -> 0 | Q34: =G34 -> 0 | R34: =I34 -> 0 | S34: =K34 -> 0 | T34: =M34 -> 0 | U34: =O34 -> 0 | V34: =MAX(LARGE(P34:U34,1)+LARGE(P34:U34,2)+LARGE(P34:U34,3),0) -> 0 | W34: =COUNTIF(P34:U34,">0") -> 0
D35: 0 | E35: =IF(D35>0,VLOOKUP(D35,Poengskala!$B$4:$C$34,2,TRUE),0) -> 0 | G35: =IF(F35>0,VLOOKUP(F35,Poengskala!$B$4:$C$34,2,TRUE),0) -> 0 | I35: =IF(H35>0,VLOOKUP(H35,Poengskala!$B$4:$C$34,2,TRUE),0) -> 0 | K35: =IF(J35>0,VLOOKUP(J35,Poengskala!$B$4:$C$34,2,TRUE),0) -> 0 | M35: =IF(L35>0,VLOOKUP(L35,Poengskala!$B$4:$C$34,2,TRUE),0) -> 0 | O35: =IF(N35>0,VLOOKUP(N35,Poengskala!$B$4:$D$34,3,TRUE),0) -> 0 | P35: =E35 -> 0 | Q35: =G35 -> 0 | R35: =I35 -> 0 | S35: =K35 -> 0 | T35: =M35 -> 0 | U35: =O35 -> 0 | V35: =MAX(LARGE(P35:U35,1)+LARGE(P35:U35,2)+LARGE(P35:U35,3),0) -> 0 | W35: =COUNTIF(P35:U35,">0") -> 0
D36: 0 | E36: =IF(D36>0,VLOOKUP(D36,Poengskala!$B$4:$C$34,2,TRUE),0) -> 0 | G36: =IF(F36>0,VLOOKUP(F36,Poengskala!$B$4:$C$34,2,TRUE),0) -> 0 | I36: =IF(H36>0,VLOOKUP(H36,Poengskala!$B$4:$C$34,2,TRUE),0) -> 0 | K36: =IF(J36>0,VLOOKUP(J36,Poengskala!$B$4:$C$34,2,TRUE),0) -> 0 | M36: =IF(L36>0,VLOOKUP(L36,Poengskala!$B$4:$C$34,2,TRUE),0) -> 0 | O36: =IF(N36>0,VLOOKUP(N36,Poengskala!$B$4:$D$34,3,TRUE),0) -> 0 | P36: =E36 -> 0 | Q36: =G36 -> 0 | R36: =I36 -> 0 | S36: =K36 -> 0 | T36: =M36 -> 0 | U36: =O36 -> 0 | V36: =MAX(LARGE(P36:U36,1)+LARGE(P36:U36,2)+LARGE(P36:U36,3),0) -> 0 | W36: =COUNTIF(P36:U36,">0") -> 0
... D45: 0 | E45: =IF(D45>0,VLOOKUP(D45,Poengskala!$B$4:$C$34,2,TRUE),0) -> 0 | G45: =IF(F45>0,VLOOKUP(F45,Poengskala!$B$4:$C$34,2,TRUE),0) -> 0 | I45: =IF(H45>0,VLOOKUP(H45,Poengskala!$B$4:$C$34,2,TRUE),0) -> 0 | K45: =IF(J45>0,VLOOKUP(J45,Poengskala!$B$4:$C$34,2,TRUE),0) -> 0 | M45: =IF(L45>0,VLOOKUP(L45,Poengskala!$B$4:$C$34,2,TRUE),0) -> 0 | O45: =IF(N45>0,VLOOKUP(N45,Poengskala!$B$4:$D$34,3,TRUE),0) -> 0 | P45: =E45 -> 0 | Q45: =G45 -> 0 | R45: =I45 -> 0 | S45: =K45 -> 0 | T45: =M45 -> 0 | U45: =O45 -> 0 | V45: =MAX(LARGE(P45:U45,1)+LARGE(P45:U45,2)+LARGE(P45:U45,3),0) -> 0 | W45: =COUNTIF(P45:U45,">0") -> 0

Sheet J-14
A1: Klasse - Jenter 14 år
A2: Utøveren må ha fullført 3 av 5 renn i cupen for å bli premiert.
A3: De 3 beste rennene teller sammenlagt
A4: Lista viser alle som har deltatt i TV - Cup.
A6: Evt. feil sendes til tvsk@skiforbundet.no | D6: Fristil | F6: Klassisk | H6: Sprint Klassisk | J6: Klassisk | L6: Finale Tour | N6: Finale Tour | P6: Renn1 | Q6: Renn2 | R6: Renn3 | S6: Renn4 | U6: Renn5 | V6: Total Poeng | W6: Antall renn
A7: Oppdatert: 12.02.2019 | D7: Oseberg Skilag | F7: Svarstad IL | H7: IL Runar | J7: Høydalsmo IL | L7: Runar | N7: IL Ivrig/Botne SK
D8: 43450 | F8: 43464 | H8: 43499 | J8: 43505 | L8: 42812 | N8: 16.03-17.03.2019
A9: Plass | B9: Navn | C9: Klubb | D9: Plass | E9: Poeng | F9: Plass | G9: Poeng | H9: Plass | I9: Poeng | J9: Plass | K9: Poeng | L9: Plass | M9: Poeng | N9: Plass | O9: Poeng
A10: 1 | B10: Maren Cecilie Mustad | C10: Stathelle og Omegn | D10: 1 | E10: =IF(D10>0,VLOOKUP(D10,Poengskala!$B$4:$C$34,2,TRUE),0) -> 100 | F10: 1 | G10: =IF(F10>0,VLOOKUP(F10,Poengskala!$B$4:$C$34,2,TRUE),0) -> 100 | H10: 5 | I10: =IF(H10>0,VLOOKUP(H10,Poengskala!$B$4:$C$34,2,TRUE),0) -> 70 | J10: 1 | K10: =IF(J10>0,VLOOKUP(J10,Poengskala!$B$4:$C$34,2,TRUE),0) -> 100 | M10: =IF(L10>0,VLOOKUP(L10,Poengskala!$B$4:$C$34,2,TRUE),0) -> 0 | N10: 3 | O10: =IF(N10>0,VLOOKUP(N10,Poengskala!$B$4:$D$34,3,TRUE),0) -> 123 | P10: =E10 -> 100 | Q10: =G10 -> 100 | R10: =I10 -> 70 | S10: =K10 -> 100 | T10: =M10 -> 0 | U10: =O10 -> 123 | V10: =MAX(LARGE(P10:U10,1)+LARGE(P10:U10,2)+LARGE(P10:U10,3),0) -> 323 | W10: =COUNTIF(P10:U10,">0") -> 5
A11: 2 | B11: Marie Sofie Ekeberg | C11: Oseberg Skilag | D11: 4 | E11: =IF(D11>0,VLOOKUP(D11,Poengskala!$B$4:$C$34,2,TRUE),0) -> 75 | F11: 3 | G11: =IF(F11>0,VLOOKUP(F11,Poengskala!$B$4:$C$34,2,TRUE),0) -> 82 | H11: 2 | I11: =IF(H11>0,VLOOKUP(H11,Poengskala!$B$4:$C$34,2,TRUE),0) -> 90 | K11: =IF(J11>0,VLOOKUP(J11,Poengskala!$B$4:$C$34,2,TRUE),0) -> 0 | M11: =IF(L11>0,VLOOKUP(L11,Poengskala!$B$4:$C$34,2,TRUE),0) -> 0 | N11: 2 | O11: =IF(N11>0,VLOOKUP(N11,Poengskala!$B$4:$D$34,3,TRUE),0) -> 135 | P11: =E11 -> 75 | Q11: =G11 -> 82 | R11: =I11 -> 90 | S11: =K11 -> 0 | T11: =M11 -> 0 | U11: =O11 -> 135 | V11: =MAX(LARGE(P11:U11,1)+LARGE(P11:U11,2)+LARGE(P11:U11,3),0) -> 307 | W11: =COUNTIF(P11:U11,">0") -> 4
A12: 3 | B12: Ine Bjaadal Winberg | C12: Stathelle og Omegn | D12: 10 | E12: =IF(D12>0,VLOOKUP(D12,Poengskala!$B$4:$C$34,2,TRUE),0) -> 52 | F12: 5 | G12: =IF(F12>0,VLOOKUP(F12,Poengskala!$B$4:$C$34,2,TRUE),0) -> 70 | H12: 1 | I12: =IF(H12>0,VLOOKUP(H12,Poengskala!$B$4:$C$34,2,TRUE),0) -> 100 | J12: 6 | K12: =IF(J12>0,VLOOKUP(J12,Poengskala!$B$4:$C$34,2,TRUE),0) -> 66 | M12: =IF(L12>0,VLOOKUP(L12,Poengskala!$B$4:$C$34,2,TRUE),0) -> 0 | N12: 5 | O12: =IF(N12>0,VLOOKUP(N12,Poengskala!$B$4:$D$34,3,TRUE),0) -> 105 | P12: =E12 -> 52 | Q12: =G12 -> 70 | R12: =I12 -> 100 | S12: =K12 -> 66 | T12: =M12 -> 0 | U12: =O12 -> 105 | V12: =MAX(LARGE(P12:U12,1)+LARGE(P12:U12,2)+LARGE(P12:U12,3),0) -> 275 | W12: =COUNTIF(P12:U12,">0") -> 5
A13: 4 | B13: Ida Wergeland Kvestad | C13: IL Runar | D13: 3 | E13: =IF(D13>0,VLOOKUP(D13,Poengskala!$B$4:$C$34,2,TRUE),0) -> 82 | F13: 3 | G13: =IF(F13>0,VLOOKUP(F13,Poengskala!$B$4:$C$34,2,TRUE),0) -> 82 | H13: 7 | I13: =IF(H13>0,VLOOKUP(H13,Poengskala!$B$4:$C$34,2,TRUE),0) -> 62 | J13: 3 | K13: =IF(J13>0,VLOOKUP(J13,Poengskala!$B$4:$C$34,2,TRUE),0) -> 82 | M13: =IF(L13>0,VLOOKUP(L13,Poengskala!$B$4:$C$34,2,TRUE),0) -> 0 | N13: 7 | O13: =IF(N13>0,VLOOKUP(N13,Poengskala!$B$4:$D$34,3,TRUE),0) -> 93 | P13: =E13 -> 82 | Q13: =G13 -> 82 | R13: =I13 -> 62 | S13: =K13 -> 82 | T13: =M13 -> 0 | U13: =O13 -> 93 | V13: =MAX(LARGE(P13:U13,1)+LARGE(P13:U13,2)+LARGE(P13:U13,3),0) -> 257 | W13: =COUNTIF(P13:U13,">0") -> 5
A14: 5 | B14: Anette Løvik Haukvik | C14: Oseberg Skilag | D14: 6 | E14: =IF(D14>0,VLOOKUP(D14,Poengskala!$B$4:$C$34,2,TRUE),0) -> 66 | G14: =IF(F14>0,VLOOKUP(F14,Poengskala!$B$4:$C$34,2,TRUE),0) -> 0 | I14: =IF(H14>0,VLOOKUP(H14,Poengskala!$B$4:$C$34,2,TRUE),0) -> 0 | J14: 4 | K14: =IF(J14>0,VLOOKUP(J14,Poengskala!$B$4:$C$34,2,TRUE),0) -> 75 | M14: =IF(L14>0,VLOOKUP(L14,Poengskala!$B$4:$C$34,2,TRUE),0) -> 0 | N14: 6 | O14: =IF(N14>0,VLOOKUP(N14,Poengskala!$B$4:$D$34,3,TRUE),0) -> 99 | P14: =E14 -> 66 | Q14: =G14 -> 0 | R14: =I14 -> 0 | S14: =K14 -> 75 | T14: =M14 -> 0 | U14: =O14 -> 99 | V14: =MAX(LARGE(P14:U14,1)+LARGE(P14:U14,2)+LARGE(P14:U14,3),0) -> 240 | W14: =COUNTIF(P14:U14,">0") -> 3
A15: 6 | B15: Nora Randby | C15: Oseberg Skilag | D15: 2 | E15: =IF(D15>0,VLOOKUP(D15,Poengskala!$B$4:$C$34,2,TRUE),0) -> 90 | G15: =IF(F15>0,VLOOKUP(F15,Poengskala!$B$4:$C$34,2,TRUE),0) -> 0 | I15: =IF(H15>0,VLOOKUP(H15,Poengskala!$B$4:$C$34,2,TRUE),0) -> 0 | K15: =IF(J15>0,VLOOKUP(J15,Poengskala!$B$4:$C$34,2,TRUE),0) -> 0 | M15: =IF(L15>0,VLOOKUP(L15,Poengskala!$B$4:$C$34,2,TRUE),0) -> 0 | N15: 1 | O15: =IF(N15>0,VLOOKUP(N15,Poengskala!$B$4:$D$34,3,TRUE),0) -> 150 | P15: =E15 -> 90 | Q15: =G15 -> 0 | R15: =I15 -> 0 | S15: =K15 -> 0 | T15: =M15 -> 0 | U15: =O15 -> 150 | V15: =MAX(LARGE(P15:U15,1)+LARGE(P15:U15,2)+LARGE(P15:U15,3),0) -> 240 | W15: =COUNTIF(P15:U15,">0") -> 2
A16: 7 | B16: Johanna Vedal Sjøl | C16: Berger IL | E16: =IF(D16>0,VLOOKUP(D16,Poengskala!$B$4:$C$34,2,TRUE),0) -> 0 | F16: 6 | G16: =IF(F16>0,VLOOKUP(F16,Poengskala!$B$4:$C$34,2,TRUE),0) -> 66 | H16: 8 | I16: =IF(H16>0,VLOOKUP(H16,Poengskala!$B$4:$C$34,2,TRUE),0) -> 58 | K16: =IF(J16>0,VLOOKUP(J16,Poengskala!$B$4:$C$34,2,TRUE),0) -> 0 | M16: =IF(L16>0,VLOOKUP(L16,Poengskala!$B$4:$C$34,2,TRUE),0) -> 0 | N16: 4 | O16: =IF(N16>0,VLOOKUP(N16,Poengskala!$B$4:$D$34,3,TRUE),0) -> 112.5 | P16: =E16 -> 0 | Q16: =G16 -> 66 | R16: =I16 -> 58 | S16: =K16 -> 0 | T16: =M16 -> 0 | U16: =O16 -> 112.5 | V16: =MAX(LARGE(P16:U16,1)+LARGE(P16:U16,2)+LARGE(P16:U16,3),0) -> 236.5 | W16: =COUNTIF(P16:U16,">0") -> 3
A17: 8 | B17: Lisa Amèlie Schrøder | C17: Oseberg Skilag | D17: 11 | E17: =IF(D17>0,VLOOKUP(D17,Poengskala!$B$4:$C$34,2,TRUE),0) -> 49 | F17: 7 | G17: =IF(F17>0,VLOOKUP(F17,Poengskala!$B$4:$C$34,2,TRUE),0) -> 62 | H17: 3 | I17: =IF(H17>0,VLOOKUP(H17,Poengskala!$B$4:$C$34,2,TRUE),0) -> 82 | K17: =IF(J17>0,VLOOKUP(J17,Poengskala!$B$4:$C$34,2,TRUE),0) -> 0 | M17: =IF(L17>0,VLOOKUP(L17,Poengskala!$B$4:$C$34,2,TRUE),0) -> 0 | N17: 10 | O17: =IF(N17>0,VLOOKUP(N17,Poengskala!$B$4:$D$34,3,TRUE),0) -> 78 | P17: =E17 -> 49 | Q17: =G17 -> 62 | R17: =I17 -> 82 | S17: =K17 -> 0 | T17: =M17 -> 0 | U17: =O17 -> 78 | V17: =MAX(LARGE(P17:U17,1)+LARGE(P17:U17,2)+LARGE(P17:U17,3),0) -> 222 | W17: =COUNTIF(P17:U17,">0") -> 4
A18: 9 | B18: Astrid Horgen | C18: IL Skarphedin | D18: 8 | E18: =IF(D18>0,VLOOKUP(D18,Poengskala!$B$4:$C$34,2,TRUE),0) -> 58 | G18: =IF(F18>0,VLOOKUP(F18,Poengskala!$B$4:$C$34,2,TRUE),0) -> 0 | I18: =IF(H18>0,VLOOKUP(H18,Poengskala!$B$4:$C$34,2,TRUE),0) -> 0 | J18: 5 | K18: =IF(J18>0,VLOOKUP(J18,Poengskala!$B$4:$C$34,2,TRUE),0) -> 70 | M18: =IF(L18>0,VLOOKUP(L18,Poengskala!$B$4:$C$34,2,TRUE),0) -> 0 | N18: 9 | O18: =IF(N18>0,VLOOKUP(N18,Poengskala!$B$4:$D$34,3,TRUE),0) -> 82.5 | P18: =E18 -> 58 | Q18: =G18 -> 0 | R18: =I18 -> 0 | S18: =K18 -> 70 | T18: =M18 -> 0 | U18: =O18 -> 82.5 | V18: =MAX(LARGE(P18:U18,1)+LARGE(P18:U18,2)+LARGE(P18:U18,3),0) -> 210.5 | W18: =COUNTIF(P18:U18,">0") -> 3
A19: 10 | B19: Hanna Hjertaas | C19: IL Runar | D19: 7 | E19: =IF(D19>0,VLOOKUP(D19,Poengskala!$B$4:$C$34,2,TRUE),0) -> 62 | G19: =IF(F19>0,VLOOKUP(F19,Poengskala!$B$4:$C$34,2,TRUE),0) -> 0 | H19: 9 | I19: =IF(H19>0,VLOOKUP(H19,Poengskala!$B$4:$C$34,2,TRUE),0) -> 55 | K19: =IF(J19>0,VLOOKUP(J19,Poengskala!$B$4:$C$34,2,TRUE),0) -> 0 | M19: =IF(L19>0,VLOOKUP(L19,Poengskala!$B$4:$C$34,2,TRUE),0) -> 0 | N19: 8 | O19: =IF(N19>0,VLOOKUP(N19,Poengskala!$B$4:$D$34,3,TRUE),0) -> 87 | P19: =E19 -> 62 | Q19: =G19 -> 0 | R19: =I19 -> 55 | S19: =K19 -> 0 | T19: =M19 -> 0 | U19: =O19 -> 87 | V19: =MAX(LARGE(P19:U19,1)+LARGE(P19:U19,2)+LARGE(P19:U19,3),0) -> 204 | W19: =COUNTIF(P19:U19,">0") -> 3
A20: 11 | B20: Tuva Stubberød Nilssen | C20: IF Ørn | D20: 13 | E20: =IF(D20>0,VLOOKUP(D20,Poengskala!$B$4:$C$34,2,TRUE),0) -> 44 | F20: 2 | G20: =IF(F20>0,VLOOKUP(F20,Poengskala!$B$4:$C$34,2,TRUE),0) -> 90 | H20: 6 | I20: =IF(H20>0,VLOOKUP(H20,Poengskala!$B$4:$C$34,2,TRUE),0) -> 66 | K20: =IF(J20>0,VLOOKUP(J20,Poengskala!$B$4:$C$34,2,TRUE),0) -> 0 | M20: =IF(L20>0,VLOOKUP(L20,Poengskala!$B$4:$C$34,2,TRUE),0) -> 0 | O20: =IF(N20>0,VLOOKUP(N20,Poengskala!$B$4:$D$34,3,TRUE),0) -> 0 | P20: =E20 -> 44 | Q20: =G20 -> 90 | R20: =I20 -> 66 | S20: =K20 -> 0 | T20: =M20 -> 0 | U20: =O20 -> 0 | V20: =MAX(LARGE(P20:U20,1)+LARGE(P20:U20,2)+LARGE(P20:U20,3),0) -> 200 | W20: =COUNTIF(P20:U20,">0") -> 3
A21: 12 | B21: Jenny Axisa Eriksen | C21: Andebu IL | D21: 14 | E21: =IF(D21>0,VLOOKUP(D21,Poengskala!$B$4:$C$34,2,TRUE),0) -> 42 | F21: 11 | G21: =IF(F21>0,VLOOKUP(F21,Poengskala!$B$4:$C$34,2,TRUE),0) -> 49 | H21: 10 | I21: =IF(H21>0,VLOOKUP(H21,Poengskala!$B$4:$C$34,2,TRUE),0) -> 52 | J21: 7 | K21: =IF(J21>0,VLOOKUP(J21,Poengskala!$B$4:$C$34,2,TRUE),0) -> 62 | M21: =IF(L21>0,VLOOKUP(L21,Poengskala!$B$4:$C$34,2,TRUE),0) -> 0 | N21: 11 | O21: =IF(N21>0,VLOOKUP(N21,Poengskala!$B$4:$D$34,3,TRUE),0) -> 73.5 | P21: =E21 -> 42 | Q21: =G21 -> 49 | R21: =I21 -> 52 | S21: =K21 -> 62 | T21: =M21 -> 0 | U21: =O21 -> 73.5 | V21: =MAX(LARGE(P21:U21,1)+LARGE(P21:U21,2)+LARGE(P21:U21,3),0) -> 187.5 | W21: =COUNTIF(P21:U21,">0") -> 5
A22: 13 | B22: Agathe Brathagen | C22: Larvik ski | E22: =IF(D22>0,VLOOKUP(D22,Poengskala!$B$4:$C$34,2,TRUE),0) -> 0 | F22: 0 | G22: =IF(F22>0,VLOOKUP(F22,Poengskala!$B$4:$C$34,2,TRUE),0) -> 0 | H22: 4 | I22: =IF(H22>0,VLOOKUP(H22,Poengskala!$B$4:$C$34,2,TRUE),0) -> 75 | J22: 2 | K22: =IF(J22>0,VLOOKUP(J22,Poengskala!$B$4:$C$34,2,TRUE),0) -> 90 | M22: =IF(L22>0,VLOOKUP(L22,Poengskala!$B$4:$C$34,2,TRUE),0) -> 0 | O22: =IF(N22>0,VLOOKUP(N22,Poengskala!$B$4:$D$34,3,TRUE),0) -> 0 | P22: =E22 -> 0 | Q22: =G22 -> 0 | R22: =I22 -> 75 | S22: =K22 -> 90 | T22: =M22 -> 0 | U22: =O22 -> 0 | V22: =MAX(LARGE(P22:U22,1)+LARGE(P22:U22,2)+LARGE(P22:U22,3),0) -> 165 | W22: =COUNTIF(P22:U22,">0") -> 2
A23: 14 | B23: Mia Westeng Jeppson | C23: Oseberg Skilag | D23: 5 | E23: =IF(D23>0,VLOOKUP(D23,Poengskala!$B$4:$C$34,2,TRUE),0) -> 70 | G23: =IF(F23>0,VLOOKUP(F23,Poengskala!$B$4:$C$34,2,TRUE),0) -> 0 | I23: =IF(H23>0,VLOOKUP(H23,Poengskala!$B$4:$C$34,2,TRUE),0) -> 0 | K23: =IF(J23>0,VLOOKUP(J23,Poengskala!$B$4:$C$34,2,TRUE),0) -> 0 | M23: =IF(L23>0,VLOOKUP(L23,Poengskala!$B$4:$C$34,2,TRUE),0) -> 0 | O23: =IF(N23>0,VLOOKUP(N23,Poengskala!$B$4:$D$34,3,TRUE),0) -> 0 | P23: =E23 -> 70 | Q23: =G23 -> 0 | R23: =I23 -> 0 | S23: =K23 -> 0 | T23: =M23 -> 0 | U23: =O23 -> 0 | V23: =MAX(LARGE(P23:U23,1)+LARGE(P23:U23,2)+LARGE(P23:U23,3),0) -> 70 | W23: =COUNTIF(P23:U23,">0") -> 1
A24: 15 | B24: Kamilla Talmo | C24: Gulset IF | E24: =IF(D24>0,VLOOKUP(D24,Poengskala!$B$4:$C$34,2,TRUE),0) -> 0 | F24: 8 | G24: =IF(F24>0,VLOOKUP(F24,Poengskala!$B$4:$C$34,2,TRUE),0) -> 58 | I24: =IF(H24>0,VLOOKUP(H24,Poengskala!$B$4:$C$34,2,TRUE),0) -> 0 | K24: =IF(J24>0,VLOOKUP(J24,Poengskala!$B$4:$C$34,2,TRUE),0) -> 0 | M24: =IF(L24>0,VLOOKUP(L24,Poengskala!$B$4:$C$34,2,TRUE),0) -> 0 | O24: =IF(N24>0,VLOOKUP(N24,Poengskala!$B$4:$D$34,3,TRUE),0) -> 0 | P24: =E24 -> 0 | Q24: =G24 -> 58 | R24: =I24 -> 0 | S24: =K24 -> 0 | T24: =M24 -> 0 | U24: =O24 -> 0 | V24: =MAX(LARGE(P24:U24,1)+LARGE(P24:U24,2)+LARGE(P24:U24,3),0) -> 58 | W24: =COUNTIF(P24:U24,">0") -> 1
A25: 16 | B25: Ingrid Stigen Byggland | C25: Høydalsmo IL | E25: =IF(D25>0,VLOOKUP(D25,Poengskala!$B$4:$C$34,2,TRUE),0) -> 0 | G25: =IF(F25>0,VLOOKUP(F25,Poengskala!$B$4:$C$34,2,TRUE),0) -> 0 | I25: =IF(H25>0,VLOOKUP(H25,Poengskala!$B$4:$C$34,2,TRUE),0) -> 0 | J25: 8 | K25: =IF(J25>0,VLOOKUP(J25,Poengskala!$B$4:$C$34,2,TRUE),0) -> 58 | M25: =IF(L25>0,VLOOKUP(L25,Poengskala!$B$4:$C$34,2,TRUE),0) -> 0 | O25: =IF(N25>0,VLOOKUP(N25,Poengskala!$B$4:$D$34,3,TRUE),0) -> 0 | P25: =E25 -> 0 | Q25: =G25 -> 0 | R25: =I25 -> 0 | S25: =K25 -> 58 | T25: =M25 -> 0 | U25: =O25 -> 0 | V25: =MAX(LARGE(P25:U25,1)+LARGE(P25:U25,2)+LARGE(P25:U25,3),0) -> 58 | W25: =COUNTIF(P25:U25,">0") -> 1
A26: 17 | B26: Mathilde Bjørnstad | C26: Stokke IL | D26: 9 | E26: =IF(D26>0,VLOOKUP(D26,Poengskala!$B$4:$C$34,2,TRUE),0) -> 55 | G26: =IF(F26>0,VLOOKUP(F26,Poengskala!$B$4:$C$34,2,TRUE),0) -> 0 | I26: =IF(H26>0,VLOOKUP(H26,Poengskala!$B$4:$C$34,2,TRUE),0) -> 0 | K26: =IF(J26>0,VLOOKUP(J26,Poengskala!$B$4:$C$34,2,TRUE),0) -> 0 | M26: =IF(L26>0,VLOOKUP(L26,Poengskala!$B$4:$C$34,2,TRUE),0) -> 0 | O26: =IF(N26>0,VLOOKUP(N26,Poengskala!$B$4:$D$34,3,TRUE),0) -> 0 | P26: =E26 -> 55 | Q26: =G26 -> 0 | R26: =I26 -> 0 | S26: =K26 -> 0 | T26: =M26 -> 0 | U26: =O26 -> 0 | V26: =MAX(LARGE(P26:U26,1)+LARGE(P26:U26,2)+LARGE(P26:U26,3),0) -> 55 | W26: =COUNTIF(P26:U26,">0") -> 1
A27: 18 | B27: Ragnhild Xui Gunleiksrød | C27: Tinn IL Ski | E27: =IF(D27>0,VLOOKUP(D27,Poengskala!$B$4:$C$34,2,TRUE),0) -> 0 | F27: 9 | G27: =IF(F27>0,VLOOKUP(F27,Poengskala!$B$4:$C$34,2,TRUE),0) -> 55 | I27: =IF(H27>0,VLOOKUP(H27,Poengskala!$B$4:$C$34,2,TRUE),0) -> 0 | K27: =IF(J27>0,VLOOKUP(J27,Poengskala!$B$4:$C$34,2,TRUE),0) -> 0 | M27: =IF(L27>0,VLOOKUP(L27,Poengskala!$B$4:$C$34,2,TRUE),0) -> 0 | O27: =IF(N27>0,VLOOKUP(N27,Poengskala!$B$4:$D$34,3,TRUE),0) -> 0 | P27: =E27 -> 0 | Q27: =G27 -> 55 | R27: =I27 -> 0 | S27: =K27 -> 0 | T27: =M27 -> 0 | U27: =O27 -> 0 | V27: =MAX(LARGE(P27:U27,1)+LARGE(P27:U27,2)+LARGE(P27:U27,3),0) -> 55 | W27: =COUNTIF(P27:U27,">0") -> 1
A28: 19 | B28: Elise Drøpping Polland | C28: Bamble IF | E28: =IF(D28>0,VLOOKUP(D28,Poengskala!$B$4:$C$34,2,TRUE),0) -> 0 | F28: 10 | G28: =IF(F28>0,VLOOKUP(F28,Poengskala!$B$4:$C$34,2,TRUE),0) -> 52 | I28: =IF(H28>0,VLOOKUP(H28,Poengskala!$B$4:$C$34,2,TRUE),0) -> 0 | K28: =IF(J28>0,VLOOKUP(J28,Poengskala!$B$4:$C$34,2,TRUE),0) -> 0 | M28: =IF(L28>0,VLOOKUP(L28,Poengskala!$B$4:$C$34,2,TRUE),0) -> 0 | O28: =IF(N28>0,VLOOKUP(N28,Poengskala!$B$4:$D$34,3,TRUE),0) -> 0 | P28: =E28 -> 0 | Q28: =G28 -> 52 | R28: =I28 -> 0 | S28: =K28 -> 0 | T28: =M28 -> 0 | U28: =O28 -> 0 | V28: =MAX(LARGE(P28:U28,1)+LARGE(P28:U28,2)+LARGE(P28:U28,3),0) -> 52 | W28: =COUNTIF(P28:U28,">0") -> 1
A29: 20 | B29: Anna Vetvik Morken | C29: Oseberg Skilag | D29: 12 | E29: =IF(D29>0,VLOOKUP(D29,Poengskala!$B$4:$C$34,2,TRUE),0) -> 46 | G29: =IF(F29>0,VLOOKUP(F29,Poengskala!$B$4:$C$34,2,TRUE),0) -> 0 | I29: =IF(H29>0,VLOOKUP(H29,Poengskala!$B$4:$C$34,2,TRUE),0) -> 0 | K29: =IF(J29>0,VLOOKUP(J29,Poengskala!$B$4:$C$34,2,TRUE),0) -> 0 | M29: =IF(L29>0,VLOOKUP(L29,Poengskala!$B$4:$C$34,2,TRUE),0) -> 0 | O29: =IF(N29>0,VLOOKUP(N29,Poengskala!$B$4:$D$34,3,TRUE),0) -> 0 | P29: =E29 -> 46 | Q29: =G29 -> 0 | R29: =I29 -> 0 | S29: =K29 -> 0 | T29: =M29 -> 0 | U29: =O29 -> 0 | V29: =MAX(LARGE(P29:U29,1)+LARGE(P29:U29,2)+LARGE(P29:U29,3),0) -> 46 | W29: =COUNTIF(P29:U29,">0") -> 1
E30: =IF(D30>0,VLOOKUP(D30,Poengskala!$B$4:$C$34,2,TRUE),0) -> 0 | G30: =IF(F30>0,VLOOKUP(F30,Poengskala!$B$4:$C$34,2,TRUE),0) -> 0 | I30: =IF(H30>0,VLOOKUP(H30,Poengskala!$B$4:$C$34,2,TRUE),0) -> 0 | K30: =IF(J30>0,VLOOKUP(J30,Poengskala!$B$4:$C$34,2,TRUE),0) -> 0 | M30: =IF(L30>0,VLOOKUP(L30,Poengskala!$B$4:$C$34,2,TRUE),0) -> 0 | O30: =IF(N30>0,VLOOKUP(N30,Poengskala!$B$4:$D$34,3,TRUE),0) -> 0 | P30: =E30 -> 0 | Q30: =G30 -> 0 | R30: =I30 -> 0 | S30: =K30 -> 0 | T30: =M30 -> 0 | U30: =O30 -> 0 | V30: =MAX(LARGE(P30:U30,1)+LARGE(P30:U30,2)+LARGE(P30:U30,3),0) -> 0 | W30: =COUNTIF(P30:U30,">0") -> 0
E31: =IF(D31>0,VLOOKUP(D31,Poengskala!$B$4:$C$34,2,TRUE),0) -> 0 | G31: =IF(F31>0,VLOOKUP(F31,Poengskala!$B$4:$C$34,2,TRUE),0) -> 0 | I31: =IF(H31>0,VLOOKUP(H31,Poengskala!$B$4:$C$34,2,TRUE),0) -> 0 | K31: =IF(J31>0,VLOOKUP(J31,Poengskala!$B$4:$C$34,2,TRUE),0) -> 0 | M31: =IF(L31>0,VLOOKUP(L31,Poengskala!$B$4:$C$34,2,TRUE),0) -> 0 | O31: =IF(N31>0,VLOOKUP(N31,Poengskala!$B$4:$D$34,3,TRUE),0) -> 0 | P31: =E31 -> 0 | Q31: =G31 -> 0 | R31: =I31 -> 0 | S31: =K31 -> 0 | T31: =M31 -> 0 | U31: =O31 -> 0 | V31: =MAX(LARGE(P31:U31,1)+LARGE(P31:U31,2)+LARGE(P31:U31,3),0) -> 0 | W31: =COUNTIF(P31:U31,">0") -> 0
E32: =IF(D32>0,VLOOKUP(D32,Poengskala!$B$4:$C$34,2,TRUE),0) -> 0 | G32: =IF(F32>0,VLOOKUP(F32,Poengskala!$B$4:$C$34,2,TRUE),0) -> 0 | I32: =IF(H32>0,VLOOKUP(H32,Poengskala!$B$4:$C$34,2,TRUE),0) -> 0 | K32: =IF(J32>0,VLOOKUP(J32,Poengskala!$B$4:$C$34,2,TRUE),0) -> 0 | M32: =IF(L32>0,VLOOKUP(L32,Poengskala!$B$4:$C$34,2,TRUE),0) -> 0 | O32: =IF(N32>0,VLOOKUP(N32,Poengskala!$B$4:$D$34,3,TRUE),0) -> 0 | P32: =E32 -> 0 | Q32: =G32 -> 0 | R32: =I32 -> 0 | S32: =K32 -> 0 | T32: =M32 -> 0 | U32: =O32 -> 0 | V32: =MAX(LARGE(P32:U32,1)+LARGE(P32:U32,2)+LARGE(P32:U32,3),0) -> 0 | W32: =COUNTIF(P32:U32,">0") -> 0
E33: =IF(D33>0,VLOOKUP(D33,Poengskala!$B$4:$C$34,2,TRUE),0) -> 0 | G33: =IF(F33>0,VLOOKUP(F33,Poengskala!$B$4:$C$34,2,TRUE),0) -> 0 | I33: =IF(H33>0,VLOOKUP(H33,Poengskala!$B$4:$C$34,2,TRUE),0) -> 0 | K33: =IF(J33>0,VLOOKUP(J33,Poengskala!$B$4:$C$34,2,TRUE),0) -> 0 | M33: =IF(L33>0,VLOOKUP(L33,Poengskala!$B$4:$C$34,2,TRUE),0) -> 0 | O33: =IF(N33>0,VLOOKUP(N33,Poengskala!$B$4:$D$34,3,TRUE),0) -> 0 | P33: =E33 -> 0 | Q33: =G33 -> 0 | R33: =I33 -> 0 | S33: =K33 -> 0 | T33: =M33 -> 0 | U33: =O33 -> 0 | V33: =MAX(LARGE(P33:U33,1)+LARGE(P33:U33,2)+LARGE(P33:U33,3),0) -> 0 | W33: =COUNTIF(P33:U33,">0") -> 0
E34: =IF(D34>0,VLOOKUP(D34,Poengskala!$B$4:$C$34,2,TRUE),0) -> 0 | G34: =IF(F34>0,VLOOKUP(F34,Poengskala!$B$4:$C$34,2,TRUE),0) -> 0 | I34: =IF(H34>0,VLOOKUP(H34,Poengskala!$B$4:$C$34,2,TRUE),0) -> 0 | K34: =IF(J34>0,VLOOKUP(J34,Poengskala!$B$4:$C$34,2,TRUE),0) -> 0 | M34: =IF(L34>0,VLOOKUP(L34,Poengskala!$B$4:$C$34,2,TRUE),0) -> 0 | O34: =IF(N34>0,VLOOKUP(N34,Poengskala!$B$4:$D$34,3,TRUE),0) -> 0 | P34: =E34 -> 0 | Q34: =G34 -> 0 | R34: =I34 -> 0 | S34: =K34 -> 0 | T34: =M34 -> 0 | U34: =O34 -> 0 | V34: =MAX(LARGE(P34:U34,1)+LARGE(P34:U34,2)+LARGE(P34:U34,3),0) -> 0 | W34: =COUNTIF(P34:U34,">0") -> 0
E35: =IF(D35>0,VLOOKUP(D35,Poengskala!$B$4:$C$34,2,TRUE),0) -> 0 | G35: =IF(F35>0,VLOOKUP(F35,Poengskala!$B$4:$C$34,2,TRUE),0) -> 0 | I35: =IF(H35>0,VLOOKUP(H35,Poengskala!$B$4:$C$34,2,TRUE),0) -> 0 | K35: =IF(J35>0,VLOOKUP(J35,Poengskala!$B$4:$C$34,2,TRUE),0) -> 0 | M35: =IF(L35>0,VLOOKUP(L35,Poengskala!$B$4:$C$34,2,TRUE),0) -> 0 | O35: =IF(N35>0,VLOOKUP(N35,Poengskala!$B$4:$D$34,3,TRUE),0) -> 0 | P35: =E35 -> 0 | Q35: =G35 -> 0 | R35: =I35 -> 0 | S35: =K35 -> 0 | T35: =M35 -> 0 | U35: =O35 -> 0 | V35: =MAX(LARGE(P35:U35,1)+LARGE(P35:U35,2)+LARGE(P35:U35,3),0) -> 0 | W35: =COUNTIF(P35:U35,">0") -> 0
E36: =IF(D36>0,VLOOKUP(D36,Poengskala!$B$4:$C$34,2,TRUE),0) -> 0 | G36: =IF(F36>0,VLOOKUP(F36,Poengskala!$B$4:$C$34,2,TRUE),0) -> 0 | I36: =IF(H36>0,VLOOKUP(H36,Poengskala!$B$4:$C$34,2,TRUE),0) -> 0 | K36: =IF(J36>0,VLOOKUP(J36,Poengskala!$B$4:$C$34,2,TRUE),0) -> 0 | M36: =IF(L36>0,VLOOKUP(L36,Poengskala!$B$4:$C$34,2,TRUE),0) -> 0 | O36: =IF(N36>0,VLOOKUP(N36,Poengskala!$B$4:$D$34,3,TRUE),0) -> 0 | P36: =E36 -> 0 | Q36: =G36 -> 0 | R36: =I36 -> 0 | S36: =K36 -> 0 | T36: =M36 -> 0 | U36: =O36 -> 0 | V36: =MAX(LARGE(P36:U36,1)+LARGE(P36:U36,2)+LARGE(P36:U36,3),0) -> 0 | W36: =COUNTIF(P36:U36,">0") -> 0
E37: =IF(D37>0,VLOOKUP(D37,Poengskala!$B$4:$C$34,2,TRUE),0) -> 0 | G37: =IF(F37>0,VLOOKUP(F37,Poengskala!$B$4:$C$34,2,TRUE),0) -> 0 | I37: =IF(H37>0,VLOOKUP(H37,Poengskala!$B$4:$C$34,2,TRUE),0) -> 0 | K37: =IF(J37>0,VLOOKUP(J37,Poengskala!$B$4:$C$34,2,TRUE),0) -> 0 | M37: =IF(L37>0,VLOOKUP(L37,Poengskala!$B$4:$C$34,2,TRUE),0) -> 0 | O37: =IF(N37>0,VLOOKUP(N37,Poengskala!$B$4:$D$34,3,TRUE),0) -> 0 | P37: =E37 -> 0 | Q37: =G37 -> 0 | R37: =I37 -> 0 | S37: =K37 -> 0 | T37: =M37 -> 0 | U37: =O37 -> 0 | V37: =MAX(LARGE(P37:U37,1)+LARGE(P37:U37,2)+LARGE(P37:U37,3),0) -> 0 | W37: =COUNTIF(P37:U37,">0") -> 0
E38: =IF(D38>0,VLOOKUP(D38,Poengskala!$B$4:$C$34,2,TRUE),0) -> 0 | G38: =IF(F38>0,VLOOKUP(F38,Poengskala!$B$4:$C$34,2,TRUE),0) -> 0 | I38: =IF(H38>0,VLOOKUP(H38,Poengskala!$B$4:$C$34,2,TRUE),0) -> 0 | K38: =IF(J38>0,VLOOKUP(J38,Poengskala!$B$4:$C$34,2,TRUE),0) -> 0 | M38: =IF(L38>0,VLOOKUP(L38,Poengskala!$B$4:$C$34,2,TRUE),0) -> 0 | O38: =IF(N38>0,VLOOKUP(N38,Poengskala!$B$4:$D$34,3,TRUE),0) -> 0 | P38: =E38 -> 0 | Q38: =G38 -> 0 | R38: =I38 -> 0 | S38: =K38 -> 0 | T38: =M38 -> 0 | U38: =O38 -> 0 | V38: =MAX(LARGE(P38:U38,1)+LARGE(P38:U38,2)+LARGE(P38:U38,3),0) -> 0 | W38: =COUNTIF(P38:U38,">0") -> 0
E39: =IF(D39>0,VLOOKUP(D39,Poengskala!$B$4:$C$34,2,TRUE),0) -> 0 | G39: =IF(F39>0,VLOOKUP(F39,Poengskala!$B$4:$C$34,2,TRUE),0) -> 0 | I39: =IF(H39>0,VLOOKUP(H39,Poengskala!$B$4:$C$34,2,TRUE),0) -> 0 | K39: =IF(J39>0,VLOOKUP(J39,Poengskala!$B$4:$C$34,2,TRUE),0) -> 0 | M39: =IF(L39>0,VLOOKUP(L39,Poengskala!$B$4:$C$34,2,TRUE),0) -> 0 | O39: =IF(N39>0,VLOOKUP(N39,Poengskala!$B$4:$D$34,3,TRUE),0) -> 0 | P39: =E39 -> 0 | Q39: =G39 -> 0 | R39: =I39 -> 0 | S39: =K39 -> 0 | T39: =M39 -> 0 | U39: =O39 -> 0 | V39: =MAX(LARGE(P39:U39,1)+LARGE(P39:U39,2)+LARGE(P39:U39,3),0) -> 0 | W39: =COUNTIF(P39:U39,">0") -> 0
E40: =IF(D40>0,VLOOKUP(D40,Poengskala!$B$4:$C$34,2,TRUE),0) -> 0 | G40: =IF(F40>0,VLOOKUP(F40,Poengskala!$B$4:$C$34,2,TRUE),0) -> 0 | I40: =IF(H40>0,VLOOKUP(H40,Poengskala!$B$4:$C$34,2,TRUE),0) -> 0 | K40: =IF(J40>0,VLOOKUP(J40,Poengskala!$B$4:$C$34,2,TRUE),0) -> 0 | M40: =IF(L40>0,VLOOKUP(L40,Poengskala!$B$4:$C$34,2,TRUE),0) -> 0 | O40: =IF(N40>0,VLOOKUP(N40,Poengskala!$B$4:$D$34,3,TRUE),0) -> 0 | P40: =E40 -> 0 | Q40: =G40 -> 0 | R40: =I40 -> 0 | S40: =K40 -> 0 | T40: =M40 -> 0 | U40: =O40 -> 0 | V40: =MAX(LARGE(P40:U40,1)+LARGE(P40:U40,2)+LARGE(P40:U40,3),0) -> 0 | W40: =COUNTIF(P40:U40,">0") -> 0
E41: =IF(D41>0,VLOOKUP(D41,Poengskala!$B$4:$C$34,2,TRUE),0) -> 0 | G41: =IF(F41>0,VLOOKUP(F41,Poengskala!$B$4:$C$34,2,TRUE),0) -> 0 | I41: =IF(H41>0,VLOOKUP(H41,Poengskala!$B$4:$C$34,2,TRUE),0) -> 0 | K41: =IF(J41>0,VLOOKUP(J41,Poengskala!$B$4:$C$34,2,TRUE),0) -> 0 | M41: =IF(L41>0,VLOOKUP(L41,Poengskala!$B$4:$C$34,2,TRUE),0) -> 0 | O41: =IF(N41>0,VLOOKUP(N41,Poengskala!$B$4:$D$34,3,TRUE),0) -> 0 | P41: =E41 -> 0 | Q41: =G41 -> 0 | R41: =I41 -> 0 | S41: =K41 -> 0 | T41: =M41 -> 0 | U41: =O41 -> 0 | V41: =MAX(LARGE(P41:U41,1)+LARGE(P41:U41,2)+LARGE(P41:U41,3),0) -> 0 | W41: =COUNTIF(P41:U41,">0") -> 0
... E45: =IF(D45>0,VLOOKUP(D45,Poengskala!$B$4:$C$34,2,TRUE),0) -> 0 | G45: =IF(F45>0,VLOOKUP(F45,Poengskala!$B$4:$C$34,2,TRUE),0) -> 0 | I45: =IF(H45>0,VLOOKUP(H45,Poengskala!$B$4:$C$34,2,TRUE),0) -> 0 | K45: =IF(J45>0,VLOOKUP(J45,Poengskala!$B$4:$C$34,2,TRUE),0) -> 0 | M45: =IF(L45>0,VLOOKUP(L45,Poengskala!$B$4:$C$34,2,TRUE),0) -> 0 | O45: =IF(N45>0,VLOOKUP(N45,Poengskala!$B$4:$D$34,3,TRUE),0) -> 0 | P45: =E45 -> 0 | Q45: =G45 -> 0 | R45: =I45 -> 0 | S45: =K45 -> 0 | T45: =M45 -> 0 | U45: =O45 -> 0 | V45: =MAX(LARGE(P45:U45,1)+LARGE(P45:U45,2)+LARGE(P45:U45,3),0) -> 0 | W45: =COUNTIF(P45:U45,">0") -> 0

Sheet J-15
A1: Klasse - Jenter 15 år
A2: Utøveren må ha fullført 3 av 5 renn i cupen for å bli premiert.
A3: De 3 beste rennene teller sammenlagt
A4: Lista viser alle som har deltatt i TV - Cup.
A6: Evt. feil sendes til tvsk@skiforbundet.no | D6: Fristil | F6: Klassisk | H6: Sprint Klassisk | J6: Klassisk | L6: Finale Tour | N6: Finale Tour | P6: Renn1 | Q6: Renn2 | R6: Renn3 | S6: Renn4 | U6: Renn5 | V6: Total Poeng | W6: Antall renn
A7: Oppdatert: 12.02.2019 | D7: Oseberg Skilag | F7: Svarstad IL | H7: IL Runar | J7: Høydalsmo IL | L7: Runar | N7: IL Ivrig/Botne SK
D8: 43450 | F8: 43464 | H8: 43499 | J8: 43505 | L8: 42812 | N8: 16.03-17.03.2019
A9: Plass | B9: Navn | C9: Klubb | D9: Plass | E9: Poeng | F9: Plass | G9: Poeng | H9: Plass | I9: Poeng | J9: Plass | K9: Poeng | L9: Plass | M9: Poeng | N9: Plass | O9: Poeng
A10: 1 | B10: Mina Sofie Kjærås Moland | C10: Andebu IL | D10: 1 | E10: =IF(D10>0,VLOOKUP(D10,Poengskala!$B$4:$C$34,2,TRUE),0) -> 100 | F10: 1 | G10: =IF(F10>0,VLOOKUP(F10,Poengskala!$B$4:$C$34,2,TRUE),0) -> 100 | I10: =IF(H10>0,VLOOKUP(H10,Poengskala!$B$4:$C$34,2,TRUE),0) -> 0 | K10: =IF(J10>0,VLOOKUP(J10,Poengskala!$B$4:$C$34,2,TRUE),0) -> 0 | M10: =IF(L10>0,VLOOKUP(L10,Poengskala!$B$4:$C$34,2,TRUE),0) -> 0 | N10: 1 | O10: =IF(N10>0,VLOOKUP(N10,Poengskala!$B$4:$D$34,3,TRUE),0) -> 150 | P10: =E10 -> 100 | Q10: =G10 -> 100 | R10: =I10 -> 0 | S10: =K10 -> 0 | T10: =M10 -> 0 | U10: =O10 -> 150 | V10: =MAX(LARGE(P10:U10,1)+LARGE(P10:U10,2)+LARGE(P10:U10,3),0) -> 350 | W10: =COUNTIF(P10:U10,">0") -> 3
A11: 2 | B11: Helene Hafredal Haugan | C11: Gulset IF | D11: 0 | E11: =IF(D11>0,VLOOKUP(D11,Poengskala!$B$4:$C$34,2,TRUE),0) -> 0 | F11: 2 | G11: =IF(F11>0,VLOOKUP(F11,Poengskala!$B$4:$C$34,2,TRUE),0) -> 90 | I11: =IF(H11>0,VLOOKUP(H11,Poengskala!$B$4:$C$34,2,TRUE),0) -> 0 | J11: 2 | K11: =IF(J11>0,VLOOKUP(J11,Poengskala!$B$4:$C$34,2,TRUE),0) -> 90 | M11: =IF(L11>0,VLOOKUP(L11,Poengskala!$B$4:$C$34,2,TRUE),0) -> 0 | N11: 2 | O11: =IF(N11>0,VLOOKUP(N11,Poengskala!$B$4:$D$34,3,TRUE),0) -> 135 | P11: =E11 -> 0 | Q11: =G11 -> 90 | R11: =I11 -> 0 | S11: =K11 -> 90 | T11: =M11 -> 0 | U11: =O11 -> 135 | V11: =MAX(LARGE(P11:U11,1)+LARGE(P11:U11,2)+LARGE(P11:U11,3),0) -> 315 | W11: =COUNTIF(P11:U11,">0") -> 3
A12: 3 | B12: Guro Tho Anundskås | C12: Heddal IL | D12: 0 | E12: =IF(D12>0,VLOOKUP(D12,Poengskala!$B$4:$C$34,2,TRUE),0) -> 0 | F12: 4 | G12: =IF(F12>0,VLOOKUP(F12,Poengskala!$B$4:$C$34,2,TRUE),0) -> 75 | H12: 2 | I12: =IF(H12>0,VLOOKUP(H12,Poengskala!$B$4:$C$34,2,TRUE),0) -> 90 | J12: 1 | K12: =IF(J12>0,VLOOKUP(J12,Poengskala!$B$4:$C$34,2,TRUE),0) -> 100 | M12: =IF(L12>0,VLOOKUP(L12,Poengskala!$B$4:$C$34,2,TRUE),0) -> 0 | N12: 3 | O12: =IF(N12>0,VLOOKUP(N12,Poengskala!$B$4:$D$34,3,TRUE),0) -> 123 | P12: =E12 -> 0 | Q12: =G12 -> 75 | R12: =I12 -> 90 | S12: =K12 -> 100 | T12: =M12 -> 0 | U12: =O12 -> 123 | V12: =MAX(LARGE(P12:U12,1)+LARGE(P12:U12,2)+LARGE(P12:U12,3),0) -> 313 | W12: =COUNTIF(P12:U12,">0") -> 4
A13: 4 | B13: Ingeborg Hovdejord | C13: Heddal IL | D13: 3 | E13: =IF(D13>0,VLOOKUP(D13,Poengskala!$B$4:$C$34,2,TRUE),0) -> 82 | F13: 6 | G13: =IF(F13>0,VLOOKUP(F13,Poengskala!$B$4:$C$34,2,TRUE),0) -> 66 | H13: 4 | I13: =IF(H13>0,VLOOKUP(H13,Poengskala!$B$4:$C$34,2,TRUE),0) -> 75 | J13: 3 | K13: =IF(J13>0,VLOOKUP(J13,Poengskala!$B$4:$C$34,2,TRUE),0) -> 82 | M13: =IF(L13>0,VLOOKUP(L13,Poengskala!$B$4:$C$34,2,TRUE),0) -> 0 | O13: =IF(N13>0,VLOOKUP(N13,Poengskala!$B$4:$D$34,3,TRUE),0) -> 0 | P13: =E13 -> 82 | Q13: =G13 -> 66 | R13: =I13 -> 75 | S13: =K13 -> 82 | T13: =M13 -> 0 | U13: =O13 -> 0 | V13: =MAX(LARGE(P13:U13,1)+LARGE(P13:U13,2)+LARGE(P13:U13,3),0) -> 239 | W13: =COUNTIF(P13:U13,">0") -> 4
A14: 5 | B14: Mari Kålås Abrahamsen | C14: IL Runar | D14: 0 | E14: =IF(D14>0,VLOOKUP(D14,Poengskala!$B$4:$C$34,2,TRUE),0) -> 0 | G14: =IF(F14>0,VLOOKUP(F14,Poengskala!$B$4:$C$34,2,TRUE),0) -> 0 | H14: 3 | I14: =IF(H14>0,VLOOKUP(H14,Poengskala!$B$4:$C$34,2,TRUE),0) -> 82 | K14: =IF(J14>0,VLOOKUP(J14,Poengskala!$B$4:$C$34,2,TRUE),0) -> 0 | M14: =IF(L14>0,VLOOKUP(L14,Poengskala!$B$4:$C$34,2,TRUE),0) -> 0 | N14: 4 | O14: =IF(N14>0,VLOOKUP(N14,Poengskala!$B$4:$D$34,3,TRUE),0) -> 112.5 | P14: =E14 -> 0 | Q14: =G14 -> 0 | R14: =I14 -> 82 | S14: =K14 -> 0 | T14: =M14 -> 0 | U14: =O14 -> 112.5 | V14: =MAX(LARGE(P14:U14,1)+LARGE(P14:U14,2)+LARGE(P14:U14,3),0) -> 194.5 | W14: =COUNTIF(P14:U14,">0") -> 2
A15: 6 | B15: Sigrid Marit Jonassen Verpe | C15: Vinje IL | D15: 2 | E15: =IF(D15>0,VLOOKUP(D15,Poengskala!$B$4:$C$34,2,TRUE),0) -> 90 | F15: 3 | G15: =IF(F15>0,VLOOKUP(F15,Poengskala!$B$4:$C$34,2,TRUE),0) -> 82 | I15: =IF(H15>0,VLOOKUP(H15,Poengskala!$B$4:$C$34,2,TRUE),0) -> 0 | K15: =IF(J15>0,VLOOKUP(J15,Poengskala!$B$4:$C$34,2,TRUE),0) -> 0 | M15: =IF(L15>0,VLOOKUP(L15,Poengskala!$B$4:$C$34,2,TRUE),0) -> 0 | O15: =IF(N15>0,VLOOKUP(N15,Poengskala!$B$4:$D$34,3,TRUE),0) -> 0 | P15: =E15 -> 90 | Q15: =G15 -> 82 | R15: =I15 -> 0 | S15: =K15 -> 0 | T15: =M15 -> 0 | U15: =O15 -> 0 | V15: =MAX(LARGE(P15:U15,1)+LARGE(P15:U15,2)+LARGE(P15:U15,3),0) -> 172 | W15: =COUNTIF(P15:U15,">0") -> 2
A16: 7 | B16: Ida Lie Sørensen | C16: Larvik Ski | D16: 0 | E16: =IF(D16>0,VLOOKUP(D16,Poengskala!$B$4:$C$34,2,TRUE),0) -> 0 | F16: 5 | G16: =IF(F16>0,VLOOKUP(F16,Poengskala!$B$4:$C$34,2,TRUE),0) -> 70 | H16: 1 | I16: =IF(H16>0,VLOOKUP(H16,Poengskala!$B$4:$C$34,2,TRUE),0) -> 100 | K16: =IF(J16>0,VLOOKUP(J16,Poengskala!$B$4:$C$34,2,TRUE),0) -> 0 | M16: =IF(L16>0,VLOOKUP(L16,Poengskala!$B$4:$C$34,2,TRUE),0) -> 0 | O16: =IF(N16>0,VLOOKUP(N16,Poengskala!$B$4:$D$34,3,TRUE),0) -> 0 | P16: =E16 -> 0 | Q16: =G16 -> 70 | R16: =I16 -> 100 | S16: =K16 -> 0 | T16: =M16 -> 0 | U16: =O16 -> 0 | V16: =MAX(LARGE(P16:U16,1)+LARGE(P16:U16,2)+LARGE(P16:U16,3),0) -> 170 | W16: =COUNTIF(P16:U16,">0") -> 2
E17: =IF(D17>0,VLOOKUP(D17,Poengskala!$B$4:$C$34,2,TRUE),0) -> 0 | G17: =IF(F17>0,VLOOKUP(F17,Poengskala!$B$4:$C$34,2,TRUE),0) -> 0 | I17: =IF(H17>0,VLOOKUP(H17,Poengskala!$B$4:$C$34,2,TRUE),0) -> 0 | K17: =IF(J17>0,VLOOKUP(J17,Poengskala!$B$4:$C$34,2,TRUE),0) -> 0 | M17: =IF(L17>0,VLOOKUP(L17,Poengskala!$B$4:$C$34,2,TRUE),0) -> 0 | O17: =IF(N17>0,VLOOKUP(N17,Poengskala!$B$4:$D$34,3,TRUE),0) -> 0 | P17: =E17 -> 0 | Q17: =G17 -> 0 | R17: =I17 -> 0 | S17: =K17 -> 0 | T17: =M17 -> 0 | U17: =O17 -> 0 | V17: =MAX(LARGE(P17:U17,1)+LARGE(P17:U17,2)+LARGE(P17:U17,3),0) -> 0 | W17: =COUNTIF(P17:U17,">0") -> 0
E18: =IF(D18>0,VLOOKUP(D18,Poengskala!$B$4:$C$34,2,TRUE),0) -> 0 | G18: =IF(F18>0,VLOOKUP(F18,Poengskala!$B$4:$C$34,2,TRUE),0) -> 0 | I18: =IF(H18>0,VLOOKUP(H18,Poengskala!$B$4:$C$34,2,TRUE),0) -> 0 | K18: =IF(J18>0,VLOOKUP(J18,Poengskala!$B$4:$C$34,2,TRUE),0) -> 0 | M18: =IF(L18>0,VLOOKUP(L18,Poengskala!$B$4:$C$34,2,TRUE),0) -> 0 | O18: =IF(N18>0,VLOOKUP(N18,Poengskala!$B$4:$D$34,3,TRUE),0) -> 0 | P18: =E18 -> 0 | Q18: =G18 -> 0 | R18: =I18 -> 0 | S18: =K18 -> 0 | T18: =M18 -> 0 | U18: =O18 -> 0 | V18: =MAX(LARGE(P18:U18,1)+LARGE(P18:U18,2)+LARGE(P18:U18,3),0) -> 0 | W18: =COUNTIF(P18:U18,">0") -> 0
E19: =IF(D19>0,VLOOKUP(D19,Poengskala!$B$4:$C$34,2,TRUE),0) -> 0 | G19: =IF(F19>0,VLOOKUP(F19,Poengskala!$B$4:$C$34,2,TRUE),0) -> 0 | I19: =IF(H19>0,VLOOKUP(H19,Poengskala!$B$4:$C$34,2,TRUE),0) -> 0 | K19: =IF(J19>0,VLOOKUP(J19,Poengskala!$B$4:$C$34,2,TRUE),0) -> 0 | M19: =IF(L19>0,VLOOKUP(L19,Poengskala!$B$4:$C$34,2,TRUE),0) -> 0 | O19: =IF(N19>0,VLOOKUP(N19,Poengskala!$B$4:$D$34,3,TRUE),0) -> 0 | P19: =E19 -> 0 | Q19: =G19 -> 0 | R19: =I19 -> 0 | S19: =K19 -> 0 | T19: =M19 -> 0 | U19: =O19 -> 0 | V19: =MAX(LARGE(P19:U19,1)+LARGE(P19:U19,2)+LARGE(P19:U19,3),0) -> 0 | W19: =COUNTIF(P19:U19,">0") -> 0
E20: =IF(D20>0,VLOOKUP(D20,Poengskala!$B$4:$C$34,2,TRUE),0) -> 0 | G20: =IF(F20>0,VLOOKUP(F20,Poengskala!$B$4:$C$34,2,TRUE),0) -> 0 | I20: =IF(H20>0,VLOOKUP(H20,Poengskala!$B$4:$C$34,2,TRUE),0) -> 0 | K20: =IF(J20>0,VLOOKUP(J20,Poengskala!$B$4:$C$34,2,TRUE),0) -> 0 | M20: =IF(L20>0,VLOOKUP(L20,Poengskala!$B$4:$C$34,2,TRUE),0) -> 0 | O20: =IF(N20>0,VLOOKUP(N20,Poengskala!$B$4:$D$34,3,TRUE),0) -> 0 | P20: =E20 -> 0 | Q20: =G20 -> 0 | R20: =I20 -> 0 | S20: =K20 -> 0 | T20: =M20 -> 0 | U20: =O20 -> 0 | V20: =MAX(LARGE(P20:U20,1)+LARGE(P20:U20,2)+LARGE(P20:U20,3),0) -> 0 | W20: =COUNTIF(P20:U20,">0") -> 0
E21: =IF(D21>0,VLOOKUP(D21,Poengskala!$B$4:$C$34,2,TRUE),0) -> 0 | G21: =IF(F21>0,VLOOKUP(F21,Poengskala!$B$4:$C$34,2,TRUE),0) -> 0 | I21: =IF(H21>0,VLOOKUP(H21,Poengskala!$B$4:$C$34,2,TRUE),0) -> 0 | K21: =IF(J21>0,VLOOKUP(J21,Poengskala!$B$4:$C$34,2,TRUE),0) -> 0 | M21: =IF(L21>0,VLOOKUP(L21,Poengskala!$B$4:$C$34,2,TRUE),0) -> 0 | O21: =IF(N21>0,VLOOKUP(N21,Poengskala!$B$4:$D$34,3,TRUE),0) -> 0 | P21: =E21 -> 0 | Q21: =G21 -> 0 | R21: =I21 -> 0 | S21: =K21 -> 0 | T21: =M21 -> 0 | U21: =O21 -> 0 | V21: =MAX(LARGE(P21:U21,1)+LARGE(P21:U21,2)+LARGE(P21:U21,3),0) -> 0 | W21: =COUNTIF(P21:U21,">0") -> 0
E22: =IF(D22>0,VLOOKUP(D22,Poengskala!$B$4:$C$34,2,TRUE),0) -> 0 | G22: =IF(F22>0,VLOOKUP(F22,Poengskala!$B$4:$C$34,2,TRUE),0) -> 0 | I22: =IF(H22>0,VLOOKUP(H22,Poengskala!$B$4:$C$34,2,TRUE),0) -> 0 | K22: =IF(J22>0,VLOOKUP(J22,Poengskala!$B$4:$C$34,2,TRUE),0) -> 0 | M22: =IF(L22>0,VLOOKUP(L22,Poengskala!$B$4:$C$34,2,TRUE),0) -> 0 | O22: =IF(N22>0,VLOOKUP(N22,Poengskala!$B$4:$D$34,3,TRUE),0) -> 0 | P22: =E22 -> 0 | Q22: =G22 -> 0 | R22: =I22 -> 0 | S22: =K22 -> 0 | T22: =M22 -> 0 | U22: =O22 -> 0 | V22: =MAX(LARGE(P22:U22,1)+LARGE(P22:U22,2)+LARGE(P22:U22,3),0) -> 0 | W22: =COUNTIF(P22:U22,">0") -> 0
E23: =IF(D23>0,VLOOKUP(D23,Poengskala!$B$4:$C$34,2,TRUE),0) -> 0 | G23: =IF(F23>0,VLOOKUP(F23,Poengskala!$B$4:$C$34,2,TRUE),0) -> 0 | I23: =IF(H23>0,VLOOKUP(H23,Poengskala!$B$4:$C$34,2,TRUE),0) -> 0 | K23: =IF(J23>0,VLOOKUP(J23,Poengskala!$B$4:$C$34,2,TRUE),0) -> 0 | M23: =IF(L23>0,VLOOKUP(L23,Poengskala!$B$4:$C$34,2,TRUE),0) -> 0 | O23: =IF(N23>0,VLOOKUP(N23,Poengskala!$B$4:$D$34,3,TRUE),0) -> 0 | P23: =E23 -> 0 | Q23: =G23 -> 0 | R23: =I23 -> 0 | S23: =K23 -> 0 | T23: =M23 -> 0 | U23: =O23 -> 0 | V23: =MAX(LARGE(P23:U23,1)+LARGE(P23:U23,2)+LARGE(P23:U23,3),0) -> 0 | W23: =COUNTIF(P23:U23,">0") -> 0
E24: =IF(D24>0,VLOOKUP(D24,Poengskala!$B$4:$C$34,2,TRUE),0) -> 0 | G24: =IF(F24>0,VLOOKUP(F24,Poengskala!$B$4:$C$34,2,TRUE),0) -> 0 | I24: =IF(H24>0,VLOOKUP(H24,Poengskala!$B$4:$C$34,2,TRUE),0) -> 0 | K24: =IF(J24>0,VLOOKUP(J24,Poengskala!$B$4:$C$34,2,TRUE),0) -> 0 | M24: =IF(L24>0,VLOOKUP(L24,Poengskala!$B$4:$C$34,2,TRUE),0) -> 0 | O24: =IF(N24>0,VLOOKUP(N24,Poengskala!$B$4:$D$34,3,TRUE),0) -> 0 | P24: =E24 -> 0 | Q24: =G24 -> 0 | R24: =I24 -> 0 | S24: =K24 -> 0 | T24: =M24 -> 0 | U24: =O24 -> 0 | V24: =MAX(LARGE(P24:U24,1)+LARGE(P24:U24,2)+LARGE(P24:U24,3),0) -> 0 | W24: =COUNTIF(P24:U24,">0") -> 0
E25: =IF(D25>0,VLOOKUP(D25,Poengskala!$B$4:$C$34,2,TRUE),0) -> 0 | G25: =IF(F25>0,VLOOKUP(F25,Poengskala!$B$4:$C$34,2,TRUE),0) -> 0 | I25: =IF(H25>0,VLOOKUP(H25,Poengskala!$B$4:$C$34,2,TRUE),0) -> 0 | K25: =IF(J25>0,VLOOKUP(J25,Poengskala!$B$4:$C$34,2,TRUE),0) -> 0 | M25: =IF(L25>0,VLOOKUP(L25,Poengskala!$B$4:$C$34,2,TRUE),0) -> 0 | O25: =IF(N25>0,VLOOKUP(N25,Poengskala!$B$4:$D$34,3,TRUE),0) -> 0 | P25: =E25 -> 0 | Q25: =G25 -> 0 | R25: =I25 -> 0 | S25: =K25 -> 0 | T25: =M25 -> 0 | U25: =O25 -> 0 | V25: =MAX(LARGE(P25:U25,1)+LARGE(P25:U25,2)+LARGE(P25:U25,3),0) -> 0 | W25: =COUNTIF(P25:U25,">0") -> 0
E26: =IF(D26>0,VLOOKUP(D26,Poengskala!$B$4:$C$34,2,TRUE),0) -> 0 | G26: =IF(F26>0,VLOOKUP(F26,Poengskala!$B$4:$C$34,2,TRUE),0) -> 0 | I26: =IF(H26>0,VLOOKUP(H26,Poengskala!$B$4:$C$34,2,TRUE),0) -> 0 | K26: =IF(J26>0,VLOOKUP(J26,Poengskala!$B$4:$C$34,2,TRUE),0) -> 0 | M26: =IF(L26>0,VLOOKUP(L26,Poengskala!$B$4:$C$34,2,TRUE),0) -> 0 | O26: =IF(N26>0,VLOOKUP(N26,Poengskala!$B$4:$D$34,3,TRUE),0) -> 0 | P26: =E26 -> 0 | Q26: =G26 -> 0 | R26: =I26 -> 0 | S26: =K26 -> 0 | T26: =M26 -> 0 | U26: =O26 -> 0 | V26: =MAX(LARGE(P26:U26,1)+LARGE(P26:U26,2)+LARGE(P26:U26,3),0) -> 0 | W26: =COUNTIF(P26:U26,">0") -> 0
E27: =IF(D27>0,VLOOKUP(D27,Poengskala!$B$4:$C$34,2,TRUE),0) -> 0 | G27: =IF(F27>0,VLOOKUP(F27,Poengskala!$B$4:$C$34,2,TRUE),0) -> 0 | I27: =IF(H27>0,VLOOKUP(H27,Poengskala!$B$4:$C$34,2,TRUE),0) -> 0 | K27: =IF(J27>0,VLOOKUP(J27,Poengskala!$B$4:$C$34,2,TRUE),0) -> 0 | M27: =IF(L27>0,VLOOKUP(L27,Poengskala!$B$4:$C$34,2,TRUE),0) -> 0 | O27: =IF(N27>0,VLOOKUP(N27,Poengskala!$B$4:$D$34,3,TRUE),0) -> 0 | P27: =E27 -> 0 | Q27: =G27 -> 0 | R27: =I27 -> 0 | S27: =K27 -> 0 | T27: =M27 -> 0 | U27: =O27 -> 0 | V27: =MAX(LARGE(P27:U27,1)+LARGE(P27:U27,2)+LARGE(P27:U27,3),0) -> 0 | W27: =COUNTIF(P27:U27,">0") -> 0
E28: =IF(D28>0,VLOOKUP(D28,Poengskala!$B$4:$C$34,2,TRUE),0) -> 0 | G28: =IF(F28>0,VLOOKUP(F28,Poengskala!$B$4:$C$34,2,TRUE),0) -> 0 | I28: =IF(H28>0,VLOOKUP(H28,Poengskala!$B$4:$C$34,2,TRUE),0) -> 0 | K28: =IF(J28>0,VLOOKUP(J28,Poengskala!$B$4:$C$34,2,TRUE),0) -> 0 | M28: =IF(L28>0,VLOOKUP(L28,Poengskala!$B$4:$C$34,2,TRUE),0) -> 0 | O28: =IF(N28>0,VLOOKUP(N28,Poengskala!$B$4:$D$34,3,TRUE),0) -> 0 | P28: =E28 -> 0 | Q28: =G28 -> 0 | R28: =I28 -> 0 | S28: =K28 -> 0 | T28: =M28 -> 0 | U28: =O28 -> 0 | V28: =MAX(LARGE(P28:U28,1)+LARGE(P28:U28,2)+LARGE(P28:U28,3),0) -> 0 | W28: =COUNTIF(P28:U28,">0") -> 0
... E45: =IF(D45>0,VLOOKUP(D45,Poengskala!$B$4:$C$34,2,TRUE),0) -> 0 | G45: =IF(F45>0,VLOOKUP(F45,Poengskala!$B$4:$C$34,2,TRUE),0) -> 0 | I45: =IF(H45>0,VLOOKUP(H45,Poengskala!$B$4:$C$34,2,TRUE),0) -> 0 | K45: =IF(J45>0,VLOOKUP(J45,Poengskala!$B$4:$C$34,2,TRUE),0) -> 0 | M45: =IF(L45>0,VLOOKUP(L45,Poengskala!$B$4:$C$34,2,TRUE),0) -> 0 | O45: =IF(N45>0,VLOOKUP(N45,Poengskala!$B$4:$D$34,3,TRUE),0) -> 0 | P45: =E45 -> 0 | Q45: =G45 -> 0 | R45: =I45 -> 0 | S45: =K45 -> 0 | T45: =M45 -> 0 | U45: =O45 -> 0 | V45: =MAX(LARGE(P45:U45,1)+LARGE(P45:U45,2)+LARGE(P45:U45,3),0) -> 0 | W45: =COUNTIF(P45:U45,">0") -> 0

Sheet J-16
A1: Klasse - Jenter 16 år
A2: Utøveren må ha fullført 3 av 5 renn i cupen for å bli premiert.
A3: De 3 beste rennene teller sammenlagt
A4: Lista viser alle som har deltatt i TV - Cup.
A6: Evt. feil sendes til tvsk@skiforbundet.no | D6: Fristil | F6: Klassisk | H6: Sprint Klassisk | J6: Klassisk | L6: Finale Tour | N6: Finale Tour | P6: Renn1 | Q6: Renn2 | R6: Renn3 | S6: Renn4 | U6: Renn5 | V6: Total Poeng | W6: Antall renn
A7: Oppdatert: 12.02.2019 | D7: Oseberg Skilag | F7: Svarstad IL | H7: IL Runar | J7: Høydalsmo IL | L7: Runar | N7: IL Ivrig/Botne SK
D8: 43450 | F8: 43464 | H8: 43499 | J8: 43505 | L8: 42812 | N8: 16.03-17.03.2019
A9: Plass | B9: Navn | C9: Klubb | D9: Plass | E9: Poeng | F9: Plass | G9: Poeng | H9: Plass | I9: Poeng | J9: Plass | K9: Poeng | L9: Plass | M9: Poeng | N9: Plass | O9: Poeng
A10: 1 | B10: Nora Sofie Doksrød | C10: IL Runar | D10: 2 | E10: =IF(D10>0,VLOOKUP(D10,Poengskala!$B$4:$C$34,2,TRUE),0) -> 90 | F10: 2 | G10: =IF(F10>0,VLOOKUP(F10,Poengskala!$B$4:$C$34,2,TRUE),0) -> 90 | H10: 1 | I10: =IF(H10>0,VLOOKUP(H10,Poengskala!$B$4:$C$34,2,TRUE),0) -> 100 | J10: 1 | K10: =IF(J10>0,VLOOKUP(J10,Poengskala!$B$4:$C$34,2,TRUE),0) -> 100 | M10: =IF(L10>0,VLOOKUP(L10,Poengskala!$B$4:$C$34,2,TRUE),0) -> 0 | N10: 1 | O10: =IF(N10>0,VLOOKUP(N10,Poengskala!$B$4:$D$34,3,TRUE),0) -> 150 | P10: =E10 -> 90 | Q10: =G10 -> 90 | R10: =I10 -> 100 | S10: =K10 -> 100 | T10: =M10 -> 0 | U10: =O10 -> 150 | V10: =MAX(LARGE(P10:U10,1)+LARGE(P10:U10,2)+LARGE(P10:U10,3),0) -> 350 | W10: =COUNTIF(P10:U10,">0") -> 5
A11: 2 | B11: Maren Halle Haugen | C11: IL Runar | D11: 1 | E11: =IF(D11>0,VLOOKUP(D11,Poengskala!$B$4:$C$34,2,TRUE),0) -> 100 | F11: 4 | G11: =IF(F11>0,VLOOKUP(F11,Poengskala!$B$4:$C$34,2,TRUE),0) -> 75 | H11: 2 | I11: =IF(H11>0,VLOOKUP(H11,Poengskala!$B$4:$C$34,2,TRUE),0) -> 90 | J11: 2 | K11: =IF(J11>0,VLOOKUP(J11,Poengskala!$B$4:$C$34,2,TRUE),0) -> 90 | M11: =IF(L11>0,VLOOKUP(L11,Poengskala!$B$4:$C$34,2,TRUE),0) -> 0 | N11: 2 | O11: =IF(N11>0,VLOOKUP(N11,Poengskala!$B$4:$D$34,3,TRUE),0) -> 135 | P11: =E11 -> 100 | Q11: =G11 -> 75 | R11: =I11 -> 90 | S11: =K11 -> 90 | T11: =M11 -> 0 | U11: =O11 -> 135 | V11: =MAX(LARGE(P11:U11,1)+LARGE(P11:U11,2)+LARGE(P11:U11,3),0) -> 325 | W11: =COUNTIF(P11:U11,">0") -> 5
A12: 3 | B12: Hedda Madeleine Gjerstad | C12: IL Runar | D12: 6 | E12: =IF(D12>0,VLOOKUP(D12,Poengskala!$B$4:$C$34,2,TRUE),0) -> 66 | F12: 5 | G12: =IF(F12>0,VLOOKUP(F12,Poengskala!$B$4:$C$34,2,TRUE),0) -> 70 | H12: 3 | I12: =IF(H12>0,VLOOKUP(H12,Poengskala!$B$4:$C$34,2,TRUE),0) -> 82 | J12: 5 | K12: =IF(J12>0,VLOOKUP(J12,Poengskala!$B$4:$C$34,2,TRUE),0) -> 70 | M12: =IF(L12>0,VLOOKUP(L12,Poengskala!$B$4:$C$34,2,TRUE),0) -> 0 | N12: 5 | O12: =IF(N12>0,VLOOKUP(N12,Poengskala!$B$4:$D$34,3,TRUE),0) -> 105 | P12: =E12 -> 66 | Q12: =G12 -> 70 | R12: =I12 -> 82 | S12: =K12 -> 70 | T12: =M12 -> 0 | U12: =O12 -> 105 | V12: =MAX(LARGE(P12:U12,1)+LARGE(P12:U12,2)+LARGE(P12:U12,3),0) -> 257 | W12: =COUNTIF(P12:U12,">0") -> 5
A13: 4 | B13: Karoline Wergeland Kvestad | C13: IL Runar | D13: 4 | E13: =IF(D13>0,VLOOKUP(D13,Poengskala!$B$4:$C$34,2,TRUE),0) -> 75 | F13: 7 | G13: =IF(F13>0,VLOOKUP(F13,Poengskala!$B$4:$C$34,2,TRUE),0) -> 62 | H13: 5 | I13: =IF(H13>0,VLOOKUP(H13,Poengskala!$B$4:$C$34,2,TRUE),0) -> 70 | J13: 4 | K13: =IF(J13>0,VLOOKUP(J13,Poengskala!$B$4:$C$34,2,TRUE),0) -> 75 | M13: =IF(L13>0,VLOOKUP(L13,Poengskala!$B$4:$C$34,2,TRUE),0) -> 0 | O13: =IF(N13>0,VLOOKUP(N13,Poengskala!$B$4:$D$34,3,TRUE),0) -> 0 | P13: =E13 -> 75 | Q13: =G13 -> 62 | R13: =I13 -> 70 | S13: =K13 -> 75 | T13: =M13 -> 0 | U13: =O13 -> 0 | V13: =MAX(LARGE(P13:U13,1)+LARGE(P13:U13,2)+LARGE(P13:U13,3),0) -> 220 | W13: =COUNTIF(P13:U13,">0") -> 4
A14: 5 | B14: Ina Halle Haugen | C14: IL Runar | E14: =IF(D14>0,VLOOKUP(D14,Poengskala!$B$4:$C$34,2,TRUE),0) -> 0 | G14: =IF(F14>0,VLOOKUP(F14,Poengskala!$B$4:$C$34,2,TRUE),0) -> 0 | I14: =IF(H14>0,VLOOKUP(H14,Poengskala!$B$4:$C$34,2,TRUE),0) -> 0 | J14: 3 | K14: =IF(J14>0,VLOOKUP(J14,Poengskala!$B$4:$C$34,2,TRUE),0) -> 82 | M14: =IF(L14>0,VLOOKUP(L14,Poengskala!$B$4:$C$34,2,TRUE),0) -> 0 | N14: 4 | O14: =IF(N14>0,VLOOKUP(N14,Poengskala!$B$4:$D$34,3,TRUE),0) -> 112.5 | P14: =E14 -> 0 | Q14: =G14 -> 0 | R14: =I14 -> 0 | S14: =K14 -> 82 | T14: =M14 -> 0 | U14: =O14 -> 112.5 | V14: =MAX(LARGE(P14:U14,1)+LARGE(P14:U14,2)+LARGE(P14:U14,3),0) -> 194.5 | W14: =COUNTIF(P14:U14,">0") -> 2
A15: 6 | B15: Ingerid Vadder | C15: Morgedal IL | D15: 2 | E15: =IF(D15>0,VLOOKUP(D15,Poengskala!$B$4:$C$34,2,TRUE),0) -> 90 | F15: 1 | G15: =IF(F15>0,VLOOKUP(F15,Poengskala!$B$4:$C$34,2,TRUE),0) -> 100 | I15: =IF(H15>0,VLOOKUP(H15,Poengskala!$B$4:$C$34,2,TRUE),0) -> 0 | K15: =IF(J15>0,VLOOKUP(J15,Poengskala!$B$4:$C$34,2,TRUE),0) -> 0 | M15: =IF(L15>0,VLOOKUP(L15,Poengskala!$B$4:$C$34,2,TRUE),0) -> 0 | O15: =IF(N15>0,VLOOKUP(N15,Poengskala!$B$4:$D$34,3,TRUE),0) -> 0 | P15: =E15 -> 90 | Q15: =G15 -> 100 | R15: =I15 -> 0 | S15: =K15 -> 0 | T15: =M15 -> 0 | U15: =O15 -> 0 | V15: =MAX(LARGE(P15:U15,1)+LARGE(P15:U15,2)+LARGE(P15:U15,3),0) -> 190 | W15: =COUNTIF(P15:U15,">0") -> 2
A16: 7 | B16: Kristin Melby Jacobsen | C16: Svarstad IL | D16: 0 | E16: =IF(D16>0,VLOOKUP(D16,Poengskala!$B$4:$C$34,2,TRUE),0) -> 0 | F16: 8 | G16: =IF(F16>0,VLOOKUP(F16,Poengskala!$B$4:$C$34,2,TRUE),0) -> 58 | I16: =IF(H16>0,VLOOKUP(H16,Poengskala!$B$4:$C$34,2,TRUE),0) -> 0 | K16: =IF(J16>0,VLOOKUP(J16,Poengskala!$B$4:$C$34,2,TRUE),0) -> 0 | M16: =IF(L16>0,VLOOKUP(L16,Poengskala!$B$4:$C$34,2,TRUE),0) -> 0 | N16: 3 | O16: =IF(N16>0,VLOOKUP(N16,Poengskala!$B$4:$D$34,3,TRUE),0) -> 123 | P16: =E16 -> 0 | Q16: =G16 -> 58 | R16: =I16 -> 0 | S16: =K16 -> 0 | T16: =M16 -> 0 | U16: =O16 -> 123 | V16: =MAX(LARGE(P16:U16,1)+LARGE(P16:U16,2)+LARGE(P16:U16,3),0) -> 181 | W16: =COUNTIF(P16:U16,">0") -> 2
A17: 8 | B17: Kristin Nordgård | C17: Heddal IL | D17: 0 | E17: =IF(D17>0,VLOOKUP(D17,Poengskala!$B$4:$C$34,2,TRUE),0) -> 0 | G17: =IF(F17>0,VLOOKUP(F17,Poengskala!$B$4:$C$34,2,TRUE),0) -> 0 | H17: 4 | I17: =IF(H17>0,VLOOKUP(H17,Poengskala!$B$4:$C$34,2,TRUE),0) -> 75 | J17: 6 | K17: =IF(J17>0,VLOOKUP(J17,Poengskala!$B$4:$C$34,2,TRUE),0) -> 66 | M17: =IF(L17>0,VLOOKUP(L17,Poengskala!$B$4:$C$34,2,TRUE),0) -> 0 | O17: =IF(N17>0,VLOOKUP(N17,Poengskala!$B$4:$D$34,3,TRUE),0) -> 0 | P17: =E17 -> 0 | Q17: =G17 -> 0 | R17: =I17 -> 75 | S17: =K17 -> 66 | T17: =M17 -> 0 | U17: =O17 -> 0 | V17: =MAX(LARGE(P17:U17,1)+LARGE(P17:U17,2)+LARGE(P17:U17,3),0) -> 141 | W17: =COUNTIF(P17:U17,">0") -> 2
A18: 9 | B18: Mari Haugenes Elvestad | C18: IL Skarphedin | D18: 5 | E18: =IF(D18>0,VLOOKUP(D18,Poengskala!$B$4:$C$34,2,TRUE),0) -> 70 | F18: 6 | G18: =IF(F18>0,VLOOKUP(F18,Poengskala!$B$4:$C$34,2,TRUE),0) -> 66 | I18: =IF(H18>0,VLOOKUP(H18,Poengskala!$B$4:$C$34,2,TRUE),0) -> 0 | K18: =IF(J18>0,VLOOKUP(J18,Poengskala!$B$4:$C$34,2,TRUE),0) -> 0 | M18: =IF(L18>0,VLOOKUP(L18,Poengskala!$B$4:$C$34,2,TRUE),0) -> 0 | O18: =IF(N18>0,VLOOKUP(N18,Poengskala!$B$4:$D$34,3,TRUE),0) -> 0 | P18: =E18 -> 70 | Q18: =G18 -> 66 | R18: =I18 -> 0 | S18: =K18 -> 0 | T18: =M18 -> 0 | U18: =O18 -> 0 | V18: =MAX(LARGE(P18:U18,1)+LARGE(P18:U18,2)+LARGE(P18:U18,3),0) -> 136 | W18: =COUNTIF(P18:U18,">0") -> 2
A19: 10 | B19: Sigrid Vinjerui | C19: Byrte IL | D19: 0 | E19: =IF(D19>0,VLOOKUP(D19,Poengskala!$B$4:$C$34,2,TRUE),0) -> 0 | F19: 3 | G19: =IF(F19>0,VLOOKUP(F19,Poengskala!$B$4:$C$34,2,TRUE),0) -> 82 | I19: =IF(H19>0,VLOOKUP(H19,Poengskala!$B$4:$C$34,2,TRUE),0) -> 0 | K19: =IF(J19>0,VLOOKUP(J19,Poengskala!$B$4:$C$34,2,TRUE),0) -> 0 | M19: =IF(L19>0,VLOOKUP(L19,Poengskala!$B$4:$C$34,2,TRUE),0) -> 0 | O19: =IF(N19>0,VLOOKUP(N19,Poengskala!$B$4:$D$34,3,TRUE),0) -> 0 | P19: =E19 -> 0 | Q19: =G19 -> 82 | R19: =I19 -> 0 | S19: =K19 -> 0 | T19: =M19 -> 0 | U19: =O19 -> 0 | V19: =MAX(LARGE(P19:U19,1)+LARGE(P19:U19,2)+LARGE(P19:U19,3),0) -> 82 | W19: =COUNTIF(P19:U19,">0") -> 1
E20: =IF(D20>0,VLOOKUP(D20,Poengskala!$B$4:$C$34,2,TRUE),0) -> 0 | G20: =IF(F20>0,VLOOKUP(F20,Poengskala!$B$4:$C$34,2,TRUE),0) -> 0 | I20: =IF(H20>0,VLOOKUP(H20,Poengskala!$B$4:$C$34,2,TRUE),0) -> 0 | K20: =IF(J20>0,VLOOKUP(J20,Poengskala!$B$4:$C$34,2,TRUE),0) -> 0 | M20: =IF(L20>0,VLOOKUP(L20,Poengskala!$B$4:$C$34,2,TRUE),0) -> 0 | O20: =IF(N20>0,VLOOKUP(N20,Poengskala!$B$4:$D$34,3,TRUE),0) -> 0 | P20: =E20 -> 0 | Q20: =G20 -> 0 | R20: =I20 -> 0 | S20: =K20 -> 0 | T20: =M20 -> 0 | U20: =O20 -> 0 | V20: =MAX(LARGE(P20:U20,1)+LARGE(P20:U20,2)+LARGE(P20:U20,3),0) -> 0 | W20: =COUNTIF(P20:U20,">0") -> 0
E21: =IF(D21>0,VLOOKUP(D21,Poengskala!$B$4:$C$34,2,TRUE),0) -> 0 | G21: =IF(F21>0,VLOOKUP(F21,Poengskala!$B$4:$C$34,2,TRUE),0) -> 0 | I21: =IF(H21>0,VLOOKUP(H21,Poengskala!$B$4:$C$34,2,TRUE),0) -> 0 | K21: =IF(J21>0,VLOOKUP(J21,Poengskala!$B$4:$C$34,2,TRUE),0) -> 0 | M21: =IF(L21>0,VLOOKUP(L21,Poengskala!$B$4:$C$34,2,TRUE),0) -> 0 | O21: =IF(N21>0,VLOOKUP(N21,Poengskala!$B$4:$D$34,3,TRUE),0) -> 0 | P21: =E21 -> 0 | Q21: =G21 -> 0 | R21: =I21 -> 0 | S21: =K21 -> 0 | T21: =M21 -> 0 | U21: =O21 -> 0 | V21: =MAX(LARGE(P21:U21,1)+LARGE(P21:U21,2)+LARGE(P21:U21,3),0) -> 0 | W21: =COUNTIF(P21:U21,">0") -> 0
E22: =IF(D22>0,VLOOKUP(D22,Poengskala!$B$4:$C$34,2,TRUE),0) -> 0 | G22: =IF(F22>0,VLOOKUP(F22,Poengskala!$B$4:$C$34,2,TRUE),0) -> 0 | I22: =IF(H22>0,VLOOKUP(H22,Poengskala!$B$4:$C$34,2,TRUE),0) -> 0 | K22: =IF(J22>0,VLOOKUP(J22,Poengskala!$B$4:$C$34,2,TRUE),0) -> 0 | M22: =IF(L22>0,VLOOKUP(L22,Poengskala!$B$4:$C$34,2,TRUE),0) -> 0 | O22: =IF(N22>0,VLOOKUP(N22,Poengskala!$B$4:$D$34,3,TRUE),0) -> 0 | P22: =E22 -> 0 | Q22: =G22 -> 0 | R22: =I22 -> 0 | S22: =K22 -> 0 | T22: =M22 -> 0 | U22: =O22 -> 0 | V22: =MAX(LARGE(P22:U22,1)+LARGE(P22:U22,2)+LARGE(P22:U22,3),0) -> 0 | W22: =COUNTIF(P22:U22,">0") -> 0
E23: =IF(D23>0,VLOOKUP(D23,Poengskala!$B$4:$C$34,2,TRUE),0) -> 0 | G23: =IF(F23>0,VLOOKUP(F23,Poengskala!$B$4:$C$34,2,TRUE),0) -> 0 | I23: =IF(H23>0,VLOOKUP(H23,Poengskala!$B$4:$C$34,2,TRUE),0) -> 0 | K23: =IF(J23>0,VLOOKUP(J23,Poengskala!$B$4:$C$34,2,TRUE),0) -> 0 | M23: =IF(L23>0,VLOOKUP(L23,Poengskala!$B$4:$C$34,2,TRUE),0) -> 0 | O23: =IF(N23>0,VLOOKUP(N23,Poengskala!$B$4:$D$34,3,TRUE),0) -> 0 | P23: =E23 -> 0 | Q23: =G23 -> 0 | R23: =I23 -> 0 | S23: =K23 -> 0 | T23: =M23 -> 0 | U23: =O23 -> 0 | V23: =MAX(LARGE(P23:U23,1)+LARGE(P23:U23,2)+LARGE(P23:U23,3),0) -> 0 | W23: =COUNTIF(P23:U23,">0") -> 0
E24: =IF(D24>0,VLOOKUP(D24,Poengskala!$B$4:$C$34,2,TRUE),0) -> 0 | G24: =IF(F24>0,VLOOKUP(F24,Poengskala!$B$4:$C$34,2,TRUE),0) -> 0 | I24: =IF(H24>0,VLOOKUP(H24,Poengskala!$B$4:$C$34,2,TRUE),0) -> 0 | K24: =IF(J24>0,VLOOKUP(J24,Poengskala!$B$4:$C$34,2,TRUE),0) -> 0 | M24: =IF(L24>0,VLOOKUP(L24,Poengskala!$B$4:$C$34,2,TRUE),0) -> 0 | O24: =IF(N24>0,VLOOKUP(N24,Poengskala!$B$4:$D$34,3,TRUE),0) -> 0 | P24: =E24 -> 0 | Q24: =G24 -> 0 | R24: =I24 -> 0 | S24: =K24 -> 0 | T24: =M24 -> 0 | U24: =O24 -> 0 | V24: =MAX(LARGE(P24:U24,1)+LARGE(P24:U24,2)+LARGE(P24:U24,3),0) -> 0 | W24: =COUNTIF(P24:U24,">0") -> 0
E25: =IF(D25>0,VLOOKUP(D25,Poengskala!$B$4:$C$34,2,TRUE),0) -> 0 | G25: =IF(F25>0,VLOOKUP(F25,Poengskala!$B$4:$C$34,2,TRUE),0) -> 0 | I25: =IF(H25>0,VLOOKUP(H25,Poengskala!$B$4:$C$34,2,TRUE),0) -> 0 | K25: =IF(J25>0,VLOOKUP(J25,Poengskala!$B$4:$C$34,2,TRUE),0) -> 0 | M25: =IF(L25>0,VLOOKUP(L25,Poengskala!$B$4:$C$34,2,TRUE),0) -> 0 | O25: =IF(N25>0,VLOOKUP(N25,Poengskala!$B$4:$D$34,3,TRUE),0) -> 0 | P25: =E25 -> 0 | Q25: =G25 -> 0 | R25: =I25 -> 0 | S25: =K25 -> 0 | T25: =M25 -> 0 | U25: =O25 -> 0 | V25: =MAX(LARGE(P25:U25,1)+LARGE(P25:U25,2)+LARGE(P25:U25,3),0) -> 0 | W25: =COUNTIF(P25:U25,">0") -> 0
E26: =IF(D26>0,VLOOKUP(D26,Poengskala!$B$4:$C$34,2,TRUE),0) -> 0 | G26: =IF(F26>0,VLOOKUP(F26,Poengskala!$B$4:$C$34,2,TRUE),0) -> 0 | I26: =IF(H26>0,VLOOKUP(H26,Poengskala!$B$4:$C$34,2,TRUE),0) -> 0 | K26: =IF(J26>0,VLOOKUP(J26,Poengskala!$B$4:$C$34,2,TRUE),0) -> 0 | M26: =IF(L26>0,VLOOKUP(L26,Poengskala!$B$4:$C$34,2,TRUE),0) -> 0 | O26: =IF(N26>0,VLOOKUP(N26,Poengskala!$B$4:$D$34,3,TRUE),0) -> 0 | P26: =E26 -> 0 | Q26: =G26 -> 0 | R26: =I26 -> 0 | S26: =K26 -> 0 | T26: =M26 -> 0 | U26: =O26 -> 0 | V26: =MAX(LARGE(P26:U26,1)+LARGE(P26:U26,2)+LARGE(P26:U26,3),0) -> 0 | W26: =COUNTIF(P26:U26,">0") -> 0
E27: =IF(D27>0,VLOOKUP(D27,Poengskala!$B$4:$C$34,2,TRUE),0) -> 0 | G27: =IF(F27>0,VLOOKUP(F27,Poengskala!$B$4:$C$34,2,TRUE),0) -> 0 | I27: =IF(H27>0,VLOOKUP(H27,Poengskala!$B$4:$C$34,2,TRUE),0) -> 0 | K27: =IF(J27>0,VLOOKUP(J27,Poengskala!$B$4:$C$34,2,TRUE),0) -> 0 | M27: =IF(L27>0,VLOOKUP(L27,Poengskala!$B$4:$C$34,2,TRUE),0) -> 0 | O27: =IF(N27>0,VLOOKUP(N27,Poengskala!$B$4:$D$34,3,TRUE),0) -> 0 | P27: =E27 -> 0 | Q27: =G27 -> 0 | R27: =I27 -> 0 | S27: =K27 -> 0 | T27: =M27 -> 0 | U27: =O27 -> 0 | V27: =MAX(LARGE(P27:U27,1)+LARGE(P27:U27,2)+LARGE(P27:U27,3),0) -> 0 | W27: =COUNTIF(P27:U27,">0") -> 0
E28: =IF(D28>0,VLOOKUP(D28,Poengskala!$B$4:$C$34,2,TRUE),0) -> 0 | G28: =IF(F28>0,VLOOKUP(F28,Poengskala!$B$4:$C$34,2,TRUE),0) -> 0 | I28: =IF(H28>0,VLOOKUP(H28,Poengskala!$B$4:$C$34,2,TRUE),0) -> 0 | K28: =IF(J28>0,VLOOKUP(J28,Poengskala!$B$4:$C$34,2,TRUE),0) -> 0 | M28: =IF(L28>0,VLOOKUP(L28,Poengskala!$B$4:$C$34,2,TRUE),0) -> 0 | O28: =IF(N28>0,VLOOKUP(N28,Poengskala!$B$4:$D$34,3,TRUE),0) -> 0 | P28: =E28 -> 0 | Q28: =G28 -> 0 | R28: =I28 -> 0 | S28: =K28 -> 0 | T28: =M28 -> 0 | U28: =O28 -> 0 | V28: =MAX(LARGE(P28:U28,1)+LARGE(P28:U28,2)+LARGE(P28:U28,3),0) -> 0 | W28: =COUNTIF(P28:U28,">0") -> 0
E29: =IF(D29>0,VLOOKUP(D29,Poengskala!$B$4:$C$34,2,TRUE),0) -> 0 | G29: =IF(F29>0,VLOOKUP(F29,Poengskala!$B$4:$C$34,2,TRUE),0) -> 0 | I29: =IF(H29>0,VLOOKUP(H29,Poengskala!$B$4:$C$34,2,TRUE),0) -> 0 | K29: =IF(J29>0,VLOOKUP(J29,Poengskala!$B$4:$C$34,2,TRUE),0) -> 0 | M29: =IF(L29>0,VLOOKUP(L29,Poengskala!$B$4:$C$34,2,TRUE),0) -> 0 | O29: =IF(N29>0,VLOOKUP(N29,Poengskala!$B$4:$D$34,3,TRUE),0) -> 0 | P29: =E29 -> 0 | Q29: =G29 -> 0 | R29: =I29 -> 0 | S29: =K29 -> 0 | T29: =M29 -> 0 | U29: =O29 -> 0 | V29: =MAX(LARGE(P29:U29,1)+LARGE(P29:U29,2)+LARGE(P29:U29,3),0) -> 0 | W29: =COUNTIF(P29:U29,">0") -> 0
E30: =IF(D30>0,VLOOKUP(D30,Poengskala!$B$4:$C$34,2,TRUE),0) -> 0 | G30: =IF(F30>0,VLOOKUP(F30,Poengskala!$B$4:$C$34,2,TRUE),0) -> 0 | I30: =IF(H30>0,VLOOKUP(H30,Poengskala!$B$4:$C$34,2,TRUE),0) -> 0 | K30: =IF(J30>0,VLOOKUP(J30,Poengskala!$B$4:$C$34,2,TRUE),0) -> 0 | M30: =IF(L30>0,VLOOKUP(L30,Poengskala!$B$4:$C$34,2,TRUE),0) -> 0 | O30: =IF(N30>0,VLOOKUP(N30,Poengskala!$B$4:$D$34,3,TRUE),0) -> 0 | P30: =E30 -> 0 | Q30: =G30 -> 0 | R30: =I30 -> 0 | S30: =K30 -> 0 | T30: =M30 -> 0 | U30: =O30 -> 0 | V30: =MAX(LARGE(P30:U30,1)+LARGE(P30:U30,2)+LARGE(P30:U30,3),0) -> 0 | W30: =COUNTIF(P30:U30,">0") -> 0
E31: =IF(D31>0,VLOOKUP(D31,Poengskala!$B$4:$C$34,2,TRUE),0) -> 0 | G31: =IF(F31>0,VLOOKUP(F31,Poengskala!$B$4:$C$34,2,TRUE),0) -> 0 | I31: =IF(H31>0,VLOOKUP(H31,Poengskala!$B$4:$C$34,2,TRUE),0) -> 0 | K31: =IF(J31>0,VLOOKUP(J31,Poengskala!$B$4:$C$34,2,TRUE),0) -> 0 | M31: =IF(L31>0,VLOOKUP(L31,Poengskala!$B$4:$C$34,2,TRUE),0) -> 0 | O31: =IF(N31>0,VLOOKUP(N31,Poengskala!$B$4:$D$34,3,TRUE),0) -> 0 | P31: =E31 -> 0 | Q31: =G31 -> 0 | R31: =I31 -> 0 | S31: =K31 -> 0 | T31: =M31 -> 0 | U31: =O31 -> 0 | V31: =MAX(LARGE(P31:U31,1)+LARGE(P31:U31,2)+LARGE(P31:U31,3),0) -> 0 | W31: =COUNTIF(P31:U31,">0") -> 0
... E45: =IF(D45>0,VLOOKUP(D45,Poengskala!$B$4:$C$34,2,TRUE),0) -> 0 | G45: =IF(F45>0,VLOOKUP(F45,Poengskala!$B$4:$C$34,2,TRUE),0) -> 0 | I45: =IF(H45>0,VLOOKUP(H45,Poengskala!$B$4:$C$34,2,TRUE),0) -> 0 | K45: =IF(J45>0,VLOOKUP(J45,Poengskala!$B$4:$C$34,2,TRUE),0) -> 0 | M45: =IF(L45>0,VLOOKUP(L45,Poengskala!$B$4:$C$34,2,TRUE),0) -> 0 | O45: =IF(N45>0,VLOOKUP(N45,Poengskala!$B$4:$D$34,3,TRUE),0) -> 0 | P45: =E45 -> 0 | Q45: =G45 -> 0 | R45: =I45 -> 0 | S45: =K45 -> 0 | T45: =M45 -> 0 | U45: =O45 -> 0 | V45: =MAX(LARGE(P45:U45,1)+LARGE(P45:U45,2)+LARGE(P45:U45,3),0) -> 0 | W45: =COUNTIF(P45:U45,">0") -> 0

Sheet K-17
A1: Klasse - Kvinner 17 år
A2: Utøveren må ha fullført 3 av 5 renn i cupen for å bli premiert.
A3: De 3 beste rennene teller sammenlagt
A4: Lista viser alle som har deltatt i TV - Cup.
A6: Evt. feil sendes til tvsk@skiforbundet.no | D6: Fristil | F6: Klassisk | H6: Sprint Klassisk | J6: Klassisk | L6: Finale Tour | N6: Finale Tour | P6: Renn1 | Q6: Renn2 | R6: Renn3 | S6: Renn4 | U6: Renn5 | V6: Total Poeng | W6: Antall renn
A7: Oppdatert: 12.02.2019 | D7: Oseberg Skilag | F7: Svarstad IL | H7: IL Runar | J7: Høydalsmo IL | L7: Runar | N7: IL Ivrig/Botne SK
D8: 43450 | F8: 43464 | H8: 43499 | J8: 43505 | L8: 42812 | N8: 16.03-17.03.2019
A9: Plass | B9: Navn | C9: Klubb | D9: Plass | E9: Poeng | F9: Plass | G9: Poeng | H9: Plass | I9: Poeng | J9: Plass | K9: Poeng | L9: Plass | M9: Poeng | N9: Plass | O9: Poeng
A10: 1 | B10: Sandra Solheim | C10: Stokke IL | D10: 1 | E10: =IF(D10>0,VLOOKUP(D10,Poengskala!$B$4:$C$34,2,TRUE),0) -> 100 | F10: 3 | G10: =IF(F10>0,VLOOKUP(F10,Poengskala!$B$4:$C$34,2,TRUE),0) -> 82 | H10: 1 | I10: =IF(H10>0,VLOOKUP(H10,Poengskala!$B$4:$C$34,2,TRUE),0) -> 100 | K10: =IF(J10>0,VLOOKUP(J10,Poengskala!$B$4:$C$34,2,TRUE),0) -> 0 | M10: =IF(L10>0,VLOOKUP(L10,Poengskala!$B$4:$C$34,2,TRUE),0) -> 0 | N10: 1 | O10: =IF(N10>0,VLOOKUP(N10,Poengskala!$B$4:$D$34,3,TRUE),0) -> 150 | P10: =E10 -> 100 | Q10: =G10 -> 82 | R10: =I10 -> 100 | S10: =K10 -> 0 | T10: =M10 -> 0 | U10: =O10 -> 150 | V10: =MAX(LARGE(P10:U10,1)+LARGE(P10:U10,2)+LARGE(P10:U10,3),0) -> 350 | W10: =COUNTIF(P10:U10,">0") -> 4
A11: 2 | B11: Hanna Møller- Hansen | C11: IL Runar | D11: 2 | E11: =IF(D11>0,VLOOKUP(D11,Poengskala!$B$4:$C$34,2,TRUE),0) -> 90 | F11: 6 | G11: =IF(F11>0,VLOOKUP(F11,Poengskala!$B$4:$C$34,2,TRUE),0) -> 66 | H11: 2 | I11: =IF(H11>0,VLOOKUP(H11,Poengskala!$B$4:$C$34,2,TRUE),0) -> 90 | K11: =IF(J11>0,VLOOKUP(J11,Poengskala!$B$4:$C$34,2,TRUE),0) -> 0 | M11: =IF(L11>0,VLOOKUP(L11,Poengskala!$B$4:$C$34,2,TRUE),0) -> 0 | N11: 2 | O11: =IF(N11>0,VLOOKUP(N11,Poengskala!$B$4:$D$34,3,TRUE),0) -> 135 | P11: =E11 -> 90 | Q11: =G11 -> 66 | R11: =I11 -> 90 | S11: =K11 -> 0 | T11: =M11 -> 0 | U11: =O11 -> 135 | V11: =MAX(LARGE(P11:U11,1)+LARGE(P11:U11,2)+LARGE(P11:U11,3),0) -> 315 | W11: =COUNTIF(P11:U11,">0") -> 4
A12: 3 | B12: Gro Njølstad Randby | C12: Oseberg Skilag | D12: 0 | E12: =IF(D12>0,VLOOKUP(D12,Poengskala!$B$4:$C$34,2,TRUE),0) -> 0 | F12: 1 | G12: =IF(F12>0,VLOOKUP(F12,Poengskala!$B$4:$C$34,2,TRUE),0) -> 100 | I12: =IF(H12>0,VLOOKUP(H12,Poengskala!$B$4:$C$34,2,TRUE),0) -> 0 | K12: =IF(J12>0,VLOOKUP(J12,Poengskala!$B$4:$C$34,2,TRUE),0) -> 0 | M12: =IF(L12>0,VLOOKUP(L12,Poengskala!$B$4:$C$34,2,TRUE),0) -> 0 | O12: =IF(N12>0,VLOOKUP(N12,Poengskala!$B$4:$D$34,3,TRUE),0) -> 0 | P12: =E12 -> 0 | Q12: =G12 -> 100 | R12: =I12 -> 0 | S12: =K12 -> 0 | T12: =M12 -> 0 | U12: =O12 -> 0 | V12: =MAX(LARGE(P12:U12,1)+LARGE(P12:U12,2)+LARGE(P12:U12,3),0) -> 100 | W12: =COUNTIF(P12:U12,">0") -> 1
A13: 4 | B13: Guro Ingebjørg Kleiv | C13: Vinje IL | E13: =IF(D13>0,VLOOKUP(D13,Poengskala!$B$4:$C$34,2,TRUE),0) -> 0 | G13: =IF(F13>0,VLOOKUP(F13,Poengskala!$B$4:$C$34,2,TRUE),0) -> 0 | I13: =IF(H13>0,VLOOKUP(H13,Poengskala!$B$4:$C$34,2,TRUE),0) -> 0 | J13: 1 | K13: =IF(J13>0,VLOOKUP(J13,Poengskala!$B$4:$C$34,2,TRUE),0) -> 100 | M13: =IF(L13>0,VLOOKUP(L13,Poengskala!$B$4:$C$34,2,TRUE),0) -> 0 | O13: =IF(N13>0,VLOOKUP(N13,Poengskala!$B$4:$D$34,3,TRUE),0) -> 0 | P13: =E13 -> 0 | Q13: =G13 -> 0 | R13: =I13 -> 0 | S13: =K13 -> 100 | T13: =M13 -> 0 | U13: =O13 -> 0 | V13: =MAX(LARGE(P13:U13,1)+LARGE(P13:U13,2)+LARGE(P13:U13,3),0) -> 100 | W13: =COUNTIF(P13:U13,">0") -> 1
A14: 5 | B14: Maja Kjærås Moland | C14: NTG- L/ Stokke IL | D14: 0 | E14: =IF(D14>0,VLOOKUP(D14,Poengskala!$B$4:$C$34,2,TRUE),0) -> 0 | F14: 2 | G14: =IF(F14>0,VLOOKUP(F14,Poengskala!$B$4:$C$34,2,TRUE),0) -> 90 | I14: =IF(H14>0,VLOOKUP(H14,Poengskala!$B$4:$C$34,2,TRUE),0) -> 0 | K14: =IF(J14>0,VLOOKUP(J14,Poengskala!$B$4:$C$34,2,TRUE),0) -> 0 | M14: =IF(L14>0,VLOOKUP(L14,Poengskala!$B$4:$C$34,2,TRUE),0) -> 0 | O14: =IF(N14>0,VLOOKUP(N14,Poengskala!$B$4:$D$34,3,TRUE),0) -> 0 | P14: =E14 -> 0 | Q14: =G14 -> 90 | R14: =I14 -> 0 | S14: =K14 -> 0 | T14: =M14 -> 0 | U14: =O14 -> 0 | V14: =MAX(LARGE(P14:U14,1)+LARGE(P14:U14,2)+LARGE(P14:U14,3),0) -> 90 | W14: =COUNTIF(P14:U14,">0") -> 1
A15: 6 | B15: Sophie Margrethe Nordlund Bønsnæs | C15: IL Ivrig | D15: 3 | E15: =IF(D15>0,VLOOKUP(D15,Poengskala!$B$4:$C$34,2,TRUE),0) -> 82 | G15: =IF(F15>0,VLOOKUP(F15,Poengskala!$B$4:$C$34,2,TRUE),0) -> 0 | I15: =IF(H15>0,VLOOKUP(H15,Poengskala!$B$4:$C$34,2,TRUE),0) -> 0 | K15: =IF(J15>0,VLOOKUP(J15,Poengskala!$B$4:$C$34,2,TRUE),0) -> 0 | M15: =IF(L15>0,VLOOKUP(L15,Poengskala!$B$4:$C$34,2,TRUE),0) -> 0 | O15: =IF(N15>0,VLOOKUP(N15,Poengskala!$B$4:$D$34,3,TRUE),0) -> 0 | P15: =E15 -> 82 | Q15: =G15 -> 0 | R15: =I15 -> 0 | S15: =K15 -> 0 | T15: =M15 -> 0 | U15: =O15 -> 0 | V15: =MAX(LARGE(P15:U15,1)+LARGE(P15:U15,2)+LARGE(P15:U15,3),0) -> 82 | W15: =COUNTIF(P15:U15,">0") -> 1
A16: 7 | B16: Andrea Eie Svendsen | C16: Melum IL | E16: =IF(D16>0,VLOOKUP(D16,Poengskala!$B$4:$C$34,2,TRUE),0) -> 0 | F16: 4 | G16: =IF(F16>0,VLOOKUP(F16,Poengskala!$B$4:$C$34,2,TRUE),0) -> 75 | I16: =IF(H16>0,VLOOKUP(H16,Poengskala!$B$4:$C$34,2,TRUE),0) -> 0 | K16: =IF(J16>0,VLOOKUP(J16,Poengskala!$B$4:$C$34,2,TRUE),0) -> 0 | M16: =IF(L16>0,VLOOKUP(L16,Poengskala!$B$4:$C$34,2,TRUE),0) -> 0 | O16: =IF(N16>0,VLOOKUP(N16,Poengskala!$B$4:$D$34,3,TRUE),0) -> 0 | P16: =E16 -> 0 | Q16: =G16 -> 75 | R16: =I16 -> 0 | S16: =K16 -> 0 | T16: =M16 -> 0 | U16: =O16 -> 0 | V16: =MAX(LARGE(P16:U16,1)+LARGE(P16:U16,2)+LARGE(P16:U16,3),0) -> 75 | W16: =COUNTIF(P16:U16,">0") -> 1
A17: 8 | B17: Ella Honningdal Nilsen | C17: Gulset IF | E17: =IF(D17>0,VLOOKUP(D17,Poengskala!$B$4:$C$34,2,TRUE),0) -> 0 | F17: 5 | G17: =IF(F17>0,VLOOKUP(F17,Poengskala!$B$4:$C$34,2,TRUE),0) -> 70 | I17: =IF(H17>0,VLOOKUP(H17,Poengskala!$B$4:$C$34,2,TRUE),0) -> 0 | K17: =IF(J17>0,VLOOKUP(J17,Poengskala!$B$4:$C$34,2,TRUE),0) -> 0 | M17: =IF(L17>0,VLOOKUP(L17,Poengskala!$B$4:$C$34,2,TRUE),0) -> 0 | O17: =IF(N17>0,VLOOKUP(N17,Poengskala!$B$4:$D$34,3,TRUE),0) -> 0 | P17: =E17 -> 0 | Q17: =G17 -> 70 | R17: =I17 -> 0 | S17: =K17 -> 0 | T17: =M17 -> 0 | U17: =O17 -> 0 | V17: =MAX(LARGE(P17:U17,1)+LARGE(P17:U17,2)+LARGE(P17:U17,3),0) -> 70 | W17: =COUNTIF(P17:U17,">0") -> 1
E18: =IF(D18>0,VLOOKUP(D18,Poengskala!$B$4:$C$34,2,TRUE),0) -> 0 | G18: =IF(F18>0,VLOOKUP(F18,Poengskala!$B$4:$C$34,2,TRUE),0) -> 0 | I18: =IF(H18>0,VLOOKUP(H18,Poengskala!$B$4:$C$34,2,TRUE),0) -> 0 | K18: =IF(J18>0,VLOOKUP(J18,Poengskala!$B$4:$C$34,2,TRUE),0) -> 0 | M18: =IF(L18>0,VLOOKUP(L18,Poengskala!$B$4:$C$34,2,TRUE),0) -> 0 | O18: =IF(N18>0,VLOOKUP(N18,Poengskala!$B$4:$D$34,3,TRUE),0) -> 0 | P18: =E18 -> 0 | Q18: =G18 -> 0 | R18: =I18 -> 0 | S18: =K18 -> 0 | T18: =M18 -> 0 | U18: =O18 -> 0 | V18: =MAX(LARGE(P18:U18,1)+LARGE(P18:U18,2)+LARGE(P18:U18,3),0) -> 0 | W18: =COUNTIF(P18:U18,">0") -> 0
E19: =IF(D19>0,VLOOKUP(D19,Poengskala!$B$4:$C$34,2,TRUE),0) -> 0 | G19: =IF(F19>0,VLOOKUP(F19,Poengskala!$B$4:$C$34,2,TRUE),0) -> 0 | I19: =IF(H19>0,VLOOKUP(H19,Poengskala!$B$4:$C$34,2,TRUE),0) -> 0 | K19: =IF(J19>0,VLOOKUP(J19,Poengskala!$B$4:$C$34,2,TRUE),0) -> 0 | M19: =IF(L19>0,VLOOKUP(L19,Poengskala!$B$4:$C$34,2,TRUE),0) -> 0 | O19: =IF(N19>0,VLOOKUP(N19,Poengskala!$B$4:$D$34,3,TRUE),0) -> 0 | P19: =E19 -> 0 | Q19: =G19 -> 0 | R19: =I19 -> 0 | S19: =K19 -> 0 | T19: =M19 -> 0 | U19: =O19 -> 0 | V19: =MAX(LARGE(P19:U19,1)+LARGE(P19:U19,2)+LARGE(P19:U19,3),0) -> 0 | W19: =COUNTIF(P19:U19,">0") -> 0
E20: =IF(D20>0,VLOOKUP(D20,Poengskala!$B$4:$C$34,2,TRUE),0) -> 0 | G20: =IF(F20>0,VLOOKUP(F20,Poengskala!$B$4:$C$34,2,TRUE),0) -> 0 | I20: =IF(H20>0,VLOOKUP(H20,Poengskala!$B$4:$C$34,2,TRUE),0) -> 0 | K20: =IF(J20>0,VLOOKUP(J20,Poengskala!$B$4:$C$34,2,TRUE),0) -> 0 | M20: =IF(L20>0,VLOOKUP(L20,Poengskala!$B$4:$C$34,2,TRUE),0) -> 0 | O20: =IF(N20>0,VLOOKUP(N20,Poengskala!$B$4:$D$34,3,TRUE),0) -> 0 | P20: =E20 -> 0 | Q20: =G20 -> 0 | R20: =I20 -> 0 | S20: =K20 -> 0 | T20: =M20 -> 0 | U20: =O20 -> 0 | V20: =MAX(LARGE(P20:U20,1)+LARGE(P20:U20,2)+LARGE(P20:U20,3),0) -> 0 | W20: =COUNTIF(P20:U20,">0") -> 0
E21: =IF(D21>0,VLOOKUP(D21,Poengskala!$B$4:$C$34,2,TRUE),0) -> 0 | G21: =IF(F21>0,VLOOKUP(F21,Poengskala!$B$4:$C$34,2,TRUE),0) -> 0 | I21: =IF(H21>0,VLOOKUP(H21,Poengskala!$B$4:$C$34,2,TRUE),0) -> 0 | K21: =IF(J21>0,VLOOKUP(J21,Poengskala!$B$4:$C$34,2,TRUE),0) -> 0 | M21: =IF(L21>0,VLOOKUP(L21,Poengskala!$B$4:$C$34,2,TRUE),0) -> 0 | O21: =IF(N21>0,VLOOKUP(N21,Poengskala!$B$4:$D$34,3,TRUE),0) -> 0 | P21: =E21 -> 0 | Q21: =G21 -> 0 | R21: =I21 -> 0 | S21: =K21 -> 0 | T21: =M21 -> 0 | U21: =O21 -> 0 | V21: =MAX(LARGE(P21:U21,1)+LARGE(P21:U21,2)+LARGE(P21:U21,3),0) -> 0 | W21: =COUNTIF(P21:U21,">0") -> 0
E22: =IF(D22>0,VLOOKUP(D22,Poengskala!$B$4:$C$34,2,TRUE),0) -> 0 | G22: =IF(F22>0,VLOOKUP(F22,Poengskala!$B$4:$C$34,2,TRUE),0) -> 0 | I22: =IF(H22>0,VLOOKUP(H22,Poengskala!$B$4:$C$34,2,TRUE),0) -> 0 | K22: =IF(J22>0,VLOOKUP(J22,Poengskala!$B$4:$C$34,2,TRUE),0) -> 0 | M22: =IF(L22>0,VLOOKUP(L22,Poengskala!$B$4:$C$34,2,TRUE),0) -> 0 | O22: =IF(N22>0,VLOOKUP(N22,Poengskala!$B$4:$D$34,3,TRUE),0) -> 0 | P22: =E22 -> 0 | Q22: =G22 -> 0 | R22: =I22 -> 0 | S22: =K22 -> 0 | T22: =M22 -> 0 | U22: =O22 -> 0 | V22: =MAX(LARGE(P22:U22,1)+LARGE(P22:U22,2)+LARGE(P22:U22,3),0) -> 0 | W22: =COUNTIF(P22:U22,">0") -> 0
E23: =IF(D23>0,VLOOKUP(D23,Poengskala!$B$4:$C$34,2,TRUE),0) -> 0 | G23: =IF(F23>0,VLOOKUP(F23,Poengskala!$B$4:$C$34,2,TRUE),0) -> 0 | I23: =IF(H23>0,VLOOKUP(H23,Poengskala!$B$4:$C$34,2,TRUE),0) -> 0 | K23: =IF(J23>0,VLOOKUP(J23,Poengskala!$B$4:$C$34,2,TRUE),0) -> 0 | M23: =IF(L23>0,VLOOKUP(L23,Poengskala!$B$4:$C$34,2,TRUE),0) -> 0 | O23: =IF(N23>0,VLOOKUP(N23,Poengskala!$B$4:$D$34,3,TRUE),0) -> 0 | P23: =E23 -> 0 | Q23: =G23 -> 0 | R23: =I23 -> 0 | S23: =K23 -> 0 | T23: =M23 -> 0 | U23: =O23 -> 0 | V23: =MAX(LARGE(P23:U23,1)+LARGE(P23:U23,2)+LARGE(P23:U23,3),0) -> 0 | W23: =COUNTIF(P23:U23,">0") -> 0
E24: =IF(D24>0,VLOOKUP(D24,Poengskala!$B$4:$C$34,2,TRUE),0) -> 0 | G24: =IF(F24>0,VLOOKUP(F24,Poengskala!$B$4:$C$34,2,TRUE),0) -> 0 | I24: =IF(H24>0,VLOOKUP(H24,Poengskala!$B$4:$C$34,2,TRUE),0) -> 0 | K24: =IF(J24>0,VLOOKUP(J24,Poengskala!$B$4:$C$34,2,TRUE),0) -> 0 | M24: =IF(L24>0,VLOOKUP(L24,Poengskala!$B$4:$C$34,2,TRUE),0) -> 0 | O24: =IF(N24>0,VLOOKUP(N24,Poengskala!$B$4:$D$34,3,TRUE),0) -> 0 | P24: =E24 -> 0 | Q24: =G24 -> 0 | R24: =I24 -> 0 | S24: =K24 -> 0 | T24: =M24 -> 0 | U24: =O24 -> 0 | V24: =MAX(LARGE(P24:U24,1)+LARGE(P24:U24,2)+LARGE(P24:U24,3),0) -> 0 | W24: =COUNTIF(P24:U24,">0") -> 0
E25: =IF(D25>0,VLOOKUP(D25,Poengskala!$B$4:$C$34,2,TRUE),0) -> 0 | G25: =IF(F25>0,VLOOKUP(F25,Poengskala!$B$4:$C$34,2,TRUE),0) -> 0 | I25: =IF(H25>0,VLOOKUP(H25,Poengskala!$B$4:$C$34,2,TRUE),0) -> 0 | K25: =IF(J25>0,VLOOKUP(J25,Poengskala!$B$4:$C$34,2,TRUE),0) -> 0 | M25: =IF(L25>0,VLOOKUP(L25,Poengskala!$B$4:$C$34,2,TRUE),0) -> 0 | O25: =IF(N25>0,VLOOKUP(N25,Poengskala!$B$4:$D$34,3,TRUE),0) -> 0 | P25: =E25 -> 0 | Q25: =G25 -> 0 | R25: =I25 -> 0 | S25: =K25 -> 0 | T25: =M25 -> 0 | U25: =O25 -> 0 | V25: =MAX(LARGE(P25:U25,1)+LARGE(P25:U25,2)+LARGE(P25:U25,3),0) -> 0 | W25: =COUNTIF(P25:U25,">0") -> 0
E26: =IF(D26>0,VLOOKUP(D26,Poengskala!$B$4:$C$34,2,TRUE),0) -> 0 | G26: =IF(F26>0,VLOOKUP(F26,Poengskala!$B$4:$C$34,2,TRUE),0) -> 0 | I26: =IF(H26>0,VLOOKUP(H26,Poengskala!$B$4:$C$34,2,TRUE),0) -> 0 | K26: =IF(J26>0,VLOOKUP(J26,Poengskala!$B$4:$C$34,2,TRUE),0) -> 0 | M26: =IF(L26>0,VLOOKUP(L26,Poengskala!$B$4:$C$34,2,TRUE),0) -> 0 | O26: =IF(N26>0,VLOOKUP(N26,Poengskala!$B$4:$D$34,3,TRUE),0) -> 0 | P26: =E26 -> 0 | Q26: =G26 -> 0 | R26: =I26 -> 0 | S26: =K26 -> 0 | T26: =M26 -> 0 | U26: =O26 -> 0 | V26: =MAX(LARGE(P26:U26,1)+LARGE(P26:U26,2)+LARGE(P26:U26,3),0) -> 0 | W26: =COUNTIF(P26:U26,">0") -> 0
E27: =IF(D27>0,VLOOKUP(D27,Poengskala!$B$4:$C$34,2,TRUE),0) -> 0 | G27: =IF(F27>0,VLOOKUP(F27,Poengskala!$B$4:$C$34,2,TRUE),0) -> 0 | I27: =IF(H27>0,VLOOKUP(H27,Poengskala!$B$4:$C$34,2,TRUE),0) -> 0 | K27: =IF(J27>0,VLOOKUP(J27,Poengskala!$B$4:$C$34,2,TRUE),0) -> 0 | M27: =IF(L27>0,VLOOKUP(L27,Poengskala!$B$4:$C$34,2,TRUE),0) -> 0 | O27: =IF(N27>0,VLOOKUP(N27,Poengskala!$B$4:$D$34,3,TRUE),0) -> 0 | P27: =E27 -> 0 | Q27: =G27 -> 0 | R27: =I27 -> 0 | S27: =K27 -> 0 | T27: =M27 -> 0 | U27: =O27 -> 0 | V27: =MAX(LARGE(P27:U27,1)+LARGE(P27:U27,2)+LARGE(P27:U27,3),0) -> 0 | W27: =COUNTIF(P27:U27,">0") -> 0
E28: =IF(D28>0,VLOOKUP(D28,Poengskala!$B$4:$C$34,2,TRUE),0) -> 0 | G28: =IF(F28>0,VLOOKUP(F28,Poengskala!$B$4:$C$34,2,TRUE),0) -> 0 | I28: =IF(H28>0,VLOOKUP(H28,Poengskala!$B$4:$C$34,2,TRUE),0) -> 0 | K28: =IF(J28>0,VLOOKUP(J28,Poengskala!$B$4:$C$34,2,TRUE),0) -> 0 | M28: =IF(L28>0,VLOOKUP(L28,Poengskala!$B$4:$C$34,2,TRUE),0) -> 0 | O28: =IF(N28>0,VLOOKUP(N28,Poengskala!$B$4:$D$34,3,TRUE),0) -> 0 | P28: =E28 -> 0 | Q28: =G28 -> 0 | R28: =I28 -> 0 | S28: =K28 -> 0 | T28: =M28 -> 0 | U28: =O28 -> 0 | V28: =MAX(LARGE(P28:U28,1)+LARGE(P28:U28,2)+LARGE(P28:U28,3),0) -> 0 | W28: =COUNTIF(P28:U28,">0") -> 0
E29: =IF(D29>0,VLOOKUP(D29,Poengskala!$B$4:$C$34,2,TRUE),0) -> 0 | G29: =IF(F29>0,VLOOKUP(F29,Poengskala!$B$4:$C$34,2,TRUE),0) -> 0 | I29: =IF(H29>0,VLOOKUP(H29,Poengskala!$B$4:$C$34,2,TRUE),0) -> 0 | K29: =IF(J29>0,VLOOKUP(J29,Poengskala!$B$4:$C$34,2,TRUE),0) -> 0 | M29: =IF(L29>0,VLOOKUP(L29,Poengskala!$B$4:$C$34,2,TRUE),0) -> 0 | O29: =IF(N29>0,VLOOKUP(N29,Poengskala!$B$4:$D$34,3,TRUE),0) -> 0 | P29: =E29 -> 0 | Q29: =G29 -> 0 | R29: =I29 -> 0 | S29: =K29 -> 0 | T29: =M29 -> 0 | U29: =O29 -> 0 | V29: =MAX(LARGE(P29:U29,1)+LARGE(P29:U29,2)+LARGE(P29:U29,3),0) -> 0 | W29: =COUNTIF(P29:U29,">0") -> 0
... E45: =IF(D45>0,VLOOKUP(D45,Poengskala!$B$4:$C$34,2,TRUE),0) -> 0 | G45: =IF(F45>0,VLOOKUP(F45,Poengskala!$B$4:$C$34,2,TRUE),0) -> 0 | I45: =IF(H45>0,VLOOKUP(H45,Poengskala!$B$4:$C$34,2,TRUE),0) -> 0 | K45: =IF(J45>0,VLOOKUP(J45,Poengskala!$B$4:$C$34,2,TRUE),0) -> 0 | M45: =IF(L45>0,VLOOKUP(L45,Poengskala!$B$4:$C$34,2,TRUE),0) -> 0 | O45: =IF(N45>0,VLOOKUP(N45,Poengskala!$B$4:$D$34,3,TRUE),0) -> 0 | P45: =E45 -> 0 | Q45: =G45 -> 0 | R45: =I45 -> 0 | S45: =K45 -> 0 | T45: =M45 -> 0 | U45: =O45 -> 0 | V45: =MAX(LARGE(P45:U45,1)+LARGE(P45:U45,2)+LARGE(P45:U45,3),0) -> 0 | W45: =COUNTIF(P45:U45,">0") -> 0

Sheet K-18
A1: Klasse - Kvinner 18 år
A2: Utøveren må ha fullført 3 av 5 renn i cupen for å bli premiert.
A3: De 3 beste rennene teller sammenlagt
A4: Lista viser alle som har deltatt i TV - Cup.
A6: Evt. feil sendes til tvsk@skiforbundet.no | D6: Fristil | F6: Klassisk | H6: Sprint Klassisk | J6: Klassisk | L6: Finale Tour | N6: Finale Tour | P6: Renn1 | Q6: Renn2 | R6: Renn3 | S6: Renn4 | U6: Renn5 | V6: Total Poeng | W6: Antall renn
A7: Oppdatert: 12.02.2019 | D7: Oseberg Skilag | F7: Svarstad IL | H7: IL Runar | J7: Høydalsmo IL | L7: Runar | N7: IL Ivrig/Botne SK
D8: 43450 | F8: 43464 | H8: 43499 | J8: 43505 | L8: 42812 | N8: 16.03-17.03.2019
A9: Plass | B9: Navn | C9: Klubb | D9: Plass | E9: Poeng | F9: Plass | G9: Poeng | H9: Plass | I9: Poeng | J9: Plass | K9: Poeng | L9: Plass | M9: Poeng | N9: Plass | O9: Poeng
A10: 1 | B10: Betina Staulen Fredin | C10: Gulset IF | D10: 1 | E10: =IF(D10>0,VLOOKUP(D10,Poengskala!$B$4:$C$34,2,TRUE),0) -> 100 | F10: 2 | G10: =IF(F10>0,VLOOKUP(F10,Poengskala!$B$4:$C$34,2,TRUE),0) -> 90 | I10: =IF(H10>0,VLOOKUP(H10,Poengskala!$B$4:$C$34,2,TRUE),0) -> 0 | K10: =IF(J10>0,VLOOKUP(J10,Poengskala!$B$4:$C$34,2,TRUE),0) -> 0 | M10: =IF(L10>0,VLOOKUP(L10,Poengskala!$B$4:$C$34,2,TRUE),0) -> 0 | O10: =IF(N10>0,VLOOKUP(N10,Poengskala!$B$4:$D$34,3,TRUE),0) -> 0 | P10: =E10 -> 100 | Q10: =G10 -> 90 | R10: =I10 -> 0 | S10: =K10 -> 0 | T10: =M10 -> 0 | U10: =O10 -> 0 | V10: =MAX(LARGE(P10:U10,1)+LARGE(P10:U10,2)+LARGE(P10:U10,3),0) -> 190 | W10: =COUNTIF(P10:U10,">0") -> 2
A11: 2 | B11: Tiril Kristine Knotten | C11: IL Ivrig | D11: 0 | E11: =IF(D11>0,VLOOKUP(D11,Poengskala!$B$4:$C$34,2,TRUE),0) -> 0 | G11: =IF(F11>0,VLOOKUP(F11,Poengskala!$B$4:$C$34,2,TRUE),0) -> 0 | I11: =IF(H11>0,VLOOKUP(H11,Poengskala!$B$4:$C$34,2,TRUE),0) -> 0 | K11: =IF(J11>0,VLOOKUP(J11,Poengskala!$B$4:$C$34,2,TRUE),0) -> 0 | M11: =IF(L11>0,VLOOKUP(L11,Poengskala!$B$4:$C$34,2,TRUE),0) -> 0 | N11: 1 | O11: =IF(N11>0,VLOOKUP(N11,Poengskala!$B$4:$D$34,3,TRUE),0) -> 150 | P11: =E11 -> 0 | Q11: =G11 -> 0 | R11: =I11 -> 0 | S11: =K11 -> 0 | T11: =M11 -> 0 | U11: =O11 -> 150 | V11: =MAX(LARGE(P11:U11,1)+LARGE(P11:U11,2)+LARGE(P11:U11,3),0) -> 150 | W11: =COUNTIF(P11:U11,">0") -> 1
A12: 3 | B12: Vera Kristina Flatland | C12: Heddal IL | D12: 0 | E12: =IF(D12>0,VLOOKUP(D12,Poengskala!$B$4:$C$34,2,TRUE),0) -> 0 | F12: 1 | G12: =IF(F12>0,VLOOKUP(F12,Poengskala!$B$4:$C$34,2,TRUE),0) -> 100 | I12: =IF(H12>0,VLOOKUP(H12,Poengskala!$B$4:$C$34,2,TRUE),0) -> 0 | K12: =IF(J12>0,VLOOKUP(J12,Poengskala!$B$4:$C$34,2,TRUE),0) -> 0 | M12: =IF(L12>0,VLOOKUP(L12,Poengskala!$B$4:$C$34,2,TRUE),0) -> 0 | O12: =IF(N12>0,VLOOKUP(N12,Poengskala!$B$4:$D$34,3,TRUE),0) -> 0 | P12: =E12 -> 0 | Q12: =G12 -> 100 | R12: =I12 -> 0 | S12: =K12 -> 0 | T12: =M12 -> 0 | U12: =O12 -> 0 | V12: =MAX(LARGE(P12:U12,1)+LARGE(P12:U12,2)+LARGE(P12:U12,3),0) -> 100 | W12: =COUNTIF(P12:U12,">0") -> 1
A13: 3 | B13: Katrine Talmo | C13: Gulset IF | D13: 2 | E13: =IF(D13>0,VLOOKUP(D13,Poengskala!$B$4:$C$34,2,TRUE),0) -> 90 | G13: =IF(F13>0,VLOOKUP(F13,Poengskala!$B$4:$C$34,2,TRUE),0) -> 0 | I13: =IF(H13>0,VLOOKUP(H13,Poengskala!$B$4:$C$34,2,TRUE),0) -> 0 | K13: =IF(J13>0,VLOOKUP(J13,Poengskala!$B$4:$C$34,2,TRUE),0) -> 0 | M13: =IF(L13>0,VLOOKUP(L13,Poengskala!$B$4:$C$34,2,TRUE),0) -> 0 | O13: =IF(N13>0,VLOOKUP(N13,Poengskala!$B$4:$D$34,3,TRUE),0) -> 0 | P13: =E13 -> 90 | Q13: =G13 -> 0 | R13: =I13 -> 0 | S13: =K13 -> 0 | T13: =M13 -> 0 | U13: =O13 -> 0 | V13: =MAX(LARGE(P13:U13,1)+LARGE(P13:U13,2)+LARGE(P13:U13,3),0) -> 90 | W13: =COUNTIF(P13:U13,">0") -> 1
A14: 5 | D14: 0 | E14: =IF(D14>0,VLOOKUP(D14,Poengskala!$B$4:$C$34,2,TRUE),0) -> 0 | G14: =IF(F14>0,VLOOKUP(F14,Poengskala!$B$4:$C$34,2,TRUE),0) -> 0 | I14: =IF(H14>0,VLOOKUP(H14,Poengskala!$B$4:$C$34,2,TRUE),0) -> 0 | K14: =IF(J14>0,VLOOKUP(J14,Poengskala!$B$4:$C$34,2,TRUE),0) -> 0 | M14: =IF(L14>0,VLOOKUP(L14,Poengskala!$B$4:$C$34,2,TRUE),0) -> 0 | O14: =IF(N14>0,VLOOKUP(N14,Poengskala!$B$4:$D$34,3,TRUE),0) -> 0 | P14: =E14 -> 0 | Q14: =G14 -> 0 | R14: =I14 -> 0 | S14: =K14 -> 0 | T14: =M14 -> 0 | U14: =O14 -> 0 | V14: =MAX(LARGE(P14:U14,1)+LARGE(P14:U14,2)+LARGE(P14:U14,3),0) -> 0 | W14: =COUNTIF(P14:U14,">0") -> 0
A15: 6 | D15: 0 | E15: =IF(D15>0,VLOOKUP(D15,Poengskala!$B$4:$C$34,2,TRUE),0) -> 0 | G15: =IF(F15>0,VLOOKUP(F15,Poengskala!$B$4:$C$34,2,TRUE),0) -> 0 | I15: =IF(H15>0,VLOOKUP(H15,Poengskala!$B$4:$C$34,2,TRUE),0) -> 0 | K15: =IF(J15>0,VLOOKUP(J15,Poengskala!$B$4:$C$34,2,TRUE),0) -> 0 | M15: =IF(L15>0,VLOOKUP(L15,Poengskala!$B$4:$C$34,2,TRUE),0) -> 0 | O15: =IF(N15>0,VLOOKUP(N15,Poengskala!$B$4:$D$34,3,TRUE),0) -> 0 | P15: =E15 -> 0 | Q15: =G15 -> 0 | R15: =I15 -> 0 | S15: =K15 -> 0 | T15: =M15 -> 0 | U15: =O15 -> 0 | V15: =MAX(LARGE(P15:U15,1)+LARGE(P15:U15,2)+LARGE(P15:U15,3),0) -> 0 | W15: =COUNTIF(P15:U15,">0") -> 0
A16: 7 | D16: 0 | E16: =IF(D16>0,VLOOKUP(D16,Poengskala!$B$4:$C$34,2,TRUE),0) -> 0 | G16: =IF(F16>0,VLOOKUP(F16,Poengskala!$B$4:$C$34,2,TRUE),0) -> 0 | I16: =IF(H16>0,VLOOKUP(H16,Poengskala!$B$4:$C$34,2,TRUE),0) -> 0 | K16: =IF(J16>0,VLOOKUP(J16,Poengskala!$B$4:$C$34,2,TRUE),0) -> 0 | M16: =IF(L16>0,VLOOKUP(L16,Poengskala!$B$4:$C$34,2,TRUE),0) -> 0 | O16: =IF(N16>0,VLOOKUP(N16,Poengskala!$B$4:$D$34,3,TRUE),0) -> 0 | P16: =E16 -> 0 | Q16: =G16 -> 0 | R16: =I16 -> 0 | S16: =K16 -> 0 | T16: =M16 -> 0 | U16: =O16 -> 0 | V16: =MAX(LARGE(P16:U16,1)+LARGE(P16:U16,2)+LARGE(P16:U16,3),0) -> 0 | W16: =COUNTIF(P16:U16,">0") -> 0
E17: =IF(D17>0,VLOOKUP(D17,Poengskala!$B$4:$C$34,2,TRUE),0) -> 0 | G17: =IF(F17>0,VLOOKUP(F17,Poengskala!$B$4:$C$34,2,TRUE),0) -> 0 | I17: =IF(H17>0,VLOOKUP(H17,Poengskala!$B$4:$C$34,2,TRUE),0) -> 0 | K17: =IF(J17>0,VLOOKUP(J17,Poengskala!$B$4:$C$34,2,TRUE),0) -> 0 | M17: =IF(L17>0,VLOOKUP(L17,Poengskala!$B$4:$C$34,2,TRUE),0) -> 0 | O17: =IF(N17>0,VLOOKUP(N17,Poengskala!$B$4:$D$34,3,TRUE),0) -> 0 | P17: =E17 -> 0 | Q17: =G17 -> 0 | R17: =I17 -> 0 | S17: =K17 -> 0 | T17: =M17 -> 0 | U17: =O17 -> 0 | V17: =MAX(LARGE(P17:U17,1)+LARGE(P17:U17,2)+LARGE(P17:U17,3),0) -> 0 | W17: =COUNTIF(P17:U17,">0") -> 0
E18: =IF(D18>0,VLOOKUP(D18,Poengskala!$B$4:$C$34,2,TRUE),0) -> 0 | G18: =IF(F18>0,VLOOKUP(F18,Poengskala!$B$4:$C$34,2,TRUE),0) -> 0 | I18: =IF(H18>0,VLOOKUP(H18,Poengskala!$B$4:$C$34,2,TRUE),0) -> 0 | K18: =IF(J18>0,VLOOKUP(J18,Poengskala!$B$4:$C$34,2,TRUE),0) -> 0 | M18: =IF(L18>0,VLOOKUP(L18,Poengskala!$B$4:$C$34,2,TRUE),0) -> 0 | O18: =IF(N18>0,VLOOKUP(N18,Poengskala!$B$4:$D$34,3,TRUE),0) -> 0 | P18: =E18 -> 0 | Q18: =G18 -> 0 | R18: =I18 -> 0 | S18: =K18 -> 0 | T18: =M18 -> 0 | U18: =O18 -> 0 | V18: =MAX(LARGE(P18:U18,1)+LARGE(P18:U18,2)+LARGE(P18:U18,3),0) -> 0 | W18: =COUNTIF(P18:U18,">0") -> 0
E19: =IF(D19>0,VLOOKUP(D19,Poengskala!$B$4:$C$34,2,TRUE),0) -> 0 | G19: =IF(F19>0,VLOOKUP(F19,Poengskala!$B$4:$C$34,2,TRUE),0) -> 0 | I19: =IF(H19>0,VLOOKUP(H19,Poengskala!$B$4:$C$34,2,TRUE),0) -> 0 | K19: =IF(J19>0,VLOOKUP(J19,Poengskala!$B$4:$C$34,2,TRUE),0) -> 0 | M19: =IF(L19>0,VLOOKUP(L19,Poengskala!$B$4:$C$34,2,TRUE),0) -> 0 | O19: =IF(N19>0,VLOOKUP(N19,Poengskala!$B$4:$D$34,3,TRUE),0) -> 0 | P19: =E19 -> 0 | Q19: =G19 -> 0 | R19: =I19 -> 0 | S19: =K19 -> 0 | T19: =M19 -> 0 | U19: =O19 -> 0 | V19: =MAX(LARGE(P19:U19,1)+LARGE(P19:U19,2)+LARGE(P19:U19,3),0) -> 0 | W19: =COUNTIF(P19:U19,">0") -> 0
E20: =IF(D20>0,VLOOKUP(D20,Poengskala!$B$4:$C$34,2,TRUE),0) -> 0 | G20: =IF(F20>0,VLOOKUP(F20,Poengskala!$B$4:$C$34,2,TRUE),0) -> 0 | I20: =IF(H20>0,VLOOKUP(H20,Poengskala!$B$4:$C$34,2,TRUE),0) -> 0 | K20: =IF(J20>0,VLOOKUP(J20,Poengskala!$B$4:$C$34,2,TRUE),0) -> 0 | M20: =IF(L20>0,VLOOKUP(L20,Poengskala!$B$4:$C$34,2,TRUE),0) -> 0 | O20: =IF(N20>0,VLOOKUP(N20,Poengskala!$B$4:$D$34,3,TRUE),0) -> 0 | P20: =E20 -> 0 | Q20: =G20 -> 0 | R20: =I20 -> 0 | S20: =K20 -> 0 | T20: =M20 -> 0 | U20: =O20 -> 0 | V20: =MAX(LARGE(P20:U20,1)+LARGE(P20:U20,2)+LARGE(P20:U20,3),0) -> 0 | W20: =COUNTIF(P20:U20,">0") -> 0
E21: =IF(D21>0,VLOOKUP(D21,Poengskala!$B$4:$C$34,2,TRUE),0) -> 0 | G21: =IF(F21>0,VLOOKUP(F21,Poengskala!$B$4:$C$34,2,TRUE),0) -> 0 | I21: =IF(H21>0,VLOOKUP(H21,Poengskala!$B$4:$C$34,2,TRUE),0) -> 0 | K21: =IF(J21>0,VLOOKUP(J21,Poengskala!$B$4:$C$34,2,TRUE),0) -> 0 | M21: =IF(L21>0,VLOOKUP(L21,Poengskala!$B$4:$C$34,2,TRUE),0) -> 0 | O21: =IF(N21>0,VLOOKUP(N21,Poengskala!$B$4:$D$34,3,TRUE),0) -> 0 | P21: =E21 -> 0 | Q21: =G21 -> 0 | R21: =I21 -> 0 | S21: =K21 -> 0 | T21: =M21 -> 0 | U21: =O21 -> 0 | V21: =MAX(LARGE(P21:U21,1)+LARGE(P21:U21,2)+LARGE(P21:U21,3),0) -> 0 | W21: =COUNTIF(P21:U21,">0") -> 0
E22: =IF(D22>0,VLOOKUP(D22,Poengskala!$B$4:$C$34,2,TRUE),0) -> 0 | G22: =IF(F22>0,VLOOKUP(F22,Poengskala!$B$4:$C$34,2,TRUE),0) -> 0 | I22: =IF(H22>0,VLOOKUP(H22,Poengskala!$B$4:$C$34,2,TRUE),0) -> 0 | K22: =IF(J22>0,VLOOKUP(J22,Poengskala!$B$4:$C$34,2,TRUE),0) -> 0 | M22: =IF(L22>0,VLOOKUP(L22,Poengskala!$B$4:$C$34,2,TRUE),0) -> 0 | O22: =IF(N22>0,VLOOKUP(N22,Poengskala!$B$4:$D$34,3,TRUE),0) -> 0 | P22: =E22 -> 0 | Q22: =G22 -> 0 | R22: =I22 -> 0 | S22: =K22 -> 0 | T22: =M22 -> 0 | U22: =O22 -> 0 | V22: =MAX(LARGE(P22:U22,1)+LARGE(P22:U22,2)+LARGE(P22:U22,3),0) -> 0 | W22: =COUNTIF(P22:U22,">0") -> 0
E23: =IF(D23>0,VLOOKUP(D23,Poengskala!$B$4:$C$34,2,TRUE),0) -> 0 | G23: =IF(F23>0,VLOOKUP(F23,Poengskala!$B$4:$C$34,2,TRUE),0) -> 0 | I23: =IF(H23>0,VLOOKUP(H23,Poengskala!$B$4:$C$34,2,TRUE),0) -> 0 | K23: =IF(J23>0,VLOOKUP(J23,Poengskala!$B$4:$C$34,2,TRUE),0) -> 0 | M23: =IF(L23>0,VLOOKUP(L23,Poengskala!$B$4:$C$34,2,TRUE),0) -> 0 | O23: =IF(N23>0,VLOOKUP(N23,Poengskala!$B$4:$D$34,3,TRUE),0) -> 0 | P23: =E23 -> 0 | Q23: =G23 -> 0 | R23: =I23 -> 0 | S23: =K23 -> 0 | T23: =M23 -> 0 | U23: =O23 -> 0 | V23: =MAX(LARGE(P23:U23,1)+LARGE(P23:U23,2)+LARGE(P23:U23,3),0) -> 0 | W23: =COUNTIF(P23:U23,">0") -> 0
E24: =IF(D24>0,VLOOKUP(D24,Poengskala!$B$4:$C$34,2,TRUE),0) -> 0 | G24: =IF(F24>0,VLOOKUP(F24,Poengskala!$B$4:$C$34,2,TRUE),0) -> 0 | I24: =IF(H24>0,VLOOKUP(H24,Poengskala!$B$4:$C$34,2,TRUE),0) -> 0 | K24: =IF(J24>0,VLOOKUP(J24,Poengskala!$B$4:$C$34,2,TRUE),0) -> 0 | M24: =IF(L24>0,VLOOKUP(L24,Poengskala!$B$4:$C$34,2,TRUE),0) -> 0 | O24: =IF(N24>0,VLOOKUP(N24,Poengskala!$B$4:$D$34,3,TRUE),0) -> 0 | P24: =E24 -> 0 | Q24: =G24 -> 0 | R24: =I24 -> 0 | S24: =K24 -> 0 | T24: =M24 -> 0 | U24: =O24 -> 0 | V24: =MAX(LARGE(P24:U24,1)+LARGE(P24:U24,2)+LARGE(P24:U24,3),0) -> 0 | W24: =COUNTIF(P24:U24,">0") -> 0
E25: =IF(D25>0,VLOOKUP(D25,Poengskala!$B$4:$C$34,2,TRUE),0) -> 0 | G25: =IF(F25>0,VLOOKUP(F25,Poengskala!$B$4:$C$34,2,TRUE),0) -> 0 | I25: =IF(H25>0,VLOOKUP(H25,Poengskala!$B$4:$C$34,2,TRUE),0) -> 0 | K25: =IF(J25>0,VLOOKUP(J25,Poengskala!$B$4:$C$34,2,TRUE),0) -> 0 | M25: =IF(L25>0,VLOOKUP(L25,Poengskala!$B$4:$C$34,2,TRUE),0) -> 0 | O25: =IF(N25>0,VLOOKUP(N25,Poengskala!$B$4:$D$34,3,TRUE),0) -> 0 | P25: =E25 -> 0 | Q25: =G25 -> 0 | R25: =I25 -> 0 | S25: =K25 -> 0 | T25: =M25 -> 0 | U25: =O25 -> 0 | V25: =MAX(LARGE(P25:U25,1)+LARGE(P25:U25,2)+LARGE(P25:U25,3),0) -> 0 | W25: =COUNTIF(P25:U25,">0") -> 0
E26: =IF(D26>0,VLOOKUP(D26,Poengskala!$B$4:$C$34,2,TRUE),0) -> 0 | G26: =IF(F26>0,VLOOKUP(F26,Poengskala!$B$4:$C$34,2,TRUE),0) -> 0 | I26: =IF(H26>0,VLOOKUP(H26,Poengskala!$B$4:$C$34,2,TRUE),0) -> 0 | K26: =IF(J26>0,VLOOKUP(J26,Poengskala!$B$4:$C$34,2,TRUE),0) -> 0 | M26: =IF(L26>0,VLOOKUP(L26,Poengskala!$B$4:$C$34,2,TRUE),0) -> 0 | O26: =IF(N26>0,VLOOKUP(N26,Poengskala!$B$4:$D$34,3,TRUE),0) -> 0 | P26: =E26 -> 0 | Q26: =G26 -> 0 | R26: =I26 -> 0 | S26: =K26 -> 0 | T26: =M26 -> 0 | U26: =O26 -> 0 | V26: =MAX(LARGE(P26:U26,1)+LARGE(P26:U26,2)+LARGE(P26:U26,3),0) -> 0 | W26: =COUNTIF(P26:U26,">0") -> 0
E27: =IF(D27>0,VLOOKUP(D27,Poengskala!$B$4:$C$34,2,TRUE),0) -> 0 | G27: =IF(F27>0,VLOOKUP(F27,Poengskala!$B$4:$C$34,2,TRUE),0) -> 0 | I27: =IF(H27>0,VLOOKUP(H27,Poengskala!$B$4:$C$34,2,TRUE),0) -> 0 | K27: =IF(J27>0,VLOOKUP(J27,Poengskala!$B$4:$C$34,2,TRUE),0) -> 0 | M27: =IF(L27>0,VLOOKUP(L27,Poengskala!$B$4:$C$34,2,TRUE),0) -> 0 | O27: =IF(N27>0,VLOOKUP(N27,Poengskala!$B$4:$D$34,3,TRUE),0) -> 0 | P27: =E27 -> 0 | Q27: =G27 -> 0 | R27: =I27 -> 0 | S27: =K27 -> 0 | T27: =M27 -> 0 | U27: =O27 -> 0 | V27: =MAX(LARGE(P27:U27,1)+LARGE(P27:U27,2)+LARGE(P27:U27,3),0) -> 0 | W27: =COUNTIF(P27:U27,">0") -> 0
E28: =IF(D28>0,VLOOKUP(D28,Poengskala!$B$4:$C$34,2,TRUE),0) -> 0 | G28: =IF(F28>0,VLOOKUP(F28,Poengskala!$B$4:$C$34,2,TRUE),0) -> 0 | I28: =IF(H28>0,VLOOKUP(H28,Poengskala!$B$4:$C$34,2,TRUE),0) -> 0 | K28: =IF(J28>0,VLOOKUP(J28,Poengskala!$B$4:$C$34,2,TRUE),0) -> 0 | M28: =IF(L28>0,VLOOKUP(L28,Poengskala!$B$4:$C$34,2,TRUE),0) -> 0 | O28: =IF(N28>0,VLOOKUP(N28,Poengskala!$B$4:$D$34,3,TRUE),0) -> 0 | P28: =E28 -> 0 | Q28: =G28 -> 0 | R28: =I28 -> 0 | S28: =K28 -> 0 | T28: =M28 -> 0 | U28: =O28 -> 0 | V28: =MAX(LARGE(P28:U28,1)+LARGE(P28:U28,2)+LARGE(P28:U28,3),0) -> 0 | W28: =COUNTIF(P28:U28,">0") -> 0
... E45: =IF(D45>0,VLOOKUP(D45,Poengskala!$B$4:$C$34,2,TRUE),0) -> 0 | G45: =IF(F45>0,VLOOKUP(F45,Poengskala!$B$4:$C$34,2,TRUE),0) -> 0 | I45: =IF(H45>0,VLOOKUP(H45,Poengskala!$B$4:$C$34,2,TRUE),0) -> 0 | K45: =IF(J45>0,VLOOKUP(J45,Poengskala!$B$4:$C$34,2,TRUE),0) -> 0 | M45: =IF(L45>0,VLOOKUP(L45,Poengskala!$B$4:$C$34,2,TRUE),0) -> 0 | O45: =IF(N45>0,VLOOKUP(N45,Poengskala!$B$4:$D$34,3,TRUE),0) -> 0 | P45: =E45 -> 0 | Q45: =G45 -> 0 | R45: =I45 -> 0 | S45: =K45 -> 0 | T45: =M45 -> 0 | U45: =O45 -> 0 | V45: =MAX(LARGE(P45:U45,1)+LARGE(P45:U45,2)+LARGE(P45:U45,3),0) -> 0 | W45: =COUNTIF(P45:U45,">0") -> 0

Sheet K-1920
A1: Klasse - Kvinner 19/20 år
A2: Utøveren må ha fullført 3 av 5 renn i cupen for å bli premiert.
A3: De 3 beste rennene teller sammenlagt
A4: Lista viser alle som har deltatt i TV - Cup.
A6: Evt. feil sendes til tvsk@skiforbundet.no | D6: Fristil | F6: Klassisk | H6: Sprint Klassisk | J6: Klassisk | L6: Finale Tour | N6: Finale Tour | P6: Renn1 | Q6: Renn2 | R6: Renn3 | S6: Renn4 | U6: Renn5 | V6: Total Poeng | W6: Antall renn
A7: Oppdatert: 12.02.2019 | D7: Oseberg Skilag | F7: Svarstad IL | H7: IL Runar | J7: Høydalsmo IL | L7: Runar | N7: IL Ivrig/Botne SK
D8: 43450 | F8: 43464 | H8: 43499 | J8: 43505 | L8: 42812 | N8: 16.03-17.03.2019
A9: Plass | B9: Navn | C9: Klubb | D9: Plass | E9: Poeng | F9: Plass | G9: Poeng | H9: Plass | I9: Poeng | J9: Plass | K9: Poeng | L9: Plass | M9: Poeng | N9: Plass | O9: Poeng
A10: 1 | B10: Stella Kval | C10: IL Runar | D10: 1 | E10: =IF(D10>0,VLOOKUP(D10,Poengskala!$B$4:$C$34,2,TRUE),0) -> 100 | F10: 5 | G10: =IF(F10>0,VLOOKUP(F10,Poengskala!$B$4:$C$34,2,TRUE),0) -> 70 | I10: =IF(H10>0,VLOOKUP(H10,Poengskala!$B$4:$C$34,2,TRUE),0) -> 0 | K10: =IF(J10>0,VLOOKUP(J10,Poengskala!$B$4:$C$34,2,TRUE),0) -> 0 | M10: =IF(L10>0,VLOOKUP(L10,Poengskala!$B$4:$C$34,2,TRUE),0) -> 0 | N10: 4 | O10: =IF(N10>0,VLOOKUP(N10,Poengskala!$B$4:$D$34,3,TRUE),0) -> 112.5 | P10: =E10 -> 100 | Q10: =G10 -> 70 | R10: =I10 -> 0 | S10: =K10 -> 0 | T10: =M10 -> 0 | U10: =O10 -> 112.5 | V10: =MAX(LARGE(P10:U10,1)+LARGE(P10:U10,2)+LARGE(P10:U10,3),0) -> 282.5 | W10: =COUNTIF(P10:U10,">0") -> 3
A11: 2 | B11: Melanie Kristiansen | C11: Stathelle og Omegn | E11: =IF(D11>0,VLOOKUP(D11,Poengskala!$B$4:$C$34,2,TRUE),0) -> 0 | F11: 3 | G11: =IF(F11>0,VLOOKUP(F11,Poengskala!$B$4:$C$34,2,TRUE),0) -> 82 | I11: =IF(H11>0,VLOOKUP(H11,Poengskala!$B$4:$C$34,2,TRUE),0) -> 0 | K11: =IF(J11>0,VLOOKUP(J11,Poengskala!$B$4:$C$34,2,TRUE),0) -> 0 | M11: =IF(L11>0,VLOOKUP(L11,Poengskala!$B$4:$C$34,2,TRUE),0) -> 0 | N11: 2 | O11: =IF(N11>0,VLOOKUP(N11,Poengskala!$B$4:$D$34,3,TRUE),0) -> 135 | P11: =E11 -> 0 | Q11: =G11 -> 82 | R11: =I11 -> 0 | S11: =K11 -> 0 | T11: =M11 -> 0 | U11: =O11 -> 135 | V11: =MAX(LARGE(P11:U11,1)+LARGE(P11:U11,2)+LARGE(P11:U11,3),0) -> 217 | W11: =COUNTIF(P11:U11,">0") -> 2
A12: 3 | B12: Julie Marie Hynne | C12: IL Runar | D12: 2 | E12: =IF(D12>0,VLOOKUP(D12,Poengskala!$B$4:$C$34,2,TRUE),0) -> 90 | G12: =IF(F12>0,VLOOKUP(F12,Poengskala!$B$4:$C$34,2,TRUE),0) -> 0 | I12: =IF(H12>0,VLOOKUP(H12,Poengskala!$B$4:$C$34,2,TRUE),0) -> 0 | K12: =IF(J12>0,VLOOKUP(J12,Poengskala!$B$4:$C$34,2,TRUE),0) -> 0 | M12: =IF(L12>0,VLOOKUP(L12,Poengskala!$B$4:$C$34,2,TRUE),0) -> 0 | N12: 3 | O12: =IF(N12>0,VLOOKUP(N12,Poengskala!$B$4:$D$34,3,TRUE),0) -> 123 | P12: =E12 -> 90 | Q12: =G12 -> 0 | R12: =I12 -> 0 | S12: =K12 -> 0 | T12: =M12 -> 0 | U12: =O12 -> 123 | V12: =MAX(LARGE(P12:U12,1)+LARGE(P12:U12,2)+LARGE(P12:U12,3),0) -> 213 | W12: =COUNTIF(P12:U12,">0") -> 2
A13: 4 | B13: Kine Kristoffersen | C13: Kragerø IF Ski | E13: =IF(D13>0,VLOOKUP(D13,Poengskala!$B$4:$C$34,2,TRUE),0) -> 0 | G13: =IF(F13>0,VLOOKUP(F13,Poengskala!$B$4:$C$34,2,TRUE),0) -> 0 | I13: =IF(H13>0,VLOOKUP(H13,Poengskala!$B$4:$C$34,2,TRUE),0) -> 0 | K13: =IF(J13>0,VLOOKUP(J13,Poengskala!$B$4:$C$34,2,TRUE),0) -> 0 | M13: =IF(L13>0,VLOOKUP(L13,Poengskala!$B$4:$C$34,2,TRUE),0) -> 0 | N13: 1 | O13: =IF(N13>0,VLOOKUP(N13,Poengskala!$B$4:$D$34,3,TRUE),0) -> 150 | P13: =E13 -> 0 | Q13: =G13 -> 0 | R13: =I13 -> 0 | S13: =K13 -> 0 | T13: =M13 -> 0 | U13: =O13 -> 150 | V13: =MAX(LARGE(P13:U13,1)+LARGE(P13:U13,2)+LARGE(P13:U13,3),0) -> 150 | W13: =COUNTIF(P13:U13,">0") -> 1
A14: 5 | B14: Stine Nicolaysen | C14: IL Runar | D14: 0 | E14: =IF(D14>0,VLOOKUP(D14,Poengskala!$B$4:$C$34,2,TRUE),0) -> 0 | F14: 1 | G14: =IF(F14>0,VLOOKUP(F14,Poengskala!$B$4:$C$34,2,TRUE),0) -> 100 | I14: =IF(H14>0,VLOOKUP(H14,Poengskala!$B$4:$C$34,2,TRUE),0) -> 0 | K14: =IF(J14>0,VLOOKUP(J14,Poengskala!$B$4:$C$34,2,TRUE),0) -> 0 | M14: =IF(L14>0,VLOOKUP(L14,Poengskala!$B$4:$C$34,2,TRUE),0) -> 0 | O14: =IF(N14>0,VLOOKUP(N14,Poengskala!$B$4:$D$34,3,TRUE),0) -> 0 | P14: =E14 -> 0 | Q14: =G14 -> 100 | R14: =I14 -> 0 | S14: =K14 -> 0 | T14: =M14 -> 0 | U14: =O14 -> 0 | V14: =MAX(LARGE(P14:U14,1)+LARGE(P14:U14,2)+LARGE(P14:U14,3),0) -> 100 | W14: =COUNTIF(P14:U14,">0") -> 1
A15: 6 | B15: Andrine Harriet Fremstad | C15: Nanset IF | E15: =IF(D15>0,VLOOKUP(D15,Poengskala!$B$4:$C$34,2,TRUE),0) -> 0 | F15: 2 | G15: =IF(F15>0,VLOOKUP(F15,Poengskala!$B$4:$C$34,2,TRUE),0) -> 90 | I15: =IF(H15>0,VLOOKUP(H15,Poengskala!$B$4:$C$34,2,TRUE),0) -> 0 | K15: =IF(J15>0,VLOOKUP(J15,Poengskala!$B$4:$C$34,2,TRUE),0) -> 0 | M15: =IF(L15>0,VLOOKUP(L15,Poengskala!$B$4:$C$34,2,TRUE),0) -> 0 | O15: =IF(N15>0,VLOOKUP(N15,Poengskala!$B$4:$D$34,3,TRUE),0) -> 0 | P15: =E15 -> 0 | Q15: =G15 -> 90 | R15: =I15 -> 0 | S15: =K15 -> 0 | T15: =M15 -> 0 | U15: =O15 -> 0 | V15: =MAX(LARGE(P15:U15,1)+LARGE(P15:U15,2)+LARGE(P15:U15,3),0) -> 90 | W15: =COUNTIF(P15:U15,">0") -> 1
A16: 7 | B16: Anne Omholt Berrefjord | C16: Svarstad IL | D16: 3 | E16: =IF(D16>0,VLOOKUP(D16,Poengskala!$B$4:$C$34,2,TRUE),0) -> 82 | G16: =IF(F16>0,VLOOKUP(F16,Poengskala!$B$4:$C$34,2,TRUE),0) -> 0 | I16: =IF(H16>0,VLOOKUP(H16,Poengskala!$B$4:$C$34,2,TRUE),0) -> 0 | K16: =IF(J16>0,VLOOKUP(J16,Poengskala!$B$4:$C$34,2,TRUE),0) -> 0 | M16: =IF(L16>0,VLOOKUP(L16,Poengskala!$B$4:$C$34,2,TRUE),0) -> 0 | O16: =IF(N16>0,VLOOKUP(N16,Poengskala!$B$4:$D$34,3,TRUE),0) -> 0 | P16: =E16 -> 82 | Q16: =G16 -> 0 | R16: =I16 -> 0 | S16: =K16 -> 0 | T16: =M16 -> 0 | U16: =O16 -> 0 | V16: =MAX(LARGE(P16:U16,1)+LARGE(P16:U16,2)+LARGE(P16:U16,3),0) -> 82 | W16: =COUNTIF(P16:U16,">0") -> 1
A17: 8 | B17: Marthe Quenild- Svennungsen | C17: IF Ørn | E17: =IF(D17>0,VLOOKUP(D17,Poengskala!$B$4:$C$34,2,TRUE),0) -> 0 | F17: 4 | G17: =IF(F17>0,VLOOKUP(F17,Poengskala!$B$4:$C$34,2,TRUE),0) -> 75 | I17: =IF(H17>0,VLOOKUP(H17,Poengskala!$B$4:$C$34,2,TRUE),0) -> 0 | K17: =IF(J17>0,VLOOKUP(J17,Poengskala!$B$4:$C$34,2,TRUE),0) -> 0 | M17: =IF(L17>0,VLOOKUP(L17,Poengskala!$B$4:$C$34,2,TRUE),0) -> 0 | O17: =IF(N17>0,VLOOKUP(N17,Poengskala!$B$4:$D$34,3,TRUE),0) -> 0 | P17: =E17 -> 0 | Q17: =G17 -> 75 | R17: =I17 -> 0 | S17: =K17 -> 0 | T17: =M17 -> 0 | U17: =O17 -> 0 | V17: =MAX(LARGE(P17:U17,1)+LARGE(P17:U17,2)+LARGE(P17:U17,3),0) -> 75 | W17: =COUNTIF(P17:U17,">0") -> 1
A18: 9 | B18: Annbjørg Hovdejord | C18: Heddal IL | E18: =IF(D18>0,VLOOKUP(D18,Poengskala!$B$4:$C$34,2,TRUE),0) -> 0 | F18: 6 | G18: =IF(F18>0,VLOOKUP(F18,Poengskala!$B$4:$C$34,2,TRUE),0) -> 66 | I18: =IF(H18>0,VLOOKUP(H18,Poengskala!$B$4:$C$34,2,TRUE),0) -> 0 | K18: =IF(J18>0,VLOOKUP(J18,Poengskala!$B$4:$C$34,2,TRUE),0) -> 0 | M18: =IF(L18>0,VLOOKUP(L18,Poengskala!$B$4:$C$34,2,TRUE),0) -> 0 | O18: =IF(N18>0,VLOOKUP(N18,Poengskala!$B$4:$D$34,3,TRUE),0) -> 0 | P18: =E18 -> 0 | Q18: =G18 -> 66 | R18: =I18 -> 0 | S18: =K18 -> 0 | T18: =M18 -> 0 | U18: =O18 -> 0 | V18: =MAX(LARGE(P18:U18,1)+LARGE(P18:U18,2)+LARGE(P18:U18,3),0) -> 66 | W18: =COUNTIF(P18:U18,">0") -> 1
E19: =IF(D19>0,VLOOKUP(D19,Poengskala!$B$4:$C$34,2,TRUE),0) -> 0 | G19: =IF(F19>0,VLOOKUP(F19,Poengskala!$B$4:$C$34,2,TRUE),0) -> 0 | I19: =IF(H19>0,VLOOKUP(H19,Poengskala!$B$4:$C$34,2,TRUE),0) -> 0 | K19: =IF(J19>0,VLOOKUP(J19,Poengskala!$B$4:$C$34,2,TRUE),0) -> 0 | M19: =IF(L19>0,VLOOKUP(L19,Poengskala!$B$4:$C$34,2,TRUE),0) -> 0 | O19: =IF(N19>0,VLOOKUP(N19,Poengskala!$B$4:$D$34,3,TRUE),0) -> 0 | P19: =E19 -> 0 | Q19: =G19 -> 0 | R19: =I19 -> 0 | S19: =K19 -> 0 | T19: =M19 -> 0 | U19: =O19 -> 0 | V19: =MAX(LARGE(P19:U19,1)+LARGE(P19:U19,2)+LARGE(P19:U19,3),0) -> 0 | W19: =COUNTIF(P19:U19,">0") -> 0
E20: =IF(D20>0,VLOOKUP(D20,Poengskala!$B$4:$C$34,2,TRUE),0) -> 0 | G20: =IF(F20>0,VLOOKUP(F20,Poengskala!$B$4:$C$34,2,TRUE),0) -> 0 | I20: =IF(H20>0,VLOOKUP(H20,Poengskala!$B$4:$C$34,2,TRUE),0) -> 0 | K20: =IF(J20>0,VLOOKUP(J20,Poengskala!$B$4:$C$34,2,TRUE),0) -> 0 | M20: =IF(L20>0,VLOOKUP(L20,Poengskala!$B$4:$C$34,2,TRUE),0) -> 0 | O20: =IF(N20>0,VLOOKUP(N20,Poengskala!$B$4:$D$34,3,TRUE),0) -> 0 | P20: =E20 -> 0 | Q20: =G20 -> 0 | R20: =I20 -> 0 | S20: =K20 -> 0 | T20: =M20 -> 0 | U20: =O20 -> 0 | V20: =MAX(LARGE(P20:U20,1)+LARGE(P20:U20,2)+LARGE(P20:U20,3),0) -> 0 | W20: =COUNTIF(P20:U20,">0") -> 0
E21: =IF(D21>0,VLOOKUP(D21,Poengskala!$B$4:$C$34,2,TRUE),0) -> 0 | G21: =IF(F21>0,VLOOKUP(F21,Poengskala!$B$4:$C$34,2,TRUE),0) -> 0 | I21: =IF(H21>0,VLOOKUP(H21,Poengskala!$B$4:$C$34,2,TRUE),0) -> 0 | K21: =IF(J21>0,VLOOKUP(J21,Poengskala!$B$4:$C$34,2,TRUE),0) -> 0 | M21: =IF(L21>0,VLOOKUP(L21,Poengskala!$B$4:$C$34,2,TRUE),0) -> 0 | O21: =IF(N21>0,VLOOKUP(N21,Poengskala!$B$4:$D$34,3,TRUE),0) -> 0 | P21: =E21 -> 0 | Q21: =G21 -> 0 | R21: =I21 -> 0 | S21: =K21 -> 0 | T21: =M21 -> 0 | U21: =O21 -> 0 | V21: =MAX(LARGE(P21:U21,1)+LARGE(P21:U21,2)+LARGE(P21:U21,3),0) -> 0 | W21: =COUNTIF(P21:U21,">0") -> 0
E22: =IF(D22>0,VLOOKUP(D22,Poengskala!$B$4:$C$34,2,TRUE),0) -> 0 | G22: =IF(F22>0,VLOOKUP(F22,Poengskala!$B$4:$C$34,2,TRUE),0) -> 0 | I22: =IF(H22>0,VLOOKUP(H22,Poengskala!$B$4:$C$34,2,TRUE),0) -> 0 | K22: =IF(J22>0,VLOOKUP(J22,Poengskala!$B$4:$C$34,2,TRUE),0) -> 0 | M22: =IF(L22>0,VLOOKUP(L22,Poengskala!$B$4:$C$34,2,TRUE),0) -> 0 | O22: =IF(N22>0,VLOOKUP(N22,Poengskala!$B$4:$D$34,3,TRUE),0) -> 0 | P22: =E22 -> 0 | Q22: =G22 -> 0 | R22: =I22 -> 0 | S22: =K22 -> 0 | T22: =M22 -> 0 | U22: =O22 -> 0 | V22: =MAX(LARGE(P22:U22,1)+LARGE(P22:U22,2)+LARGE(P22:U22,3),0) -> 0 | W22: =COUNTIF(P22:U22,">0") -> 0
E23: =IF(D23>0,VLOOKUP(D23,Poengskala!$B$4:$C$34,2,TRUE),0) -> 0 | G23: =IF(F23>0,VLOOKUP(F23,Poengskala!$B$4:$C$34,2,TRUE),0) -> 0 | I23: =IF(H23>0,VLOOKUP(H23,Poengskala!$B$4:$C$34,2,TRUE),0) -> 0 | K23: =IF(J23>0,VLOOKUP(J23,Poengskala!$B$4:$C$34,2,TRUE),0) -> 0 | M23: =IF(L23>0,VLOOKUP(L23,Poengskala!$B$4:$C$34,2,TRUE),0) -> 0 | O23: =IF(N23>0,VLOOKUP(N23,Poengskala!$B$4:$D$34,3,TRUE),0) -> 0 | P23: =E23 -> 0 | Q23: =G23 -> 0 | R23: =I23 -> 0 | S23: =K23 -> 0 | T23: =M23 -> 0 | U23: =O23 -> 0 | V23: =MAX(LARGE(P23:U23,1)+LARGE(P23:U23,2)+LARGE(P23:U23,3),0) -> 0 | W23: =COUNTIF(P23:U23,">0") -> 0
E24: =IF(D24>0,VLOOKUP(D24,Poengskala!$B$4:$C$34,2,TRUE),0) -> 0 | G24: =IF(F24>0,VLOOKUP(F24,Poengskala!$B$4:$C$34,2,TRUE),0) -> 0 | I24: =IF(H24>0,VLOOKUP(H24,Poengskala!$B$4:$C$34,2,TRUE),0) -> 0 | K24: =IF(J24>0,VLOOKUP(J24,Poengskala!$B$4:$C$34,2,TRUE),0) -> 0 | M24: =IF(L24>0,VLOOKUP(L24,Poengskala!$B$4:$C$34,2,TRUE),0) -> 0 | O24: =IF(N24>0,VLOOKUP(N24,Poengskala!$B$4:$D$34,3,TRUE),0) -> 0 | P24: =E24 -> 0 | Q24: =G24 -> 0 | R24: =I24 -> 0 | S24: =K24 -> 0 | T24: =M24 -> 0 | U24: =O24 -> 0 | V24: =MAX(LARGE(P24:U24,1)+LARGE(P24:U24,2)+LARGE(P24:U24,3),0) -> 0 | W24: =COUNTIF(P24:U24,">0") -> 0
E25: =IF(D25>0,VLOOKUP(D25,Poengskala!$B$4:$C$34,2,TRUE),0) -> 0 | G25: =IF(F25>0,VLOOKUP(F25,Poengskala!$B$4:$C$34,2,TRUE),0) -> 0 | I25: =IF(H25>0,VLOOKUP(H25,Poengskala!$B$4:$C$34,2,TRUE),0) -> 0 | K25: =IF(J25>0,VLOOKUP(J25,Poengskala!$B$4:$C$34,2,TRUE),0) -> 0 | M25: =IF(L25>0,VLOOKUP(L25,Poengskala!$B$4:$C$34,2,TRUE),0) -> 0 | O25: =IF(N25>0,VLOOKUP(N25,Poengskala!$B$4:$D$34,3,TRUE),0) -> 0 | P25: =E25 -> 0 | Q25: =G25 -> 0 | R25: =I25 -> 0 | S25: =K25 -> 0 | T25: =M25 -> 0 | U25: =O25 -> 0 | V25: =MAX(LARGE(P25:U25,1)+LARGE(P25:U25,2)+LARGE(P25:U25,3),0) -> 0 | W25: =COUNTIF(P25:U25,">0") -> 0
E26: =IF(D26>0,VLOOKUP(D26,Poengskala!$B$4:$C$34,2,TRUE),0) -> 0 | G26: =IF(F26>0,VLOOKUP(F26,Poengskala!$B$4:$C$34,2,TRUE),0) -> 0 | I26: =IF(H26>0,VLOOKUP(H26,Poengskala!$B$4:$C$34,2,TRUE),0) -> 0 | K26: =IF(J26>0,VLOOKUP(J26,Poengskala!$B$4:$C$34,2,TRUE),0) -> 0 | M26: =IF(L26>0,VLOOKUP(L26,Poengskala!$B$4:$C$34,2,TRUE),0) -> 0 | O26: =IF(N26>0,VLOOKUP(N26,Poengskala!$B$4:$D$34,3,TRUE),0) -> 0 | P26: =E26 -> 0 | Q26: =G26 -> 0 | R26: =I26 -> 0 | S26: =K26 -> 0 | T26: =M26 -> 0 | U26: =O26 -> 0 | V26: =MAX(LARGE(P26:U26,1)+LARGE(P26:U26,2)+LARGE(P26:U26,3),0) -> 0 | W26: =COUNTIF(P26:U26,">0") -> 0
E27: =IF(D27>0,VLOOKUP(D27,Poengskala!$B$4:$C$34,2,TRUE),0) -> 0 | G27: =IF(F27>0,VLOOKUP(F27,Poengskala!$B$4:$C$34,2,TRUE),0) -> 0 | I27: =IF(H27>0,VLOOKUP(H27,Poengskala!$B$4:$C$34,2,TRUE),0) -> 0 | K27: =IF(J27>0,VLOOKUP(J27,Poengskala!$B$4:$C$34,2,TRUE),0) -> 0 | M27: =IF(L27>0,VLOOKUP(L27,Poengskala!$B$4:$C$34,2,TRUE),0) -> 0 | O27: =IF(N27>0,VLOOKUP(N27,Poengskala!$B$4:$D$34,3,TRUE),0) -> 0 | P27: =E27 -> 0 | Q27: =G27 -> 0 | R27: =I27 -> 0 | S27: =K27 -> 0 | T27: =M27 -> 0 | U27: =O27 -> 0 | V27: =MAX(LARGE(P27:U27,1)+LARGE(P27:U27,2)+LARGE(P27:U27,3),0) -> 0 | W27: =COUNTIF(P27:U27,">0") -> 0
E28: =IF(D28>0,VLOOKUP(D28,Poengskala!$B$4:$C$34,2,TRUE),0) -> 0 | G28: =IF(F28>0,VLOOKUP(F28,Poengskala!$B$4:$C$34,2,TRUE),0) -> 0 | I28: =IF(H28>0,VLOOKUP(H28,Poengskala!$B$4:$C$34,2,TRUE),0) -> 0 | K28: =IF(J28>0,VLOOKUP(J28,Poengskala!$B$4:$C$34,2,TRUE),0) -> 0 | M28: =IF(L28>0,VLOOKUP(L28,Poengskala!$B$4:$C$34,2,TRUE),0) -> 0 | O28: =IF(N28>0,VLOOKUP(N28,Poengskala!$B$4:$D$34,3,TRUE),0) -> 0 | P28: =E28 -> 0 | Q28: =G28 -> 0 | R28: =I28 -> 0 | S28: =K28 -> 0 | T28: =M28 -> 0 | U28: =O28 -> 0 | V28: =MAX(LARGE(P28:U28,1)+LARGE(P28:U28,2)+LARGE(P28:U28,3),0) -> 0 | W28: =COUNTIF(P28:U28,">0") -> 0
E29: =IF(D29>0,VLOOKUP(D29,Poengskala!$B$4:$C$34,2,TRUE),0) -> 0 | G29: =IF(F29>0,VLOOKUP(F29,Poengskala!$B$4:$C$34,2,TRUE),0) -> 0 | I29: =IF(H29>0,VLOOKUP(H29,Poengskala!$B$4:$C$34,2,TRUE),0) -> 0 | K29: =IF(J29>0,VLOOKUP(J29,Poengskala!$B$4:$C$34,2,TRUE),0) -> 0 | M29: =IF(L29>0,VLOOKUP(L29,Poengskala!$B$4:$C$34,2,TRUE),0) -> 0 | O29: =IF(N29>0,VLOOKUP(N29,Poengskala!$B$4:$D$34,3,TRUE),0) -> 0 | P29: =E29 -> 0 | Q29: =G29 -> 0 | R29: =I29 -> 0 | S29: =K29 -> 0 | T29: =M29 -> 0 | U29: =O29 -> 0 | V29: =MAX(LARGE(P29:U29,1)+LARGE(P29:U29,2)+LARGE(P29:U29,3),0) -> 0 | W29: =COUNTIF(P29:U29,">0") -> 0
E30: =IF(D30>0,VLOOKUP(D30,Poengskala!$B$4:$C$34,2,TRUE),0) -> 0 | G30: =IF(F30>0,VLOOKUP(F30,Poengskala!$B$4:$C$34,2,TRUE),0) -> 0 | I30: =IF(H30>0,VLOOKUP(H30,Poengskala!$B$4:$C$34,2,TRUE),0) -> 0 | K30: =IF(J30>0,VLOOKUP(J30,Poengskala!$B$4:$C$34,2,TRUE),0) -> 0 | M30: =IF(L30>0,VLOOKUP(L30,Poengskala!$B$4:$C$34,2,TRUE),0) -> 0 | O30: =IF(N30>0,VLOOKUP(N30,Poengskala!$B$4:$D$34,3,TRUE),0) -> 0 | P30: =E30 -> 0 | Q30: =G30 -> 0 | R30: =I30 -> 0 | S30: =K30 -> 0 | T30: =M30 -> 0 | U30: =O30 -> 0 | V30: =MAX(LARGE(P30:U30,1)+LARGE(P30:U30,2)+LARGE(P30:U30,3),0) -> 0 | W30: =COUNTIF(P30:U30,">0") -> 0
... E45: =IF(D45>0,VLOOKUP(D45,Poengskala!$B$4:$C$34,2,TRUE),0) -> 0 | G45: =IF(F45>0,VLOOKUP(F45,Poengskala!$B$4:$C$34,2,TRUE),0) -> 0 | I45: =IF(H45>0,VLOOKUP(H45,Poengskala!$B$4:$C$34,2,TRUE),0) -> 0 | K45: =IF(J45>0,VLOOKUP(J45,Poengskala!$B$4:$C$34,2,TRUE),0) -> 0 | M45: =IF(L45>0,VLOOKUP(L45,Poengskala!$B$4:$C$34,2,TRUE),0) -> 0 | O45: =IF(N45>0,VLOOKUP(N45,Poengskala!$B$4:$D$34,3,TRUE),0) -> 0 | P45: =E45 -> 0 | Q45: =G45 -> 0 | R45: =I45 -> 0 | S45: =K45 -> 0 | T45: =M45 -> 0 | U45: =O45 -> 0 | V45: =MAX(LARGE(P45:U45,1)+LARGE(P45:U45,2)+LARGE(P45:U45,3),0) -> 0 | W45: =COUNTIF(P45:U45,">0") -> 0

Sheet G-13
A1: Klasse - Gutter 13 år
A2: Utøveren må ha fullført 3 av 5 renn i cupen for å bli premiert.
A3: De 3 beste rennene teller sammenlagt
A4: Lista viser alle som har deltatt i TV - Cup.
A6: Evt. feil sendes til tvsk@skiforbundet.no | D6: Fristil | F6: Klassisk | H6: Sprint Klassisk | J6: Klassisk | L6: Finale Tour | N6: Finale Tour | P6: Renn1 | Q6: Renn2 | R6: Renn3 | S6: Renn4 | U6: Renn5 | V6: Total Poeng | W6: Antall renn
A7: Oppdatert: 12.02.2019 | D7: Oseberg Skilag | F7: Svarstad IL | H7: IL Runar | J7: Høydalsmo IL | L7: Runar | N7: IL Ivrig/Botne SK
D8: 43450 | F8: 43464 | H8: 43499 | J8: 43505 | L8: 42812 | N8: 16.03-17.03.2019
A9: Plass | B9: Navn | C9: Klubb | D9: Plass | E9: Poeng | F9: Plass | G9: Poeng | H9: Plass | I9: Poeng | J9: Plass | K9: Poeng | L9: Plass | M9: Poeng | N9: Plass | O9: Poeng
A10: 1 | B10: Kasper Fet Støtvig | C10: Oseberg Skilag | D10: 2 | E10: =IF(D10>0,VLOOKUP(D10,Poengskala!$B$4:$C$34,2,TRUE),0) -> 90 | F10: 4 | G10: =IF(F10>0,VLOOKUP(F10,Poengskala!$B$4:$C$34,2,TRUE),0) -> 75 | H10: 3 | I10: =IF(H10>0,VLOOKUP(H10,Poengskala!$B$4:$C$34,2,TRUE),0) -> 82 | J10: 1 | K10: =IF(J10>0,VLOOKUP(J10,Poengskala!$B$4:$C$34,2,TRUE),0) -> 100 | M10: =IF(L10>0,VLOOKUP(L10,Poengskala!$B$4:$C$34,2,TRUE),0) -> 0 | N10: 1 | O10: =IF(N10>0,VLOOKUP(N10,Poengskala!$B$4:$D$34,3,TRUE),0) -> 150 | P10: =E10 -> 90 | Q10: =G10 -> 75 | R10: =I10 -> 82 | S10: =K10 -> 100 | T10: =M10 -> 0 | U10: =O10 -> 150 | V10: =MAX(LARGE(P10:U10,1)+LARGE(P10:U10,2)+LARGE(P10:U10,3),0) -> 340 | W10: =COUNTIF(P10:U10,">0") -> 5
A11: 2 | B11: Simen Bror Knotten | C11: IL Ivrig | D11: 4 | E11: =IF(D11>0,VLOOKUP(D11,Poengskala!$B$4:$C$34,2,TRUE),0) -> 75 | F11: 3 | G11: =IF(F11>0,VLOOKUP(F11,Poengskala!$B$4:$C$34,2,TRUE),0) -> 82 | H11: 1 | I11: =IF(H11>0,VLOOKUP(H11,Poengskala!$B$4:$C$34,2,TRUE),0) -> 100 | K11: =IF(J11>0,VLOOKUP(J11,Poengskala!$B$4:$C$34,2,TRUE),0) -> 0 | M11: =IF(L11>0,VLOOKUP(L11,Poengskala!$B$4:$C$34,2,TRUE),0) -> 0 | N11: 2 | O11: =IF(N11>0,VLOOKUP(N11,Poengskala!$B$4:$D$34,3,TRUE),0) -> 135 | P11: =E11 -> 75 | Q11: =G11 -> 82 | R11: =I11 -> 100 | S11: =K11 -> 0 | T11: =M11 -> 0 | U11: =O11 -> 135 | V11: =MAX(LARGE(P11:U11,1)+LARGE(P11:U11,2)+LARGE(P11:U11,3),0) -> 317 | W11: =COUNTIF(P11:U11,">0") -> 4
A12: 3 | B12: Lars Opstad Vike | C12: Andebu IL | D12: 1 | E12: =IF(D12>0,VLOOKUP(D12,Poengskala!$B$4:$C$34,2,TRUE),0) -> 100 | F12: 2 | G12: =IF(F12>0,VLOOKUP(F12,Poengskala!$B$4:$C$34,2,TRUE),0) -> 90 | I12: =IF(H12>0,VLOOKUP(H12,Poengskala!$B$4:$C$34,2,TRUE),0) -> 0 | K12: =IF(J12>0,VLOOKUP(J12,Poengskala!$B$4:$C$34,2,TRUE),0) -> 0 | M12: =IF(L12>0,VLOOKUP(L12,Poengskala!$B$4:$C$34,2,TRUE),0) -> 0 | N12: 3 | O12: =IF(N12>0,VLOOKUP(N12,Poengskala!$B$4:$D$34,3,TRUE),0) -> 123 | P12: =E12 -> 100 | Q12: =G12 -> 90 | R12: =I12 -> 0 | S12: =K12 -> 0 | T12: =M12 -> 0 | U12: =O12 -> 123 | V12: =MAX(LARGE(P12:U12,1)+LARGE(P12:U12,2)+LARGE(P12:U12,3),0) -> 313 | W12: =COUNTIF(P12:U12,">0") -> 3
A13: 4 | B13: Christoffer Rüger | C13: Gulset IF | D13: 5 | E13: =IF(D13>0,VLOOKUP(D13,Poengskala!$B$4:$C$34,2,TRUE),0) -> 70 | F13: 1 | G13: =IF(F13>0,VLOOKUP(F13,Poengskala!$B$4:$C$34,2,TRUE),0) -> 100 | H13: 2 | I13: =IF(H13>0,VLOOKUP(H13,Poengskala!$B$4:$C$34,2,TRUE),0) -> 90 | J13: 2 | K13: =IF(J13>0,VLOOKUP(J13,Poengskala!$B$4:$C$34,2,TRUE),0) -> 90 | M13: =IF(L13>0,VLOOKUP(L13,Poengskala!$B$4:$C$34,2,TRUE),0) -> 0 | N13: 4 | O13: =IF(N13>0,VLOOKUP(N13,Poengskala!$B$4:$D$34,3,TRUE),0) -> 112.5 | P13: =E13 -> 70 | Q13: =G13 -> 100 | R13: =I13 -> 90 | S13: =K13 -> 90 | T13: =M13 -> 0 | U13: =O13 -> 112.5 | V13: =MAX(LARGE(P13:U13,1)+LARGE(P13:U13,2)+LARGE(P13:U13,3),0) -> 302.5 | W13: =COUNTIF(P13:U13,">0") -> 5
A14: 5 | B14: Marius Innhaug Dahl | C14: Oseberg Skilag | D14: 3 | E14: =IF(D14>0,VLOOKUP(D14,Poengskala!$B$4:$C$34,2,TRUE),0) -> 82 | F14: 6 | G14: =IF(F14>0,VLOOKUP(F14,Poengskala!$B$4:$C$34,2,TRUE),0) -> 66 | I14: =IF(H14>0,VLOOKUP(H14,Poengskala!$B$4:$C$34,2,TRUE),0) -> 0 | K14: =IF(J14>0,VLOOKUP(J14,Poengskala!$B$4:$C$34,2,TRUE),0) -> 0 | M14: =IF(L14>0,VLOOKUP(L14,Poengskala!$B$4:$C$34,2,TRUE),0) -> 0 | N14: 5 | O14: =IF(N14>0,VLOOKUP(N14,Poengskala!$B$4:$D$34,3,TRUE),0) -> 105 | P14: =E14 -> 82 | Q14: =G14 -> 66 | R14: =I14 -> 0 | S14: =K14 -> 0 | T14: =M14 -> 0 | U14: =O14 -> 105 | V14: =MAX(LARGE(P14:U14,1)+LARGE(P14:U14,2)+LARGE(P14:U14,3),0) -> 253 | W14: =COUNTIF(P14:U14,">0") -> 3
A15: 6 | B15: Andreas Flaatten | C15: Oseberg Skilag | E15: =IF(D15>0,VLOOKUP(D15,Poengskala!$B$4:$C$34,2,TRUE),0) -> 0 | F15: 5 | G15: =IF(F15>0,VLOOKUP(F15,Poengskala!$B$4:$C$34,2,TRUE),0) -> 70 | I15: =IF(H15>0,VLOOKUP(H15,Poengskala!$B$4:$C$34,2,TRUE),0) -> 0 | J15: 3 | K15: =IF(J15>0,VLOOKUP(J15,Poengskala!$B$4:$C$34,2,TRUE),0) -> 82 | M15: =IF(L15>0,VLOOKUP(L15,Poengskala!$B$4:$C$34,2,TRUE),0) -> 0 | N15: 9 | O15: =IF(N15>0,VLOOKUP(N15,Poengskala!$B$4:$D$34,3,TRUE),0) -> 82.5 | P15: =E15 -> 0 | Q15: =G15 -> 70 | R15: =I15 -> 0 | S15: =K15 -> 82 | T15: =M15 -> 0 | U15: =O15 -> 82.5 | V15: =MAX(LARGE(P15:U15,1)+LARGE(P15:U15,2)+LARGE(P15:U15,3),0) -> 234.5 | W15: =COUNTIF(P15:U15,">0") -> 3
A16: 7 | B16: Kasper Andre`Hartikkala- Pettersen | C16: Stathelle og Omegn | D16: 12 | E16: =IF(D16>0,VLOOKUP(D16,Poengskala!$B$4:$C$34,2,TRUE),0) -> 46 | G16: =IF(F16>0,VLOOKUP(F16,Poengskala!$B$4:$C$34,2,TRUE),0) -> 0 | H16: 7 | I16: =IF(H16>0,VLOOKUP(H16,Poengskala!$B$4:$C$34,2,TRUE),0) -> 62 | K16: =IF(J16>0,VLOOKUP(J16,Poengskala!$B$4:$C$34,2,TRUE),0) -> 0 | M16: =IF(L16>0,VLOOKUP(L16,Poengskala!$B$4:$C$34,2,TRUE),0) -> 0 | N16: 7 | O16: =IF(N16>0,VLOOKUP(N16,Poengskala!$B$4:$D$34,3,TRUE),0) -> 93 | P16: =E16 -> 46 | Q16: =G16 -> 0 | R16: =I16 -> 62 | S16: =K16 -> 0 | T16: =M16 -> 0 | U16: =O16 -> 93 | V16: =MAX(LARGE(P16:U16,1)+LARGE(P16:U16,2)+LARGE(P16:U16,3),0) -> 201 | W16: =COUNTIF(P16:U16,">0") -> 3
A17: 8 | B17: Patrick Johansen | C17: Oseberg Skilag | D17: 9 | E17: =IF(D17>0,VLOOKUP(D17,Poengskala!$B$4:$C$34,2,TRUE),0) -> 55 | G17: =IF(F17>0,VLOOKUP(F17,Poengskala!$B$4:$C$34,2,TRUE),0) -> 0 | H17: 5 | I17: =IF(H17>0,VLOOKUP(H17,Poengskala!$B$4:$C$34,2,TRUE),0) -> 70 | K17: =IF(J17>0,VLOOKUP(J17,Poengskala!$B$4:$C$34,2,TRUE),0) -> 0 | M17: =IF(L17>0,VLOOKUP(L17,Poengskala!$B$4:$C$34,2,TRUE),0) -> 0 | N17: 11 | O17: =IF(N17>0,VLOOKUP(N17,Poengskala!$B$4:$D$34,3,TRUE),0) -> 73.5 | P17: =E17 -> 55 | Q17: =G17 -> 0 | R17: =I17 -> 70 | S17: =K17 -> 0 | T17: =M17 -> 0 | U17: =O17 -> 73.5 | V17: =MAX(LARGE(P17:U17,1)+LARGE(P17:U17,2)+LARGE(P17:U17,3),0) -> 198.5 | W17: =COUNTIF(P17:U17,">0") -> 3
A18: 9 | B18: Tobias Kalmo Thorbjørnsen | C18: Sande Sportsklubb | D18: 10 | E18: =IF(D18>0,VLOOKUP(D18,Poengskala!$B$4:$C$34,2,TRUE),0) -> 52 | F18: 8 | G18: =IF(F18>0,VLOOKUP(F18,Poengskala!$B$4:$C$34,2,TRUE),0) -> 58 | I18: =IF(H18>0,VLOOKUP(H18,Poengskala!$B$4:$C$34,2,TRUE),0) -> 0 | K18: =IF(J18>0,VLOOKUP(J18,Poengskala!$B$4:$C$34,2,TRUE),0) -> 0 | M18: =IF(L18>0,VLOOKUP(L18,Poengskala!$B$4:$C$34,2,TRUE),0) -> 0 | N18: 8 | O18: =IF(N18>0,VLOOKUP(N18,Poengskala!$B$4:$D$34,3,TRUE),0) -> 87 | P18: =E18 -> 52 | Q18: =G18 -> 58 | R18: =I18 -> 0 | S18: =K18 -> 0 | T18: =M18 -> 0 | U18: =O18 -> 87 | V18: =MAX(LARGE(P18:U18,1)+LARGE(P18:U18,2)+LARGE(P18:U18,3),0) -> 197 | W18: =COUNTIF(P18:U18,">0") -> 3
A19: 10 | B19: Kristoffer Saga | C19: Stathelle og Omegn | D19: 11 | E19: =IF(D19>0,VLOOKUP(D19,Poengskala!$B$4:$C$34,2,TRUE),0) -> 49 | G19: =IF(F19>0,VLOOKUP(F19,Poengskala!$B$4:$C$34,2,TRUE),0) -> 0 | H19: 6 | I19: =IF(H19>0,VLOOKUP(H19,Poengskala!$B$4:$C$34,2,TRUE),0) -> 66 | J19: 6 | K19: =IF(J19>0,VLOOKUP(J19,Poengskala!$B$4:$C$34,2,TRUE),0) -> 66 | M19: =IF(L19>0,VLOOKUP(L19,Poengskala!$B$4:$C$34,2,TRUE),0) -> 0 | O19: =IF(N19>0,VLOOKUP(N19,Poengskala!$B$4:$D$34,3,TRUE),0) -> 0 | P19: =E19 -> 49 | Q19: =G19 -> 0 | R19: =I19 -> 66 | S19: =K19 -> 66 | T19: =M19 -> 0 | U19: =O19 -> 0 | V19: =MAX(LARGE(P19:U19,1)+LARGE(P19:U19,2)+LARGE(P19:U19,3),0) -> 181 | W19: =COUNTIF(P19:U19,">0") -> 3
A20: 11 | B20: Henrik Førsund- Njøten | C20: Botne SK | D20: 14 | E20: =IF(D20>0,VLOOKUP(D20,Poengskala!$B$4:$C$34,2,TRUE),0) -> 42 | F20: 11 | G20: =IF(F20>0,VLOOKUP(F20,Poengskala!$B$4:$C$34,2,TRUE),0) -> 49 | H20: 8 | I20: =IF(H20>0,VLOOKUP(H20,Poengskala!$B$4:$C$34,2,TRUE),0) -> 58 | K20: =IF(J20>0,VLOOKUP(J20,Poengskala!$B$4:$C$34,2,TRUE),0) -> 0 | M20: =IF(L20>0,VLOOKUP(L20,Poengskala!$B$4:$C$34,2,TRUE),0) -> 0 | N20: 12 | O20: =IF(N20>0,VLOOKUP(N20,Poengskala!$B$4:$D$34,3,TRUE),0) -> 69 | P20: =E20 -> 42 | Q20: =G20 -> 49 | R20: =I20 -> 58 | S20: =K20 -> 0 | T20: =M20 -> 0 | U20: =O20 -> 69 | V20: =MAX(LARGE(P20:U20,1)+LARGE(P20:U20,2)+LARGE(P20:U20,3),0) -> 176 | W20: =COUNTIF(P20:U20,">0") -> 4
A21: 12 | B21: Emil Creutzer Langslet | C21: IL Ivrig | E21: =IF(D21>0,VLOOKUP(D21,Poengskala!$B$4:$C$34,2,TRUE),0) -> 0 | G21: =IF(F21>0,VLOOKUP(F21,Poengskala!$B$4:$C$34,2,TRUE),0) -> 0 | H21: 4 | I21: =IF(H21>0,VLOOKUP(H21,Poengskala!$B$4:$C$34,2,TRUE),0) -> 75 | K21: =IF(J21>0,VLOOKUP(J21,Poengskala!$B$4:$C$34,2,TRUE),0) -> 0 | M21: =IF(L21>0,VLOOKUP(L21,Poengskala!$B$4:$C$34,2,TRUE),0) -> 0 | N21: 6 | O21: =IF(N21>0,VLOOKUP(N21,Poengskala!$B$4:$D$34,3,TRUE),0) -> 99 | P21: =E21 -> 0 | Q21: =G21 -> 0 | R21: =I21 -> 75 | S21: =K21 -> 0 | T21: =M21 -> 0 | U21: =O21 -> 99 | V21: =MAX(LARGE(P21:U21,1)+LARGE(P21:U21,2)+LARGE(P21:U21,3),0) -> 174 | W21: =COUNTIF(P21:U21,">0") -> 2
A22: 13 | B22: Eldar Ravn Holm | C22: IL Runar | D22: 16 | E22: =IF(D22>0,VLOOKUP(D22,Poengskala!$B$4:$C$34,2,TRUE),0) -> 38 | F22: 12 | G22: =IF(F22>0,VLOOKUP(F22,Poengskala!$B$4:$C$34,2,TRUE),0) -> 46 | I22: =IF(H22>0,VLOOKUP(H22,Poengskala!$B$4:$C$34,2,TRUE),0) -> 0 | K22: =IF(J22>0,VLOOKUP(J22,Poengskala!$B$4:$C$34,2,TRUE),0) -> 0 | M22: =IF(L22>0,VLOOKUP(L22,Poengskala!$B$4:$C$34,2,TRUE),0) -> 0 | N22: 13 | O22: =IF(N22>0,VLOOKUP(N22,Poengskala!$B$4:$D$34,3,TRUE),0) -> 66 | P22: =E22 -> 38 | Q22: =G22 -> 46 | R22: =I22 -> 0 | S22: =K22 -> 0 | T22: =M22 -> 0 | U22: =O22 -> 66 | V22: =MAX(LARGE(P22:U22,1)+LARGE(P22:U22,2)+LARGE(P22:U22,3),0) -> 150 | W22: =COUNTIF(P22:U22,">0") -> 3
A23: 14 | B23: Ola Bratland | C23: Oseberg skilag | D23: 8 | E23: =IF(D23>0,VLOOKUP(D23,Poengskala!$B$4:$C$34,2,TRUE),0) -> 58 | G23: =IF(F23>0,VLOOKUP(F23,Poengskala!$B$4:$C$34,2,TRUE),0) -> 0 | I23: =IF(H23>0,VLOOKUP(H23,Poengskala!$B$4:$C$34,2,TRUE),0) -> 0 | K23: =IF(J23>0,VLOOKUP(J23,Poengskala!$B$4:$C$34,2,TRUE),0) -> 0 | M23: =IF(L23>0,VLOOKUP(L23,Poengskala!$B$4:$C$34,2,TRUE),0) -> 0 | N23: 10 | O23: =IF(N23>0,VLOOKUP(N23,Poengskala!$B$4:$D$34,3,TRUE),0) -> 78 | P23: =E23 -> 58 | Q23: =G23 -> 0 | R23: =I23 -> 0 | S23: =K23 -> 0 | T23: =M23 -> 0 | U23: =O23 -> 78 | V23: =MAX(LARGE(P23:U23,1)+LARGE(P23:U23,2)+LARGE(P23:U23,3),0) -> 136 | W23: =COUNTIF(P23:U23,">0") -> 2
A24: 15 | B24: Adrian Andersen Pedersen | C24: Morgedal IL | E24: =IF(D24>0,VLOOKUP(D24,Poengskala!$B$4:$C$34,2,TRUE),0) -> 0 | F24: 9 | G24: =IF(F24>0,VLOOKUP(F24,Poengskala!$B$4:$C$34,2,TRUE),0) -> 55 | I24: =IF(H24>0,VLOOKUP(H24,Poengskala!$B$4:$C$34,2,TRUE),0) -> 0 | J24: 5 | K24: =IF(J24>0,VLOOKUP(J24,Poengskala!$B$4:$C$34,2,TRUE),0) -> 70 | M24: =IF(L24>0,VLOOKUP(L24,Poengskala!$B$4:$C$34,2,TRUE),0) -> 0 | O24: =IF(N24>0,VLOOKUP(N24,Poengskala!$B$4:$D$34,3,TRUE),0) -> 0 | P24: =E24 -> 0 | Q24: =G24 -> 55 | R24: =I24 -> 0 | S24: =K24 -> 70 | T24: =M24 -> 0 | U24: =O24 -> 0 | V24: =MAX(LARGE(P24:U24,1)+LARGE(P24:U24,2)+LARGE(P24:U24,3),0) -> 125 | W24: =COUNTIF(P24:U24,">0") -> 2
A25: 16 | B25: Knut Eirik Aspheim Kåsa | C25: Gulset IF | D25: 7 | E25: =IF(D25>0,VLOOKUP(D25,Poengskala!$B$4:$C$34,2,TRUE),0) -> 62 | F25: 7 | G25: =IF(F25>0,VLOOKUP(F25,Poengskala!$B$4:$C$34,2,TRUE),0) -> 62 | I25: =IF(H25>0,VLOOKUP(H25,Poengskala!$B$4:$C$34,2,TRUE),0) -> 0 | K25: =IF(J25>0,VLOOKUP(J25,Poengskala!$B$4:$C$34,2,TRUE),0) -> 0 | M25: =IF(L25>0,VLOOKUP(L25,Poengskala!$B$4:$C$34,2,TRUE),0) -> 0 | O25: =IF(N25>0,VLOOKUP(N25,Poengskala!$B$4:$D$34,3,TRUE),0) -> 0 | P25: =E25 -> 62 | Q25: =G25 -> 62 | R25: =I25 -> 0 | S25: =K25 -> 0 | T25: =M25 -> 0 | U25: =O25 -> 0 | V25: =MAX(LARGE(P25:U25,1)+LARGE(P25:U25,2)+LARGE(P25:U25,3),0) -> 124 | W25: =COUNTIF(P25:U25,">0") -> 2
A26: 17 | B26: Eirik Hjerpekjønn Skjelland | C26: Stokke IL | D26: 15 | E26: =IF(D26>0,VLOOKUP(D26,Poengskala!$B$4:$C$34,2,TRUE),0) -> 40 | F26: 14 | G26: =IF(F26>0,VLOOKUP(F26,Poengskala!$B$4:$C$34,2,TRUE),0) -> 42 | I26: =IF(H26>0,VLOOKUP(H26,Poengskala!$B$4:$C$34,2,TRUE),0) -> 0 | K26: =IF(J26>0,VLOOKUP(J26,Poengskala!$B$4:$C$34,2,TRUE),0) -> 0 | M26: =IF(L26>0,VLOOKUP(L26,Poengskala!$B$4:$C$34,2,TRUE),0) -> 0 | O26: =IF(N26>0,VLOOKUP(N26,Poengskala!$B$4:$D$34,3,TRUE),0) -> 0 | P26: =E26 -> 40 | Q26: =G26 -> 42 | R26: =I26 -> 0 | S26: =K26 -> 0 | T26: =M26 -> 0 | U26: =O26 -> 0 | V26: =MAX(LARGE(P26:U26,1)+LARGE(P26:U26,2)+LARGE(P26:U26,3),0) -> 82 | W26: =COUNTIF(P26:U26,">0") -> 2
A27: 18 | B27: Sondre Harstad Rinde | C27: IL Skarphedin | E27: =IF(D27>0,VLOOKUP(D27,Poengskala!$B$4:$C$34,2,TRUE),0) -> 0 | G27: =IF(F27>0,VLOOKUP(F27,Poengskala!$B$4:$C$34,2,TRUE),0) -> 0 | I27: =IF(H27>0,VLOOKUP(H27,Poengskala!$B$4:$C$34,2,TRUE),0) -> 0 | J27: 4 | K27: =IF(J27>0,VLOOKUP(J27,Poengskala!$B$4:$C$34,2,TRUE),0) -> 75 | M27: =IF(L27>0,VLOOKUP(L27,Poengskala!$B$4:$C$34,2,TRUE),0) -> 0 | O27: =IF(N27>0,VLOOKUP(N27,Poengskala!$B$4:$D$34,3,TRUE),0) -> 0 | P27: =E27 -> 0 | Q27: =G27 -> 0 | R27: =I27 -> 0 | S27: =K27 -> 75 | T27: =M27 -> 0 | U27: =O27 -> 0 | V27: =MAX(LARGE(P27:U27,1)+LARGE(P27:U27,2)+LARGE(P27:U27,3),0) -> 75 | W27: =COUNTIF(P27:U27,">0") -> 1
A28: 19 | B28: Tov Røysland | C28: Tinn IL Ski | D28: 6 | E28: =IF(D28>0,VLOOKUP(D28,Poengskala!$B$4:$C$34,2,TRUE),0) -> 66 | G28: =IF(F28>0,VLOOKUP(F28,Poengskala!$B$4:$C$34,2,TRUE),0) -> 0 | I28: =IF(H28>0,VLOOKUP(H28,Poengskala!$B$4:$C$34,2,TRUE),0) -> 0 | K28: =IF(J28>0,VLOOKUP(J28,Poengskala!$B$4:$C$34,2,TRUE),0) -> 0 | M28: =IF(L28>0,VLOOKUP(L28,Poengskala!$B$4:$C$34,2,TRUE),0) -> 0 | O28: =IF(N28>0,VLOOKUP(N28,Poengskala!$B$4:$D$34,3,TRUE),0) -> 0 | P28: =E28 -> 66 | Q28: =G28 -> 0 | R28: =I28 -> 0 | S28: =K28 -> 0 | T28: =M28 -> 0 | U28: =O28 -> 0 | V28: =MAX(LARGE(P28:U28,1)+LARGE(P28:U28,2)+LARGE(P28:U28,3),0) -> 66 | W28: =COUNTIF(P28:U28,">0") -> 1
A29: 20 | B29: Sander Innhaug Dahl | C29: Oseberg Skilag | E29: =IF(D29>0,VLOOKUP(D29,Poengskala!$B$4:$C$34,2,TRUE),0) -> 0 | F29: 10 | G29: =IF(F29>0,VLOOKUP(F29,Poengskala!$B$4:$C$34,2,TRUE),0) -> 52 | I29: =IF(H29>0,VLOOKUP(H29,Poengskala!$B$4:$C$34,2,TRUE),0) -> 0 | K29: =IF(J29>0,VLOOKUP(J29,Poengskala!$B$4:$C$34,2,TRUE),0) -> 0 | M29: =IF(L29>0,VLOOKUP(L29,Poengskala!$B$4:$C$34,2,TRUE),0) -> 0 | O29: =IF(N29>0,VLOOKUP(N29,Poengskala!$B$4:$D$34,3,TRUE),0) -> 0 | P29: =E29 -> 0 | Q29: =G29 -> 52 | R29: =I29 -> 0 | S29: =K29 -> 0 | T29: =M29 -> 0 | U29: =O29 -> 0 | V29: =MAX(LARGE(P29:U29,1)+LARGE(P29:U29,2)+LARGE(P29:U29,3),0) -> 52 | W29: =COUNTIF(P29:U29,">0") -> 1
A30: 21 | B30: Henrik Rivenes | C30: Oseberg Skilag | D30: 13 | E30: =IF(D30>0,VLOOKUP(D30,Poengskala!$B$4:$C$34,2,TRUE),0) -> 44 | G30: =IF(F30>0,VLOOKUP(F30,Poengskala!$B$4:$C$34,2,TRUE),0) -> 0 | I30: =IF(H30>0,VLOOKUP(H30,Poengskala!$B$4:$C$34,2,TRUE),0) -> 0 | K30: =IF(J30>0,VLOOKUP(J30,Poengskala!$B$4:$C$34,2,TRUE),0) -> 0 | M30: =IF(L30>0,VLOOKUP(L30,Poengskala!$B$4:$C$34,2,TRUE),0) -> 0 | O30: =IF(N30>0,VLOOKUP(N30,Poengskala!$B$4:$D$34,3,TRUE),0) -> 0 | P30: =E30 -> 44 | Q30: =G30 -> 0 | R30: =I30 -> 0 | S30: =K30 -> 0 | T30: =M30 -> 0 | U30: =O30 -> 0 | V30: =MAX(LARGE(P30:U30,1)+LARGE(P30:U30,2)+LARGE(P30:U30,3),0) -> 44 | W30: =COUNTIF(P30:U30,">0") -> 1
A31: 22 | B31: Thomas Akselsen Seawright | C31: Svarstad IL | E31: =IF(D31>0,VLOOKUP(D31,Poengskala!$B$4:$C$34,2,TRUE),0) -> 0 | F31: 13 | G31: =IF(F31>0,VLOOKUP(F31,Poengskala!$B$4:$C$34,2,TRUE),0) -> 44 | I31: =IF(H31>0,VLOOKUP(H31,Poengskala!$B$4:$C$34,2,TRUE),0) -> 0 | K31: =IF(J31>0,VLOOKUP(J31,Poengskala!$B$4:$C$34,2,TRUE),0) -> 0 | M31: =IF(L31>0,VLOOKUP(L31,Poengskala!$B$4:$C$34,2,TRUE),0) -> 0 | O31: =IF(N31>0,VLOOKUP(N31,Poengskala!$B$4:$D$34,3,TRUE),0) -> 0 | P31: =E31 -> 0 | Q31: =G31 -> 44 | R31: =I31 -> 0 | S31: =K31 -> 0 | T31: =M31 -> 0 | U31: =O31 -> 0 | V31: =MAX(LARGE(P31:U31,1)+LARGE(P31:U31,2)+LARGE(P31:U31,3),0) -> 44 | W31: =COUNTIF(P31:U31,">0") -> 1
A32: 23 | B32: Finn Wilfried Schrøder | C32: Oseberg Skilag | D32: 17 | E32: =IF(D32>0,VLOOKUP(D32,Poengskala!$B$4:$C$34,2,TRUE),0) -> 36 | G32: =IF(F32>0,VLOOKUP(F32,Poengskala!$B$4:$C$34,2,TRUE),0) -> 0 | I32: =IF(H32>0,VLOOKUP(H32,Poengskala!$B$4:$C$34,2,TRUE),0) -> 0 | K32: =IF(J32>0,VLOOKUP(J32,Poengskala!$B$4:$C$34,2,TRUE),0) -> 0 | M32: =IF(L32>0,VLOOKUP(L32,Poengskala!$B$4:$C$34,2,TRUE),0) -> 0 | O32: =IF(N32>0,VLOOKUP(N32,Poengskala!$B$4:$D$34,3,TRUE),0) -> 0 | P32: =E32 -> 36 | Q32: =G32 -> 0 | R32: =I32 -> 0 | S32: =K32 -> 0 | T32: =M32 -> 0 | U32: =O32 -> 0 | V32: =MAX(LARGE(P32:U32,1)+LARGE(P32:U32,2)+LARGE(P32:U32,3),0) -> 36 | W32: =COUNTIF(P32:U32,">0") -> 1
A33: 24 | E33: =IF(D33>0,VLOOKUP(D33,Poengskala!$B$4:$C$34,2,TRUE),0) -> 0 | G33: =IF(F33>0,VLOOKUP(F33,Poengskala!$B$4:$C$34,2,TRUE),0) -> 0 | I33: =IF(H33>0,VLOOKUP(H33,Poengskala!$B$4:$C$34,2,TRUE),0) -> 0 | K33: =IF(J33>0,VLOOKUP(J33,Poengskala!$B$4:$C$34,2,TRUE),0) -> 0 | M33: =IF(L33>0,VLOOKUP(L33,Poengskala!$B$4:$C$34,2,TRUE),0) -> 0 | O33: =IF(N33>0,VLOOKUP(N33,Poengskala!$B$4:$D$34,3,TRUE),0) -> 0 | P33: =E33 -> 0 | Q33: =G33 -> 0 | R33: =I33 -> 0 | S33: =K33 -> 0 | T33: =M33 -> 0 | U33: =O33 -> 0 | V33: =MAX(LARGE(P33:U33,1)+LARGE(P33:U33,2)+LARGE(P33:U33,3),0) -> 0 | W33: =COUNTIF(P33:U33,">0") -> 0
A34: 25 | E34: =IF(D34>0,VLOOKUP(D34,Poengskala!$B$4:$C$34,2,TRUE),0) -> 0 | G34: =IF(F34>0,VLOOKUP(F34,Poengskala!$B$4:$C$34,2,TRUE),0) -> 0 | I34: =IF(H34>0,VLOOKUP(H34,Poengskala!$B$4:$C$34,2,TRUE),0) -> 0 | K34: =IF(J34>0,VLOOKUP(J34,Poengskala!$B$4:$C$34,2,TRUE),0) -> 0 | M34: =IF(L34>0,VLOOKUP(L34,Poengskala!$B$4:$C$34,2,TRUE),0) -> 0 | O34: =IF(N34>0,VLOOKUP(N34,Poengskala!$B$4:$D$34,3,TRUE),0) -> 0 | P34: =E34 -> 0 | Q34: =G34 -> 0 | R34: =I34 -> 0 | S34: =K34 -> 0 | T34: =M34 -> 0 | U34: =O34 -> 0 | V34: =MAX(LARGE(P34:U34,1)+LARGE(P34:U34,2)+LARGE(P34:U34,3),0) -> 0 | W34: =COUNTIF(P34:U34,">0") -> 0
A35: 25 | E35: =IF(D35>0,VLOOKUP(D35,Poengskala!$B$4:$C$34,2,TRUE),0) -> 0 | G35: =IF(F35>0,VLOOKUP(F35,Poengskala!$B$4:$C$34,2,TRUE),0) -> 0 | I35: =IF(H35>0,VLOOKUP(H35,Poengskala!$B$4:$C$34,2,TRUE),0) -> 0 | K35: =IF(J35>0,VLOOKUP(J35,Poengskala!$B$4:$C$34,2,TRUE),0) -> 0 | M35: =IF(L35>0,VLOOKUP(L35,Poengskala!$B$4:$C$34,2,TRUE),0) -> 0 | O35: =IF(N35>0,VLOOKUP(N35,Poengskala!$B$4:$D$34,3,TRUE),0) -> 0 | P35: =E35 -> 0 | Q35: =G35 -> 0 | R35: =I35 -> 0 | S35: =K35 -> 0 | T35: =M35 -> 0 | U35: =O35 -> 0 | V35: =MAX(LARGE(P35:U35,1)+LARGE(P35:U35,2)+LARGE(P35:U35,3),0) -> 0 | W35: =COUNTIF(P35:U35,">0") -> 0
A36: 27 | E36: =IF(D36>0,VLOOKUP(D36,Poengskala!$B$4:$C$34,2,TRUE),0) -> 0 | G36: =IF(F36>0,VLOOKUP(F36,Poengskala!$B$4:$C$34,2,TRUE),0) -> 0 | I36: =IF(H36>0,VLOOKUP(H36,Poengskala!$B$4:$C$34,2,TRUE),0) -> 0 | K36: =IF(J36>0,VLOOKUP(J36,Poengskala!$B$4:$C$34,2,TRUE),0) -> 0 | M36: =IF(L36>0,VLOOKUP(L36,Poengskala!$B$4:$C$34,2,TRUE),0) -> 0 | O36: =IF(N36>0,VLOOKUP(N36,Poengskala!$B$4:$D$34,3,TRUE),0) -> 0 | P36: =E36 -> 0 | Q36: =G36 -> 0 | R36: =I36 -> 0 | S36: =K36 -> 0 | T36: =M36 -> 0 | U36: =O36 -> 0 | V36: =MAX(LARGE(P36:U36,1)+LARGE(P36:U36,2)+LARGE(P36:U36,3),0) -> 0 | W36: =COUNTIF(P36:U36,">0") -> 0
A37: 28 | E37: =IF(D37>0,VLOOKUP(D37,Poengskala!$B$4:$C$34,2,TRUE),0) -> 0 | G37: =IF(F37>0,VLOOKUP(F37,Poengskala!$B$4:$C$34,2,TRUE),0) -> 0 | I37: =IF(H37>0,VLOOKUP(H37,Poengskala!$B$4:$C$34,2,TRUE),0) -> 0 | K37: =IF(J37>0,VLOOKUP(J37,Poengskala!$B$4:$C$34,2,TRUE),0) -> 0 | M37: =IF(L37>0,VLOOKUP(L37,Poengskala!$B$4:$C$34,2,TRUE),0) -> 0 | O37: =IF(N37>0,VLOOKUP(N37,Poengskala!$B$4:$D$34,3,TRUE),0) -> 0 | P37: =E37 -> 0 | Q37: =G37 -> 0 | R37: =I37 -> 0 | S37: =K37 -> 0 | T37: =M37 -> 0 | U37: =O37 -> 0 | V37: =MAX(LARGE(P37:U37,1)+LARGE(P37:U37,2)+LARGE(P37:U37,3),0) -> 0 | W37: =COUNTIF(P37:U37,">0") -> 0
A38: 29 | E38: =IF(D38>0,VLOOKUP(D38,Poengskala!$B$4:$C$34,2,TRUE),0) -> 0 | G38: =IF(F38>0,VLOOKUP(F38,Poengskala!$B$4:$C$34,2,TRUE),0) -> 0 | I38: =IF(H38>0,VLOOKUP(H38,Poengskala!$B$4:$C$34,2,TRUE),0) -> 0 | K38: =IF(J38>0,VLOOKUP(J38,Poengskala!$B$4:$C$34,2,TRUE),0) -> 0 | M38: =IF(L38>0,VLOOKUP(L38,Poengskala!$B$4:$C$34,2,TRUE),0) -> 0 | O38: =IF(N38>0,VLOOKUP(N38,Poengskala!$B$4:$D$34,3,TRUE),0) -> 0 | P38: =E38 -> 0 | Q38: =G38 -> 0 | R38: =I38 -> 0 | S38: =K38 -> 0 | T38: =M38 -> 0 | U38: =O38 -> 0 | V38: =MAX(LARGE(P38:U38,1)+LARGE(P38:U38,2)+LARGE(P38:U38,3),0) -> 0 | W38: =COUNTIF(P38:U38,">0") -> 0
A39: 30 | E39: =IF(D39>0,VLOOKUP(D39,Poengskala!$B$4:$C$34,2,TRUE),0) -> 0 | G39: =IF(F39>0,VLOOKUP(F39,Poengskala!$B$4:$C$34,2,TRUE),0) -> 0 | I39: =IF(H39>0,VLOOKUP(H39,Poengskala!$B$4:$C$34,2,TRUE),0) -> 0 | K39: =IF(J39>0,VLOOKUP(J39,Poengskala!$B$4:$C$34,2,TRUE),0) -> 0 | M39: =IF(L39>0,VLOOKUP(L39,Poengskala!$B$4:$C$34,2,TRUE),0) -> 0 | O39: =IF(N39>0,VLOOKUP(N39,Poengskala!$B$4:$D$34,3,TRUE),0) -> 0 | P39: =E39 -> 0 | Q39: =G39 -> 0 | R39: =I39 -> 0 | S39: =K39 -> 0 | T39: =M39 -> 0 | U39: =O39 -> 0 | V39: =MAX(LARGE(P39:U39,1)+LARGE(P39:U39,2)+LARGE(P39:U39,3),0) -> 0 | W39: =COUNTIF(P39:U39,">0") -> 0
A40: 31 | E40: =IF(D40>0,VLOOKUP(D40,Poengskala!$B$4:$C$34,2,TRUE),0) -> 0 | G40: =IF(F40>0,VLOOKUP(F40,Poengskala!$B$4:$C$34,2,TRUE),0) -> 0 | I40: =IF(H40>0,VLOOKUP(H40,Poengskala!$B$4:$C$34,2,TRUE),0) -> 0 | K40: =IF(J40>0,VLOOKUP(J40,Poengskala!$B$4:$C$34,2,TRUE),0) -> 0 | M40: =IF(L40>0,VLOOKUP(L40,Poengskala!$B$4:$C$34,2,TRUE),0) -> 0 | O40: =IF(N40>0,VLOOKUP(N40,Poengskala!$B$4:$D$34,3,TRUE),0) -> 0 | P40: =E40 -> 0 | Q40: =G40 -> 0 | R40: =I40 -> 0 | S40: =K40 -> 0 | T40: =M40 -> 0 | U40: =O40 -> 0 | V40: =MAX(LARGE(P40:U40,1)+LARGE(P40:U40,2)+LARGE(P40:U40,3),0) -> 0 | W40: =COUNTIF(P40:U40,">0") -> 0
A41: 32 | E41: =IF(D41>0,VLOOKUP(D41,Poengskala!$B$4:$C$34,2,TRUE),0) -> 0 | G41: =IF(F41>0,VLOOKUP(F41,Poengskala!$B$4:$C$34,2,TRUE),0) -> 0 | I41: =IF(H41>0,VLOOKUP(H41,Poengskala!$B$4:$C$34,2,TRUE),0) -> 0 | K41: =IF(J41>0,VLOOKUP(J41,Poengskala!$B$4:$C$34,2,TRUE),0) -> 0 | M41: =IF(L41>0,VLOOKUP(L41,Poengskala!$B$4:$C$34,2,TRUE),0) -> 0 | O41: =IF(N41>0,VLOOKUP(N41,Poengskala!$B$4:$D$34,3,TRUE),0) -> 0 | P41: =E41 -> 0 | Q41: =G41 -> 0 | R41: =I41 -> 0 | S41: =K41 -> 0 | T41: =M41 -> 0 | U41: =O41 -> 0 | V41: =MAX(LARGE(P41:U41,1)+LARGE(P41:U41,2)+LARGE(P41:U41,3),0) -> 0 | W41: =COUNTIF(P41:U41,">0") -> 0
E42: =IF(D42>0,VLOOKUP(D42,Poengskala!$B$4:$C$34,2,TRUE),0) -> 0 | G42: =IF(F42>0,VLOOKUP(F42,Poengskala!$B$4:$C$34,2,TRUE),0) -> 0 | I42: =IF(H42>0,VLOOKUP(H42,Poengskala!$B$4:$C$34,2,TRUE),0) -> 0 | K42: =IF(J42>0,VLOOKUP(J42,Poengskala!$B$4:$C$34,2,TRUE),0) -> 0 | M42: =IF(L42>0,VLOOKUP(L42,Poengskala!$B$4:$C$34,2,TRUE),0) -> 0 | O42: =IF(N42>0,VLOOKUP(N42,Poengskala!$B$4:$D$34,3,TRUE),0) -> 0 | P42: =E42 -> 0 | Q42: =G42 -> 0 | R42: =I42 -> 0 | S42: =K42 -> 0 | T42: =M42 -> 0 | U42: =O42 -> 0 | V42: =MAX(LARGE(P42:U42,1)+LARGE(P42:U42,2)+LARGE(P42:U42,3),0) -> 0 | W42: =COUNTIF(P42:U42,">0") -> 0
E43: =IF(D43>0,VLOOKUP(D43,Poengskala!$B$4:$C$34,2,TRUE),0) -> 0 | G43: =IF(F43>0,VLOOKUP(F43,Poengskala!$B$4:$C$34,2,TRUE),0) -> 0 | I43: =IF(H43>0,VLOOKUP(H43,Poengskala!$B$4:$C$34,2,TRUE),0) -> 0 | K43: =IF(J43>0,VLOOKUP(J43,Poengskala!$B$4:$C$34,2,TRUE),0) -> 0 | M43: =IF(L43>0,VLOOKUP(L43,Poengskala!$B$4:$C$34,2,TRUE),0) -> 0 | O43: =IF(N43>0,VLOOKUP(N43,Poengskala!$B$4:$D$34,3,TRUE),0) -> 0 | P43: =E43 -> 0 | Q43: =G43 -> 0 | R43: =I43 -> 0 | S43: =K43 -> 0 | T43: =M43 -> 0 | U43: =O43 -> 0 | V43: =MAX(LARGE(P43:U43,1)+LARGE(P43:U43,2)+LARGE(P43:U43,3),0) -> 0 | W43: =COUNTIF(P43:U43,">0") -> 0
E44: =IF(D44>0,VLOOKUP(D44,Poengskala!$B$4:$C$34,2,TRUE),0) -> 0 | G44: =IF(F44>0,VLOOKUP(F44,Poengskala!$B$4:$C$34,2,TRUE),0) -> 0 | I44: =IF(H44>0,VLOOKUP(H44,Poengskala!$B$4:$C$34,2,TRUE),0) -> 0 | K44: =IF(J44>0,VLOOKUP(J44,Poengskala!$B$4:$C$34,2,TRUE),0) -> 0 | M44: =IF(L44>0,VLOOKUP(L44,Poengskala!$B$4:$C$34,2,TRUE),0) -> 0 | O44: =IF(N44>0,VLOOKUP(N44,Poengskala!$B$4:$D$34,3,TRUE),0) -> 0 | P44: =E44 -> 0 | Q44: =G44 -> 0 | R44: =I44 -> 0 | S44: =K44 -> 0 | T44: =M44 -> 0 | U44: =O44 -> 0 | V44: =MAX(LARGE(P44:U44,1)+LARGE(P44:U44,2)+LARGE(P44:U44,3),0) -> 0 | W44: =COUNTIF(P44:U44,">0") -> 0
E45: =IF(D45>0,VLOOKUP(D45,Poengskala!$B$4:$C$34,2,TRUE),0) -> 0 | G45: =IF(F45>0,VLOOKUP(F45,Poengskala!$B$4:$C$34,2,TRUE),0) -> 0 | I45: =IF(H45>0,VLOOKUP(H45,Poengskala!$B$4:$C$34,2,TRUE),0) -> 0 | K45: =IF(J45>0,VLOOKUP(J45,Poengskala!$B$4:$C$34,2,TRUE),0) -> 0 | M45: =IF(L45>0,VLOOKUP(L45,Poengskala!$B$4:$C$34,2,TRUE),0) -> 0 | O45: =IF(N45>0,VLOOKUP(N45,Poengskala!$B$4:$D$34,3,TRUE),0) -> 0 | P45: =E45 -> 0 | Q45: =G45 -> 0 | R45: =I45 -> 0 | S45: =K45 -> 0 | T45: =M45 -> 0 | U45: =O45 -> 0 | V45: =MAX(LARGE(P45:U45,1)+LARGE(P45:U45,2)+LARGE(P45:U45,3),0) -> 0 | W45: =COUNTIF(P45:U45,">0") -> 0

Sheet G-14
A1: Klasse - Gutter 14 år
A2: Utøveren må ha fullført 3 av 5 renn i cupen for å bli premiert.
A3: De 3 beste rennene teller sammenlagt
A4: Lista viser alle som har deltatt i TV - Cup.
A6: Evt. feil sendes til tvsk@skiforbundet.no | D6: Fristil | F6: Klassisk | H6: Sprint Klassisk | J6: Klassisk | L6: Finale Tour | N6: Finale Tour | P6: Renn1 | Q6: Renn2 | R6: Renn3 | S6: Renn4 | U6: Renn5 | V6: Total Poeng | W6: Antall renn
A7: Oppdatert: 12.02.2019 | D7: Oseberg Skilag | F7: Svarstad IL | H7: IL Runar | J7: Høydalsmo IL | L7: Runar | N7: IL Ivrig/Botne SK
D8: 43450 | F8: 43464 | H8: 43499 | J8: 43505 | L8: 42812 | N8: 16.03-17.03.2019
A9: Plass | B9: Navn | C9: Klubb | D9: Plass | E9: Poeng | F9: Plass | G9: Poeng | H9: Plass | I9: Poeng | J9: Plass | K9: Poeng | L9: Plass | M9: Poeng | N9: Plass | O9: Poeng
A10: 1 | B10: Sivert Ekroll | C10: Berger Idrettslag | D10: 1 | E10: =IF(D10>0,VLOOKUP(D10,Poengskala!$B$4:$C$34,2,TRUE),0) -> 100 | F10: 3 | G10: =IF(F10>0,VLOOKUP(F10,Poengskala!$B$4:$C$34,2,TRUE),0) -> 82 | I10: =IF(H10>0,VLOOKUP(H10,Poengskala!$B$4:$C$34,2,TRUE),0) -> 0 | K10: =IF(J10>0,VLOOKUP(J10,Poengskala!$B$4:$C$34,2,TRUE),0) -> 0 | M10: =IF(L10>0,VLOOKUP(L10,Poengskala!$B$4:$C$34,2,TRUE),0) -> 0 | N10: 1 | O10: =IF(N10>0,VLOOKUP(N10,Poengskala!$B$4:$D$34,3,TRUE),0) -> 150 | P10: =E10 -> 100 | Q10: =G10 -> 82 | R10: =I10 -> 0 | S10: =K10 -> 0 | T10: =M10 -> 0 | U10: =O10 -> 150 | V10: =MAX(LARGE(P10:U10,1)+LARGE(P10:U10,2)+LARGE(P10:U10,3),0) -> 332 | W10: =COUNTIF(P10:U10,">0") -> 3
A11: 2 | B11: Vebjørn Horn | C11: IL Ivrig | D11: 5 | E11: =IF(D11>0,VLOOKUP(D11,Poengskala!$B$4:$C$34,2,TRUE),0) -> 70 | F11: 2 | G11: =IF(F11>0,VLOOKUP(F11,Poengskala!$B$4:$C$34,2,TRUE),0) -> 90 | H11: 1 | I11: =IF(H11>0,VLOOKUP(H11,Poengskala!$B$4:$C$34,2,TRUE),0) -> 100 | K11: =IF(J11>0,VLOOKUP(J11,Poengskala!$B$4:$C$34,2,TRUE),0) -> 0 | M11: =IF(L11>0,VLOOKUP(L11,Poengskala!$B$4:$C$34,2,TRUE),0) -> 0 | N11: 2 | O11: =IF(N11>0,VLOOKUP(N11,Poengskala!$B$4:$D$34,3,TRUE),0) -> 135 | P11: =E11 -> 70 | Q11: =G11 -> 90 | R11: =I11 -> 100 | S11: =K11 -> 0 | T11: =M11 -> 0 | U11: =O11 -> 135 | V11: =MAX(LARGE(P11:U11,1)+LARGE(P11:U11,2)+LARGE(P11:U11,3),0) -> 325 | W11: =COUNTIF(P11:U11,">0") -> 4
A12: 3 | B12: Jens Kristoffer Dyrdahl | C12: Berger Idrettslag | D12: 2 | E12: =IF(D12>0,VLOOKUP(D12,Poengskala!$B$4:$C$34,2,TRUE),0) -> 90 | F12: 5 | G12: =IF(F12>0,VLOOKUP(F12,Poengskala!$B$4:$C$34,2,TRUE),0) -> 70 | I12: =IF(H12>0,VLOOKUP(H12,Poengskala!$B$4:$C$34,2,TRUE),0) -> 0 | J12: 1 | K12: =IF(J12>0,VLOOKUP(J12,Poengskala!$B$4:$C$34,2,TRUE),0) -> 100 | M12: =IF(L12>0,VLOOKUP(L12,Poengskala!$B$4:$C$34,2,TRUE),0) -> 0 | N12: 3 | O12: =IF(N12>0,VLOOKUP(N12,Poengskala!$B$4:$D$34,3,TRUE),0) -> 123 | P12: =E12 -> 90 | Q12: =G12 -> 70 | R12: =I12 -> 0 | S12: =K12 -> 100 | T12: =M12 -> 0 | U12: =O12 -> 123 | V12: =MAX(LARGE(P12:U12,1)+LARGE(P12:U12,2)+LARGE(P12:U12,3),0) -> 313 | W12: =COUNTIF(P12:U12,">0") -> 4
A13: 4 | B13: Lucas Broby Heimdal | C13: Gulset IF | D13: 4 | E13: =IF(D13>0,VLOOKUP(D13,Poengskala!$B$4:$C$34,2,TRUE),0) -> 75 | F13: 1 | G13: =IF(F13>0,VLOOKUP(F13,Poengskala!$B$4:$C$34,2,TRUE),0) -> 100 | I13: =IF(H13>0,VLOOKUP(H13,Poengskala!$B$4:$C$34,2,TRUE),0) -> 0 | K13: =IF(J13>0,VLOOKUP(J13,Poengskala!$B$4:$C$34,2,TRUE),0) -> 0 | M13: =IF(L13>0,VLOOKUP(L13,Poengskala!$B$4:$C$34,2,TRUE),0) -> 0 | N13: 4 | O13: =IF(N13>0,VLOOKUP(N13,Poengskala!$B$4:$D$34,3,TRUE),0) -> 112.5 | P13: =E13 -> 75 | Q13: =G13 -> 100 | R13: =I13 -> 0 | S13: =K13 -> 0 | T13: =M13 -> 0 | U13: =O13 -> 112.5 | V13: =MAX(LARGE(P13:U13,1)+LARGE(P13:U13,2)+LARGE(P13:U13,3),0) -> 287.5 | W13: =COUNTIF(P13:U13,">0") -> 3
A14: 5 | B14: Max Ratus Semb | C14: Oseberg Skilag | D14: 7 | E14: =IF(D14>0,VLOOKUP(D14,Poengskala!$B$4:$C$34,2,TRUE),0) -> 62 | F14: 4 | G14: =IF(F14>0,VLOOKUP(F14,Poengskala!$B$4:$C$34,2,TRUE),0) -> 75 | H14: 2 | I14: =IF(H14>0,VLOOKUP(H14,Poengskala!$B$4:$C$34,2,TRUE),0) -> 90 | K14: =IF(J14>0,VLOOKUP(J14,Poengskala!$B$4:$C$34,2,TRUE),0) -> 0 | M14: =IF(L14>0,VLOOKUP(L14,Poengskala!$B$4:$C$34,2,TRUE),0) -> 0 | N14: 5 | O14: =IF(N14>0,VLOOKUP(N14,Poengskala!$B$4:$D$34,3,TRUE),0) -> 105 | P14: =E14 -> 62 | Q14: =G14 -> 75 | R14: =I14 -> 90 | S14: =K14 -> 0 | T14: =M14 -> 0 | U14: =O14 -> 105 | V14: =MAX(LARGE(P14:U14,1)+LARGE(P14:U14,2)+LARGE(P14:U14,3),0) -> 270 | W14: =COUNTIF(P14:U14,">0") -> 4
A15: 6 | B15: Herman Vennerød Langedrag | C15: IL Ivrig | E15: =IF(D15>0,VLOOKUP(D15,Poengskala!$B$4:$C$34,2,TRUE),0) -> 0 | F15: 7 | G15: =IF(F15>0,VLOOKUP(F15,Poengskala!$B$4:$C$34,2,TRUE),0) -> 62 | H15: 3 | I15: =IF(H15>0,VLOOKUP(H15,Poengskala!$B$4:$C$34,2,TRUE),0) -> 82 | K15: =IF(J15>0,VLOOKUP(J15,Poengskala!$B$4:$C$34,2,TRUE),0) -> 0 | M15: =IF(L15>0,VLOOKUP(L15,Poengskala!$B$4:$C$34,2,TRUE),0) -> 0 | N15: 6 | O15: =IF(N15>0,VLOOKUP(N15,Poengskala!$B$4:$D$34,3,TRUE),0) -> 99 | P15: =E15 -> 0 | Q15: =G15 -> 62 | R15: =I15 -> 82 | S15: =K15 -> 0 | T15: =M15 -> 0 | U15: =O15 -> 99 | V15: =MAX(LARGE(P15:U15,1)+LARGE(P15:U15,2)+LARGE(P15:U15,3),0) -> 243 | W15: =COUNTIF(P15:U15,">0") -> 3
A16: 7 | B16: Nicholas Torvund | C16: IF Ørn | D16: 16 | E16: =IF(D16>0,VLOOKUP(D16,Poengskala!$B$4:$C$34,2,TRUE),0) -> 38 | F16: 8 | G16: =IF(F16>0,VLOOKUP(F16,Poengskala!$B$4:$C$34,2,TRUE),0) -> 58 | H16: 7 | I16: =IF(H16>0,VLOOKUP(H16,Poengskala!$B$4:$C$34,2,TRUE),0) -> 62 | J16: 2 | K16: =IF(J16>0,VLOOKUP(J16,Poengskala!$B$4:$C$34,2,TRUE),0) -> 90 | M16: =IF(L16>0,VLOOKUP(L16,Poengskala!$B$4:$C$34,2,TRUE),0) -> 0 | N16: 9 | O16: =IF(N16>0,VLOOKUP(N16,Poengskala!$B$4:$D$34,3,TRUE),0) -> 82.5 | P16: =E16 -> 38 | Q16: =G16 -> 58 | R16: =I16 -> 62 | S16: =K16 -> 90 | T16: =M16 -> 0 | U16: =O16 -> 82.5 | V16: =MAX(LARGE(P16:U16,1)+LARGE(P16:U16,2)+LARGE(P16:U16,3),0) -> 234.5 | W16: =COUNTIF(P16:U16,">0") -> 5
A17: 8 | B17: Edvin Iver Stakston | C17: IL Runar | E17: =IF(D17>0,VLOOKUP(D17,Poengskala!$B$4:$C$34,2,TRUE),0) -> 0 | F17: 6 | G17: =IF(F17>0,VLOOKUP(F17,Poengskala!$B$4:$C$34,2,TRUE),0) -> 66 | H17: 5 | I17: =IF(H17>0,VLOOKUP(H17,Poengskala!$B$4:$C$34,2,TRUE),0) -> 70 | K17: =IF(J17>0,VLOOKUP(J17,Poengskala!$B$4:$C$34,2,TRUE),0) -> 0 | M17: =IF(L17>0,VLOOKUP(L17,Poengskala!$B$4:$C$34,2,TRUE),0) -> 0 | N17: 8 | O17: =IF(N17>0,VLOOKUP(N17,Poengskala!$B$4:$D$34,3,TRUE),0) -> 87 | P17: =E17 -> 0 | Q17: =G17 -> 66 | R17: =I17 -> 70 | S17: =K17 -> 0 | T17: =M17 -> 0 | U17: =O17 -> 87 | V17: =MAX(LARGE(P17:U17,1)+LARGE(P17:U17,2)+LARGE(P17:U17,3),0) -> 223 | W17: =COUNTIF(P17:U17,">0") -> 3
A18: 9 | B18: Torjus Holst | C18: Oseberg Skilag | D18: 11 | E18: =IF(D18>0,VLOOKUP(D18,Poengskala!$B$4:$C$34,2,TRUE),0) -> 49 | G18: =IF(F18>0,VLOOKUP(F18,Poengskala!$B$4:$C$34,2,TRUE),0) -> 0 | H18: 4 | I18: =IF(H18>0,VLOOKUP(H18,Poengskala!$B$4:$C$34,2,TRUE),0) -> 75 | K18: =IF(J18>0,VLOOKUP(J18,Poengskala!$B$4:$C$34,2,TRUE),0) -> 0 | M18: =IF(L18>0,VLOOKUP(L18,Poengskala!$B$4:$C$34,2,TRUE),0) -> 0 | N18: 7 | O18: =IF(N18>0,VLOOKUP(N18,Poengskala!$B$4:$D$34,3,TRUE),0) -> 93 | P18: =E18 -> 49 | Q18: =G18 -> 0 | R18: =I18 -> 75 | S18: =K18 -> 0 | T18: =M18 -> 0 | U18: =O18 -> 93 | V18: =MAX(LARGE(P18:U18,1)+LARGE(P18:U18,2)+LARGE(P18:U18,3),0) -> 217 | W18: =COUNTIF(P18:U18,">0") -> 3
A19: 10 | B19: Bjørn Berven Agard | C19: Berger IL | E19: =IF(D19>0,VLOOKUP(D19,Poengskala!$B$4:$C$34,2,TRUE),0) -> 0 | F19: 9 | G19: =IF(F19>0,VLOOKUP(F19,Poengskala!$B$4:$C$34,2,TRUE),0) -> 55 | H19: 6 | I19: =IF(H19>0,VLOOKUP(H19,Poengskala!$B$4:$C$34,2,TRUE),0) -> 66 | K19: =IF(J19>0,VLOOKUP(J19,Poengskala!$B$4:$C$34,2,TRUE),0) -> 0 | M19: =IF(L19>0,VLOOKUP(L19,Poengskala!$B$4:$C$34,2,TRUE),0) -> 0 | O19: =IF(N19>0,VLOOKUP(N19,Poengskala!$B$4:$D$34,3,TRUE),0) -> 0 | P19: =E19 -> 0 | Q19: =G19 -> 55 | R19: =I19 -> 66 | S19: =K19 -> 0 | T19: =M19 -> 0 | U19: =O19 -> 0 | V19: =MAX(LARGE(P19:U19,1)+LARGE(P19:U19,2)+LARGE(P19:U19,3),0) -> 121 | W19: =COUNTIF(P19:U19,">0") -> 2
A20: 11 | B20: Marius Fevang Vidum | C20: IL Runar | D20: 14 | E20: =IF(D20>0,VLOOKUP(D20,Poengskala!$B$4:$C$34,2,TRUE),0) -> 42 | G20: =IF(F20>0,VLOOKUP(F20,Poengskala!$B$4:$C$34,2,TRUE),0) -> 0 | H20: 9 | I20: =IF(H20>0,VLOOKUP(H20,Poengskala!$B$4:$C$34,2,TRUE),0) -> 55 | K20: =IF(J20>0,VLOOKUP(J20,Poengskala!$B$4:$C$34,2,TRUE),0) -> 0 | M20: =IF(L20>0,VLOOKUP(L20,Poengskala!$B$4:$C$34,2,TRUE),0) -> 0 | O20: =IF(N20>0,VLOOKUP(N20,Poengskala!$B$4:$D$34,3,TRUE),0) -> 0 | P20: =E20 -> 42 | Q20: =G20 -> 0 | R20: =I20 -> 55 | S20: =K20 -> 0 | T20: =M20 -> 0 | U20: =O20 -> 0 | V20: =MAX(LARGE(P20:U20,1)+LARGE(P20:U20,2)+LARGE(P20:U20,3),0) -> 97 | W20: =COUNTIF(P20:U20,">0") -> 2
A21: 12 | B21: Nicolai Hegg Vestli | C21: Nanset IF | E21: =IF(D21>0,VLOOKUP(D21,Poengskala!$B$4:$C$34,2,TRUE),0) -> 0 | F21: 12 | G21: =IF(F21>0,VLOOKUP(F21,Poengskala!$B$4:$C$34,2,TRUE),0) -> 46 | H21: 11 | I21: =IF(H21>0,VLOOKUP(H21,Poengskala!$B$4:$C$34,2,TRUE),0) -> 49 | K21: =IF(J21>0,VLOOKUP(J21,Poengskala!$B$4:$C$34,2,TRUE),0) -> 0 | M21: =IF(L21>0,VLOOKUP(L21,Poengskala!$B$4:$C$34,2,TRUE),0) -> 0 | O21: =IF(N21>0,VLOOKUP(N21,Poengskala!$B$4:$D$34,3,TRUE),0) -> 0 | P21: =E21 -> 0 | Q21: =G21 -> 46 | R21: =I21 -> 49 | S21: =K21 -> 0 | T21: =M21 -> 0 | U21: =O21 -> 0 | V21: =MAX(LARGE(P21:U21,1)+LARGE(P21:U21,2)+LARGE(P21:U21,3),0) -> 95 | W21: =COUNTIF(P21:U21,">0") -> 2
A22: 13 | B22: Tore Oksefjell Onsøien | C22: Larvik Ski | D22: 15 | E22: =IF(D22>0,VLOOKUP(D22,Poengskala!$B$4:$C$34,2,TRUE),0) -> 40 | F22: 10 | G22: =IF(F22>0,VLOOKUP(F22,Poengskala!$B$4:$C$34,2,TRUE),0) -> 52 | I22: =IF(H22>0,VLOOKUP(H22,Poengskala!$B$4:$C$34,2,TRUE),0) -> 0 | K22: =IF(J22>0,VLOOKUP(J22,Poengskala!$B$4:$C$34,2,TRUE),0) -> 0 | M22: =IF(L22>0,VLOOKUP(L22,Poengskala!$B$4:$C$34,2,TRUE),0) -> 0 | O22: =IF(N22>0,VLOOKUP(N22,Poengskala!$B$4:$D$34,3,TRUE),0) -> 0 | P22: =E22 -> 40 | Q22: =G22 -> 52 | R22: =I22 -> 0 | S22: =K22 -> 0 | T22: =M22 -> 0 | U22: =O22 -> 0 | V22: =MAX(LARGE(P22:U22,1)+LARGE(P22:U22,2)+LARGE(P22:U22,3),0) -> 92 | W22: =COUNTIF(P22:U22,">0") -> 2
A23: 14 | B23: Håkon Milliam Ustad | C23: Oseberg Skilag | D23: 17 | E23: =IF(D23>0,VLOOKUP(D23,Poengskala!$B$4:$C$34,2,TRUE),0) -> 36 | F23: 11 | G23: =IF(F23>0,VLOOKUP(F23,Poengskala!$B$4:$C$34,2,TRUE),0) -> 49 | I23: =IF(H23>0,VLOOKUP(H23,Poengskala!$B$4:$C$34,2,TRUE),0) -> 0 | K23: =IF(J23>0,VLOOKUP(J23,Poengskala!$B$4:$C$34,2,TRUE),0) -> 0 | M23: =IF(L23>0,VLOOKUP(L23,Poengskala!$B$4:$C$34,2,TRUE),0) -> 0 | O23: =IF(N23>0,VLOOKUP(N23,Poengskala!$B$4:$D$34,3,TRUE),0) -> 0 | P23: =E23 -> 36 | Q23: =G23 -> 49 | R23: =I23 -> 0 | S23: =K23 -> 0 | T23: =M23 -> 0 | U23: =O23 -> 0 | V23: =MAX(LARGE(P23:U23,1)+LARGE(P23:U23,2)+LARGE(P23:U23,3),0) -> 85 | W23: =COUNTIF(P23:U23,">0") -> 2
A24: 15 | B24: Andreas Olafsen Foyn | C24: Oseberg Skilag | D24: 3 | E24: =IF(D24>0,VLOOKUP(D24,Poengskala!$B$4:$C$34,2,TRUE),0) -> 82 | G24: =IF(F24>0,VLOOKUP(F24,Poengskala!$B$4:$C$34,2,TRUE),0) -> 0 | I24: =IF(H24>0,VLOOKUP(H24,Poengskala!$B$4:$C$34,2,TRUE),0) -> 0 | K24: =IF(J24>0,VLOOKUP(J24,Poengskala!$B$4:$C$34,2,TRUE),0) -> 0 | M24: =IF(L24>0,VLOOKUP(L24,Poengskala!$B$4:$C$34,2,TRUE),0) -> 0 | O24: =IF(N24>0,VLOOKUP(N24,Poengskala!$B$4:$D$34,3,TRUE),0) -> 0 | P24: =E24 -> 82 | Q24: =G24 -> 0 | R24: =I24 -> 0 | S24: =K24 -> 0 | T24: =M24 -> 0 | U24: =O24 -> 0 | V24: =MAX(LARGE(P24:U24,1)+LARGE(P24:U24,2)+LARGE(P24:U24,3),0) -> 82 | W24: =COUNTIF(P24:U24,">0") -> 1
A25: 16 | B25: Fredrik Camillo Wille | C25: Oseberg Skilag | D25: 6 | E25: =IF(D25>0,VLOOKUP(D25,Poengskala!$B$4:$C$34,2,TRUE),0) -> 66 | G25: =IF(F25>0,VLOOKUP(F25,Poengskala!$B$4:$C$34,2,TRUE),0) -> 0 | I25: =IF(H25>0,VLOOKUP(H25,Poengskala!$B$4:$C$34,2,TRUE),0) -> 0 | K25: =IF(J25>0,VLOOKUP(J25,Poengskala!$B$4:$C$34,2,TRUE),0) -> 0 | M25: =IF(L25>0,VLOOKUP(L25,Poengskala!$B$4:$C$34,2,TRUE),0) -> 0 | O25: =IF(N25>0,VLOOKUP(N25,Poengskala!$B$4:$D$34,3,TRUE),0) -> 0 | P25: =E25 -> 66 | Q25: =G25 -> 0 | R25: =I25 -> 0 | S25: =K25 -> 0 | T25: =M25 -> 0 | U25: =O25 -> 0 | V25: =MAX(LARGE(P25:U25,1)+LARGE(P25:U25,2)+LARGE(P25:U25,3),0) -> 66 | W25: =COUNTIF(P25:U25,">0") -> 1
A26: 17 | B26: Sindre Andreas Søby | C26: IL Ivrig | D26: 8 | E26: =IF(D26>0,VLOOKUP(D26,Poengskala!$B$4:$C$34,2,TRUE),0) -> 58 | G26: =IF(F26>0,VLOOKUP(F26,Poengskala!$B$4:$C$34,2,TRUE),0) -> 0 | I26: =IF(H26>0,VLOOKUP(H26,Poengskala!$B$4:$C$34,2,TRUE),0) -> 0 | K26: =IF(J26>0,VLOOKUP(J26,Poengskala!$B$4:$C$34,2,TRUE),0) -> 0 | M26: =IF(L26>0,VLOOKUP(L26,Poengskala!$B$4:$C$34,2,TRUE),0) -> 0 | O26: =IF(N26>0,VLOOKUP(N26,Poengskala!$B$4:$D$34,3,TRUE),0) -> 0 | P26: =E26 -> 58 | Q26: =G26 -> 0 | R26: =I26 -> 0 | S26: =K26 -> 0 | T26: =M26 -> 0 | U26: =O26 -> 0 | V26: =MAX(LARGE(P26:U26,1)+LARGE(P26:U26,2)+LARGE(P26:U26,3),0) -> 58 | W26: =COUNTIF(P26:U26,">0") -> 1
A27: 18 | B27: Martin Gunnerud Arvesen | C27: IL Runar | E27: =IF(D27>0,VLOOKUP(D27,Poengskala!$B$4:$C$34,2,TRUE),0) -> 0 | G27: =IF(F27>0,VLOOKUP(F27,Poengskala!$B$4:$C$34,2,TRUE),0) -> 0 | H27: 8 | I27: =IF(H27>0,VLOOKUP(H27,Poengskala!$B$4:$C$34,2,TRUE),0) -> 58 | K27: =IF(J27>0,VLOOKUP(J27,Poengskala!$B$4:$C$34,2,TRUE),0) -> 0 | M27: =IF(L27>0,VLOOKUP(L27,Poengskala!$B$4:$C$34,2,TRUE),0) -> 0 | O27: =IF(N27>0,VLOOKUP(N27,Poengskala!$B$4:$D$34,3,TRUE),0) -> 0 | P27: =E27 -> 0 | Q27: =G27 -> 0 | R27: =I27 -> 58 | S27: =K27 -> 0 | T27: =M27 -> 0 | U27: =O27 -> 0 | V27: =MAX(LARGE(P27:U27,1)+LARGE(P27:U27,2)+LARGE(P27:U27,3),0) -> 58 | W27: =COUNTIF(P27:U27,">0") -> 1
A28: 19 | B28: Mathias Bugge Danielsen | C28: Tinn IL ski | D28: 9 | E28: =IF(D28>0,VLOOKUP(D28,Poengskala!$B$4:$C$34,2,TRUE),0) -> 55 | G28: =IF(F28>0,VLOOKUP(F28,Poengskala!$B$4:$C$34,2,TRUE),0) -> 0 | I28: =IF(H28>0,VLOOKUP(H28,Poengskala!$B$4:$C$34,2,TRUE),0) -> 0 | K28: =IF(J28>0,VLOOKUP(J28,Poengskala!$B$4:$C$34,2,TRUE),0) -> 0 | M28: =IF(L28>0,VLOOKUP(L28,Poengskala!$B$4:$C$34,2,TRUE),0) -> 0 | O28: =IF(N28>0,VLOOKUP(N28,Poengskala!$B$4:$D$34,3,TRUE),0) -> 0 | P28: =E28 -> 55 | Q28: =G28 -> 0 | R28: =I28 -> 0 | S28: =K28 -> 0 | T28: =M28 -> 0 | U28: =O28 -> 0 | V28: =MAX(LARGE(P28:U28,1)+LARGE(P28:U28,2)+LARGE(P28:U28,3),0) -> 55 | W28: =COUNTIF(P28:U28,">0") -> 1
A29: 20 | B29: Kristoffer Auli | C29: Berger Idrettslag | D29: 10 | E29: =IF(D29>0,VLOOKUP(D29,Poengskala!$B$4:$C$34,2,TRUE),0) -> 52 | G29: =IF(F29>0,VLOOKUP(F29,Poengskala!$B$4:$C$34,2,TRUE),0) -> 0 | I29: =IF(H29>0,VLOOKUP(H29,Poengskala!$B$4:$C$34,2,TRUE),0) -> 0 | K29: =IF(J29>0,VLOOKUP(J29,Poengskala!$B$4:$C$34,2,TRUE),0) -> 0 | M29: =IF(L29>0,VLOOKUP(L29,Poengskala!$B$4:$C$34,2,TRUE),0) -> 0 | O29: =IF(N29>0,VLOOKUP(N29,Poengskala!$B$4:$D$34,3,TRUE),0) -> 0 | P29: =E29 -> 52 | Q29: =G29 -> 0 | R29: =I29 -> 0 | S29: =K29 -> 0 | T29: =M29 -> 0 | U29: =O29 -> 0 | V29: =MAX(LARGE(P29:U29,1)+LARGE(P29:U29,2)+LARGE(P29:U29,3),0) -> 52 | W29: =COUNTIF(P29:U29,">0") -> 1
A30: 21 | B30: Erlend Markmanrud | C30: IL Runar | E30: =IF(D30>0,VLOOKUP(D30,Poengskala!$B$4:$C$34,2,TRUE),0) -> 0 | G30: =IF(F30>0,VLOOKUP(F30,Poengskala!$B$4:$C$34,2,TRUE),0) -> 0 | H30: 10 | I30: =IF(H30>0,VLOOKUP(H30,Poengskala!$B$4:$C$34,2,TRUE),0) -> 52 | K30: =IF(J30>0,VLOOKUP(J30,Poengskala!$B$4:$C$34,2,TRUE),0) -> 0 | M30: =IF(L30>0,VLOOKUP(L30,Poengskala!$B$4:$C$34,2,TRUE),0) -> 0 | O30: =IF(N30>0,VLOOKUP(N30,Poengskala!$B$4:$D$34,3,TRUE),0) -> 0 | P30: =E30 -> 0 | Q30: =G30 -> 0 | R30: =I30 -> 52 | S30: =K30 -> 0 | T30: =M30 -> 0 | U30: =O30 -> 0 | V30: =MAX(LARGE(P30:U30,1)+LARGE(P30:U30,2)+LARGE(P30:U30,3),0) -> 52 | W30: =COUNTIF(P30:U30,">0") -> 1
A31: 22 | B31: William Cumbes Pedersen | C31: Gransherad IL | D31: 12 | E31: =IF(D31>0,VLOOKUP(D31,Poengskala!$B$4:$C$34,2,TRUE),0) -> 46 | G31: =IF(F31>0,VLOOKUP(F31,Poengskala!$B$4:$C$34,2,TRUE),0) -> 0 | I31: =IF(H31>0,VLOOKUP(H31,Poengskala!$B$4:$C$34,2,TRUE),0) -> 0 | K31: =IF(J31>0,VLOOKUP(J31,Poengskala!$B$4:$C$34,2,TRUE),0) -> 0 | M31: =IF(L31>0,VLOOKUP(L31,Poengskala!$B$4:$C$34,2,TRUE),0) -> 0 | O31: =IF(N31>0,VLOOKUP(N31,Poengskala!$B$4:$D$34,3,TRUE),0) -> 0 | P31: =E31 -> 46 | Q31: =G31 -> 0 | R31: =I31 -> 0 | S31: =K31 -> 0 | T31: =M31 -> 0 | U31: =O31 -> 0 | V31: =MAX(LARGE(P31:U31,1)+LARGE(P31:U31,2)+LARGE(P31:U31,3),0) -> 46 | W31: =COUNTIF(P31:U31,">0") -> 1
A32: 23 | B32: Martin Holtan | C32: IL Runar | E32: =IF(D32>0,VLOOKUP(D32,Poengskala!$B$4:$C$34,2,TRUE),0) -> 0 | G32: =IF(F32>0,VLOOKUP(F32,Poengskala!$B$4:$C$34,2,TRUE),0) -> 0 | H32: 12 | I32: =IF(H32>0,VLOOKUP(H32,Poengskala!$B$4:$C$34,2,TRUE),0) -> 46 | K32: =IF(J32>0,VLOOKUP(J32,Poengskala!$B$4:$C$34,2,TRUE),0) -> 0 | M32: =IF(L32>0,VLOOKUP(L32,Poengskala!$B$4:$C$34,2,TRUE),0) -> 0 | O32: =IF(N32>0,VLOOKUP(N32,Poengskala!$B$4:$D$34,3,TRUE),0) -> 0 | P32: =E32 -> 0 | Q32: =G32 -> 0 | R32: =I32 -> 46 | S32: =K32 -> 0 | T32: =M32 -> 0 | U32: =O32 -> 0 | V32: =MAX(LARGE(P32:U32,1)+LARGE(P32:U32,2)+LARGE(P32:U32,3),0) -> 46 | W32: =COUNTIF(P32:U32,">0") -> 1
A33: 24 | B33: Robert Ursin- Holm Walle | C33: IL Ivrig | D33: 13 | E33: =IF(D33>0,VLOOKUP(D33,Poengskala!$B$4:$C$34,2,TRUE),0) -> 44 | G33: =IF(F33>0,VLOOKUP(F33,Poengskala!$B$4:$C$34,2,TRUE),0) -> 0 | I33: =IF(H33>0,VLOOKUP(H33,Poengskala!$B$4:$C$34,2,TRUE),0) -> 0 | K33: =IF(J33>0,VLOOKUP(J33,Poengskala!$B$4:$C$34,2,TRUE),0) -> 0 | M33: =IF(L33>0,VLOOKUP(L33,Poengskala!$B$4:$C$34,2,TRUE),0) -> 0 | O33: =IF(N33>0,VLOOKUP(N33,Poengskala!$B$4:$D$34,3,TRUE),0) -> 0 | P33: =E33 -> 44 | Q33: =G33 -> 0 | R33: =I33 -> 0 | S33: =K33 -> 0 | T33: =M33 -> 0 | U33: =O33 -> 0 | V33: =MAX(LARGE(P33:U33,1)+LARGE(P33:U33,2)+LARGE(P33:U33,3),0) -> 44 | W33: =COUNTIF(P33:U33,">0") -> 1
E34: =IF(D34>0,VLOOKUP(D34,Poengskala!$B$4:$C$34,2,TRUE),0) -> 0 | G34: =IF(F34>0,VLOOKUP(F34,Poengskala!$B$4:$C$34,2,TRUE),0) -> 0 | I34: =IF(H34>0,VLOOKUP(H34,Poengskala!$B$4:$C$34,2,TRUE),0) -> 0 | K34: =IF(J34>0,VLOOKUP(J34,Poengskala!$B$4:$C$34,2,TRUE),0) -> 0 | M34: =IF(L34>0,VLOOKUP(L34,Poengskala!$B$4:$C$34,2,TRUE),0) -> 0 | O34: =IF(N34>0,VLOOKUP(N34,Poengskala!$B$4:$D$34,3,TRUE),0) -> 0 | P34: =E34 -> 0 | Q34: =G34 -> 0 | R34: =I34 -> 0 | S34: =K34 -> 0 | T34: =M34 -> 0 | U34: =O34 -> 0 | V34: =MAX(LARGE(P34:U34,1)+LARGE(P34:U34,2)+LARGE(P34:U34,3),0) -> 0 | W34: =COUNTIF(P34:U34,">0") -> 0
E35: =IF(D35>0,VLOOKUP(D35,Poengskala!$B$4:$C$34,2,TRUE),0) -> 0 | G35: =IF(F35>0,VLOOKUP(F35,Poengskala!$B$4:$C$34,2,TRUE),0) -> 0 | I35: =IF(H35>0,VLOOKUP(H35,Poengskala!$B$4:$C$34,2,TRUE),0) -> 0 | K35: =IF(J35>0,VLOOKUP(J35,Poengskala!$B$4:$C$34,2,TRUE),0) -> 0 | M35: =IF(L35>0,VLOOKUP(L35,Poengskala!$B$4:$C$34,2,TRUE),0) -> 0 | O35: =IF(N35>0,VLOOKUP(N35,Poengskala!$B$4:$D$34,3,TRUE),0) -> 0 | P35: =E35 -> 0 | Q35: =G35 -> 0 | R35: =I35 -> 0 | S35: =K35 -> 0 | T35: =M35 -> 0 | U35: =O35 -> 0 | V35: =MAX(LARGE(P35:U35,1)+LARGE(P35:U35,2)+LARGE(P35:U35,3),0) -> 0 | W35: =COUNTIF(P35:U35,">0") -> 0
E36: =IF(D36>0,VLOOKUP(D36,Poengskala!$B$4:$C$34,2,TRUE),0) -> 0 | G36: =IF(F36>0,VLOOKUP(F36,Poengskala!$B$4:$C$34,2,TRUE),0) -> 0 | I36: =IF(H36>0,VLOOKUP(H36,Poengskala!$B$4:$C$34,2,TRUE),0) -> 0 | K36: =IF(J36>0,VLOOKUP(J36,Poengskala!$B$4:$C$34,2,TRUE),0) -> 0 | M36: =IF(L36>0,VLOOKUP(L36,Poengskala!$B$4:$C$34,2,TRUE),0) -> 0 | O36: =IF(N36>0,VLOOKUP(N36,Poengskala!$B$4:$D$34,3,TRUE),0) -> 0 | P36: =E36 -> 0 | Q36: =G36 -> 0 | R36: =I36 -> 0 | S36: =K36 -> 0 | T36: =M36 -> 0 | U36: =O36 -> 0 | V36: =MAX(LARGE(P36:U36,1)+LARGE(P36:U36,2)+LARGE(P36:U36,3),0) -> 0 | W36: =COUNTIF(P36:U36,">0") -> 0
E37: =IF(D37>0,VLOOKUP(D37,Poengskala!$B$4:$C$34,2,TRUE),0) -> 0 | G37: =IF(F37>0,VLOOKUP(F37,Poengskala!$B$4:$C$34,2,TRUE),0) -> 0 | I37: =IF(H37>0,VLOOKUP(H37,Poengskala!$B$4:$C$34,2,TRUE),0) -> 0 | K37: =IF(J37>0,VLOOKUP(J37,Poengskala!$B$4:$C$34,2,TRUE),0) -> 0 | M37: =IF(L37>0,VLOOKUP(L37,Poengskala!$B$4:$C$34,2,TRUE),0) -> 0 | O37: =IF(N37>0,VLOOKUP(N37,Poengskala!$B$4:$D$34,3,TRUE),0) -> 0 | P37: =E37 -> 0 | Q37: =G37 -> 0 | R37: =I37 -> 0 | S37: =K37 -> 0 | T37: =M37 -> 0 | U37: =O37 -> 0 | V37: =MAX(LARGE(P37:U37,1)+LARGE(P37:U37,2)+LARGE(P37:U37,3),0) -> 0 | W37: =COUNTIF(P37:U37,">0") -> 0
E38: =IF(D38>0,VLOOKUP(D38,Poengskala!$B$4:$C$34,2,TRUE),0) -> 0 | G38: =IF(F38>0,VLOOKUP(F38,Poengskala!$B$4:$C$34,2,TRUE),0) -> 0 | I38: =IF(H38>0,VLOOKUP(H38,Poengskala!$B$4:$C$34,2,TRUE),0) -> 0 | K38: =IF(J38>0,VLOOKUP(J38,Poengskala!$B$4:$C$34,2,TRUE),0) -> 0 | M38: =IF(L38>0,VLOOKUP(L38,Poengskala!$B$4:$C$34,2,TRUE),0) -> 0 | O38: =IF(N38>0,VLOOKUP(N38,Poengskala!$B$4:$D$34,3,TRUE),0) -> 0 | P38: =E38 -> 0 | Q38: =G38 -> 0 | R38: =I38 -> 0 | S38: =K38 -> 0 | T38: =M38 -> 0 | U38: =O38 -> 0 | V38: =MAX(LARGE(P38:U38,1)+LARGE(P38:U38,2)+LARGE(P38:U38,3),0) -> 0 | W38: =COUNTIF(P38:U38,">0") -> 0
E39: =IF(D39>0,VLOOKUP(D39,Poengskala!$B$4:$C$34,2,TRUE),0) -> 0 | G39: =IF(F39>0,VLOOKUP(F39,Poengskala!$B$4:$C$34,2,TRUE),0) -> 0 | I39: =IF(H39>0,VLOOKUP(H39,Poengskala!$B$4:$C$34,2,TRUE),0) -> 0 | K39: =IF(J39>0,VLOOKUP(J39,Poengskala!$B$4:$C$34,2,TRUE),0) -> 0 | M39: =IF(L39>0,VLOOKUP(L39,Poengskala!$B$4:$C$34,2,TRUE),0) -> 0 | O39: =IF(N39>0,VLOOKUP(N39,Poengskala!$B$4:$D$34,3,TRUE),0) -> 0 | P39: =E39 -> 0 | Q39: =G39 -> 0 | R39: =I39 -> 0 | S39: =K39 -> 0 | T39: =M39 -> 0 | U39: =O39 -> 0 | V39: =MAX(LARGE(P39:U39,1)+LARGE(P39:U39,2)+LARGE(P39:U39,3),0) -> 0 | W39: =COUNTIF(P39:U39,">0") -> 0
E40: =IF(D40>0,VLOOKUP(D40,Poengskala!$B$4:$C$34,2,TRUE),0) -> 0 | G40: =IF(F40>0,VLOOKUP(F40,Poengskala!$B$4:$C$34,2,TRUE),0) -> 0 | I40: =IF(H40>0,VLOOKUP(H40,Poengskala!$B$4:$C$34,2,TRUE),0) -> 0 | K40: =IF(J40>0,VLOOKUP(J40,Poengskala!$B$4:$C$34,2,TRUE),0) -> 0 | M40: =IF(L40>0,VLOOKUP(L40,Poengskala!$B$4:$C$34,2,TRUE),0) -> 0 | O40: =IF(N40>0,VLOOKUP(N40,Poengskala!$B$4:$D$34,3,TRUE),0) -> 0 | P40: =E40 -> 0 | Q40: =G40 -> 0 | R40: =I40 -> 0 | S40: =K40 -> 0 | T40: =M40 -> 0 | U40: =O40 -> 0 | V40: =MAX(LARGE(P40:U40,1)+LARGE(P40:U40,2)+LARGE(P40:U40,3),0) -> 0 | W40: =COUNTIF(P40:U40,">0") -> 0
E41: =IF(D41>0,VLOOKUP(D41,Poengskala!$B$4:$C$34,2,TRUE),0) -> 0 | G41: =IF(F41>0,VLOOKUP(F41,Poengskala!$B$4:$C$34,2,TRUE),0) -> 0 | I41: =IF(H41>0,VLOOKUP(H41,Poengskala!$B$4:$C$34,2,TRUE),0) -> 0 | K41: =IF(J41>0,VLOOKUP(J41,Poengskala!$B$4:$C$34,2,TRUE),0) -> 0 | M41: =IF(L41>0,VLOOKUP(L41,Poengskala!$B$4:$C$34,2,TRUE),0) -> 0 | O41: =IF(N41>0,VLOOKUP(N41,Poengskala!$B$4:$D$34,3,TRUE),0) -> 0 | P41: =E41 -> 0 | Q41: =G41 -> 0 | R41: =I41 -> 0 | S41: =K41 -> 0 | T41: =M41 -> 0 | U41: =O41 -> 0 | V41: =MAX(LARGE(P41:U41,1)+LARGE(P41:U41,2)+LARGE(P41:U41,3),0) -> 0 | W41: =COUNTIF(P41:U41,">0") -> 0
E42: =IF(D42>0,VLOOKUP(D42,Poengskala!$B$4:$C$34,2,TRUE),0) -> 0 | G42: =IF(F42>0,VLOOKUP(F42,Poengskala!$B$4:$C$34,2,TRUE),0) -> 0 | I42: =IF(H42>0,VLOOKUP(H42,Poengskala!$B$4:$C$34,2,TRUE),0) -> 0 | K42: =IF(J42>0,VLOOKUP(J42,Poengskala!$B$4:$C$34,2,TRUE),0) -> 0 | M42: =IF(L42>0,VLOOKUP(L42,Poengskala!$B$4:$C$34,2,TRUE),0) -> 0 | O42: =IF(N42>0,VLOOKUP(N42,Poengskala!$B$4:$D$34,3,TRUE),0) -> 0 | P42: =E42 -> 0 | Q42: =G42 -> 0 | R42: =I42 -> 0 | S42: =K42 -> 0 | T42: =M42 -> 0 | U42: =O42 -> 0 | V42: =MAX(LARGE(P42:U42,1)+LARGE(P42:U42,2)+LARGE(P42:U42,3),0) -> 0 | W42: =COUNTIF(P42:U42,">0") -> 0
E43: =IF(D43>0,VLOOKUP(D43,Poengskala!$B$4:$C$34,2,TRUE),0) -> 0 | G43: =IF(F43>0,VLOOKUP(F43,Poengskala!$B$4:$C$34,2,TRUE),0) -> 0 | I43: =IF(H43>0,VLOOKUP(H43,Poengskala!$B$4:$C$34,2,TRUE),0) -> 0 | K43: =IF(J43>0,VLOOKUP(J43,Poengskala!$B$4:$C$34,2,TRUE),0) -> 0 | M43: =IF(L43>0,VLOOKUP(L43,Poengskala!$B$4:$C$34,2,TRUE),0) -> 0 | O43: =IF(N43>0,VLOOKUP(N43,Poengskala!$B$4:$D$34,3,TRUE),0) -> 0 | P43: =E43 -> 0 | Q43: =G43 -> 0 | R43: =I43 -> 0 | S43: =K43 -> 0 | T43: =M43 -> 0 | U43: =O43 -> 0 | V43: =MAX(LARGE(P43:U43,1)+LARGE(P43:U43,2)+LARGE(P43:U43,3),0) -> 0 | W43: =COUNTIF(P43:U43,">0") -> 0
E44: =IF(D44>0,VLOOKUP(D44,Poengskala!$B$4:$C$34,2,TRUE),0) -> 0 | G44: =IF(F44>0,VLOOKUP(F44,Poengskala!$B$4:$C$34,2,TRUE),0) -> 0 | I44: =IF(H44>0,VLOOKUP(H44,Poengskala!$B$4:$C$34,2,TRUE),0) -> 0 | K44: =IF(J44>0,VLOOKUP(J44,Poengskala!$B$4:$C$34,2,TRUE),0) -> 0 | M44: =IF(L44>0,VLOOKUP(L44,Poengskala!$B$4:$C$34,2,TRUE),0) -> 0 | O44: =IF(N44>0,VLOOKUP(N44,Poengskala!$B$4:$D$34,3,TRUE),0) -> 0 | P44: =E44 -> 0 | Q44: =G44 -> 0 | R44: =I44 -> 0 | S44: =K44 -> 0 | T44: =M44 -> 0 | U44: =O44 -> 0 | V44: =MAX(LARGE(P44:U44,1)+LARGE(P44:U44,2)+LARGE(P44:U44,3),0) -> 0 | W44: =COUNTIF(P44:U44,">0") -> 0
E45: =IF(D45>0,VLOOKUP(D45,Poengskala!$B$4:$C$34,2,TRUE),0) -> 0 | G45: =IF(F45>0,VLOOKUP(F45,Poengskala!$B$4:$C$34,2,TRUE),0) -> 0 | I45: =IF(H45>0,VLOOKUP(H45,Poengskala!$B$4:$C$34,2,TRUE),0) -> 0 | K45: =IF(J45>0,VLOOKUP(J45,Poengskala!$B$4:$C$34,2,TRUE),0) -> 0 | M45: =IF(L45>0,VLOOKUP(L45,Poengskala!$B$4:$C$34,2,TRUE),0) -> 0 | O45: =IF(N45>0,VLOOKUP(N45,Poengskala!$B$4:$D$34,3,TRUE),0) -> 0 | P45: =E45 -> 0 | Q45: =G45 -> 0 | R45: =I45 -> 0 | S45: =K45 -> 0 | T45: =M45 -> 0 | U45: =O45 -> 0 | V45: =MAX(LARGE(P45:U45,1)+LARGE(P45:U45,2)+LARGE(P45:U45,3),0) -> 0 | W45: =COUNTIF(P45:U45,">0") -> 0
E46: =IF(D46>0,VLOOKUP(D46,Poengskala!$B$4:$C$34,2,TRUE),0) -> 0 | G46: =IF(F46>0,VLOOKUP(F46,Poengskala!$B$4:$C$34,2,TRUE),0) -> 0 | I46: =IF(H46>0,VLOOKUP(H46,Poengskala!$B$4:$C$34,2,TRUE),0) -> 0 | K46: =IF(J46>0,VLOOKUP(J46,Poengskala!$B$4:$C$34,2,TRUE),0) -> 0 | M46: =IF(L46>0,VLOOKUP(L46,Poengskala!$B$4:$C$34,2,TRUE),0) -> 0 | O46: =IF(N46>0,VLOOKUP(N46,Poengskala!$B$4:$D$34,3,TRUE),0) -> 0 | P46: =E46 -> 0 | Q46: =G46 -> 0 | R46: =I46 -> 0 | S46: =K46 -> 0 | T46: =IF(S46>0,VLOOKUP(S46,Poengskala!$B$4:$D$34,3,TRUE),0) -> 0 | U46: =O46 -> 0 | V46: =MAX(LARGE(P46:U46,1)+LARGE(P46:U46,2)+LARGE(P46:U46,3),0) -> 0 | W46: =COUNTIF(P46:U46,">0") -> 0

Sheet G-15
A1: Klasse - Gutter 15 år
A2: Utøveren må ha fullført 3 av 5 renn i cupen for å bli premiert.
A3: De 3 beste rennene teller sammenlagt
A4: Lista viser alle som har deltatt i TV - Cup.
A6: Evt. feil sendes til tvsk@skiforbundet.no | D6: Fristil | F6: Klassisk | H6: Sprint Klassisk | J6: Klassisk | L6: Finale Tour | N6: Finale Tour | P6: Renn1 | Q6: Renn2 | R6: Renn3 | S6: Renn4 | U6: Renn5 | V6: Total Poeng | W6: Antall renn
A7: Oppdatert: 12.02.2019 | D7: Oseberg Skilag | F7: Svarstad IL | H7: IL Runar | J7: Høydalsmo IL | L7: Runar | N7: IL Ivrig/Botne SK
D8: 43450 | F8: 43464 | H8: 43499 | J8: 43505 | L8: 42812 | N8: 16.03-17.03.2019
A9: Plass | B9: Navn | C9: Klubb | D9: Plass | E9: Poeng | F9: Plass | G9: Poeng | H9: Plass | I9: Poeng | J9: Plass | K9: Poeng | L9: Plass | M9: Poeng | N9: Plass | O9: Poeng
A10: 1 | B10: Oskar Opstad Vike | C10: Andebu IL | D10: 1 | E10: =IF(D10>0,VLOOKUP(D10,Poengskala!$B$4:$C$34,2,TRUE),0) -> 100 | F10: 1 | G10: =IF(F10>0,VLOOKUP(F10,Poengskala!$B$4:$C$34,2,TRUE),0) -> 100 | I10: =IF(H10>0,VLOOKUP(H10,Poengskala!$B$4:$C$34,2,TRUE),0) -> 0 | J10: 1 | K10: =IF(J10>0,VLOOKUP(J10,Poengskala!$B$4:$C$34,2,TRUE),0) -> 100 | M10: =IF(L10>0,VLOOKUP(L10,Poengskala!$B$4:$C$34,2,TRUE),0) -> 0 | N10: 1 | O10: =IF(N10>0,VLOOKUP(N10,Poengskala!$B$4:$D$34,3,TRUE),0) -> 150 | P10: =E10 -> 100 | Q10: =G10 -> 100 | R10: =I10 -> 0 | S10: =K10 -> 100 | T10: =M10 -> 0 | U10: =O10 -> 150 | V10: =MAX(LARGE(P10:U10,1)+LARGE(P10:U10,2)+LARGE(P10:U10,3),0) -> 350 | W10: =COUNTIF(P10:U10,">0") -> 4
A11: 2 | B11: Nicklas Skaug | C11: IL Runar | E11: =IF(D11>0,VLOOKUP(D11,Poengskala!$B$4:$C$34,2,TRUE),0) -> 0 | G11: =IF(F11>0,VLOOKUP(F11,Poengskala!$B$4:$C$34,2,TRUE),0) -> 0 | H11: 2 | I11: =IF(H11>0,VLOOKUP(H11,Poengskala!$B$4:$C$34,2,TRUE),0) -> 90 | J11: 2 | K11: =IF(J11>0,VLOOKUP(J11,Poengskala!$B$4:$C$34,2,TRUE),0) -> 90 | M11: =IF(L11>0,VLOOKUP(L11,Poengskala!$B$4:$C$34,2,TRUE),0) -> 0 | N11: 2 | O11: =IF(N11>0,VLOOKUP(N11,Poengskala!$B$4:$D$34,3,TRUE),0) -> 135 | P11: =E11 -> 0 | Q11: =G11 -> 0 | R11: =I11 -> 90 | S11: =K11 -> 90 | T11: =M11 -> 0 | U11: =O11 -> 135 | V11: =MAX(LARGE(P11:U11,1)+LARGE(P11:U11,2)+LARGE(P11:U11,3),0) -> 315 | W11: =COUNTIF(P11:U11,">0") -> 3
A12: 3 | B12: Nikolai Einvik Jensen | C12: IL Runar | D12: 2 | E12: =IF(D12>0,VLOOKUP(D12,Poengskala!$B$4:$C$34,2,TRUE),0) -> 90 | G12: =IF(F12>0,VLOOKUP(F12,Poengskala!$B$4:$C$34,2,TRUE),0) -> 0 | H12: 1 | I12: =IF(H12>0,VLOOKUP(H12,Poengskala!$B$4:$C$34,2,TRUE),0) -> 100 | K12: =IF(J12>0,VLOOKUP(J12,Poengskala!$B$4:$C$34,2,TRUE),0) -> 0 | M12: =IF(L12>0,VLOOKUP(L12,Poengskala!$B$4:$C$34,2,TRUE),0) -> 0 | N12: 7 | O12: =IF(N12>0,VLOOKUP(N12,Poengskala!$B$4:$D$34,3,TRUE),0) -> 93 | P12: =E12 -> 90 | Q12: =G12 -> 0 | R12: =I12 -> 100 | S12: =K12 -> 0 | T12: =M12 -> 0 | U12: =O12 -> 93 | V12: =MAX(LARGE(P12:U12,1)+LARGE(P12:U12,2)+LARGE(P12:U12,3),0) -> 283 | W12: =COUNTIF(P12:U12,">0") -> 3
A13: 4 | B13: Casper Rønning | C13: IL Ivrig | D13: 7 | E13: =IF(D13>0,VLOOKUP(D13,Poengskala!$B$4:$C$34,2,TRUE),0) -> 62 | F13: 4 | G13: =IF(F13>0,VLOOKUP(F13,Poengskala!$B$4:$C$34,2,TRUE),0) -> 75 | H13: 4 | I13: =IF(H13>0,VLOOKUP(H13,Poengskala!$B$4:$C$34,2,TRUE),0) -> 75 | J13: 3 | K13: =IF(J13>0,VLOOKUP(J13,Poengskala!$B$4:$C$34,2,TRUE),0) -> 82 | M13: =IF(L13>0,VLOOKUP(L13,Poengskala!$B$4:$C$34,2,TRUE),0) -> 0 | N13: 3 | O13: =IF(N13>0,VLOOKUP(N13,Poengskala!$B$4:$D$34,3,TRUE),0) -> 123 | P13: =E13 -> 62 | Q13: =G13 -> 75 | R13: =I13 -> 75 | S13: =K13 -> 82 | T13: =M13 -> 0 | U13: =O13 -> 123 | V13: =MAX(LARGE(P13:U13,1)+LARGE(P13:U13,2)+LARGE(P13:U13,3),0) -> 280 | W13: =COUNTIF(P13:U13,">0") -> 5
A14: 5 | B14: Anders Hasaas Klavenes | C14: IL Runar | D14: 3 | E14: =IF(D14>0,VLOOKUP(D14,Poengskala!$B$4:$C$34,2,TRUE),0) -> 82 | F14: 3 | G14: =IF(F14>0,VLOOKUP(F14,Poengskala!$B$4:$C$34,2,TRUE),0) -> 82 | H14: 3 | I14: =IF(H14>0,VLOOKUP(H14,Poengskala!$B$4:$C$34,2,TRUE),0) -> 82 | K14: =IF(J14>0,VLOOKUP(J14,Poengskala!$B$4:$C$34,2,TRUE),0) -> 0 | M14: =IF(L14>0,VLOOKUP(L14,Poengskala!$B$4:$C$34,2,TRUE),0) -> 0 | N14: 4 | O14: =IF(N14>0,VLOOKUP(N14,Poengskala!$B$4:$D$34,3,TRUE),0) -> 112.5 | P14: =E14 -> 82 | Q14: =G14 -> 82 | R14: =I14 -> 82 | S14: =K14 -> 0 | T14: =M14 -> 0 | U14: =O14 -> 112.5 | V14: =MAX(LARGE(P14:U14,1)+LARGE(P14:U14,2)+LARGE(P14:U14,3),0) -> 276.5 | W14: =COUNTIF(P14:U14,">0") -> 4
A15: 6 | B15: Simon Skjeldal Grytnes | C15: Oseberg Skilag | D15: 6 | E15: =IF(D15>0,VLOOKUP(D15,Poengskala!$B$4:$C$34,2,TRUE),0) -> 66 | F15: 5 | G15: =IF(F15>0,VLOOKUP(F15,Poengskala!$B$4:$C$34,2,TRUE),0) -> 70 | I15: =IF(H15>0,VLOOKUP(H15,Poengskala!$B$4:$C$34,2,TRUE),0) -> 0 | K15: =IF(J15>0,VLOOKUP(J15,Poengskala!$B$4:$C$34,2,TRUE),0) -> 0 | M15: =IF(L15>0,VLOOKUP(L15,Poengskala!$B$4:$C$34,2,TRUE),0) -> 0 | N15: 6 | O15: =IF(N15>0,VLOOKUP(N15,Poengskala!$B$4:$D$34,3,TRUE),0) -> 99 | P15: =E15 -> 66 | Q15: =G15 -> 70 | R15: =I15 -> 0 | S15: =K15 -> 0 | T15: =M15 -> 0 | U15: =O15 -> 99 | V15: =MAX(LARGE(P15:U15,1)+LARGE(P15:U15,2)+LARGE(P15:U15,3),0) -> 235 | W15: =COUNTIF(P15:U15,">0") -> 3
A16: 7 | B16: Håkon Tho Anundskås | C16: Heddal IL | E16: =IF(D16>0,VLOOKUP(D16,Poengskala!$B$4:$C$34,2,TRUE),0) -> 0 | F16: 6 | G16: =IF(F16>0,VLOOKUP(F16,Poengskala!$B$4:$C$34,2,TRUE),0) -> 66 | H16: 6 | I16: =IF(H16>0,VLOOKUP(H16,Poengskala!$B$4:$C$34,2,TRUE),0) -> 66 | J16: 4 | K16: =IF(J16>0,VLOOKUP(J16,Poengskala!$B$4:$C$34,2,TRUE),0) -> 75 | M16: =IF(L16>0,VLOOKUP(L16,Poengskala!$B$4:$C$34,2,TRUE),0) -> 0 | N16: 9 | O16: =IF(N16>0,VLOOKUP(N16,Poengskala!$B$4:$D$34,3,TRUE),0) -> 82.5 | P16: =E16 -> 0 | Q16: =G16 -> 66 | R16: =I16 -> 66 | S16: =K16 -> 75 | T16: =M16 -> 0 | U16: =O16 -> 82.5 | V16: =MAX(LARGE(P16:U16,1)+LARGE(P16:U16,2)+LARGE(P16:U16,3),0) -> 223.5 | W16: =COUNTIF(P16:U16,">0") -> 4
A17: 8 | B17: Benjamin Riis Korsane | C17: Oseberg Skilag | D17: 8 | E17: =IF(D17>0,VLOOKUP(D17,Poengskala!$B$4:$C$34,2,TRUE),0) -> 58 | F17: 8 | G17: =IF(F17>0,VLOOKUP(F17,Poengskala!$B$4:$C$34,2,TRUE),0) -> 58 | H17: 5 | I17: =IF(H17>0,VLOOKUP(H17,Poengskala!$B$4:$C$34,2,TRUE),0) -> 70 | K17: =IF(J17>0,VLOOKUP(J17,Poengskala!$B$4:$C$34,2,TRUE),0) -> 0 | M17: =IF(L17>0,VLOOKUP(L17,Poengskala!$B$4:$C$34,2,TRUE),0) -> 0 | O17: =IF(N17>0,VLOOKUP(N17,Poengskala!$B$4:$D$34,3,TRUE),0) -> 0 | P17: =E17 -> 58 | Q17: =G17 -> 58 | R17: =I17 -> 70 | S17: =K17 -> 0 | T17: =M17 -> 0 | U17: =O17 -> 0 | V17: =MAX(LARGE(P17:U17,1)+LARGE(P17:U17,2)+LARGE(P17:U17,3),0) -> 186 | W17: =COUNTIF(P17:U17,">0") -> 3
A18: 9 | B18: Sebastian Joberg Horn | C18: IL Ivrig | D18: 5 | E18: =IF(D18>0,VLOOKUP(D18,Poengskala!$B$4:$C$34,2,TRUE),0) -> 70 | G18: =IF(F18>0,VLOOKUP(F18,Poengskala!$B$4:$C$34,2,TRUE),0) -> 0 | I18: =IF(H18>0,VLOOKUP(H18,Poengskala!$B$4:$C$34,2,TRUE),0) -> 0 | K18: =IF(J18>0,VLOOKUP(J18,Poengskala!$B$4:$C$34,2,TRUE),0) -> 0 | M18: =IF(L18>0,VLOOKUP(L18,Poengskala!$B$4:$C$34,2,TRUE),0) -> 0 | N18: 5 | O18: =IF(N18>0,VLOOKUP(N18,Poengskala!$B$4:$D$34,3,TRUE),0) -> 105 | P18: =E18 -> 70 | Q18: =G18 -> 0 | R18: =I18 -> 0 | S18: =K18 -> 0 | T18: =M18 -> 0 | U18: =O18 -> 105 | V18: =MAX(LARGE(P18:U18,1)+LARGE(P18:U18,2)+LARGE(P18:U18,3),0) -> 175 | W18: =COUNTIF(P18:U18,">0") -> 2
A19: 10 | B19: Hallvard Tjentland | C19: Svarstad IL | E19: =IF(D19>0,VLOOKUP(D19,Poengskala!$B$4:$C$34,2,TRUE),0) -> 0 | F19: 9 | G19: =IF(F19>0,VLOOKUP(F19,Poengskala!$B$4:$C$34,2,TRUE),0) -> 55 | I19: =IF(H19>0,VLOOKUP(H19,Poengskala!$B$4:$C$34,2,TRUE),0) -> 0 | K19: =IF(J19>0,VLOOKUP(J19,Poengskala!$B$4:$C$34,2,TRUE),0) -> 0 | M19: =IF(L19>0,VLOOKUP(L19,Poengskala!$B$4:$C$34,2,TRUE),0) -> 0 | N19: 8 | O19: =IF(N19>0,VLOOKUP(N19,Poengskala!$B$4:$D$34,3,TRUE),0) -> 87 | P19: =E19 -> 0 | Q19: =G19 -> 55 | R19: =I19 -> 0 | S19: =K19 -> 0 | T19: =M19 -> 0 | U19: =O19 -> 87 | V19: =MAX(LARGE(P19:U19,1)+LARGE(P19:U19,2)+LARGE(P19:U19,3),0) -> 142 | W19: =COUNTIF(P19:U19,">0") -> 2
A20: 11 | B20: Sivert Vataker Liverød | C20: Andebu IL | E20: =IF(D20>0,VLOOKUP(D20,Poengskala!$B$4:$C$34,2,TRUE),0) -> 0 | F20: 7 | G20: =IF(F20>0,VLOOKUP(F20,Poengskala!$B$4:$C$34,2,TRUE),0) -> 62 | I20: =IF(H20>0,VLOOKUP(H20,Poengskala!$B$4:$C$34,2,TRUE),0) -> 0 | K20: =IF(J20>0,VLOOKUP(J20,Poengskala!$B$4:$C$34,2,TRUE),0) -> 0 | M20: =IF(L20>0,VLOOKUP(L20,Poengskala!$B$4:$C$34,2,TRUE),0) -> 0 | N20: 10 | O20: =IF(N20>0,VLOOKUP(N20,Poengskala!$B$4:$D$34,3,TRUE),0) -> 78 | P20: =E20 -> 0 | Q20: =G20 -> 62 | R20: =I20 -> 0 | S20: =K20 -> 0 | T20: =M20 -> 0 | U20: =O20 -> 78 | V20: =MAX(LARGE(P20:U20,1)+LARGE(P20:U20,2)+LARGE(P20:U20,3),0) -> 140 | W20: =COUNTIF(P20:U20,">0") -> 2
A21: 12 | B21: Johan August Aune Johansen | C21: Oseberg Skilag | D21: 12 | E21: =IF(D21>0,VLOOKUP(D21,Poengskala!$B$4:$C$34,2,TRUE),0) -> 46 | G21: =IF(F21>0,VLOOKUP(F21,Poengskala!$B$4:$C$34,2,TRUE),0) -> 0 | H21: 8 | I21: =IF(H21>0,VLOOKUP(H21,Poengskala!$B$4:$C$34,2,TRUE),0) -> 58 | K21: =IF(J21>0,VLOOKUP(J21,Poengskala!$B$4:$C$34,2,TRUE),0) -> 0 | M21: =IF(L21>0,VLOOKUP(L21,Poengskala!$B$4:$C$34,2,TRUE),0) -> 0 | O21: =IF(N21>0,VLOOKUP(N21,Poengskala!$B$4:$D$34,3,TRUE),0) -> 0 | P21: =E21 -> 46 | Q21: =G21 -> 0 | R21: =I21 -> 58 | S21: =K21 -> 0 | T21: =M21 -> 0 | U21: =O21 -> 0 | V21: =MAX(LARGE(P21:U21,1)+LARGE(P21:U21,2)+LARGE(P21:U21,3),0) -> 104 | W21: =COUNTIF(P21:U21,">0") -> 2
A22: 13 | B22: Iver Elias Holm | C22: IL Runar | D22: 11 | E22: =IF(D22>0,VLOOKUP(D22,Poengskala!$B$4:$C$34,2,TRUE),0) -> 49 | F22: 11 | G22: =IF(F22>0,VLOOKUP(F22,Poengskala!$B$4:$C$34,2,TRUE),0) -> 49 | I22: =IF(H22>0,VLOOKUP(H22,Poengskala!$B$4:$C$34,2,TRUE),0) -> 0 | K22: =IF(J22>0,VLOOKUP(J22,Poengskala!$B$4:$C$34,2,TRUE),0) -> 0 | M22: =IF(L22>0,VLOOKUP(L22,Poengskala!$B$4:$C$34,2,TRUE),0) -> 0 | O22: =IF(N22>0,VLOOKUP(N22,Poengskala!$B$4:$D$34,3,TRUE),0) -> 0 | P22: =E22 -> 49 | Q22: =G22 -> 49 | R22: =I22 -> 0 | S22: =K22 -> 0 | T22: =M22 -> 0 | U22: =O22 -> 0 | V22: =MAX(LARGE(P22:U22,1)+LARGE(P22:U22,2)+LARGE(P22:U22,3),0) -> 98 | W22: =COUNTIF(P22:U22,">0") -> 2
A23: 14 | B23: Lars Olav Aspheim Kåsa | C23: Gulset IF | E23: =IF(D23>0,VLOOKUP(D23,Poengskala!$B$4:$C$34,2,TRUE),0) -> 0 | F23: 2 | G23: =IF(F23>0,VLOOKUP(F23,Poengskala!$B$4:$C$34,2,TRUE),0) -> 90 | I23: =IF(H23>0,VLOOKUP(H23,Poengskala!$B$4:$C$34,2,TRUE),0) -> 0 | K23: =IF(J23>0,VLOOKUP(J23,Poengskala!$B$4:$C$34,2,TRUE),0) -> 0 | M23: =IF(L23>0,VLOOKUP(L23,Poengskala!$B$4:$C$34,2,TRUE),0) -> 0 | O23: =IF(N23>0,VLOOKUP(N23,Poengskala!$B$4:$D$34,3,TRUE),0) -> 0 | P23: =E23 -> 0 | Q23: =G23 -> 90 | R23: =I23 -> 0 | S23: =K23 -> 0 | T23: =M23 -> 0 | U23: =O23 -> 0 | V23: =MAX(LARGE(P23:U23,1)+LARGE(P23:U23,2)+LARGE(P23:U23,3),0) -> 90 | W23: =COUNTIF(P23:U23,">0") -> 1
A24: 15 | B24: Johannes Solvik | C24: Gulset IF | D24: 4 | E24: =IF(D24>0,VLOOKUP(D24,Poengskala!$B$4:$C$34,2,TRUE),0) -> 75 | G24: =IF(F24>0,VLOOKUP(F24,Poengskala!$B$4:$C$34,2,TRUE),0) -> 0 | I24: =IF(H24>0,VLOOKUP(H24,Poengskala!$B$4:$C$34,2,TRUE),0) -> 0 | K24: =IF(J24>0,VLOOKUP(J24,Poengskala!$B$4:$C$34,2,TRUE),0) -> 0 | M24: =IF(L24>0,VLOOKUP(L24,Poengskala!$B$4:$C$34,2,TRUE),0) -> 0 | O24: =IF(N24>0,VLOOKUP(N24,Poengskala!$B$4:$D$34,3,TRUE),0) -> 0 | P24: =E24 -> 75 | Q24: =G24 -> 0 | R24: =I24 -> 0 | S24: =K24 -> 0 | T24: =M24 -> 0 | U24: =O24 -> 0 | V24: =MAX(LARGE(P24:U24,1)+LARGE(P24:U24,2)+LARGE(P24:U24,3),0) -> 75 | W24: =COUNTIF(P24:U24,">0") -> 1
A25: 16 | B25: Olav Haugeberg Midtbø | C25: Vinje IL | E25: =IF(D25>0,VLOOKUP(D25,Poengskala!$B$4:$C$34,2,TRUE),0) -> 0 | G25: =IF(F25>0,VLOOKUP(F25,Poengskala!$B$4:$C$34,2,TRUE),0) -> 0 | I25: =IF(H25>0,VLOOKUP(H25,Poengskala!$B$4:$C$34,2,TRUE),0) -> 0 | J25: 5 | K25: =IF(J25>0,VLOOKUP(J25,Poengskala!$B$4:$C$34,2,TRUE),0) -> 70 | M25: =IF(L25>0,VLOOKUP(L25,Poengskala!$B$4:$C$34,2,TRUE),0) -> 0 | O25: =IF(N25>0,VLOOKUP(N25,Poengskala!$B$4:$D$34,3,TRUE),0) -> 0 | P25: =E25 -> 0 | Q25: =G25 -> 0 | R25: =I25 -> 0 | S25: =K25 -> 70 | T25: =M25 -> 0 | U25: =O25 -> 0 | V25: =MAX(LARGE(P25:U25,1)+LARGE(P25:U25,2)+LARGE(P25:U25,3),0) -> 70 | W25: =COUNTIF(P25:U25,">0") -> 1
A26: 17 | B26: Oscar Nome | C26: IL Runar | E26: =IF(D26>0,VLOOKUP(D26,Poengskala!$B$4:$C$34,2,TRUE),0) -> 0 | G26: =IF(F26>0,VLOOKUP(F26,Poengskala!$B$4:$C$34,2,TRUE),0) -> 0 | H26: 7 | I26: =IF(H26>0,VLOOKUP(H26,Poengskala!$B$4:$C$34,2,TRUE),0) -> 62 | K26: =IF(J26>0,VLOOKUP(J26,Poengskala!$B$4:$C$34,2,TRUE),0) -> 0 | M26: =IF(L26>0,VLOOKUP(L26,Poengskala!$B$4:$C$34,2,TRUE),0) -> 0 | O26: =IF(N26>0,VLOOKUP(N26,Poengskala!$B$4:$D$34,3,TRUE),0) -> 0 | P26: =E26 -> 0 | Q26: =G26 -> 0 | R26: =I26 -> 62 | S26: =K26 -> 0 | T26: =M26 -> 0 | U26: =O26 -> 0 | V26: =MAX(LARGE(P26:U26,1)+LARGE(P26:U26,2)+LARGE(P26:U26,3),0) -> 62 | W26: =COUNTIF(P26:U26,">0") -> 1
A27: 18 | B27: Eskil Rolland Sørensen | C27: Oseberg Skilag | D27: 9 | E27: =IF(D27>0,VLOOKUP(D27,Poengskala!$B$4:$C$34,2,TRUE),0) -> 55 | G27: =IF(F27>0,VLOOKUP(F27,Poengskala!$B$4:$C$34,2,TRUE),0) -> 0 | I27: =IF(H27>0,VLOOKUP(H27,Poengskala!$B$4:$C$34,2,TRUE),0) -> 0 | K27: =IF(J27>0,VLOOKUP(J27,Poengskala!$B$4:$C$34,2,TRUE),0) -> 0 | M27: =IF(L27>0,VLOOKUP(L27,Poengskala!$B$4:$C$34,2,TRUE),0) -> 0 | O27: =IF(N27>0,VLOOKUP(N27,Poengskala!$B$4:$D$34,3,TRUE),0) -> 0 | P27: =E27 -> 55 | Q27: =G27 -> 0 | R27: =I27 -> 0 | S27: =K27 -> 0 | T27: =M27 -> 0 | U27: =O27 -> 0 | V27: =MAX(LARGE(P27:U27,1)+LARGE(P27:U27,2)+LARGE(P27:U27,3),0) -> 55 | W27: =COUNTIF(P27:U27,">0") -> 1
A28: 19 | B28: Kolbjørn Hage Gunnerød | C28: IL Ivrig | D28: 10 | E28: =IF(D28>0,VLOOKUP(D28,Poengskala!$B$4:$C$34,2,TRUE),0) -> 52 | G28: =IF(F28>0,VLOOKUP(F28,Poengskala!$B$4:$C$34,2,TRUE),0) -> 0 | I28: =IF(H28>0,VLOOKUP(H28,Poengskala!$B$4:$C$34,2,TRUE),0) -> 0 | K28: =IF(J28>0,VLOOKUP(J28,Poengskala!$B$4:$C$34,2,TRUE),0) -> 0 | M28: =IF(L28>0,VLOOKUP(L28,Poengskala!$B$4:$C$34,2,TRUE),0) -> 0 | O28: =IF(N28>0,VLOOKUP(N28,Poengskala!$B$4:$D$34,3,TRUE),0) -> 0 | P28: =E28 -> 52 | Q28: =G28 -> 0 | R28: =I28 -> 0 | S28: =K28 -> 0 | T28: =M28 -> 0 | U28: =O28 -> 0 | V28: =MAX(LARGE(P28:U28,1)+LARGE(P28:U28,2)+LARGE(P28:U28,3),0) -> 52 | W28: =COUNTIF(P28:U28,">0") -> 1
A29: 20 | B29: Jakob Kristoffer Skjold Engedahl | C29: Berger IL | E29: =IF(D29>0,VLOOKUP(D29,Poengskala!$B$4:$C$34,2,TRUE),0) -> 0 | F29: 10 | G29: =IF(F29>0,VLOOKUP(F29,Poengskala!$B$4:$C$34,2,TRUE),0) -> 52 | I29: =IF(H29>0,VLOOKUP(H29,Poengskala!$B$4:$C$34,2,TRUE),0) -> 0 | K29: =IF(J29>0,VLOOKUP(J29,Poengskala!$B$4:$C$34,2,TRUE),0) -> 0 | M29: =IF(L29>0,VLOOKUP(L29,Poengskala!$B$4:$C$34,2,TRUE),0) -> 0 | O29: =IF(N29>0,VLOOKUP(N29,Poengskala!$B$4:$D$34,3,TRUE),0) -> 0 | P29: =E29 -> 0 | Q29: =G29 -> 52 | R29: =I29 -> 0 | S29: =K29 -> 0 | T29: =M29 -> 0 | U29: =O29 -> 0 | V29: =MAX(LARGE(P29:U29,1)+LARGE(P29:U29,2)+LARGE(P29:U29,3),0) -> 52 | W29: =COUNTIF(P29:U29,">0") -> 1
A30: 21 | B30: Sivert Skaug | C30: Svarstad IL | E30: =IF(D30>0,VLOOKUP(D30,Poengskala!$B$4:$C$34,2,TRUE),0) -> 0 | F30: 12 | G30: =IF(F30>0,VLOOKUP(F30,Poengskala!$B$4:$C$34,2,TRUE),0) -> 46 | I30: =IF(H30>0,VLOOKUP(H30,Poengskala!$B$4:$C$34,2,TRUE),0) -> 0 | K30: =IF(J30>0,VLOOKUP(J30,Poengskala!$B$4:$C$34,2,TRUE),0) -> 0 | M30: =IF(L30>0,VLOOKUP(L30,Poengskala!$B$4:$C$34,2,TRUE),0) -> 0 | O30: =IF(N30>0,VLOOKUP(N30,Poengskala!$B$4:$D$34,3,TRUE),0) -> 0 | P30: =E30 -> 0 | Q30: =G30 -> 46 | R30: =I30 -> 0 | S30: =K30 -> 0 | T30: =M30 -> 0 | U30: =O30 -> 0 | V30: =MAX(LARGE(P30:U30,1)+LARGE(P30:U30,2)+LARGE(P30:U30,3),0) -> 46 | W30: =COUNTIF(P30:U30,">0") -> 1
A31: 22 | B31: Christian Jacobsen | C31: Oseberg Skilag | D31: 13 | E31: =IF(D31>0,VLOOKUP(D31,Poengskala!$B$4:$C$34,2,TRUE),0) -> 44 | G31: =IF(F31>0,VLOOKUP(F31,Poengskala!$B$4:$C$34,2,TRUE),0) -> 0 | I31: =IF(H31>0,VLOOKUP(H31,Poengskala!$B$4:$C$34,2,TRUE),0) -> 0 | K31: =IF(J31>0,VLOOKUP(J31,Poengskala!$B$4:$C$34,2,TRUE),0) -> 0 | M31: =IF(L31>0,VLOOKUP(L31,Poengskala!$B$4:$C$34,2,TRUE),0) -> 0 | O31: =IF(N31>0,VLOOKUP(N31,Poengskala!$B$4:$D$34,3,TRUE),0) -> 0 | P31: =E31 -> 44 | Q31: =G31 -> 0 | R31: =I31 -> 0 | S31: =K31 -> 0 | T31: =M31 -> 0 | U31: =O31 -> 0 | V31: =MAX(LARGE(P31:U31,1)+LARGE(P31:U31,2)+LARGE(P31:U31,3),0) -> 44 | W31: =COUNTIF(P31:U31,">0") -> 1
E32: =IF(D32>0,VLOOKUP(D32,Poengskala!$B$4:$C$34,2,TRUE),0) -> 0 | G32: =IF(F32>0,VLOOKUP(F32,Poengskala!$B$4:$C$34,2,TRUE),0) -> 0 | I32: =IF(H32>0,VLOOKUP(H32,Poengskala!$B$4:$C$34,2,TRUE),0) -> 0 | K32: =IF(J32>0,VLOOKUP(J32,Poengskala!$B$4:$C$34,2,TRUE),0) -> 0 | M32: =IF(L32>0,VLOOKUP(L32,Poengskala!$B$4:$C$34,2,TRUE),0) -> 0 | O32: =IF(N32>0,VLOOKUP(N32,Poengskala!$B$4:$D$34,3,TRUE),0) -> 0 | P32: =E32 -> 0 | Q32: =G32 -> 0 | R32: =I32 -> 0 | S32: =K32 -> 0 | T32: =M32 -> 0 | U32: =O32 -> 0 | V32: =MAX(LARGE(P32:U32,1)+LARGE(P32:U32,2)+LARGE(P32:U32,3),0) -> 0 | W32: =COUNTIF(P32:U32,">0") -> 0
E33: =IF(D33>0,VLOOKUP(D33,Poengskala!$B$4:$C$34,2,TRUE),0) -> 0 | G33: =IF(F33>0,VLOOKUP(F33,Poengskala!$B$4:$C$34,2,TRUE),0) -> 0 | I33: =IF(H33>0,VLOOKUP(H33,Poengskala!$B$4:$C$34,2,TRUE),0) -> 0 | K33: =IF(J33>0,VLOOKUP(J33,Poengskala!$B$4:$C$34,2,TRUE),0) -> 0 | M33: =IF(L33>0,VLOOKUP(L33,Poengskala!$B$4:$C$34,2,TRUE),0) -> 0 | O33: =IF(N33>0,VLOOKUP(N33,Poengskala!$B$4:$D$34,3,TRUE),0) -> 0 | P33: =E33 -> 0 | Q33: =G33 -> 0 | R33: =I33 -> 0 | S33: =K33 -> 0 | T33: =M33 -> 0 | U33: =O33 -> 0 | V33: =MAX(LARGE(P33:U33,1)+LARGE(P33:U33,2)+LARGE(P33:U33,3),0) -> 0 | W33: =COUNTIF(P33:U33,">0") -> 0
E34: =IF(D34>0,VLOOKUP(D34,Poengskala!$B$4:$C$34,2,TRUE),0) -> 0 | G34: =IF(F34>0,VLOOKUP(F34,Poengskala!$B$4:$C$34,2,TRUE),0) -> 0 | I34: =IF(H34>0,VLOOKUP(H34,Poengskala!$B$4:$C$34,2,TRUE),0) -> 0 | K34: =IF(J34>0,VLOOKUP(J34,Poengskala!$B$4:$C$34,2,TRUE),0) -> 0 | M34: =IF(L34>0,VLOOKUP(L34,Poengskala!$B$4:$C$34,2,TRUE),0) -> 0 | O34: =IF(N34>0,VLOOKUP(N34,Poengskala!$B$4:$D$34,3,TRUE),0) -> 0 | P34: =E34 -> 0 | Q34: =G34 -> 0 | R34: =I34 -> 0 | S34: =K34 -> 0 | T34: =M34 -> 0 | U34: =O34 -> 0 | V34: =MAX(LARGE(P34:U34,1)+LARGE(P34:U34,2)+LARGE(P34:U34,3),0) -> 0 | W34: =COUNTIF(P34:U34,">0") -> 0
E35: =IF(D35>0,VLOOKUP(D35,Poengskala!$B$4:$C$34,2,TRUE),0) -> 0 | G35: =IF(F35>0,VLOOKUP(F35,Poengskala!$B$4:$C$34,2,TRUE),0) -> 0 | I35: =IF(H35>0,VLOOKUP(H35,Poengskala!$B$4:$C$34,2,TRUE),0) -> 0 | K35: =IF(J35>0,VLOOKUP(J35,Poengskala!$B$4:$C$34,2,TRUE),0) -> 0 | M35: =IF(L35>0,VLOOKUP(L35,Poengskala!$B$4:$C$34,2,TRUE),0) -> 0 | O35: =IF(N35>0,VLOOKUP(N35,Poengskala!$B$4:$D$34,3,TRUE),0) -> 0 | P35: =E35 -> 0 | Q35: =G35 -> 0 | R35: =I35 -> 0 | S35: =K35 -> 0 | T35: =M35 -> 0 | U35: =O35 -> 0 | V35: =MAX(LARGE(P35:U35,1)+LARGE(P35:U35,2)+LARGE(P35:U35,3),0) -> 0 | W35: =COUNTIF(P35:U35,">0") -> 0
E36: =IF(D36>0,VLOOKUP(D36,Poengskala!$B$4:$C$34,2,TRUE),0) -> 0 | G36: =IF(F36>0,VLOOKUP(F36,Poengskala!$B$4:$C$34,2,TRUE),0) -> 0 | I36: =IF(H36>0,VLOOKUP(H36,Poengskala!$B$4:$C$34,2,TRUE),0) -> 0 | K36: =IF(J36>0,VLOOKUP(J36,Poengskala!$B$4:$C$34,2,TRUE),0) -> 0 | M36: =IF(L36>0,VLOOKUP(L36,Poengskala!$B$4:$C$34,2,TRUE),0) -> 0 | O36: =IF(N36>0,VLOOKUP(N36,Poengskala!$B$4:$D$34,3,TRUE),0) -> 0 | P36: =E36 -> 0 | Q36: =G36 -> 0 | R36: =I36 -> 0 | S36: =K36 -> 0 | T36: =M36 -> 0 | U36: =O36 -> 0 | V36: =MAX(LARGE(P36:U36,1)+LARGE(P36:U36,2)+LARGE(P36:U36,3),0) -> 0 | W36: =COUNTIF(P36:U36,">0") -> 0
E37: =IF(D37>0,VLOOKUP(D37,Poengskala!$B$4:$C$34,2,TRUE),0) -> 0 | G37: =IF(F37>0,VLOOKUP(F37,Poengskala!$B$4:$C$34,2,TRUE),0) -> 0 | I37: =IF(H37>0,VLOOKUP(H37,Poengskala!$B$4:$C$34,2,TRUE),0) -> 0 | K37: =IF(J37>0,VLOOKUP(J37,Poengskala!$B$4:$C$34,2,TRUE),0) -> 0 | M37: =IF(L37>0,VLOOKUP(L37,Poengskala!$B$4:$C$34,2,TRUE),0) -> 0 | O37: =IF(N37>0,VLOOKUP(N37,Poengskala!$B$4:$D$34,3,TRUE),0) -> 0 | P37: =E37 -> 0 | Q37: =G37 -> 0 | R37: =I37 -> 0 | S37: =K37 -> 0 | T37: =M37 -> 0 | U37: =O37 -> 0 | V37: =MAX(LARGE(P37:U37,1)+LARGE(P37:U37,2)+LARGE(P37:U37,3),0) -> 0 | W37: =COUNTIF(P37:U37,">0") -> 0
E38: =IF(D38>0,VLOOKUP(D38,Poengskala!$B$4:$C$34,2,TRUE),0) -> 0 | G38: =IF(F38>0,VLOOKUP(F38,Poengskala!$B$4:$C$34,2,TRUE),0) -> 0 | I38: =IF(H38>0,VLOOKUP(H38,Poengskala!$B$4:$C$34,2,TRUE),0) -> 0 | K38: =IF(J38>0,VLOOKUP(J38,Poengskala!$B$4:$C$34,2,TRUE),0) -> 0 | M38: =IF(L38>0,VLOOKUP(L38,Poengskala!$B$4:$C$34,2,TRUE),0) -> 0 | O38: =IF(N38>0,VLOOKUP(N38,Poengskala!$B$4:$D$34,3,TRUE),0) -> 0 | P38: =E38 -> 0 | Q38: =G38 -> 0 | R38: =I38 -> 0 | S38: =K38 -> 0 | T38: =M38 -> 0 | U38: =O38 -> 0 | V38: =MAX(LARGE(P38:U38,1)+LARGE(P38:U38,2)+LARGE(P38:U38,3),0) -> 0 | W38: =COUNTIF(P38:U38,">0") -> 0
E39: =IF(D39>0,VLOOKUP(D39,Poengskala!$B$4:$C$34,2,TRUE),0) -> 0 | G39: =IF(F39>0,VLOOKUP(F39,Poengskala!$B$4:$C$34,2,TRUE),0) -> 0 | I39: =IF(H39>0,VLOOKUP(H39,Poengskala!$B$4:$C$34,2,TRUE),0) -> 0 | K39: =IF(J39>0,VLOOKUP(J39,Poengskala!$B$4:$C$34,2,TRUE),0) -> 0 | M39: =IF(L39>0,VLOOKUP(L39,Poengskala!$B$4:$C$34,2,TRUE),0) -> 0 | O39: =IF(N39>0,VLOOKUP(N39,Poengskala!$B$4:$D$34,3,TRUE),0) -> 0 | P39: =E39 -> 0 | Q39: =G39 -> 0 | R39: =I39 -> 0 | S39: =K39 -> 0 | T39: =M39 -> 0 | U39: =O39 -> 0 | V39: =MAX(LARGE(P39:U39,1)+LARGE(P39:U39,2)+LARGE(P39:U39,3),0) -> 0 | W39: =COUNTIF(P39:U39,">0") -> 0
E40: =IF(D40>0,VLOOKUP(D40,Poengskala!$B$4:$C$34,2,TRUE),0) -> 0 | G40: =IF(F40>0,VLOOKUP(F40,Poengskala!$B$4:$C$34,2,TRUE),0) -> 0 | I40: =IF(H40>0,VLOOKUP(H40,Poengskala!$B$4:$C$34,2,TRUE),0) -> 0 | K40: =IF(J40>0,VLOOKUP(J40,Poengskala!$B$4:$C$34,2,TRUE),0) -> 0 | M40: =IF(L40>0,VLOOKUP(L40,Poengskala!$B$4:$C$34,2,TRUE),0) -> 0 | O40: =IF(N40>0,VLOOKUP(N40,Poengskala!$B$4:$D$34,3,TRUE),0) -> 0 | P40: =E40 -> 0 | Q40: =G40 -> 0 | R40: =I40 -> 0 | S40: =K40 -> 0 | T40: =M40 -> 0 | U40: =O40 -> 0 | V40: =MAX(LARGE(P40:U40,1)+LARGE(P40:U40,2)+LARGE(P40:U40,3),0) -> 0 | W40: =COUNTIF(P40:U40,">0") -> 0
E41: =IF(D41>0,VLOOKUP(D41,Poengskala!$B$4:$C$34,2,TRUE),0) -> 0 | G41: =IF(F41>0,VLOOKUP(F41,Poengskala!$B$4:$C$34,2,TRUE),0) -> 0 | I41: =IF(H41>0,VLOOKUP(H41,Poengskala!$B$4:$C$34,2,TRUE),0) -> 0 | K41: =IF(J41>0,VLOOKUP(J41,Poengskala!$B$4:$C$34,2,TRUE),0) -> 0 | M41: =IF(L41>0,VLOOKUP(L41,Poengskala!$B$4:$C$34,2,TRUE),0) -> 0 | O41: =IF(N41>0,VLOOKUP(N41,Poengskala!$B$4:$D$34,3,TRUE),0) -> 0 | P41: =E41 -> 0 | Q41: =G41 -> 0 | R41: =I41 -> 0 | S41: =K41 -> 0 | T41: =M41 -> 0 | U41: =O41 -> 0 | V41: =MAX(LARGE(P41:U41,1)+LARGE(P41:U41,2)+LARGE(P41:U41,3),0) -> 0 | W41: =COUNTIF(P41:U41,">0") -> 0
E42: =IF(D42>0,VLOOKUP(D42,Poengskala!$B$4:$C$34,2,TRUE),0) -> 0 | G42: =IF(F42>0,VLOOKUP(F42,Poengskala!$B$4:$C$34,2,TRUE),0) -> 0 | I42: =IF(H42>0,VLOOKUP(H42,Poengskala!$B$4:$C$34,2,TRUE),0) -> 0 | K42: =IF(J42>0,VLOOKUP(J42,Poengskala!$B$4:$C$34,2,TRUE),0) -> 0 | M42: =IF(L42>0,VLOOKUP(L42,Poengskala!$B$4:$C$34,2,TRUE),0) -> 0 | O42: =IF(N42>0,VLOOKUP(N42,Poengskala!$B$4:$D$34,3,TRUE),0) -> 0 | P42: =E42 -> 0 | Q42: =G42 -> 0 | R42: =I42 -> 0 | S42: =K42 -> 0 | T42: =M42 -> 0 | U42: =O42 -> 0 | V42: =MAX(LARGE(P42:U42,1)+LARGE(P42:U42,2)+LARGE(P42:U42,3),0) -> 0 | W42: =COUNTIF(P42:U42,">0") -> 0
E43: =IF(D43>0,VLOOKUP(D43,Poengskala!$B$4:$C$34,2,TRUE),0) -> 0 | G43: =IF(F43>0,VLOOKUP(F43,Poengskala!$B$4:$C$34,2,TRUE),0) -> 0 | I43: =IF(H43>0,VLOOKUP(H43,Poengskala!$B$4:$C$34,2,TRUE),0) -> 0 | K43: =IF(J43>0,VLOOKUP(J43,Poengskala!$B$4:$C$34,2,TRUE),0) -> 0 | M43: =IF(L43>0,VLOOKUP(L43,Poengskala!$B$4:$C$34,2,TRUE),0) -> 0 | O43: =IF(N43>0,VLOOKUP(N43,Poengskala!$B$4:$D$34,3,TRUE),0) -> 0 | P43: =E43 -> 0 | Q43: =G43 -> 0 | R43: =I43 -> 0 | S43: =K43 -> 0 | T43: =M43 -> 0 | U43: =O43 -> 0 | V43: =MAX(LARGE(P43:U43,1)+LARGE(P43:U43,2)+LARGE(P43:U43,3),0) -> 0 | W43: =COUNTIF(P43:U43,">0") -> 0
... E45: =IF(D45>0,VLOOKUP(D45,Poengskala!$B$4:$C$34,2,TRUE),0) -> 0 | G45: =IF(F45>0,VLOOKUP(F45,Poengskala!$B$4:$C$34,2,TRUE),0) -> 0 | I45: =IF(H45>0,VLOOKUP(H45,Poengskala!$B$4:$C$34,2,TRUE),0) -> 0 | K45: =IF(J45>0,VLOOKUP(J45,Poengskala!$B$4:$C$34,2,TRUE),0) -> 0 | M45: =IF(L45>0,VLOOKUP(L45,Poengskala!$B$4:$C$34,2,TRUE),0) -> 0 | O45: =IF(N45>0,VLOOKUP(N45,Poengskala!$B$4:$D$34,3,TRUE),0) -> 0 | P45: =E45 -> 0 | Q45: =G45 -> 0 | R45: =I45 -> 0 | S45: =K45 -> 0 | T45: =M45 -> 0 | U45: =O45 -> 0 | V45: =MAX(LARGE(P45:U45,1)+LARGE(P45:U45,2)+LARGE(P45:U45,3),0) -> 0 | W45: =COUNTIF(P45:U45,">0") -> 0

Sheet G-16
A1: Klasse - Gutter 16 år
A2: Utøveren må ha fullført 3 av 5 renn i cupen for å bli premiert.
A3: De 3 beste rennene teller sammenlagt
A4: Lista viser alle som har deltatt i TV - Cup.
A6: Evt. feil sendes til tvsk@skiforbundet.no | D6: Fristil | F6: Klassisk | H6: Sprint Klassisk | J6: Klassisk | L6: Finale Tour | N6: Finale Tour | P6: Renn1 | Q6: Renn2 | R6: Renn3 | S6: Renn4 | U6: Renn5 | V6: Total Poeng | W6: Antall renn
A7: Oppdatert: 12.02.2018 | D7: Oseberg Skilag | F7: Svarstad IL | H7: IL Runar | J7: Høydalsmo IL | L7: Runar | N7: IL Ivrig/Botne SK
D8: 43450 | F8: 43464 | H8: 43499 | J8: 43505 | L8: 42812 | N8: 16.03-17.03.2019
A9: Plass | B9: Navn | C9: Klubb | D9: Plass | E9: Poeng | F9: Plass | G9: Poeng | H9: Plass | I9: Poeng | J9: Plass | K9: Poeng | L9: Plass | M9: Poeng | N9: Plass | O9: Poeng
A10: 1 | B10: Vebjørn Hovdejord | C10: Heddal IL | D10: 1 | E10: =IF(D10>0,VLOOKUP(D10,Poengskala!$B$4:$C$34,2,TRUE),0) -> 100 | F10: 2 | G10: =IF(F10>0,VLOOKUP(F10,Poengskala!$B$4:$C$34,2,TRUE),0) -> 90 | H10: 2 | I10: =IF(H10>0,VLOOKUP(H10,Poengskala!$B$4:$C$34,2,TRUE),0) -> 90 | J10: 1 | K10: =IF(J10>0,VLOOKUP(J10,Poengskala!$B$4:$C$34,2,TRUE),0) -> 100 | M10: =IF(L10>0,VLOOKUP(L10,Poengskala!$B$4:$C$34,2,TRUE),0) -> 0 | N10: 1 | O10: =IF(N10>0,VLOOKUP(N10,Poengskala!$B$4:$D$34,3,TRUE),0) -> 150 | P10: =E10 -> 100 | Q10: =G10 -> 90 | R10: =I10 -> 90 | S10: =K10 -> 100 | T10: =M10 -> 0 | U10: =O10 -> 150 | V10: =MAX(LARGE(P10:U10,1)+LARGE(P10:U10,2)+LARGE(P10:U10,3),0) -> 350 | W10: =COUNTIF(P10:U10,">0") -> 5
A11: 2 | B11: Arthur Hartvedt Klavenes | C11: IL Runar | D11: 3 | E11: =IF(D11>0,VLOOKUP(D11,Poengskala!$B$4:$C$34,2,TRUE),0) -> 82 | F11: 3 | G11: =IF(F11>0,VLOOKUP(F11,Poengskala!$B$4:$C$34,2,TRUE),0) -> 82 | I11: =IF(H11>0,VLOOKUP(H11,Poengskala!$B$4:$C$34,2,TRUE),0) -> 0 | K11: =IF(J11>0,VLOOKUP(J11,Poengskala!$B$4:$C$34,2,TRUE),0) -> 0 | M11: =IF(L11>0,VLOOKUP(L11,Poengskala!$B$4:$C$34,2,TRUE),0) -> 0 | N11: 3 | O11: =IF(N11>0,VLOOKUP(N11,Poengskala!$B$4:$D$34,3,TRUE),0) -> 123 | P11: =E11 -> 82 | Q11: =G11 -> 82 | R11: =I11 -> 0 | S11: =K11 -> 0 | T11: =M11 -> 0 | U11: =O11 -> 123 | V11: =MAX(LARGE(P11:U11,1)+LARGE(P11:U11,2)+LARGE(P11:U11,3),0) -> 287 | W11: =COUNTIF(P11:U11,">0") -> 3
A12: 3 | B12: Andreas Fon Heierstad | C12: IL Ivrig | D12: 6 | E12: =IF(D12>0,VLOOKUP(D12,Poengskala!$B$4:$C$34,2,TRUE),0) -> 66 | F12: 6 | G12: =IF(F12>0,VLOOKUP(F12,Poengskala!$B$4:$C$34,2,TRUE),0) -> 66 | H12: 4 | I12: =IF(H12>0,VLOOKUP(H12,Poengskala!$B$4:$C$34,2,TRUE),0) -> 75 | K12: =IF(J12>0,VLOOKUP(J12,Poengskala!$B$4:$C$34,2,TRUE),0) -> 0 | M12: =IF(L12>0,VLOOKUP(L12,Poengskala!$B$4:$C$34,2,TRUE),0) -> 0 | N12: 2 | O12: =IF(N12>0,VLOOKUP(N12,Poengskala!$B$4:$D$34,3,TRUE),0) -> 135 | P12: =E12 -> 66 | Q12: =G12 -> 66 | R12: =I12 -> 75 | S12: =K12 -> 0 | T12: =M12 -> 0 | U12: =O12 -> 135 | V12: =MAX(LARGE(P12:U12,1)+LARGE(P12:U12,2)+LARGE(P12:U12,3),0) -> 276 | W12: =COUNTIF(P12:U12,">0") -> 4
A13: 4 | B13: Jørgen Bertram Dyrdahl | C13: Berger Idrettslag | D13: 4 | E13: =IF(D13>0,VLOOKUP(D13,Poengskala!$B$4:$C$34,2,TRUE),0) -> 75 | G13: =IF(F13>0,VLOOKUP(F13,Poengskala!$B$4:$C$34,2,TRUE),0) -> 0 | H13: 1 | I13: =IF(H13>0,VLOOKUP(H13,Poengskala!$B$4:$C$34,2,TRUE),0) -> 100 | J13: 2 | K13: =IF(J13>0,VLOOKUP(J13,Poengskala!$B$4:$C$34,2,TRUE),0) -> 90 | M13: =IF(L13>0,VLOOKUP(L13,Poengskala!$B$4:$C$34,2,TRUE),0) -> 0 | O13: =IF(N13>0,VLOOKUP(N13,Poengskala!$B$4:$D$34,3,TRUE),0) -> 0 | P13: =E13 -> 75 | Q13: =G13 -> 0 | R13: =I13 -> 100 | S13: =K13 -> 90 | T13: =M13 -> 0 | U13: =O13 -> 0 | V13: =MAX(LARGE(P13:U13,1)+LARGE(P13:U13,2)+LARGE(P13:U13,3),0) -> 265 | W13: =COUNTIF(P13:U13,">0") -> 3
A14: 5 | B14: Vegard Horgen | C14: IL Skarphedin | D14: 8 | E14: =IF(D14>0,VLOOKUP(D14,Poengskala!$B$4:$C$34,2,TRUE),0) -> 58 | G14: =IF(F14>0,VLOOKUP(F14,Poengskala!$B$4:$C$34,2,TRUE),0) -> 0 | I14: =IF(H14>0,VLOOKUP(H14,Poengskala!$B$4:$C$34,2,TRUE),0) -> 0 | J14: 7 | K14: =IF(J14>0,VLOOKUP(J14,Poengskala!$B$4:$C$34,2,TRUE),0) -> 62 | M14: =IF(L14>0,VLOOKUP(L14,Poengskala!$B$4:$C$34,2,TRUE),0) -> 0 | N14: 5 | O14: =IF(N14>0,VLOOKUP(N14,Poengskala!$B$4:$D$34,3,TRUE),0) -> 105 | P14: =E14 -> 58 | Q14: =G14 -> 0 | R14: =I14 -> 0 | S14: =K14 -> 62 | T14: =M14 -> 0 | U14: =O14 -> 105 | V14: =MAX(LARGE(P14:U14,1)+LARGE(P14:U14,2)+LARGE(P14:U14,3),0) -> 225 | W14: =COUNTIF(P14:U14,">0") -> 3
A15: 6 | B15: Fredrik Hoksrud Myhre | C15: Gulset IF | D15: 2 | E15: =IF(D15>0,VLOOKUP(D15,Poengskala!$B$4:$C$34,2,TRUE),0) -> 90 | F15: 1 | G15: =IF(F15>0,VLOOKUP(F15,Poengskala!$B$4:$C$34,2,TRUE),0) -> 100 | I15: =IF(H15>0,VLOOKUP(H15,Poengskala!$B$4:$C$34,2,TRUE),0) -> 0 | K15: =IF(J15>0,VLOOKUP(J15,Poengskala!$B$4:$C$34,2,TRUE),0) -> 0 | M15: =IF(L15>0,VLOOKUP(L15,Poengskala!$B$4:$C$34,2,TRUE),0) -> 0 | O15: =IF(N15>0,VLOOKUP(N15,Poengskala!$B$4:$D$34,3,TRUE),0) -> 0 | P15: =E15 -> 90 | Q15: =G15 -> 100 | R15: =I15 -> 0 | S15: =K15 -> 0 | T15: =M15 -> 0 | U15: =O15 -> 0 | V15: =MAX(LARGE(P15:U15,1)+LARGE(P15:U15,2)+LARGE(P15:U15,3),0) -> 190 | W15: =COUNTIF(P15:U15,">0") -> 2
A16: 7 | B16: Kristian Fremstad | C16: Nanset IF | D16: 0 | E16: =IF(D16>0,VLOOKUP(D16,Poengskala!$B$4:$C$34,2,TRUE),0) -> 0 | F16: 7 | G16: =IF(F16>0,VLOOKUP(F16,Poengskala!$B$4:$C$34,2,TRUE),0) -> 62 | I16: =IF(H16>0,VLOOKUP(H16,Poengskala!$B$4:$C$34,2,TRUE),0) -> 0 | K16: =IF(J16>0,VLOOKUP(J16,Poengskala!$B$4:$C$34,2,TRUE),0) -> 0 | M16: =IF(L16>0,VLOOKUP(L16,Poengskala!$B$4:$C$34,2,TRUE),0) -> 0 | N16: 4 | O16: =IF(N16>0,VLOOKUP(N16,Poengskala!$B$4:$D$34,3,TRUE),0) -> 112.5 | P16: =E16 -> 0 | Q16: =G16 -> 62 | R16: =I16 -> 0 | S16: =K16 -> 0 | T16: =M16 -> 0 | U16: =O16 -> 112.5 | V16: =MAX(LARGE(P16:U16,1)+LARGE(P16:U16,2)+LARGE(P16:U16,3),0) -> 174.5 | W16: =COUNTIF(P16:U16,">0") -> 2
A17: 8 | B17: Kristian Borge-Moe | C17: Botne SK | D17: 0 | E17: =IF(D17>0,VLOOKUP(D17,Poengskala!$B$4:$C$34,2,TRUE),0) -> 0 | F17: 4 | G17: =IF(F17>0,VLOOKUP(F17,Poengskala!$B$4:$C$34,2,TRUE),0) -> 75 | I17: =IF(H17>0,VLOOKUP(H17,Poengskala!$B$4:$C$34,2,TRUE),0) -> 0 | K17: =IF(J17>0,VLOOKUP(J17,Poengskala!$B$4:$C$34,2,TRUE),0) -> 0 | M17: =IF(L17>0,VLOOKUP(L17,Poengskala!$B$4:$C$34,2,TRUE),0) -> 0 | N17: 6 | O17: =IF(N17>0,VLOOKUP(N17,Poengskala!$B$4:$D$34,3,TRUE),0) -> 99 | P17: =E17 -> 0 | Q17: =G17 -> 75 | R17: =I17 -> 0 | S17: =K17 -> 0 | T17: =M17 -> 0 | U17: =O17 -> 99 | V17: =MAX(LARGE(P17:U17,1)+LARGE(P17:U17,2)+LARGE(P17:U17,3),0) -> 174 | W17: =COUNTIF(P17:U17,">0") -> 2
A18: 9 | B18: Andreas Sørsdal | C18: Sande Sportsklubb | D18: 0 | E18: =IF(D18>0,VLOOKUP(D18,Poengskala!$B$4:$C$34,2,TRUE),0) -> 0 | F18: 5 | G18: =IF(F18>0,VLOOKUP(F18,Poengskala!$B$4:$C$34,2,TRUE),0) -> 70 | H18: 3 | I18: =IF(H18>0,VLOOKUP(H18,Poengskala!$B$4:$C$34,2,TRUE),0) -> 82 | K18: =IF(J18>0,VLOOKUP(J18,Poengskala!$B$4:$C$34,2,TRUE),0) -> 0 | M18: =IF(L18>0,VLOOKUP(L18,Poengskala!$B$4:$C$34,2,TRUE),0) -> 0 | O18: =IF(N18>0,VLOOKUP(N18,Poengskala!$B$4:$D$34,3,TRUE),0) -> 0 | P18: =E18 -> 0 | Q18: =G18 -> 70 | R18: =I18 -> 82 | S18: =K18 -> 0 | T18: =M18 -> 0 | U18: =O18 -> 0 | V18: =MAX(LARGE(P18:U18,1)+LARGE(P18:U18,2)+LARGE(P18:U18,3),0) -> 152 | W18: =COUNTIF(P18:U18,">0") -> 2
A19: 10 | B19: Halvor Kleiv | C19: Vinje IL | D19: 9 | E19: =IF(D19>0,VLOOKUP(D19,Poengskala!$B$4:$C$34,2,TRUE),0) -> 55 | G19: =IF(F19>0,VLOOKUP(F19,Poengskala!$B$4:$C$34,2,TRUE),0) -> 0 | I19: =IF(H19>0,VLOOKUP(H19,Poengskala!$B$4:$C$34,2,TRUE),0) -> 0 | J19: 3 | K19: =IF(J19>0,VLOOKUP(J19,Poengskala!$B$4:$C$34,2,TRUE),0) -> 82 | M19: =IF(L19>0,VLOOKUP(L19,Poengskala!$B$4:$C$34,2,TRUE),0) -> 0 | O19: =IF(N19>0,VLOOKUP(N19,Poengskala!$B$4:$D$34,3,TRUE),0) -> 0 | P19: =E19 -> 55 | Q19: =G19 -> 0 | R19: =I19 -> 0 | S19: =K19 -> 82 | T19: =M19 -> 0 | U19: =O19 -> 0 | V19: =MAX(LARGE(P19:U19,1)+LARGE(P19:U19,2)+LARGE(P19:U19,3),0) -> 137 | W19: =COUNTIF(P19:U19,">0") -> 2
A20: 11 | B20: Martin Røland Jensen | C20: Sande Sportsklubb | D20: 5 | E20: =IF(D20>0,VLOOKUP(D20,Poengskala!$B$4:$C$34,2,TRUE),0) -> 70 | F20: 8 | G20: =IF(F20>0,VLOOKUP(F20,Poengskala!$B$4:$C$34,2,TRUE),0) -> 58 | I20: =IF(H20>0,VLOOKUP(H20,Poengskala!$B$4:$C$34,2,TRUE),0) -> 0 | K20: =IF(J20>0,VLOOKUP(J20,Poengskala!$B$4:$C$34,2,TRUE),0) -> 0 | M20: =IF(L20>0,VLOOKUP(L20,Poengskala!$B$4:$C$34,2,TRUE),0) -> 0 | O20: =IF(N20>0,VLOOKUP(N20,Poengskala!$B$4:$D$34,3,TRUE),0) -> 0 | P20: =E20 -> 70 | Q20: =G20 -> 58 | R20: =I20 -> 0 | S20: =K20 -> 0 | T20: =M20 -> 0 | U20: =O20 -> 0 | V20: =MAX(LARGE(P20:U20,1)+LARGE(P20:U20,2)+LARGE(P20:U20,3),0) -> 128 | W20: =COUNTIF(P20:U20,">0") -> 2
A21: 12 | B21: Sander Haugerud | C21: IL Skarphedin | D21: 7 | E21: =IF(D21>0,VLOOKUP(D21,Poengskala!$B$4:$C$34,2,TRUE),0) -> 62 | G21: =IF(F21>0,VLOOKUP(F21,Poengskala!$B$4:$C$34,2,TRUE),0) -> 0 | I21: =IF(H21>0,VLOOKUP(H21,Poengskala!$B$4:$C$34,2,TRUE),0) -> 0 | J21: 6 | K21: =IF(J21>0,VLOOKUP(J21,Poengskala!$B$4:$C$34,2,TRUE),0) -> 66 | M21: =IF(L21>0,VLOOKUP(L21,Poengskala!$B$4:$C$34,2,TRUE),0) -> 0 | O21: =IF(N21>0,VLOOKUP(N21,Poengskala!$B$4:$D$34,3,TRUE),0) -> 0 | P21: =E21 -> 62 | Q21: =G21 -> 0 | R21: =I21 -> 0 | S21: =K21 -> 66 | T21: =M21 -> 0 | U21: =O21 -> 0 | V21: =MAX(LARGE(P21:U21,1)+LARGE(P21:U21,2)+LARGE(P21:U21,3),0) -> 128 | W21: =COUNTIF(P21:U21,">0") -> 2
A22: 13 | B22: Daniel Andersen Pedersen | C22: Morgedal IL | D22: 0 | E22: =IF(D22>0,VLOOKUP(D22,Poengskala!$B$4:$C$34,2,TRUE),0) -> 0 | F22: 9 | G22: =IF(F22>0,VLOOKUP(F22,Poengskala!$B$4:$C$34,2,TRUE),0) -> 55 | I22: =IF(H22>0,VLOOKUP(H22,Poengskala!$B$4:$C$34,2,TRUE),0) -> 0 | J22: 5 | K22: =IF(J22>0,VLOOKUP(J22,Poengskala!$B$4:$C$34,2,TRUE),0) -> 70 | M22: =IF(L22>0,VLOOKUP(L22,Poengskala!$B$4:$C$34,2,TRUE),0) -> 0 | O22: =IF(N22>0,VLOOKUP(N22,Poengskala!$B$4:$D$34,3,TRUE),0) -> 0 | P22: =E22 -> 0 | Q22: =G22 -> 55 | R22: =I22 -> 0 | S22: =K22 -> 70 | T22: =M22 -> 0 | U22: =O22 -> 0 | V22: =MAX(LARGE(P22:U22,1)+LARGE(P22:U22,2)+LARGE(P22:U22,3),0) -> 125 | W22: =COUNTIF(P22:U22,">0") -> 2
A23: 14 | B23: Oscar Creutzer Langslet | C23: IL Ivrig | E23: =IF(D23>0,VLOOKUP(D23,Poengskala!$B$4:$C$34,2,TRUE),0) -> 0 | G23: =IF(F23>0,VLOOKUP(F23,Poengskala!$B$4:$C$34,2,TRUE),0) -> 0 | I23: =IF(H23>0,VLOOKUP(H23,Poengskala!$B$4:$C$34,2,TRUE),0) -> 0 | K23: =IF(J23>0,VLOOKUP(J23,Poengskala!$B$4:$C$34,2,TRUE),0) -> 0 | M23: =IF(L23>0,VLOOKUP(L23,Poengskala!$B$4:$C$34,2,TRUE),0) -> 0 | N23: 7 | O23: =IF(N23>0,VLOOKUP(N23,Poengskala!$B$4:$D$34,3,TRUE),0) -> 93 | P23: =E23 -> 0 | Q23: =G23 -> 0 | R23: =I23 -> 0 | S23: =K23 -> 0 | T23: =M23 -> 0 | U23: =O23 -> 93 | V23: =MAX(LARGE(P23:U23,1)+LARGE(P23:U23,2)+LARGE(P23:U23,3),0) -> 93 | W23: =COUNTIF(P23:U23,">0") -> 1
A24: 15 | B24: Mats Jacob Vestmoen Thorsen | C24: IF Ørn | D24: 0 | E24: =IF(D24>0,VLOOKUP(D24,Poengskala!$B$4:$C$34,2,TRUE),0) -> 0 | G24: =IF(F24>0,VLOOKUP(F24,Poengskala!$B$4:$C$34,2,TRUE),0) -> 0 | I24: =IF(H24>0,VLOOKUP(H24,Poengskala!$B$4:$C$34,2,TRUE),0) -> 0 | J24: 4 | K24: =IF(J24>0,VLOOKUP(J24,Poengskala!$B$4:$C$34,2,TRUE),0) -> 75 | M24: =IF(L24>0,VLOOKUP(L24,Poengskala!$B$4:$C$34,2,TRUE),0) -> 0 | O24: =IF(N24>0,VLOOKUP(N24,Poengskala!$B$4:$D$34,3,TRUE),0) -> 0 | P24: =E24 -> 0 | Q24: =G24 -> 0 | R24: =I24 -> 0 | S24: =K24 -> 75 | T24: =M24 -> 0 | U24: =O24 -> 0 | V24: =MAX(LARGE(P24:U24,1)+LARGE(P24:U24,2)+LARGE(P24:U24,3),0) -> 75 | W24: =COUNTIF(P24:U24,">0") -> 1
