Workbook
Name AGA: 'Hjelpeark lønnsbudsjett'!$H$3
Name Bud_år: #REF!
Name Bud_år: #REF!
Name Bud_år: #REF!
Name Bud_år: #REF!
Name Bud_år: #REF!
Name Bud_år: #REF!
Name Dato_lønn: 'Hjelpeark lønnsbudsjett'!$L$2
Name Fordeling: Fordelingsnøkler!$A$4:$P$24
Name FP: 'Hjelpeark lønnsbudsjett'!$H$2
Name Lønnsforhøyelse: 'Hjelpeark lønnsbudsjett'!$L$3
Name Månedstabell: #REF!
Name Månedstabell: #REF!
Name Månedstabell: #REF!
Name Månedstabell: #REF!
Name Månedstabell: #REF!
Name Månedstabell: #REF!
Name Navn: #REF!
Name Navn: #REF!
Name Navn: #REF!
Name Navn: #REF!
Name Navn: #REF!
Name Navn: #REF!

Sheet OIL SKI TOTALT
G1: AUTOMATISK SUMMERING!!
G2: HER SUMMERES ALLE PROSJEKTER OPP I EN TOTAL!
G3: IKKE LEGG INN TALL MANUELT I DETTE ARKET!
H4: 1 | I4: 2 | J4: 3 | K4: 4 | L4: 5 | M4: 6 | N4: 7 | O4: 8 | P4: 9 | Q4: 10 | R4: 11 | S4: 12 | T4: 12
B5: Kontonr | C5: Kontonavn | D5: Avdeling | F5: TOTAL | G5: Fordeling | H5: Januar | I5: Februar | J5: Mars | K5: April | L5: Mai | M5: Juni | N5: Juli | O5: August | P5: September | Q5: Oktober | R5: November | S5: Desember | T5: Sum
B7: 3000 | C7: Salg, avgiftspliktig | D7: 6 | F7: ='Input 601 - Administrasjon'!F7+'Input 602 - Helt konge'!F7+'Input 603 - Ottestadrennet'!F7+' Input 607 - Snøproduksjon'!F7+'Input 604 - Ottestadstien'!F7 -> 51000 | G7: 1 | H7: =IF($G7<>0,VLOOKUP($G7,Fordeling,H$4+3,FALSE)*$F7,0) -> 4250 | I7: =IF($G7<>0,VLOOKUP($G7,Fordeling,I$4+3,FALSE)*$F7,0) -> 4250 | J7: =IF($G7<>0,VLOOKUP($G7,Fordeling,J$4+3,FALSE)*$F7,0) -> 4250 | K7: =IF($G7<>0,VLOOKUP($G7,Fordeling,K$4+3,FALSE)*$F7,0) -> 4250 | L7: =IF($G7<>0,VLOOKUP($G7,Fordeling,L$4+3,FALSE)*$F7,0) -> 4250 | M7: =IF($G7<>0,VLOOKUP($G7,Fordeling,M$4+3,FALSE)*$F7,0) -> 4250 | N7: =IF($G7<>0,VLOOKUP($G7,Fordeling,N$4+3,FALSE)*$F7,0) -> 4250 | O7: =IF($G7<>0,VLOOKUP($G7,Fordeling,O$4+3,FALSE)*$F7,0) -> 4250 | ... S7: =IF($G7<>0,VLOOKUP($G7,Fordeling,S$4+3,FALSE)*$F7,0) -> 4250
B8: 3010 | C8: Billettinntekter | D8: 6 | F8: ='Input 601 - Administrasjon'!F8+'Input 602 - Helt konge'!F8+'Input 603 - Ottestadrennet'!F8+' Input 607 - Snøproduksjon'!F8+'Input 604 - Ottestadstien'!F8 -> 0 | G8: 1 | H8: =IF($G8<>0,VLOOKUP($G8,Fordeling,H$4+3,FALSE)*$F8,0) -> 0 | I8: =IF($G8<>0,VLOOKUP($G8,Fordeling,I$4+3,FALSE)*$F8,0) -> 0 | J8: =IF($G8<>0,VLOOKUP($G8,Fordeling,J$4+3,FALSE)*$F8,0) -> 0 | K8: =IF($G8<>0,VLOOKUP($G8,Fordeling,K$4+3,FALSE)*$F8,0) -> 0 | L8: =IF($G8<>0,VLOOKUP($G8,Fordeling,L$4+3,FALSE)*$F8,0) -> 0 | M8: =IF($G8<>0,VLOOKUP($G8,Fordeling,M$4+3,FALSE)*$F8,0) -> 0 | N8: =IF($G8<>0,VLOOKUP($G8,Fordeling,N$4+3,FALSE)*$F8,0) -> 0 | O8: =IF($G8<>0,VLOOKUP($G8,Fordeling,O$4+3,FALSE)*$F8,0) -> 0 | ... S8: =IF($G8<>0,VLOOKUP($G8,Fordeling,S$4+3,FALSE)*$F8,0) -> 0
B9: 3020 | C9: Reklameinntekter avg.pliktig | D9: 6 | F9: ='Input 601 - Administrasjon'!F9+'Input 602 - Helt konge'!F9+'Input 603 - Ottestadrennet'!F9+' Input 607 - Snøproduksjon'!F9+'Input 604 - Ottestadstien'!F9 -> 115000 | G9: 1 | H9: =IF($G9<>0,VLOOKUP($G9,Fordeling,H$4+3,FALSE)*$F9,0) -> 9583.3333 | I9: =IF($G9<>0,VLOOKUP($G9,Fordeling,I$4+3,FALSE)*$F9,0) -> 9583.3333 | J9: =IF($G9<>0,VLOOKUP($G9,Fordeling,J$4+3,FALSE)*$F9,0) -> 9583.3333 | K9: =IF($G9<>0,VLOOKUP($G9,Fordeling,K$4+3,FALSE)*$F9,0) -> 9583.3333 | L9: =IF($G9<>0,VLOOKUP($G9,Fordeling,L$4+3,FALSE)*$F9,0) -> 9583.3333 | M9: =IF($G9<>0,VLOOKUP($G9,Fordeling,M$4+3,FALSE)*$F9,0) -> 9583.3333 | N9: =IF($G9<>0,VLOOKUP($G9,Fordeling,N$4+3,FALSE)*$F9,0) -> 9583.3333 | O9: =IF($G9<>0,VLOOKUP($G9,Fordeling,O$4+3,FALSE)*$F9,0) -> 9583.3333 | ... S9: =IF($G9<>0,VLOOKUP($G9,Fordeling,S$4+3,FALSE)*$F9,0) -> 9583.3333
B10: 3030 | C10: Salg, avgiftspliktig middels sats | D10: 6 | F10: ='Input 601 - Administrasjon'!F10+'Input 602 - Helt konge'!F10+'Input 603 - Ottestadrennet'!F10+' Input 607 - Snøproduksjon'!F10+'Input 604 - Ottestadstien'!F10 -> 0 | G10: 1 | H10: =IF($G10<>0,VLOOKUP($G10,Fordeling,H$4+3,FALSE)*$F10,0) -> 0 | I10: =IF($G10<>0,VLOOKUP($G10,Fordeling,I$4+3,FALSE)*$F10,0) -> 0 | J10: =IF($G10<>0,VLOOKUP($G10,Fordeling,J$4+3,FALSE)*$F10,0) -> 0 | K10: =IF($G10<>0,VLOOKUP($G10,Fordeling,K$4+3,FALSE)*$F10,0) -> 0 | L10: =IF($G10<>0,VLOOKUP($G10,Fordeling,L$4+3,FALSE)*$F10,0) -> 0 | M10: =IF($G10<>0,VLOOKUP($G10,Fordeling,M$4+3,FALSE)*$F10,0) -> 0 | N10: =IF($G10<>0,VLOOKUP($G10,Fordeling,N$4+3,FALSE)*$F10,0) -> 0 | O10: =IF($G10<>0,VLOOKUP($G10,Fordeling,O$4+3,FALSE)*$F10,0) -> 0 | ... S10: =IF($G10<>0,VLOOKUP($G10,Fordeling,S$4+3,FALSE)*$F10,0) -> 0
B11: 3050 | C11: Salg, avgiftspliktig lav sats | D11: 6 | F11: ='Input 601 - Administrasjon'!F11+'Input 602 - Helt konge'!F11+'Input 603 - Ottestadrennet'!F11+' Input 607 - Snøproduksjon'!F11+'Input 604 - Ottestadstien'!F11 -> 0 | G11: 1 | H11: =IF($G11<>0,VLOOKUP($G11,Fordeling,H$4+3,FALSE)*$F11,0) -> 0 | I11: =IF($G11<>0,VLOOKUP($G11,Fordeling,I$4+3,FALSE)*$F11,0) -> 0 | J11: =IF($G11<>0,VLOOKUP($G11,Fordeling,J$4+3,FALSE)*$F11,0) -> 0 | K11: =IF($G11<>0,VLOOKUP($G11,Fordeling,K$4+3,FALSE)*$F11,0) -> 0 | L11: =IF($G11<>0,VLOOKUP($G11,Fordeling,L$4+3,FALSE)*$F11,0) -> 0 | M11: =IF($G11<>0,VLOOKUP($G11,Fordeling,M$4+3,FALSE)*$F11,0) -> 0 | N11: =IF($G11<>0,VLOOKUP($G11,Fordeling,N$4+3,FALSE)*$F11,0) -> 0 | O11: =IF($G11<>0,VLOOKUP($G11,Fordeling,O$4+3,FALSE)*$F11,0) -> 0 | ... S11: =IF($G11<>0,VLOOKUP($G11,Fordeling,S$4+3,FALSE)*$F11,0) -> 0
B12: 3081 | C12: Kontantrabatter, avgiftspliktige | D12: 6 | F12: ='Input 601 - Administrasjon'!F12+'Input 602 - Helt konge'!F12+'Input 603 - Ottestadrennet'!F12+' Input 607 - Snøproduksjon'!F12+'Input 604 - Ottestadstien'!F12 -> 0 | G12: 1 | H12: =IF($G12<>0,VLOOKUP($G12,Fordeling,H$4+3,FALSE)*$F12,0) -> 0 | I12: =IF($G12<>0,VLOOKUP($G12,Fordeling,I$4+3,FALSE)*$F12,0) -> 0 | J12: =IF($G12<>0,VLOOKUP($G12,Fordeling,J$4+3,FALSE)*$F12,0) -> 0 | K12: =IF($G12<>0,VLOOKUP($G12,Fordeling,K$4+3,FALSE)*$F12,0) -> 0 | L12: =IF($G12<>0,VLOOKUP($G12,Fordeling,L$4+3,FALSE)*$F12,0) -> 0 | M12: =IF($G12<>0,VLOOKUP($G12,Fordeling,M$4+3,FALSE)*$F12,0) -> 0 | N12: =IF($G12<>0,VLOOKUP($G12,Fordeling,N$4+3,FALSE)*$F12,0) -> 0 | O12: =IF($G12<>0,VLOOKUP($G12,Fordeling,O$4+3,FALSE)*$F12,0) -> 0 | ... S12: =IF($G12<>0,VLOOKUP($G12,Fordeling,S$4+3,FALSE)*$F12,0) -> 0
B13: 3100 | C13: Salg, avgiftsfritt | D13: 6 | F13: ='Input 601 - Administrasjon'!F13+'Input 602 - Helt konge'!F13+'Input 603 - Ottestadrennet'!F13+' Input 607 - Snøproduksjon'!F13+'Input 604 - Ottestadstien'!F13 -> 0 | G13: 1 | H13: =IF($G13<>0,VLOOKUP($G13,Fordeling,H$4+3,FALSE)*$F13,0) -> 0 | I13: =IF($G13<>0,VLOOKUP($G13,Fordeling,I$4+3,FALSE)*$F13,0) -> 0 | J13: =IF($G13<>0,VLOOKUP($G13,Fordeling,J$4+3,FALSE)*$F13,0) -> 0 | K13: =IF($G13<>0,VLOOKUP($G13,Fordeling,K$4+3,FALSE)*$F13,0) -> 0 | L13: =IF($G13<>0,VLOOKUP($G13,Fordeling,L$4+3,FALSE)*$F13,0) -> 0 | M13: =IF($G13<>0,VLOOKUP($G13,Fordeling,M$4+3,FALSE)*$F13,0) -> 0 | N13: =IF($G13<>0,VLOOKUP($G13,Fordeling,N$4+3,FALSE)*$F13,0) -> 0 | O13: =IF($G13<>0,VLOOKUP($G13,Fordeling,O$4+3,FALSE)*$F13,0) -> 0 | ... S13: =IF($G13<>0,VLOOKUP($G13,Fordeling,S$4+3,FALSE)*$F13,0) -> 0
B14: 3120 | C14: Reklameinntekter avg.fritt | D14: 6 | F14: ='Input 601 - Administrasjon'!F14+'Input 602 - Helt konge'!F14+'Input 603 - Ottestadrennet'!F14+' Input 607 - Snøproduksjon'!F14+'Input 604 - Ottestadstien'!F14 -> 0 | G14: 1 | H14: =IF($G14<>0,VLOOKUP($G14,Fordeling,H$4+3,FALSE)*$F14,0) -> 0 | I14: =IF($G14<>0,VLOOKUP($G14,Fordeling,I$4+3,FALSE)*$F14,0) -> 0 | J14: =IF($G14<>0,VLOOKUP($G14,Fordeling,J$4+3,FALSE)*$F14,0) -> 0 | K14: =IF($G14<>0,VLOOKUP($G14,Fordeling,K$4+3,FALSE)*$F14,0) -> 0 | L14: =IF($G14<>0,VLOOKUP($G14,Fordeling,L$4+3,FALSE)*$F14,0) -> 0 | M14: =IF($G14<>0,VLOOKUP($G14,Fordeling,M$4+3,FALSE)*$F14,0) -> 0 | N14: =IF($G14<>0,VLOOKUP($G14,Fordeling,N$4+3,FALSE)*$F14,0) -> 0 | O14: =IF($G14<>0,VLOOKUP($G14,Fordeling,O$4+3,FALSE)*$F14,0) -> 0 | ... S14: =IF($G14<>0,VLOOKUP($G14,Fordeling,S$4+3,FALSE)*$F14,0) -> 0
B15: 3181 | C15: Kontantrabatter, avg.fri. | D15: 6 | F15: ='Input 601 - Administrasjon'!F15+'Input 602 - Helt konge'!F15+'Input 603 - Ottestadrennet'!F15+' Input 607 - Snøproduksjon'!F15+'Input 604 - Ottestadstien'!F15 -> 0 | G15: 1 | H15: =IF($G15<>0,VLOOKUP($G15,Fordeling,H$4+3,FALSE)*$F15,0) -> 0 | I15: =IF($G15<>0,VLOOKUP($G15,Fordeling,I$4+3,FALSE)*$F15,0) -> 0 | J15: =IF($G15<>0,VLOOKUP($G15,Fordeling,J$4+3,FALSE)*$F15,0) -> 0 | K15: =IF($G15<>0,VLOOKUP($G15,Fordeling,K$4+3,FALSE)*$F15,0) -> 0 | L15: =IF($G15<>0,VLOOKUP($G15,Fordeling,L$4+3,FALSE)*$F15,0) -> 0 | M15: =IF($G15<>0,VLOOKUP($G15,Fordeling,M$4+3,FALSE)*$F15,0) -> 0 | N15: =IF($G15<>0,VLOOKUP($G15,Fordeling,N$4+3,FALSE)*$F15,0) -> 0 | O15: =IF($G15<>0,VLOOKUP($G15,Fordeling,O$4+3,FALSE)*$F15,0) -> 0 | ... S15: =IF($G15<>0,VLOOKUP($G15,Fordeling,S$4+3,FALSE)*$F15,0) -> 0
B16: 3200 | C16: Salg utenfor avgiftsområdet | D16: 6 | F16: ='Input 601 - Administrasjon'!F16+'Input 602 - Helt konge'!F16+'Input 603 - Ottestadrennet'!F16+' Input 607 - Snøproduksjon'!F16+'Input 604 - Ottestadstien'!F16 -> 0 | G16: 1 | H16: =IF($G16<>0,VLOOKUP($G16,Fordeling,H$4+3,FALSE)*$F16,0) -> 0 | I16: =IF($G16<>0,VLOOKUP($G16,Fordeling,I$4+3,FALSE)*$F16,0) -> 0 | J16: =IF($G16<>0,VLOOKUP($G16,Fordeling,J$4+3,FALSE)*$F16,0) -> 0 | K16: =IF($G16<>0,VLOOKUP($G16,Fordeling,K$4+3,FALSE)*$F16,0) -> 0 | L16: =IF($G16<>0,VLOOKUP($G16,Fordeling,L$4+3,FALSE)*$F16,0) -> 0 | M16: =IF($G16<>0,VLOOKUP($G16,Fordeling,M$4+3,FALSE)*$F16,0) -> 0 | N16: =IF($G16<>0,VLOOKUP($G16,Fordeling,N$4+3,FALSE)*$F16,0) -> 0 | O16: =IF($G16<>0,VLOOKUP($G16,Fordeling,O$4+3,FALSE)*$F16,0) -> 0 | ... S16: =IF($G16<>0,VLOOKUP($G16,Fordeling,S$4+3,FALSE)*$F16,0) -> 0
B17: 3210 | C17: Inntekt deltakeravgift | D17: 6 | F17: ='Input 601 - Administrasjon'!F17+'Input 602 - Helt konge'!F17+'Input 603 - Ottestadrennet'!F17+' Input 607 - Snøproduksjon'!F17+'Input 604 - Ottestadstien'!F17 -> 135000 | G17: 1 | H17: =IF($G17<>0,VLOOKUP($G17,Fordeling,H$4+3,FALSE)*$F17,0) -> 11250 | I17: =IF($G17<>0,VLOOKUP($G17,Fordeling,I$4+3,FALSE)*$F17,0) -> 11250 | J17: =IF($G17<>0,VLOOKUP($G17,Fordeling,J$4+3,FALSE)*$F17,0) -> 11250 | K17: =IF($G17<>0,VLOOKUP($G17,Fordeling,K$4+3,FALSE)*$F17,0) -> 11250 | L17: =IF($G17<>0,VLOOKUP($G17,Fordeling,L$4+3,FALSE)*$F17,0) -> 11250 | M17: =IF($G17<>0,VLOOKUP($G17,Fordeling,M$4+3,FALSE)*$F17,0) -> 11250 | N17: =IF($G17<>0,VLOOKUP($G17,Fordeling,N$4+3,FALSE)*$F17,0) -> 11250 | O17: =IF($G17<>0,VLOOKUP($G17,Fordeling,O$4+3,FALSE)*$F17,0) -> 11250 | ... S17: =IF($G17<>0,VLOOKUP($G17,Fordeling,S$4+3,FALSE)*$F17,0) -> 11250
B18: 3400 | C18: Offentlig tilskudd/refusjon | D18: 6 | F18: ='Input 601 - Administrasjon'!F18+'Input 602 - Helt konge'!F18+'Input 603 - Ottestadrennet'!F18+' Input 607 - Snøproduksjon'!F18+'Input 604 - Ottestadstien'!F18 -> 30000 | G18: 1 | H18: =IF($G18<>0,VLOOKUP($G18,Fordeling,H$4+3,FALSE)*$F18,0) -> 2500 | I18: =IF($G18<>0,VLOOKUP($G18,Fordeling,I$4+3,FALSE)*$F18,0) -> 2500 | J18: =IF($G18<>0,VLOOKUP($G18,Fordeling,J$4+3,FALSE)*$F18,0) -> 2500 | K18: =IF($G18<>0,VLOOKUP($G18,Fordeling,K$4+3,FALSE)*$F18,0) -> 2500 | L18: =IF($G18<>0,VLOOKUP($G18,Fordeling,L$4+3,FALSE)*$F18,0) -> 2500 | M18: =IF($G18<>0,VLOOKUP($G18,Fordeling,M$4+3,FALSE)*$F18,0) -> 2500 | N18: =IF($G18<>0,VLOOKUP($G18,Fordeling,N$4+3,FALSE)*$F18,0) -> 2500 | O18: =IF($G18<>0,VLOOKUP($G18,Fordeling,O$4+3,FALSE)*$F18,0) -> 2500 | ... S18: =IF($G18<>0,VLOOKUP($G18,Fordeling,S$4+3,FALSE)*$F18,0) -> 2500
... B98: 7770 | C98: Bank og kortgebyrer | D98: 6 | F98: ='Input 601 - Administrasjon'!F98+'Input 602 - Helt konge'!F98+'Input 603 - Ottestadrennet'!F98+' Input 607 - Snøproduksjon'!F98+'Input 604 - Ottestadstien'!F98 -> 0 | G98: 1 | H98: =IF($G98<>0,VLOOKUP($G98,Fordeling,H$4+3,FALSE)*$F98,0) -> 0 | I98: =IF($G98<>0,VLOOKUP($G98,Fordeling,I$4+3,FALSE)*$F98,0) -> 0 | J98: =IF($G98<>0,VLOOKUP($G98,Fordeling,J$4+3,FALSE)*$F98,0) -> 0 | K98: =IF($G98<>0,VLOOKUP($G98,Fordeling,K$4+3,FALSE)*$F98,0) -> 0 | L98: =IF($G98<>0,VLOOKUP($G98,Fordeling,L$4+3,FALSE)*$F98,0) -> 0 | M98: =IF($G98<>0,VLOOKUP($G98,Fordeling,M$4+3,FALSE)*$F98,0) -> 0 | N98: =IF($G98<>0,VLOOKUP($G98,Fordeling,N$4+3,FALSE)*$F98,0) -> 0 | O98: =IF($G98<>0,VLOOKUP($G98,Fordeling,O$4+3,FALSE)*$F98,0) -> 0 | ... S98: =IF($G98<>0,VLOOKUP($G98,Fordeling,S$4+3,FALSE)*$F98,0) -> 0
B99: 7771 | C99: Øreavrunding | D99: 6 | F99: ='Input 601 - Administrasjon'!F99+'Input 602 - Helt konge'!F99+'Input 603 - Ottestadrennet'!F99+' Input 607 - Snøproduksjon'!F99+'Input 604 - Ottestadstien'!F99 -> 0 | G99: 1 | H99: =IF($G99<>0,VLOOKUP($G99,Fordeling,H$4+3,FALSE)*$F99,0) -> 0 | I99: =IF($G99<>0,VLOOKUP($G99,Fordeling,I$4+3,FALSE)*$F99,0) -> 0 | J99: =IF($G99<>0,VLOOKUP($G99,Fordeling,J$4+3,FALSE)*$F99,0) -> 0 | K99: =IF($G99<>0,VLOOKUP($G99,Fordeling,K$4+3,FALSE)*$F99,0) -> 0 | L99: =IF($G99<>0,VLOOKUP($G99,Fordeling,L$4+3,FALSE)*$F99,0) -> 0 | M99: =IF($G99<>0,VLOOKUP($G99,Fordeling,M$4+3,FALSE)*$F99,0) -> 0 | N99: =IF($G99<>0,VLOOKUP($G99,Fordeling,N$4+3,FALSE)*$F99,0) -> 0 | O99: =IF($G99<>0,VLOOKUP($G99,Fordeling,O$4+3,FALSE)*$F99,0) -> 0 | ... S99: =IF($G99<>0,VLOOKUP($G99,Fordeling,S$4+3,FALSE)*$F99,0) -> 0 | U99: =SUM(F7:F32) -> 513000
B100: 7798 | C100: Diverse kostnader | D100: 6 | F100: ='Input 601 - Administrasjon'!F100+'Input 602 - Helt konge'!F100+'Input 603 - Ottestadrennet'!F100+' Input 607 - Snøproduksjon'!F100+'Input 604 - Ottestadstien'!F100 -> 5000 | G100: 1 | H100: =IF($G100<>0,VLOOKUP($G100,Fordeling,H$4+3,FALSE)*$F100,0) -> 416.66667 | I100: =IF($G100<>0,VLOOKUP($G100,Fordeling,I$4+3,FALSE)*$F100,0) -> 416.66667 | J100: =IF($G100<>0,VLOOKUP($G100,Fordeling,J$4+3,FALSE)*$F100,0) -> 416.66667 | K100: =IF($G100<>0,VLOOKUP($G100,Fordeling,K$4+3,FALSE)*$F100,0) -> 416.66667 | L100: =IF($G100<>0,VLOOKUP($G100,Fordeling,L$4+3,FALSE)*$F100,0) -> 416.66667 | M100: =IF($G100<>0,VLOOKUP($G100,Fordeling,M$4+3,FALSE)*$F100,0) -> 416.66667 | N100: =IF($G100<>0,VLOOKUP($G100,Fordeling,N$4+3,FALSE)*$F100,0) -> 416.66667 | O100: =IF($G100<>0,VLOOKUP($G100,Fordeling,O$4+3,FALSE)*$F100,0) -> 416.66667 | ... S100: =IF($G100<>0,VLOOKUP($G100,Fordeling,S$4+3,FALSE)*$F100,0) -> 416.66667
B101: 7830 | C101: Tap på fordringer | D101: 6 | F101: ='Input 601 - Administrasjon'!F101+'Input 602 - Helt konge'!F101+'Input 603 - Ottestadrennet'!F101+' Input 607 - Snøproduksjon'!F101+'Input 604 - Ottestadstien'!F101 -> 0 | G101: 1 | H101: =IF($G101<>0,VLOOKUP($G101,Fordeling,H$4+3,FALSE)*$F101,0) -> 0 | I101: =IF($G101<>0,VLOOKUP($G101,Fordeling,I$4+3,FALSE)*$F101,0) -> 0 | J101: =IF($G101<>0,VLOOKUP($G101,Fordeling,J$4+3,FALSE)*$F101,0) -> 0 | K101: =IF($G101<>0,VLOOKUP($G101,Fordeling,K$4+3,FALSE)*$F101,0) -> 0 | L101: =IF($G101<>0,VLOOKUP($G101,Fordeling,L$4+3,FALSE)*$F101,0) -> 0 | M101: =IF($G101<>0,VLOOKUP($G101,Fordeling,M$4+3,FALSE)*$F101,0) -> 0 | N101: =IF($G101<>0,VLOOKUP($G101,Fordeling,N$4+3,FALSE)*$F101,0) -> 0 | O101: =IF($G101<>0,VLOOKUP($G101,Fordeling,O$4+3,FALSE)*$F101,0) -> 0 | ... S101: =IF($G101<>0,VLOOKUP($G101,Fordeling,S$4+3,FALSE)*$F101,0) -> 0
B102: 8040 | C102: Renteinntekter, bank | D102: 6 | F102: ='Input 601 - Administrasjon'!F102+'Input 602 - Helt konge'!F102+'Input 603 - Ottestadrennet'!F102+' Input 607 - Snøproduksjon'!F102+'Input 604 - Ottestadstien'!F102 -> 0 | G102: 1 | H102: =IF($G102<>0,VLOOKUP($G102,Fordeling,H$4+3,FALSE)*$F102,0) -> 0 | I102: =IF($G102<>0,VLOOKUP($G102,Fordeling,I$4+3,FALSE)*$F102,0) -> 0 | J102: =IF($G102<>0,VLOOKUP($G102,Fordeling,J$4+3,FALSE)*$F102,0) -> 0 | K102: =IF($G102<>0,VLOOKUP($G102,Fordeling,K$4+3,FALSE)*$F102,0) -> 0 | L102: =IF($G102<>0,VLOOKUP($G102,Fordeling,L$4+3,FALSE)*$F102,0) -> 0 | M102: =IF($G102<>0,VLOOKUP($G102,Fordeling,M$4+3,FALSE)*$F102,0) -> 0 | N102: =IF($G102<>0,VLOOKUP($G102,Fordeling,N$4+3,FALSE)*$F102,0) -> 0 | O102: =IF($G102<>0,VLOOKUP($G102,Fordeling,O$4+3,FALSE)*$F102,0) -> 0 | ... S102: =IF($G102<>0,VLOOKUP($G102,Fordeling,S$4+3,FALSE)*$F102,0) -> 0
B103: 8055 | C103: Renteinntekter, kunder | D103: 6 | F103: ='Input 601 - Administrasjon'!F103+'Input 602 - Helt konge'!F103+'Input 603 - Ottestadrennet'!F103+' Input 607 - Snøproduksjon'!F103+'Input 604 - Ottestadstien'!F103 -> 0 | G103: 1 | H103: =IF($G103<>0,VLOOKUP($G103,Fordeling,H$4+3,FALSE)*$F103,0) -> 0 | I103: =IF($G103<>0,VLOOKUP($G103,Fordeling,I$4+3,FALSE)*$F103,0) -> 0 | J103: =IF($G103<>0,VLOOKUP($G103,Fordeling,J$4+3,FALSE)*$F103,0) -> 0 | K103: =IF($G103<>0,VLOOKUP($G103,Fordeling,K$4+3,FALSE)*$F103,0) -> 0 | L103: =IF($G103<>0,VLOOKUP($G103,Fordeling,L$4+3,FALSE)*$F103,0) -> 0 | M103: =IF($G103<>0,VLOOKUP($G103,Fordeling,M$4+3,FALSE)*$F103,0) -> 0 | N103: =IF($G103<>0,VLOOKUP($G103,Fordeling,N$4+3,FALSE)*$F103,0) -> 0 | O103: =IF($G103<>0,VLOOKUP($G103,Fordeling,O$4+3,FALSE)*$F103,0) -> 0 | ... S103: =IF($G103<>0,VLOOKUP($G103,Fordeling,S$4+3,FALSE)*$F103,0) -> 0
B104: 8060 | C104: Agio | D104: 6 | F104: ='Input 601 - Administrasjon'!F104+'Input 602 - Helt konge'!F104+'Input 603 - Ottestadrennet'!F104+' Input 607 - Snøproduksjon'!F104+'Input 604 - Ottestadstien'!F104 -> 0 | G104: 1 | H104: =IF($G104<>0,VLOOKUP($G104,Fordeling,H$4+3,FALSE)*$F104,0) -> 0 | I104: =IF($G104<>0,VLOOKUP($G104,Fordeling,I$4+3,FALSE)*$F104,0) -> 0 | J104: =IF($G104<>0,VLOOKUP($G104,Fordeling,J$4+3,FALSE)*$F104,0) -> 0 | K104: =IF($G104<>0,VLOOKUP($G104,Fordeling,K$4+3,FALSE)*$F104,0) -> 0 | L104: =IF($G104<>0,VLOOKUP($G104,Fordeling,L$4+3,FALSE)*$F104,0) -> 0 | M104: =IF($G104<>0,VLOOKUP($G104,Fordeling,M$4+3,FALSE)*$F104,0) -> 0 | N104: =IF($G104<>0,VLOOKUP($G104,Fordeling,N$4+3,FALSE)*$F104,0) -> 0 | O104: =IF($G104<>0,VLOOKUP($G104,Fordeling,O$4+3,FALSE)*$F104,0) -> 0 | ... S104: =IF($G104<>0,VLOOKUP($G104,Fordeling,S$4+3,FALSE)*$F104,0) -> 0
B105: 8140 | C105: Rente og term.kostn.banklån | D105: 6 | F105: ='Input 601 - Administrasjon'!F105+'Input 602 - Helt konge'!F105+'Input 603 - Ottestadrennet'!F105+' Input 607 - Snøproduksjon'!F105+'Input 604 - Ottestadstien'!F105 -> 0 | G105: 1 | H105: =IF($G105<>0,VLOOKUP($G105,Fordeling,H$4+3,FALSE)*$F105,0) -> 0 | I105: =IF($G105<>0,VLOOKUP($G105,Fordeling,I$4+3,FALSE)*$F105,0) -> 0 | J105: =IF($G105<>0,VLOOKUP($G105,Fordeling,J$4+3,FALSE)*$F105,0) -> 0 | K105: =IF($G105<>0,VLOOKUP($G105,Fordeling,K$4+3,FALSE)*$F105,0) -> 0 | L105: =IF($G105<>0,VLOOKUP($G105,Fordeling,L$4+3,FALSE)*$F105,0) -> 0 | M105: =IF($G105<>0,VLOOKUP($G105,Fordeling,M$4+3,FALSE)*$F105,0) -> 0 | N105: =IF($G105<>0,VLOOKUP($G105,Fordeling,N$4+3,FALSE)*$F105,0) -> 0 | O105: =IF($G105<>0,VLOOKUP($G105,Fordeling,O$4+3,FALSE)*$F105,0) -> 0 | ... S105: =IF($G105<>0,VLOOKUP($G105,Fordeling,S$4+3,FALSE)*$F105,0) -> 0
B106: 8155 | C106: Rentekostnad leverandørgjeld | D106: 6 | F106: ='Input 601 - Administrasjon'!F106+'Input 602 - Helt konge'!F106+'Input 603 - Ottestadrennet'!F106+' Input 607 - Snøproduksjon'!F106+'Input 604 - Ottestadstien'!F106 -> 0 | G106: 1 | H106: =IF($G106<>0,VLOOKUP($G106,Fordeling,H$4+3,FALSE)*$F106,0) -> 0 | I106: =IF($G106<>0,VLOOKUP($G106,Fordeling,I$4+3,FALSE)*$F106,0) -> 0 | J106: =IF($G106<>0,VLOOKUP($G106,Fordeling,J$4+3,FALSE)*$F106,0) -> 0 | K106: =IF($G106<>0,VLOOKUP($G106,Fordeling,K$4+3,FALSE)*$F106,0) -> 0 | L106: =IF($G106<>0,VLOOKUP($G106,Fordeling,L$4+3,FALSE)*$F106,0) -> 0 | M106: =IF($G106<>0,VLOOKUP($G106,Fordeling,M$4+3,FALSE)*$F106,0) -> 0 | N106: =IF($G106<>0,VLOOKUP($G106,Fordeling,N$4+3,FALSE)*$F106,0) -> 0 | O106: =IF($G106<>0,VLOOKUP($G106,Fordeling,O$4+3,FALSE)*$F106,0) -> 0 | ... S106: =IF($G106<>0,VLOOKUP($G106,Fordeling,S$4+3,FALSE)*$F106,0) -> 0
B107: 8160 | C107: Valutatap (disagio) | D107: 6 | F107: ='Input 601 - Administrasjon'!F107+'Input 602 - Helt konge'!F107+'Input 603 - Ottestadrennet'!F107+' Input 607 - Snøproduksjon'!F107+'Input 604 - Ottestadstien'!F107 -> 0 | G107: 1 | H107: =IF($G107<>0,VLOOKUP($G107,Fordeling,H$4+3,FALSE)*$F107,0) -> 0 | I107: =IF($G107<>0,VLOOKUP($G107,Fordeling,I$4+3,FALSE)*$F107,0) -> 0 | J107: =IF($G107<>0,VLOOKUP($G107,Fordeling,J$4+3,FALSE)*$F107,0) -> 0 | K107: =IF($G107<>0,VLOOKUP($G107,Fordeling,K$4+3,FALSE)*$F107,0) -> 0 | L107: =IF($G107<>0,VLOOKUP($G107,Fordeling,L$4+3,FALSE)*$F107,0) -> 0 | M107: =IF($G107<>0,VLOOKUP($G107,Fordeling,M$4+3,FALSE)*$F107,0) -> 0 | N107: =IF($G107<>0,VLOOKUP($G107,Fordeling,N$4+3,FALSE)*$F107,0) -> 0 | O107: =IF($G107<>0,VLOOKUP($G107,Fordeling,O$4+3,FALSE)*$F107,0) -> 0 | ... S107: =IF($G107<>0,VLOOKUP($G107,Fordeling,S$4+3,FALSE)*$F107,0) -> 0
B108: 8800 | C108: Årsresultat | D108: 6 | F108: ='Input 601 - Administrasjon'!F108+'Input 602 - Helt konge'!F108+'Input 603 - Ottestadrennet'!F108+' Input 607 - Snøproduksjon'!F108+'Input 604 - Ottestadstien'!F108 -> 0 | G108: 1 | H108: =IF($G108<>0,VLOOKUP($G108,Fordeling,H$4+3,FALSE)*$F108,0) -> 0 | I108: =IF($G108<>0,VLOOKUP($G108,Fordeling,I$4+3,FALSE)*$F108,0) -> 0 | J108: =IF($G108<>0,VLOOKUP($G108,Fordeling,J$4+3,FALSE)*$F108,0) -> 0 | K108: =IF($G108<>0,VLOOKUP($G108,Fordeling,K$4+3,FALSE)*$F108,0) -> 0 | L108: =IF($G108<>0,VLOOKUP($G108,Fordeling,L$4+3,FALSE)*$F108,0) -> 0 | M108: =IF($G108<>0,VLOOKUP($G108,Fordeling,M$4+3,FALSE)*$F108,0) -> 0 | N108: =IF($G108<>0,VLOOKUP($G108,Fordeling,N$4+3,FALSE)*$F108,0) -> 0 | O108: =IF($G108<>0,VLOOKUP($G108,Fordeling,O$4+3,FALSE)*$F108,0) -> 0 | ... S108: =IF($G108<>0,VLOOKUP($G108,Fordeling,S$4+3,FALSE)*$F108,0) -> 0
B109: 8961 | C109: Overføring annen egenkapital | D109: 6 | F109: ='Input 601 - Administrasjon'!F109+'Input 602 - Helt konge'!F109+'Input 603 - Ottestadrennet'!F109+' Input 607 - Snøproduksjon'!F109+'Input 604 - Ottestadstien'!F109 -> 0 | G109: 1 | H109: =IF($G109<>0,VLOOKUP($G109,Fordeling,H$4+3,FALSE)*$F109,0) -> 0 | I109: =IF($G109<>0,VLOOKUP($G109,Fordeling,I$4+3,FALSE)*$F109,0) -> 0 | J109: =IF($G109<>0,VLOOKUP($G109,Fordeling,J$4+3,FALSE)*$F109,0) -> 0 | K109: =IF($G109<>0,VLOOKUP($G109,Fordeling,K$4+3,FALSE)*$F109,0) -> 0 | L109: =IF($G109<>0,VLOOKUP($G109,Fordeling,L$4+3,FALSE)*$F109,0) -> 0 | M109: =IF($G109<>0,VLOOKUP($G109,Fordeling,M$4+3,FALSE)*$F109,0) -> 0 | N109: =IF($G109<>0,VLOOKUP($G109,Fordeling,N$4+3,FALSE)*$F109,0) -> 0 | O109: =IF($G109<>0,VLOOKUP($G109,Fordeling,O$4+3,FALSE)*$F109,0) -> 0 | ... S109: =IF($G109<>0,VLOOKUP($G109,Fordeling,S$4+3,FALSE)*$F109,0) -> 0

Sheet Input 601 - Administrasjon
G2: LEGG INN TALL I FELTET "Totalt"
G3: TALLET VI FORDELE SEG LIKT UT I HVER MÅNED
H4: 1 | I4: 2 | J4: 3 | K4: 4 | L4: 5 | M4: 6 | N4: 7 | O4: 8 | P4: 9 | Q4: 10 | R4: 11 | S4: 12 | T4: 12
B5: Kontonr | C5: Kontonavn | D5: Avdeling | E5: Prosjekt | F5: Totalt | G5: Fordeling | H5: Januar | I5: Februar | J5: Mars | K5: April | L5: Mai | M5: Juni | N5: Juli | O5: August | P5: September | Q5: Oktober | R5: November | S5: Desember | T5: Sum
B7: 3000 | C7: Salg, avgiftspliktig | D7: 6 | E7: 601 | F7: 20000 | G7: 1 | H7: =IF($G7<>0,VLOOKUP($G7,Fordeling,H$4+3,FALSE)*$F7,0) -> 1666.6667 | I7: =IF($G7<>0,VLOOKUP($G7,Fordeling,I$4+3,FALSE)*$F7,0) -> 1666.6667 | J7: =IF($G7<>0,VLOOKUP($G7,Fordeling,J$4+3,FALSE)*$F7,0) -> 1666.6667 | K7: =IF($G7<>0,VLOOKUP($G7,Fordeling,K$4+3,FALSE)*$F7,0) -> 1666.6667 | L7: =IF($G7<>0,VLOOKUP($G7,Fordeling,L$4+3,FALSE)*$F7,0) -> 1666.6667 | M7: =IF($G7<>0,VLOOKUP($G7,Fordeling,M$4+3,FALSE)*$F7,0) -> 1666.6667 | N7: =IF($G7<>0,VLOOKUP($G7,Fordeling,N$4+3,FALSE)*$F7,0) -> 1666.6667 | O7: =IF($G7<>0,VLOOKUP($G7,Fordeling,O$4+3,FALSE)*$F7,0) -> 1666.6667 | ... S7: =IF($G7<>0,VLOOKUP($G7,Fordeling,S$4+3,FALSE)*$F7,0) -> 1666.6667
B8: 3010 | C8: Billettinntekter | D8: 6 | E8: 601 | G8: 1 | H8: =IF($G8<>0,VLOOKUP($G8,Fordeling,H$4+3,FALSE)*$F8,0) -> 0 | I8: =IF($G8<>0,VLOOKUP($G8,Fordeling,I$4+3,FALSE)*$F8,0) -> 0 | J8: =IF($G8<>0,VLOOKUP($G8,Fordeling,J$4+3,FALSE)*$F8,0) -> 0 | K8: =IF($G8<>0,VLOOKUP($G8,Fordeling,K$4+3,FALSE)*$F8,0) -> 0 | L8: =IF($G8<>0,VLOOKUP($G8,Fordeling,L$4+3,FALSE)*$F8,0) -> 0 | M8: =IF($G8<>0,VLOOKUP($G8,Fordeling,M$4+3,FALSE)*$F8,0) -> 0 | N8: =IF($G8<>0,VLOOKUP($G8,Fordeling,N$4+3,FALSE)*$F8,0) -> 0 | O8: =IF($G8<>0,VLOOKUP($G8,Fordeling,O$4+3,FALSE)*$F8,0) -> 0 | ... S8: =IF($G8<>0,VLOOKUP($G8,Fordeling,S$4+3,FALSE)*$F8,0) -> 0
B9: 3020 | C9: Reklameinntekter avg.pliktig | D9: 6 | E9: 601 | F9: 75000 | G9: 1 | H9: =IF($G9<>0,VLOOKUP($G9,Fordeling,H$4+3,FALSE)*$F9,0) -> 6250 | I9: =IF($G9<>0,VLOOKUP($G9,Fordeling,I$4+3,FALSE)*$F9,0) -> 6250 | J9: =IF($G9<>0,VLOOKUP($G9,Fordeling,J$4+3,FALSE)*$F9,0) -> 6250 | K9: =IF($G9<>0,VLOOKUP($G9,Fordeling,K$4+3,FALSE)*$F9,0) -> 6250 | L9: =IF($G9<>0,VLOOKUP($G9,Fordeling,L$4+3,FALSE)*$F9,0) -> 6250 | M9: =IF($G9<>0,VLOOKUP($G9,Fordeling,M$4+3,FALSE)*$F9,0) -> 6250 | N9: =IF($G9<>0,VLOOKUP($G9,Fordeling,N$4+3,FALSE)*$F9,0) -> 6250 | O9: =IF($G9<>0,VLOOKUP($G9,Fordeling,O$4+3,FALSE)*$F9,0) -> 6250 | ... S9: =IF($G9<>0,VLOOKUP($G9,Fordeling,S$4+3,FALSE)*$F9,0) -> 6250
B10: 3030 | C10: Salg, avgiftspliktig middels sats | D10: 6 | E10: 601 | G10: 1 | H10: =IF($G10<>0,VLOOKUP($G10,Fordeling,H$4+3,FALSE)*$F10,0) -> 0 | I10: =IF($G10<>0,VLOOKUP($G10,Fordeling,I$4+3,FALSE)*$F10,0) -> 0 | J10: =IF($G10<>0,VLOOKUP($G10,Fordeling,J$4+3,FALSE)*$F10,0) -> 0 | K10: =IF($G10<>0,VLOOKUP($G10,Fordeling,K$4+3,FALSE)*$F10,0) -> 0 | L10: =IF($G10<>0,VLOOKUP($G10,Fordeling,L$4+3,FALSE)*$F10,0) -> 0 | M10: =IF($G10<>0,VLOOKUP($G10,Fordeling,M$4+3,FALSE)*$F10,0) -> 0 | N10: =IF($G10<>0,VLOOKUP($G10,Fordeling,N$4+3,FALSE)*$F10,0) -> 0 | O10: =IF($G10<>0,VLOOKUP($G10,Fordeling,O$4+3,FALSE)*$F10,0) -> 0 | ... S10: =IF($G10<>0,VLOOKUP($G10,Fordeling,S$4+3,FALSE)*$F10,0) -> 0
B11: 3050 | C11: Salg, avgiftspliktig lav sats | D11: 6 | E11: 601 | G11: 1 | H11: =IF($G11<>0,VLOOKUP($G11,Fordeling,H$4+3,FALSE)*$F11,0) -> 0 | I11: =IF($G11<>0,VLOOKUP($G11,Fordeling,I$4+3,FALSE)*$F11,0) -> 0 | J11: =IF($G11<>0,VLOOKUP($G11,Fordeling,J$4+3,FALSE)*$F11,0) -> 0 | K11: =IF($G11<>0,VLOOKUP($G11,Fordeling,K$4+3,FALSE)*$F11,0) -> 0 | L11: =IF($G11<>0,VLOOKUP($G11,Fordeling,L$4+3,FALSE)*$F11,0) -> 0 | M11: =IF($G11<>0,VLOOKUP($G11,Fordeling,M$4+3,FALSE)*$F11,0) -> 0 | N11: =IF($G11<>0,VLOOKUP($G11,Fordeling,N$4+3,FALSE)*$F11,0) -> 0 | O11: =IF($G11<>0,VLOOKUP($G11,Fordeling,O$4+3,FALSE)*$F11,0) -> 0 | ... S11: =IF($G11<>0,VLOOKUP($G11,Fordeling,S$4+3,FALSE)*$F11,0) -> 0
B12: 3081 | C12: Kontantrabatter, avgiftspliktige | D12: 6 | E12: 601 | G12: 1 | H12: =IF($G12<>0,VLOOKUP($G12,Fordeling,H$4+3,FALSE)*$F12,0) -> 0 | I12: =IF($G12<>0,VLOOKUP($G12,Fordeling,I$4+3,FALSE)*$F12,0) -> 0 | J12: =IF($G12<>0,VLOOKUP($G12,Fordeling,J$4+3,FALSE)*$F12,0) -> 0 | K12: =IF($G12<>0,VLOOKUP($G12,Fordeling,K$4+3,FALSE)*$F12,0) -> 0 | L12: =IF($G12<>0,VLOOKUP($G12,Fordeling,L$4+3,FALSE)*$F12,0) -> 0 | M12: =IF($G12<>0,VLOOKUP($G12,Fordeling,M$4+3,FALSE)*$F12,0) -> 0 | N12: =IF($G12<>0,VLOOKUP($G12,Fordeling,N$4+3,FALSE)*$F12,0) -> 0 | O12: =IF($G12<>0,VLOOKUP($G12,Fordeling,O$4+3,FALSE)*$F12,0) -> 0 | ... S12: =IF($G12<>0,VLOOKUP($G12,Fordeling,S$4+3,FALSE)*$F12,0) -> 0
B13: 3100 | C13: Salg, avgiftsfritt | D13: 6 | E13: 601 | G13: 1 | H13: =IF($G13<>0,VLOOKUP($G13,Fordeling,H$4+3,FALSE)*$F13,0) -> 0 | I13: =IF($G13<>0,VLOOKUP($G13,Fordeling,I$4+3,FALSE)*$F13,0) -> 0 | J13: =IF($G13<>0,VLOOKUP($G13,Fordeling,J$4+3,FALSE)*$F13,0) -> 0 | K13: =IF($G13<>0,VLOOKUP($G13,Fordeling,K$4+3,FALSE)*$F13,0) -> 0 | L13: =IF($G13<>0,VLOOKUP($G13,Fordeling,L$4+3,FALSE)*$F13,0) -> 0 | M13: =IF($G13<>0,VLOOKUP($G13,Fordeling,M$4+3,FALSE)*$F13,0) -> 0 | N13: =IF($G13<>0,VLOOKUP($G13,Fordeling,N$4+3,FALSE)*$F13,0) -> 0 | O13: =IF($G13<>0,VLOOKUP($G13,Fordeling,O$4+3,FALSE)*$F13,0) -> 0 | ... S13: =IF($G13<>0,VLOOKUP($G13,Fordeling,S$4+3,FALSE)*$F13,0) -> 0
B14: 3120 | C14: Reklameinntekter avg.fritt | D14: 6 | E14: 601 | G14: 1 | H14: =IF($G14<>0,VLOOKUP($G14,Fordeling,H$4+3,FALSE)*$F14,0) -> 0 | I14: =IF($G14<>0,VLOOKUP($G14,Fordeling,I$4+3,FALSE)*$F14,0) -> 0 | J14: =IF($G14<>0,VLOOKUP($G14,Fordeling,J$4+3,FALSE)*$F14,0) -> 0 | K14: =IF($G14<>0,VLOOKUP($G14,Fordeling,K$4+3,FALSE)*$F14,0) -> 0 | L14: =IF($G14<>0,VLOOKUP($G14,Fordeling,L$4+3,FALSE)*$F14,0) -> 0 | M14: =IF($G14<>0,VLOOKUP($G14,Fordeling,M$4+3,FALSE)*$F14,0) -> 0 | N14: =IF($G14<>0,VLOOKUP($G14,Fordeling,N$4+3,FALSE)*$F14,0) -> 0 | O14: =IF($G14<>0,VLOOKUP($G14,Fordeling,O$4+3,FALSE)*$F14,0) -> 0 | ... S14: =IF($G14<>0,VLOOKUP($G14,Fordeling,S$4+3,FALSE)*$F14,0) -> 0
B15: 3181 | C15: Kontantrabatter, avg.fri. | D15: 6 | E15: 601 | G15: 1 | H15: =IF($G15<>0,VLOOKUP($G15,Fordeling,H$4+3,FALSE)*$F15,0) -> 0 | I15: =IF($G15<>0,VLOOKUP($G15,Fordeling,I$4+3,FALSE)*$F15,0) -> 0 | J15: =IF($G15<>0,VLOOKUP($G15,Fordeling,J$4+3,FALSE)*$F15,0) -> 0 | K15: =IF($G15<>0,VLOOKUP($G15,Fordeling,K$4+3,FALSE)*$F15,0) -> 0 | L15: =IF($G15<>0,VLOOKUP($G15,Fordeling,L$4+3,FALSE)*$F15,0) -> 0 | M15: =IF($G15<>0,VLOOKUP($G15,Fordeling,M$4+3,FALSE)*$F15,0) -> 0 | N15: =IF($G15<>0,VLOOKUP($G15,Fordeling,N$4+3,FALSE)*$F15,0) -> 0 | O15: =IF($G15<>0,VLOOKUP($G15,Fordeling,O$4+3,FALSE)*$F15,0) -> 0 | ... S15: =IF($G15<>0,VLOOKUP($G15,Fordeling,S$4+3,FALSE)*$F15,0) -> 0
B16: 3200 | C16: Salg utenfor avgiftsområdet | D16: 6 | E16: 601 | G16: 1 | H16: =IF($G16<>0,VLOOKUP($G16,Fordeling,H$4+3,FALSE)*$F16,0) -> 0 | I16: =IF($G16<>0,VLOOKUP($G16,Fordeling,I$4+3,FALSE)*$F16,0) -> 0 | J16: =IF($G16<>0,VLOOKUP($G16,Fordeling,J$4+3,FALSE)*$F16,0) -> 0 | K16: =IF($G16<>0,VLOOKUP($G16,Fordeling,K$4+3,FALSE)*$F16,0) -> 0 | L16: =IF($G16<>0,VLOOKUP($G16,Fordeling,L$4+3,FALSE)*$F16,0) -> 0 | M16: =IF($G16<>0,VLOOKUP($G16,Fordeling,M$4+3,FALSE)*$F16,0) -> 0 | N16: =IF($G16<>0,VLOOKUP($G16,Fordeling,N$4+3,FALSE)*$F16,0) -> 0 | O16: =IF($G16<>0,VLOOKUP($G16,Fordeling,O$4+3,FALSE)*$F16,0) -> 0 | ... S16: =IF($G16<>0,VLOOKUP($G16,Fordeling,S$4+3,FALSE)*$F16,0) -> 0
B17: 3210 | C17: Inntekt deltakeravgift | D17: 6 | E17: 601 | G17: 1 | H17: =IF($G17<>0,VLOOKUP($G17,Fordeling,H$4+3,FALSE)*$F17,0) -> 0 | I17: =IF($G17<>0,VLOOKUP($G17,Fordeling,I$4+3,FALSE)*$F17,0) -> 0 | J17: =IF($G17<>0,VLOOKUP($G17,Fordeling,J$4+3,FALSE)*$F17,0) -> 0 | K17: =IF($G17<>0,VLOOKUP($G17,Fordeling,K$4+3,FALSE)*$F17,0) -> 0 | L17: =IF($G17<>0,VLOOKUP($G17,Fordeling,L$4+3,FALSE)*$F17,0) -> 0 | M17: =IF($G17<>0,VLOOKUP($G17,Fordeling,M$4+3,FALSE)*$F17,0) -> 0 | N17: =IF($G17<>0,VLOOKUP($G17,Fordeling,N$4+3,FALSE)*$F17,0) -> 0 | O17: =IF($G17<>0,VLOOKUP($G17,Fordeling,O$4+3,FALSE)*$F17,0) -> 0 | ... S17: =IF($G17<>0,VLOOKUP($G17,Fordeling,S$4+3,FALSE)*$F17,0) -> 0
B18: 3400 | C18: Offentlig tilskudd/refusjon | D18: 6 | E18: 601 | F18: 30000 | G18: 1 | H18: =IF($G18<>0,VLOOKUP($G18,Fordeling,H$4+3,FALSE)*$F18,0) -> 2500 | I18: =IF($G18<>0,VLOOKUP($G18,Fordeling,I$4+3,FALSE)*$F18,0) -> 2500 | J18: =IF($G18<>0,VLOOKUP($G18,Fordeling,J$4+3,FALSE)*$F18,0) -> 2500 | K18: =IF($G18<>0,VLOOKUP($G18,Fordeling,K$4+3,FALSE)*$F18,0) -> 2500 | L18: =IF($G18<>0,VLOOKUP($G18,Fordeling,L$4+3,FALSE)*$F18,0) -> 2500 | M18: =IF($G18<>0,VLOOKUP($G18,Fordeling,M$4+3,FALSE)*$F18,0) -> 2500 | N18: =IF($G18<>0,VLOOKUP($G18,Fordeling,N$4+3,FALSE)*$F18,0) -> 2500 | O18: =IF($G18<>0,VLOOKUP($G18,Fordeling,O$4+3,FALSE)*$F18,0) -> 2500 | ... S18: =IF($G18<>0,VLOOKUP($G18,Fordeling,S$4+3,FALSE)*$F18,0) -> 2500
B19: 3442 | C19: Tilskudd øremerkede | D19: 6 | E19: 601 | F19: 10000 | G19: 1 | H19: =IF($G19<>0,VLOOKUP($G19,Fordeling,H$4+3,FALSE)*$F19,0) -> 833.33333 | I19: =IF($G19<>0,VLOOKUP($G19,Fordeling,I$4+3,FALSE)*$F19,0) -> 833.33333 | J19: =IF($G19<>0,VLOOKUP($G19,Fordeling,J$4+3,FALSE)*$F19,0) -> 833.33333 | K19: =IF($G19<>0,VLOOKUP($G19,Fordeling,K$4+3,FALSE)*$F19,0) -> 833.33333 | L19: =IF($G19<>0,VLOOKUP($G19,Fordeling,L$4+3,FALSE)*$F19,0) -> 833.33333 | M19: =IF($G19<>0,VLOOKUP($G19,Fordeling,M$4+3,FALSE)*$F19,0) -> 833.33333 | N19: =IF($G19<>0,VLOOKUP($G19,Fordeling,N$4+3,FALSE)*$F19,0) -> 833.33333 | O19: =IF($G19<>0,VLOOKUP($G19,Fordeling,O$4+3,FALSE)*$F19,0) -> 833.33333 | ... S19: =IF($G19<>0,VLOOKUP($G19,Fordeling,S$4+3,FALSE)*$F19,0) -> 833.33333
B20: 3445 | C20: Tilsskudd andre | D20: 6 | E20: 601 | G20: 1 | H20: =IF($G20<>0,VLOOKUP($G20,Fordeling,H$4+3,FALSE)*$F20,0) -> 0 | I20: =IF($G20<>0,VLOOKUP($G20,Fordeling,I$4+3,FALSE)*$F20,0) -> 0 | J20: =IF($G20<>0,VLOOKUP($G20,Fordeling,J$4+3,FALSE)*$F20,0) -> 0 | K20: =IF($G20<>0,VLOOKUP($G20,Fordeling,K$4+3,FALSE)*$F20,0) -> 0 | L20: =IF($G20<>0,VLOOKUP($G20,Fordeling,L$4+3,FALSE)*$F20,0) -> 0 | M20: =IF($G20<>0,VLOOKUP($G20,Fordeling,M$4+3,FALSE)*$F20,0) -> 0 | N20: =IF($G20<>0,VLOOKUP($G20,Fordeling,N$4+3,FALSE)*$F20,0) -> 0 | O20: =IF($G20<>0,VLOOKUP($G20,Fordeling,O$4+3,FALSE)*$F20,0) -> 0 | ... S20: =IF($G20<>0,VLOOKUP($G20,Fordeling,S$4+3,FALSE)*$F20,0) -> 0
B21: 3450 | C21: Støtte løyper | D21: 6 | E21: 601 | G21: 1 | H21: =IF($G21<>0,VLOOKUP($G21,Fordeling,H$4+3,FALSE)*$F21,0) -> 0 | I21: =IF($G21<>0,VLOOKUP($G21,Fordeling,I$4+3,FALSE)*$F21,0) -> 0 | J21: =IF($G21<>0,VLOOKUP($G21,Fordeling,J$4+3,FALSE)*$F21,0) -> 0 | K21: =IF($G21<>0,VLOOKUP($G21,Fordeling,K$4+3,FALSE)*$F21,0) -> 0 | L21: =IF($G21<>0,VLOOKUP($G21,Fordeling,L$4+3,FALSE)*$F21,0) -> 0 | M21: =IF($G21<>0,VLOOKUP($G21,Fordeling,M$4+3,FALSE)*$F21,0) -> 0 | N21: =IF($G21<>0,VLOOKUP($G21,Fordeling,N$4+3,FALSE)*$F21,0) -> 0 | O21: =IF($G21<>0,VLOOKUP($G21,Fordeling,O$4+3,FALSE)*$F21,0) -> 0 | ... S21: =IF($G21<>0,VLOOKUP($G21,Fordeling,S$4+3,FALSE)*$F21,0) -> 0
B22: 3455 | C22: Inntekt Enjoyguide | D22: 6 | E22: 601 | G22: 1 | H22: =IF($G22<>0,VLOOKUP($G22,Fordeling,H$4+3,FALSE)*$F22,0) -> 0 | I22: =IF($G22<>0,VLOOKUP($G22,Fordeling,I$4+3,FALSE)*$F22,0) -> 0 | J22: =IF($G22<>0,VLOOKUP($G22,Fordeling,J$4+3,FALSE)*$F22,0) -> 0 | K22: =IF($G22<>0,VLOOKUP($G22,Fordeling,K$4+3,FALSE)*$F22,0) -> 0 | L22: =IF($G22<>0,VLOOKUP($G22,Fordeling,L$4+3,FALSE)*$F22,0) -> 0 | M22: =IF($G22<>0,VLOOKUP($G22,Fordeling,M$4+3,FALSE)*$F22,0) -> 0 | N22: =IF($G22<>0,VLOOKUP($G22,Fordeling,N$4+3,FALSE)*$F22,0) -> 0 | O22: =IF($G22<>0,VLOOKUP($G22,Fordeling,O$4+3,FALSE)*$F22,0) -> 0 | ... S22: =IF($G22<>0,VLOOKUP($G22,Fordeling,S$4+3,FALSE)*$F22,0) -> 0
B23: 3601 | C23: Leieinntekter HIAS | D23: 6 | E23: 601 | G23: 1 | H23: =IF($G23<>0,VLOOKUP($G23,Fordeling,H$4+3,FALSE)*$F23,0) -> 0 | I23: =IF($G23<>0,VLOOKUP($G23,Fordeling,I$4+3,FALSE)*$F23,0) -> 0 | J23: =IF($G23<>0,VLOOKUP($G23,Fordeling,J$4+3,FALSE)*$F23,0) -> 0 | K23: =IF($G23<>0,VLOOKUP($G23,Fordeling,K$4+3,FALSE)*$F23,0) -> 0 | L23: =IF($G23<>0,VLOOKUP($G23,Fordeling,L$4+3,FALSE)*$F23,0) -> 0 | M23: =IF($G23<>0,VLOOKUP($G23,Fordeling,M$4+3,FALSE)*$F23,0) -> 0 | N23: =IF($G23<>0,VLOOKUP($G23,Fordeling,N$4+3,FALSE)*$F23,0) -> 0 | O23: =IF($G23<>0,VLOOKUP($G23,Fordeling,O$4+3,FALSE)*$F23,0) -> 0 | ... S23: =IF($G23<>0,VLOOKUP($G23,Fordeling,S$4+3,FALSE)*$F23,0) -> 0
B24: 3602 | C24: Leieinntekter klubbhus/idrettsparken | D24: 6 | E24: 601 | G24: 1 | H24: =IF($G24<>0,VLOOKUP($G24,Fordeling,H$4+3,FALSE)*$F24,0) -> 0 | I24: =IF($G24<>0,VLOOKUP($G24,Fordeling,I$4+3,FALSE)*$F24,0) -> 0 | J24: =IF($G24<>0,VLOOKUP($G24,Fordeling,J$4+3,FALSE)*$F24,0) -> 0 | K24: =IF($G24<>0,VLOOKUP($G24,Fordeling,K$4+3,FALSE)*$F24,0) -> 0 | L24: =IF($G24<>0,VLOOKUP($G24,Fordeling,L$4+3,FALSE)*$F24,0) -> 0 | M24: =IF($G24<>0,VLOOKUP($G24,Fordeling,M$4+3,FALSE)*$F24,0) -> 0 | N24: =IF($G24<>0,VLOOKUP($G24,Fordeling,N$4+3,FALSE)*$F24,0) -> 0 | O24: =IF($G24<>0,VLOOKUP($G24,Fordeling,O$4+3,FALSE)*$F24,0) -> 0 | ... S24: =IF($G24<>0,VLOOKUP($G24,Fordeling,S$4+3,FALSE)*$F24,0) -> 0
B25: 3700 | C25: Provisjonsinntekter, avgiftspliktig | D25: 6 | E25: 601 | G25: 1 | H25: =IF($G25<>0,VLOOKUP($G25,Fordeling,H$4+3,FALSE)*$F25,0) -> 0 | I25: =IF($G25<>0,VLOOKUP($G25,Fordeling,I$4+3,FALSE)*$F25,0) -> 0 | J25: =IF($G25<>0,VLOOKUP($G25,Fordeling,J$4+3,FALSE)*$F25,0) -> 0 | K25: =IF($G25<>0,VLOOKUP($G25,Fordeling,K$4+3,FALSE)*$F25,0) -> 0 | L25: =IF($G25<>0,VLOOKUP($G25,Fordeling,L$4+3,FALSE)*$F25,0) -> 0 | M25: =IF($G25<>0,VLOOKUP($G25,Fordeling,M$4+3,FALSE)*$F25,0) -> 0 | N25: =IF($G25<>0,VLOOKUP($G25,Fordeling,N$4+3,FALSE)*$F25,0) -> 0 | O25: =IF($G25<>0,VLOOKUP($G25,Fordeling,O$4+3,FALSE)*$F25,0) -> 0 | ... S25: =IF($G25<>0,VLOOKUP($G25,Fordeling,S$4+3,FALSE)*$F25,0) -> 0
B26: 3900 | C26: Annen inntekt | D26: 6 | E26: 601 | G26: 1 | H26: =IF($G26<>0,VLOOKUP($G26,Fordeling,H$4+3,FALSE)*$F26,0) -> 0 | I26: =IF($G26<>0,VLOOKUP($G26,Fordeling,I$4+3,FALSE)*$F26,0) -> 0 | J26: =IF($G26<>0,VLOOKUP($G26,Fordeling,J$4+3,FALSE)*$F26,0) -> 0 | K26: =IF($G26<>0,VLOOKUP($G26,Fordeling,K$4+3,FALSE)*$F26,0) -> 0 | L26: =IF($G26<>0,VLOOKUP($G26,Fordeling,L$4+3,FALSE)*$F26,0) -> 0 | M26: =IF($G26<>0,VLOOKUP($G26,Fordeling,M$4+3,FALSE)*$F26,0) -> 0 | N26: =IF($G26<>0,VLOOKUP($G26,Fordeling,N$4+3,FALSE)*$F26,0) -> 0 | O26: =IF($G26<>0,VLOOKUP($G26,Fordeling,O$4+3,FALSE)*$F26,0) -> 0 | ... S26: =IF($G26<>0,VLOOKUP($G26,Fordeling,S$4+3,FALSE)*$F26,0) -> 0
B27: 3910 | C27: Inntekter kiosk/kafé | D27: 6 | E27: 601 | G27: 1 | H27: =IF($G27<>0,VLOOKUP($G27,Fordeling,H$4+3,FALSE)*$F27,0) -> 0 | I27: =IF($G27<>0,VLOOKUP($G27,Fordeling,I$4+3,FALSE)*$F27,0) -> 0 | J27: =IF($G27<>0,VLOOKUP($G27,Fordeling,J$4+3,FALSE)*$F27,0) -> 0 | K27: =IF($G27<>0,VLOOKUP($G27,Fordeling,K$4+3,FALSE)*$F27,0) -> 0 | L27: =IF($G27<>0,VLOOKUP($G27,Fordeling,L$4+3,FALSE)*$F27,0) -> 0 | M27: =IF($G27<>0,VLOOKUP($G27,Fordeling,M$4+3,FALSE)*$F27,0) -> 0 | N27: =IF($G27<>0,VLOOKUP($G27,Fordeling,N$4+3,FALSE)*$F27,0) -> 0 | O27: =IF($G27<>0,VLOOKUP($G27,Fordeling,O$4+3,FALSE)*$F27,0) -> 0 | ... S27: =IF($G27<>0,VLOOKUP($G27,Fordeling,S$4+3,FALSE)*$F27,0) -> 0
B28: 3920 | C28: Årskontingenter | D28: 6 | E28: 601 | G28: 1 | H28: =IF($G28<>0,VLOOKUP($G28,Fordeling,H$4+3,FALSE)*$F28,0) -> 0 | I28: =IF($G28<>0,VLOOKUP($G28,Fordeling,I$4+3,FALSE)*$F28,0) -> 0 | J28: =IF($G28<>0,VLOOKUP($G28,Fordeling,J$4+3,FALSE)*$F28,0) -> 0 | K28: =IF($G28<>0,VLOOKUP($G28,Fordeling,K$4+3,FALSE)*$F28,0) -> 0 | L28: =IF($G28<>0,VLOOKUP($G28,Fordeling,L$4+3,FALSE)*$F28,0) -> 0 | M28: =IF($G28<>0,VLOOKUP($G28,Fordeling,M$4+3,FALSE)*$F28,0) -> 0 | N28: =IF($G28<>0,VLOOKUP($G28,Fordeling,N$4+3,FALSE)*$F28,0) -> 0 | O28: =IF($G28<>0,VLOOKUP($G28,Fordeling,O$4+3,FALSE)*$F28,0) -> 0 | ... S28: =IF($G28<>0,VLOOKUP($G28,Fordeling,S$4+3,FALSE)*$F28,0) -> 0
B29: 3930 | C29: Treningsavgifter | D29: 6 | E29: 601 | F29: 150000 | G29: 1 | H29: =IF($G29<>0,VLOOKUP($G29,Fordeling,H$4+3,FALSE)*$F29,0) -> 12500 | I29: =IF($G29<>0,VLOOKUP($G29,Fordeling,I$4+3,FALSE)*$F29,0) -> 12500 | J29: =IF($G29<>0,VLOOKUP($G29,Fordeling,J$4+3,FALSE)*$F29,0) -> 12500 | K29: =IF($G29<>0,VLOOKUP($G29,Fordeling,K$4+3,FALSE)*$F29,0) -> 12500 | L29: =IF($G29<>0,VLOOKUP($G29,Fordeling,L$4+3,FALSE)*$F29,0) -> 12500 | M29: =IF($G29<>0,VLOOKUP($G29,Fordeling,M$4+3,FALSE)*$F29,0) -> 12500 | N29: =IF($G29<>0,VLOOKUP($G29,Fordeling,N$4+3,FALSE)*$F29,0) -> 12500 | O29: =IF($G29<>0,VLOOKUP($G29,Fordeling,O$4+3,FALSE)*$F29,0) -> 12500 | ... S29: =IF($G29<>0,VLOOKUP($G29,Fordeling,S$4+3,FALSE)*$F29,0) -> 12500
B30: 3960 | C30: Bingodrift | D30: 6 | E30: 601 | G30: 1 | H30: =IF($G30<>0,VLOOKUP($G30,Fordeling,H$4+3,FALSE)*$F30,0) -> 0 | I30: =IF($G30<>0,VLOOKUP($G30,Fordeling,I$4+3,FALSE)*$F30,0) -> 0 | J30: =IF($G30<>0,VLOOKUP($G30,Fordeling,J$4+3,FALSE)*$F30,0) -> 0 | K30: =IF($G30<>0,VLOOKUP($G30,Fordeling,K$4+3,FALSE)*$F30,0) -> 0 | L30: =IF($G30<>0,VLOOKUP($G30,Fordeling,L$4+3,FALSE)*$F30,0) -> 0 | M30: =IF($G30<>0,VLOOKUP($G30,Fordeling,M$4+3,FALSE)*$F30,0) -> 0 | N30: =IF($G30<>0,VLOOKUP($G30,Fordeling,N$4+3,FALSE)*$F30,0) -> 0 | O30: =IF($G30<>0,VLOOKUP($G30,Fordeling,O$4+3,FALSE)*$F30,0) -> 0 | ... S30: =IF($G30<>0,VLOOKUP($G30,Fordeling,S$4+3,FALSE)*$F30,0) -> 0
B31: 3970 | C31: Grasrotandel | D31: 6 | E31: 601 | G31: 1 | H31: =IF($G31<>0,VLOOKUP($G31,Fordeling,H$4+3,FALSE)*$F31,0) -> 0 | I31: =IF($G31<>0,VLOOKUP($G31,Fordeling,I$4+3,FALSE)*$F31,0) -> 0 | J31: =IF($G31<>0,VLOOKUP($G31,Fordeling,J$4+3,FALSE)*$F31,0) -> 0 | K31: =IF($G31<>0,VLOOKUP($G31,Fordeling,K$4+3,FALSE)*$F31,0) -> 0 | L31: =IF($G31<>0,VLOOKUP($G31,Fordeling,L$4+3,FALSE)*$F31,0) -> 0 | M31: =IF($G31<>0,VLOOKUP($G31,Fordeling,M$4+3,FALSE)*$F31,0) -> 0 | N31: =IF($G31<>0,VLOOKUP($G31,Fordeling,N$4+3,FALSE)*$F31,0) -> 0 | O31: =IF($G31<>0,VLOOKUP($G31,Fordeling,O$4+3,FALSE)*$F31,0) -> 0 | ... S31: =IF($G31<>0,VLOOKUP($G31,Fordeling,S$4+3,FALSE)*$F31,0) -> 0
B32: 3997 | C32: Dugnadsinntekter | D32: 6 | E32: 601 | F32: 10000 | G32: 1 | H32: =IF($G32<>0,VLOOKUP($G32,Fordeling,H$4+3,FALSE)*$F32,0) -> 833.33333 | I32: =IF($G32<>0,VLOOKUP($G32,Fordeling,I$4+3,FALSE)*$F32,0) -> 833.33333 | J32: =IF($G32<>0,VLOOKUP($G32,Fordeling,J$4+3,FALSE)*$F32,0) -> 833.33333 | K32: =IF($G32<>0,VLOOKUP($G32,Fordeling,K$4+3,FALSE)*$F32,0) -> 833.33333 | L32: =IF($G32<>0,VLOOKUP($G32,Fordeling,L$4+3,FALSE)*$F32,0) -> 833.33333 | M32: =IF($G32<>0,VLOOKUP($G32,Fordeling,M$4+3,FALSE)*$F32,0) -> 833.33333 | N32: =IF($G32<>0,VLOOKUP($G32,Fordeling,N$4+3,FALSE)*$F32,0) -> 833.33333 | O32: =IF($G32<>0,VLOOKUP($G32,Fordeling,O$4+3,FALSE)*$F32,0) -> 833.33333 | ... S32: =IF($G32<>0,VLOOKUP($G32,Fordeling,S$4+3,FALSE)*$F32,0) -> 833.33333
B33: 3998 | C33: Inntekter fra grupper | D33: 6 | E33: 601 | G33: 1 | H33: =IF($G33<>0,VLOOKUP($G33,Fordeling,H$4+3,FALSE)*$F33,0) -> 0 | I33: =IF($G33<>0,VLOOKUP($G33,Fordeling,I$4+3,FALSE)*$F33,0) -> 0 | J33: =IF($G33<>0,VLOOKUP($G33,Fordeling,J$4+3,FALSE)*$F33,0) -> 0 | K33: =IF($G33<>0,VLOOKUP($G33,Fordeling,K$4+3,FALSE)*$F33,0) -> 0 | L33: =IF($G33<>0,VLOOKUP($G33,Fordeling,L$4+3,FALSE)*$F33,0) -> 0 | M33: =IF($G33<>0,VLOOKUP($G33,Fordeling,M$4+3,FALSE)*$F33,0) -> 0 | N33: =IF($G33<>0,VLOOKUP($G33,Fordeling,N$4+3,FALSE)*$F33,0) -> 0 | O33: =IF($G33<>0,VLOOKUP($G33,Fordeling,O$4+3,FALSE)*$F33,0) -> 0 | ... S33: =IF($G33<>0,VLOOKUP($G33,Fordeling,S$4+3,FALSE)*$F33,0) -> 0
B34: 4071 | C34: Kontantrabatt, råvarer og halvfabrikata | D34: 6 | E34: 601 | G34: 1 | H34: =IF($G34<>0,VLOOKUP($G34,Fordeling,H$4+3,FALSE)*$F34,0) -> 0 | I34: =IF($G34<>0,VLOOKUP($G34,Fordeling,I$4+3,FALSE)*$F34,0) -> 0 | J34: =IF($G34<>0,VLOOKUP($G34,Fordeling,J$4+3,FALSE)*$F34,0) -> 0 | K34: =IF($G34<>0,VLOOKUP($G34,Fordeling,K$4+3,FALSE)*$F34,0) -> 0 | L34: =IF($G34<>0,VLOOKUP($G34,Fordeling,L$4+3,FALSE)*$F34,0) -> 0 | M34: =IF($G34<>0,VLOOKUP($G34,Fordeling,M$4+3,FALSE)*$F34,0) -> 0 | N34: =IF($G34<>0,VLOOKUP($G34,Fordeling,N$4+3,FALSE)*$F34,0) -> 0 | O34: =IF($G34<>0,VLOOKUP($G34,Fordeling,O$4+3,FALSE)*$F34,0) -> 0 | ... S34: =IF($G34<>0,VLOOKUP($G34,Fordeling,S$4+3,FALSE)*$F34,0) -> 0
B35: 4100 | C35: Arenaleie | D35: 6 | E35: 601 | F35: 5000 | G35: 1 | H35: =IF($G35<>0,VLOOKUP($G35,Fordeling,H$4+3,FALSE)*$F35,0) -> 416.66667 | I35: =IF($G35<>0,VLOOKUP($G35,Fordeling,I$4+3,FALSE)*$F35,0) -> 416.66667 | J35: =IF($G35<>0,VLOOKUP($G35,Fordeling,J$4+3,FALSE)*$F35,0) -> 416.66667 | K35: =IF($G35<>0,VLOOKUP($G35,Fordeling,K$4+3,FALSE)*$F35,0) -> 416.66667 | L35: =IF($G35<>0,VLOOKUP($G35,Fordeling,L$4+3,FALSE)*$F35,0) -> 416.66667 | M35: =IF($G35<>0,VLOOKUP($G35,Fordeling,M$4+3,FALSE)*$F35,0) -> 416.66667 | N35: =IF($G35<>0,VLOOKUP($G35,Fordeling,N$4+3,FALSE)*$F35,0) -> 416.66667 | O35: =IF($G35<>0,VLOOKUP($G35,Fordeling,O$4+3,FALSE)*$F35,0) -> 416.66667 | ... S35: =IF($G35<>0,VLOOKUP($G35,Fordeling,S$4+3,FALSE)*$F35,0) -> 416.66667
B36: 4150 | C36: Utgifter arrangement egne | D36: 6 | E36: 601 | G36: 1 | H36: =IF($G36<>0,VLOOKUP($G36,Fordeling,H$4+3,FALSE)*$F36,0) -> 0 | I36: =IF($G36<>0,VLOOKUP($G36,Fordeling,I$4+3,FALSE)*$F36,0) -> 0 | J36: =IF($G36<>0,VLOOKUP($G36,Fordeling,J$4+3,FALSE)*$F36,0) -> 0 | K36: =IF($G36<>0,VLOOKUP($G36,Fordeling,K$4+3,FALSE)*$F36,0) -> 0 | L36: =IF($G36<>0,VLOOKUP($G36,Fordeling,L$4+3,FALSE)*$F36,0) -> 0 | M36: =IF($G36<>0,VLOOKUP($G36,Fordeling,M$4+3,FALSE)*$F36,0) -> 0 | N36: =IF($G36<>0,VLOOKUP($G36,Fordeling,N$4+3,FALSE)*$F36,0) -> 0 | O36: =IF($G36<>0,VLOOKUP($G36,Fordeling,O$4+3,FALSE)*$F36,0) -> 0 | ... S36: =IF($G36<>0,VLOOKUP($G36,Fordeling,S$4+3,FALSE)*$F36,0) -> 0
B37: 4160 | C37: Deltakeravgift arrangementer | D37: 6 | E37: 601 | F37: 80000 | G37: 1 | H37: =IF($G37<>0,VLOOKUP($G37,Fordeling,H$4+3,FALSE)*$F37,0) -> 6666.6667 | I37: =IF($G37<>0,VLOOKUP($G37,Fordeling,I$4+3,FALSE)*$F37,0) -> 6666.6667 | J37: =IF($G37<>0,VLOOKUP($G37,Fordeling,J$4+3,FALSE)*$F37,0) -> 6666.6667 | K37: =IF($G37<>0,VLOOKUP($G37,Fordeling,K$4+3,FALSE)*$F37,0) -> 6666.6667 | L37: =IF($G37<>0,VLOOKUP($G37,Fordeling,L$4+3,FALSE)*$F37,0) -> 6666.6667 | M37: =IF($G37<>0,VLOOKUP($G37,Fordeling,M$4+3,FALSE)*$F37,0) -> 6666.6667 | N37: =IF($G37<>0,VLOOKUP($G37,Fordeling,N$4+3,FALSE)*$F37,0) -> 6666.6667 | O37: =IF($G37<>0,VLOOKUP($G37,Fordeling,O$4+3,FALSE)*$F37,0) -> 6666.6667 | ... S37: =IF($G37<>0,VLOOKUP($G37,Fordeling,S$4+3,FALSE)*$F37,0) -> 6666.6667
B38: 4170 | C38: Treningssamlinger/samarbeid | D38: 6 | E38: 601 | F38: 45000 | G38: 1 | H38: =IF($G38<>0,VLOOKUP($G38,Fordeling,H$4+3,FALSE)*$F38,0) -> 3750 | I38: =IF($G38<>0,VLOOKUP($G38,Fordeling,I$4+3,FALSE)*$F38,0) -> 3750 | J38: =IF($G38<>0,VLOOKUP($G38,Fordeling,J$4+3,FALSE)*$F38,0) -> 3750 | K38: =IF($G38<>0,VLOOKUP($G38,Fordeling,K$4+3,FALSE)*$F38,0) -> 3750 | L38: =IF($G38<>0,VLOOKUP($G38,Fordeling,L$4+3,FALSE)*$F38,0) -> 3750 | M38: =IF($G38<>0,VLOOKUP($G38,Fordeling,M$4+3,FALSE)*$F38,0) -> 3750 | N38: =IF($G38<>0,VLOOKUP($G38,Fordeling,N$4+3,FALSE)*$F38,0) -> 3750 | O38: =IF($G38<>0,VLOOKUP($G38,Fordeling,O$4+3,FALSE)*$F38,0) -> 3750 | ... S38: =IF($G38<>0,VLOOKUP($G38,Fordeling,S$4+3,FALSE)*$F38,0) -> 3750
B39: 4175 | C39: Miljøsamlinger | D39: 6 | E39: 601 | F39: 25000 | G39: 1 | H39: =IF($G39<>0,VLOOKUP($G39,Fordeling,H$4+3,FALSE)*$F39,0) -> 2083.3333 | I39: =IF($G39<>0,VLOOKUP($G39,Fordeling,I$4+3,FALSE)*$F39,0) -> 2083.3333 | J39: =IF($G39<>0,VLOOKUP($G39,Fordeling,J$4+3,FALSE)*$F39,0) -> 2083.3333 | K39: =IF($G39<>0,VLOOKUP($G39,Fordeling,K$4+3,FALSE)*$F39,0) -> 2083.3333 | L39: =IF($G39<>0,VLOOKUP($G39,Fordeling,L$4+3,FALSE)*$F39,0) -> 2083.3333 | M39: =IF($G39<>0,VLOOKUP($G39,Fordeling,M$4+3,FALSE)*$F39,0) -> 2083.3333 | N39: =IF($G39<>0,VLOOKUP($G39,Fordeling,N$4+3,FALSE)*$F39,0) -> 2083.3333 | O39: =IF($G39<>0,VLOOKUP($G39,Fordeling,O$4+3,FALSE)*$F39,0) -> 2083.3333 | ... S39: =IF($G39<>0,VLOOKUP($G39,Fordeling,S$4+3,FALSE)*$F39,0) -> 2083.3333
B40: 4300 | C40: Innkjøp varer for videresalg | D40: 6 | E40: 601 | F40: 30000 | G40: 1 | H40: =IF($G40<>0,VLOOKUP($G40,Fordeling,H$4+3,FALSE)*$F40,0) -> 2500 | I40: =IF($G40<>0,VLOOKUP($G40,Fordeling,I$4+3,FALSE)*$F40,0) -> 2500 | J40: =IF($G40<>0,VLOOKUP($G40,Fordeling,J$4+3,FALSE)*$F40,0) -> 2500 | K40: =IF($G40<>0,VLOOKUP($G40,Fordeling,K$4+3,FALSE)*$F40,0) -> 2500 | L40: =IF($G40<>0,VLOOKUP($G40,Fordeling,L$4+3,FALSE)*$F40,0) -> 2500 | M40: =IF($G40<>0,VLOOKUP($G40,Fordeling,M$4+3,FALSE)*$F40,0) -> 2500 | N40: =IF($G40<>0,VLOOKUP($G40,Fordeling,N$4+3,FALSE)*$F40,0) -> 2500 | O40: =IF($G40<>0,VLOOKUP($G40,Fordeling,O$4+3,FALSE)*$F40,0) -> 2500 | ... S40: =IF($G40<>0,VLOOKUP($G40,Fordeling,S$4+3,FALSE)*$F40,0) -> 2500
B41: 5001 | C41: Lønn til ansatte | D41: 6 | E41: 601 | G41: 1 | H41: =IF($G41<>0,VLOOKUP($G41,Fordeling,H$4+3,FALSE)*$F41,0) -> 0 | I41: =IF($G41<>0,VLOOKUP($G41,Fordeling,I$4+3,FALSE)*$F41,0) -> 0 | J41: =IF($G41<>0,VLOOKUP($G41,Fordeling,J$4+3,FALSE)*$F41,0) -> 0 | K41: =IF($G41<>0,VLOOKUP($G41,Fordeling,K$4+3,FALSE)*$F41,0) -> 0 | L41: =IF($G41<>0,VLOOKUP($G41,Fordeling,L$4+3,FALSE)*$F41,0) -> 0 | M41: =IF($G41<>0,VLOOKUP($G41,Fordeling,M$4+3,FALSE)*$F41,0) -> 0 | N41: =IF($G41<>0,VLOOKUP($G41,Fordeling,N$4+3,FALSE)*$F41,0) -> 0 | O41: =IF($G41<>0,VLOOKUP($G41,Fordeling,O$4+3,FALSE)*$F41,0) -> 0 | ... S41: =IF($G41<>0,VLOOKUP($G41,Fordeling,S$4+3,FALSE)*$F41,0) -> 0
B42: 5009 | C42: Honorar, inkl.feriepenger | D42: 6 | E42: 601 | G42: 1 | H42: =IF($G42<>0,VLOOKUP($G42,Fordeling,H$4+3,FALSE)*$F42,0) -> 0 | I42: =IF($G42<>0,VLOOKUP($G42,Fordeling,I$4+3,FALSE)*$F42,0) -> 0 | J42: =IF($G42<>0,VLOOKUP($G42,Fordeling,J$4+3,FALSE)*$F42,0) -> 0 | K42: =IF($G42<>0,VLOOKUP($G42,Fordeling,K$4+3,FALSE)*$F42,0) -> 0 | L42: =IF($G42<>0,VLOOKUP($G42,Fordeling,L$4+3,FALSE)*$F42,0) -> 0 | M42: =IF($G42<>0,VLOOKUP($G42,Fordeling,M$4+3,FALSE)*$F42,0) -> 0 | N42: =IF($G42<>0,VLOOKUP($G42,Fordeling,N$4+3,FALSE)*$F42,0) -> 0 | O42: =IF($G42<>0,VLOOKUP($G42,Fordeling,O$4+3,FALSE)*$F42,0) -> 0 | ... S42: =IF($G42<>0,VLOOKUP($G42,Fordeling,S$4+3,FALSE)*$F42,0) -> 0
...

Sheet Input 602 - Helt konge
G2: LEGG INN TALL I FELTET "Totalt"
G3: TALLET VI FORDELE SEG LIKT UT I HVER MÅNED
H4: 1 | I4: 2 | J4: 3 | K4: 4 | L4: 5 | M4: 6 | N4: 7 | O4: 8 | P4: 9 | Q4: 10 | R4: 11 | S4: 12 | T4: 12
B5: Kontonr | C5: Kontonavn | D5: Avdeling | E5: Prosjekt | F5: Totalt | G5: Fordeling | H5: Januar | I5: Februar | J5: Mars | K5: April | L5: Mai | M5: Juni | N5: Juli | O5: August | P5: September | Q5: Oktober | R5: November | S5: Desember | T5: Sum
B7: 3000 | C7: Salg, avgiftspliktig | D7: 6 | E7: 602 | G7: 1 | H7: =IF($G7<>0,VLOOKUP($G7,Fordeling,H$4+3,FALSE)*$F7,0) -> 0 | I7: =IF($G7<>0,VLOOKUP($G7,Fordeling,I$4+3,FALSE)*$F7,0) -> 0 | J7: =IF($G7<>0,VLOOKUP($G7,Fordeling,J$4+3,FALSE)*$F7,0) -> 0 | L7: =IF($G7<>0,VLOOKUP($G7,Fordeling,L$4+3,FALSE)*$F7,0) -> 0 | M7: =IF($G7<>0,VLOOKUP($G7,Fordeling,M$4+3,FALSE)*$F7,0) -> 0 | N7: =IF($G7<>0,VLOOKUP($G7,Fordeling,N$4+3,FALSE)*$F7,0) -> 0 | O7: =IF($G7<>0,VLOOKUP($G7,Fordeling,O$4+3,FALSE)*$F7,0) -> 0 | P7: =IF($G7<>0,VLOOKUP($G7,Fordeling,P$4+3,FALSE)*$F7,0) -> 0 | Q7: =IF($G7<>0,VLOOKUP($G7,Fordeling,Q$4+3,FALSE)*$F7,0) -> 0 | R7: =IF($G7<>0,VLOOKUP($G7,Fordeling,R$4+3,FALSE)*$F7,0) -> 0 | S7: =IF($G7<>0,VLOOKUP($G7,Fordeling,S$4+3,FALSE)*$F7,0) -> 0
B8: 3010 | C8: Billettinntekter | D8: 6 | E8: 602 | G8: 1 | H8: =IF($G8<>0,VLOOKUP($G8,Fordeling,H$4+3,FALSE)*$F8,0) -> 0 | I8: =IF($G8<>0,VLOOKUP($G8,Fordeling,I$4+3,FALSE)*$F8,0) -> 0 | J8: =IF($G8<>0,VLOOKUP($G8,Fordeling,J$4+3,FALSE)*$F8,0) -> 0 | K8: =IF($G8<>0,VLOOKUP($G8,Fordeling,K$4+3,FALSE)*$F8,0) -> 0 | L8: =IF($G8<>0,VLOOKUP($G8,Fordeling,L$4+3,FALSE)*$F8,0) -> 0 | M8: =IF($G8<>0,VLOOKUP($G8,Fordeling,M$4+3,FALSE)*$F8,0) -> 0 | N8: =IF($G8<>0,VLOOKUP($G8,Fordeling,N$4+3,FALSE)*$F8,0) -> 0 | O8: =IF($G8<>0,VLOOKUP($G8,Fordeling,O$4+3,FALSE)*$F8,0) -> 0 | ... S8: =IF($G8<>0,VLOOKUP($G8,Fordeling,S$4+3,FALSE)*$F8,0) -> 0
B9: 3020 | C9: Reklameinntekter avg.pliktig | D9: 6 | E9: 602 | F9: 20000 | G9: 1 | H9: =IF($G9<>0,VLOOKUP($G9,Fordeling,H$4+3,FALSE)*$F9,0) -> 1666.6667 | I9: =IF($G9<>0,VLOOKUP($G9,Fordeling,I$4+3,FALSE)*$F9,0) -> 1666.6667 | J9: =IF($G9<>0,VLOOKUP($G9,Fordeling,J$4+3,FALSE)*$F9,0) -> 1666.6667 | K9: =IF($G9<>0,VLOOKUP($G9,Fordeling,K$4+3,FALSE)*$F9,0) -> 1666.6667 | L9: =IF($G9<>0,VLOOKUP($G9,Fordeling,L$4+3,FALSE)*$F9,0) -> 1666.6667 | M9: =IF($G9<>0,VLOOKUP($G9,Fordeling,M$4+3,FALSE)*$F9,0) -> 1666.6667 | N9: =IF($G9<>0,VLOOKUP($G9,Fordeling,N$4+3,FALSE)*$F9,0) -> 1666.6667 | O9: =IF($G9<>0,VLOOKUP($G9,Fordeling,O$4+3,FALSE)*$F9,0) -> 1666.6667 | ... S9: =IF($G9<>0,VLOOKUP($G9,Fordeling,S$4+3,FALSE)*$F9,0) -> 1666.6667
B10: 3030 | C10: Salg, avgiftspliktig middels sats | D10: 6 | E10: 602 | G10: 1 | H10: =IF($G10<>0,VLOOKUP($G10,Fordeling,H$4+3,FALSE)*$F10,0) -> 0 | I10: =IF($G10<>0,VLOOKUP($G10,Fordeling,I$4+3,FALSE)*$F10,0) -> 0 | J10: =IF($G10<>0,VLOOKUP($G10,Fordeling,J$4+3,FALSE)*$F10,0) -> 0 | K10: =IF($G10<>0,VLOOKUP($G10,Fordeling,K$4+3,FALSE)*$F10,0) -> 0 | L10: =IF($G10<>0,VLOOKUP($G10,Fordeling,L$4+3,FALSE)*$F10,0) -> 0 | M10: =IF($G10<>0,VLOOKUP($G10,Fordeling,M$4+3,FALSE)*$F10,0) -> 0 | N10: =IF($G10<>0,VLOOKUP($G10,Fordeling,N$4+3,FALSE)*$F10,0) -> 0 | O10: =IF($G10<>0,VLOOKUP($G10,Fordeling,O$4+3,FALSE)*$F10,0) -> 0 | ... S10: =IF($G10<>0,VLOOKUP($G10,Fordeling,S$4+3,FALSE)*$F10,0) -> 0
B11: 3050 | C11: Salg, avgiftspliktig lav sats | D11: 6 | E11: 602 | G11: 1 | H11: =IF($G11<>0,VLOOKUP($G11,Fordeling,H$4+3,FALSE)*$F11,0) -> 0 | I11: =IF($G11<>0,VLOOKUP($G11,Fordeling,I$4+3,FALSE)*$F11,0) -> 0 | J11: =IF($G11<>0,VLOOKUP($G11,Fordeling,J$4+3,FALSE)*$F11,0) -> 0 | K11: =IF($G11<>0,VLOOKUP($G11,Fordeling,K$4+3,FALSE)*$F11,0) -> 0 | L11: =IF($G11<>0,VLOOKUP($G11,Fordeling,L$4+3,FALSE)*$F11,0) -> 0 | M11: =IF($G11<>0,VLOOKUP($G11,Fordeling,M$4+3,FALSE)*$F11,0) -> 0 | N11: =IF($G11<>0,VLOOKUP($G11,Fordeling,N$4+3,FALSE)*$F11,0) -> 0 | O11: =IF($G11<>0,VLOOKUP($G11,Fordeling,O$4+3,FALSE)*$F11,0) -> 0 | ... S11: =IF($G11<>0,VLOOKUP($G11,Fordeling,S$4+3,FALSE)*$F11,0) -> 0
B12: 3081 | C12: Kontantrabatter, avgiftspliktige | D12: 6 | E12: 602 | G12: 1 | H12: =IF($G12<>0,VLOOKUP($G12,Fordeling,H$4+3,FALSE)*$F12,0) -> 0 | I12: =IF($G12<>0,VLOOKUP($G12,Fordeling,I$4+3,FALSE)*$F12,0) -> 0 | J12: =IF($G12<>0,VLOOKUP($G12,Fordeling,J$4+3,FALSE)*$F12,0) -> 0 | K12: =IF($G12<>0,VLOOKUP($G12,Fordeling,K$4+3,FALSE)*$F12,0) -> 0 | L12: =IF($G12<>0,VLOOKUP($G12,Fordeling,L$4+3,FALSE)*$F12,0) -> 0 | M12: =IF($G12<>0,VLOOKUP($G12,Fordeling,M$4+3,FALSE)*$F12,0) -> 0 | N12: =IF($G12<>0,VLOOKUP($G12,Fordeling,N$4+3,FALSE)*$F12,0) -> 0 | O12: =IF($G12<>0,VLOOKUP($G12,Fordeling,O$4+3,FALSE)*$F12,0) -> 0 | ... S12: =IF($G12<>0,VLOOKUP($G12,Fordeling,S$4+3,FALSE)*$F12,0) -> 0
B13: 3100 | C13: Salg, avgiftsfritt | D13: 6 | E13: 602 | G13: 1 | H13: =IF($G13<>0,VLOOKUP($G13,Fordeling,H$4+3,FALSE)*$F13,0) -> 0 | I13: =IF($G13<>0,VLOOKUP($G13,Fordeling,I$4+3,FALSE)*$F13,0) -> 0 | J13: =IF($G13<>0,VLOOKUP($G13,Fordeling,J$4+3,FALSE)*$F13,0) -> 0 | K13: =IF($G13<>0,VLOOKUP($G13,Fordeling,K$4+3,FALSE)*$F13,0) -> 0 | L13: =IF($G13<>0,VLOOKUP($G13,Fordeling,L$4+3,FALSE)*$F13,0) -> 0 | M13: =IF($G13<>0,VLOOKUP($G13,Fordeling,M$4+3,FALSE)*$F13,0) -> 0 | N13: =IF($G13<>0,VLOOKUP($G13,Fordeling,N$4+3,FALSE)*$F13,0) -> 0 | O13: =IF($G13<>0,VLOOKUP($G13,Fordeling,O$4+3,FALSE)*$F13,0) -> 0 | ... S13: =IF($G13<>0,VLOOKUP($G13,Fordeling,S$4+3,FALSE)*$F13,0) -> 0
B14: 3120 | C14: Reklameinntekter avg.fritt | D14: 6 | E14: 602 | G14: 1 | H14: =IF($G14<>0,VLOOKUP($G14,Fordeling,H$4+3,FALSE)*$F14,0) -> 0 | I14: =IF($G14<>0,VLOOKUP($G14,Fordeling,I$4+3,FALSE)*$F14,0) -> 0 | J14: =IF($G14<>0,VLOOKUP($G14,Fordeling,J$4+3,FALSE)*$F14,0) -> 0 | K14: =IF($G14<>0,VLOOKUP($G14,Fordeling,K$4+3,FALSE)*$F14,0) -> 0 | L14: =IF($G14<>0,VLOOKUP($G14,Fordeling,L$4+3,FALSE)*$F14,0) -> 0 | M14: =IF($G14<>0,VLOOKUP($G14,Fordeling,M$4+3,FALSE)*$F14,0) -> 0 | N14: =IF($G14<>0,VLOOKUP($G14,Fordeling,N$4+3,FALSE)*$F14,0) -> 0 | O14: =IF($G14<>0,VLOOKUP($G14,Fordeling,O$4+3,FALSE)*$F14,0) -> 0 | ... S14: =IF($G14<>0,VLOOKUP($G14,Fordeling,S$4+3,FALSE)*$F14,0) -> 0
B15: 3181 | C15: Kontantrabatter, avg.fri. | D15: 6 | E15: 602 | G15: 1 | H15: =IF($G15<>0,VLOOKUP($G15,Fordeling,H$4+3,FALSE)*$F15,0) -> 0 | I15: =IF($G15<>0,VLOOKUP($G15,Fordeling,I$4+3,FALSE)*$F15,0) -> 0 | J15: =IF($G15<>0,VLOOKUP($G15,Fordeling,J$4+3,FALSE)*$F15,0) -> 0 | K15: =IF($G15<>0,VLOOKUP($G15,Fordeling,K$4+3,FALSE)*$F15,0) -> 0 | L15: =IF($G15<>0,VLOOKUP($G15,Fordeling,L$4+3,FALSE)*$F15,0) -> 0 | M15: =IF($G15<>0,VLOOKUP($G15,Fordeling,M$4+3,FALSE)*$F15,0) -> 0 | N15: =IF($G15<>0,VLOOKUP($G15,Fordeling,N$4+3,FALSE)*$F15,0) -> 0 | O15: =IF($G15<>0,VLOOKUP($G15,Fordeling,O$4+3,FALSE)*$F15,0) -> 0 | ... S15: =IF($G15<>0,VLOOKUP($G15,Fordeling,S$4+3,FALSE)*$F15,0) -> 0
B16: 3200 | C16: Salg utenfor avgiftsområdet | D16: 6 | E16: 602 | G16: 1 | H16: =IF($G16<>0,VLOOKUP($G16,Fordeling,H$4+3,FALSE)*$F16,0) -> 0 | I16: =IF($G16<>0,VLOOKUP($G16,Fordeling,I$4+3,FALSE)*$F16,0) -> 0 | J16: =IF($G16<>0,VLOOKUP($G16,Fordeling,J$4+3,FALSE)*$F16,0) -> 0 | K16: =IF($G16<>0,VLOOKUP($G16,Fordeling,K$4+3,FALSE)*$F16,0) -> 0 | L16: =IF($G16<>0,VLOOKUP($G16,Fordeling,L$4+3,FALSE)*$F16,0) -> 0 | M16: =IF($G16<>0,VLOOKUP($G16,Fordeling,M$4+3,FALSE)*$F16,0) -> 0 | N16: =IF($G16<>0,VLOOKUP($G16,Fordeling,N$4+3,FALSE)*$F16,0) -> 0 | O16: =IF($G16<>0,VLOOKUP($G16,Fordeling,O$4+3,FALSE)*$F16,0) -> 0 | ... S16: =IF($G16<>0,VLOOKUP($G16,Fordeling,S$4+3,FALSE)*$F16,0) -> 0
B17: 3210 | C17: Inntekt deltakeravgift | D17: 6 | E17: 602 | F17: 55000 | G17: 1 | H17: =IF($G17<>0,VLOOKUP($G17,Fordeling,H$4+3,FALSE)*$F17,0) -> 4583.3333 | I17: =IF($G17<>0,VLOOKUP($G17,Fordeling,I$4+3,FALSE)*$F17,0) -> 4583.3333 | J17: =IF($G17<>0,VLOOKUP($G17,Fordeling,J$4+3,FALSE)*$F17,0) -> 4583.3333 | K17: =IF($G17<>0,VLOOKUP($G17,Fordeling,K$4+3,FALSE)*$F17,0) -> 4583.3333 | L17: =IF($G17<>0,VLOOKUP($G17,Fordeling,L$4+3,FALSE)*$F17,0) -> 4583.3333 | M17: =IF($G17<>0,VLOOKUP($G17,Fordeling,M$4+3,FALSE)*$F17,0) -> 4583.3333 | N17: =IF($G17<>0,VLOOKUP($G17,Fordeling,N$4+3,FALSE)*$F17,0) -> 4583.3333 | O17: =IF($G17<>0,VLOOKUP($G17,Fordeling,O$4+3,FALSE)*$F17,0) -> 4583.3333 | ... S17: =IF($G17<>0,VLOOKUP($G17,Fordeling,S$4+3,FALSE)*$F17,0) -> 4583.3333
B18: 3400 | C18: Offentlig tilskudd/refusjon | D18: 6 | E18: 602 | G18: 1 | H18: =IF($G18<>0,VLOOKUP($G18,Fordeling,H$4+3,FALSE)*$F18,0) -> 0 | I18: =IF($G18<>0,VLOOKUP($G18,Fordeling,I$4+3,FALSE)*$F18,0) -> 0 | J18: =IF($G18<>0,VLOOKUP($G18,Fordeling,J$4+3,FALSE)*$F18,0) -> 0 | K18: =IF($G18<>0,VLOOKUP($G18,Fordeling,K$4+3,FALSE)*$F18,0) -> 0 | L18: =IF($G18<>0,VLOOKUP($G18,Fordeling,L$4+3,FALSE)*$F18,0) -> 0 | M18: =IF($G18<>0,VLOOKUP($G18,Fordeling,M$4+3,FALSE)*$F18,0) -> 0 | N18: =IF($G18<>0,VLOOKUP($G18,Fordeling,N$4+3,FALSE)*$F18,0) -> 0 | O18: =IF($G18<>0,VLOOKUP($G18,Fordeling,O$4+3,FALSE)*$F18,0) -> 0 | ... S18: =IF($G18<>0,VLOOKUP($G18,Fordeling,S$4+3,FALSE)*$F18,0) -> 0
B19: 3442 | C19: Tilskudd øremerkede | D19: 6 | E19: 602 | G19: 1 | H19: =IF($G19<>0,VLOOKUP($G19,Fordeling,H$4+3,FALSE)*$F19,0) -> 0 | I19: =IF($G19<>0,VLOOKUP($G19,Fordeling,I$4+3,FALSE)*$F19,0) -> 0 | J19: =IF($G19<>0,VLOOKUP($G19,Fordeling,J$4+3,FALSE)*$F19,0) -> 0 | K19: =IF($G19<>0,VLOOKUP($G19,Fordeling,K$4+3,FALSE)*$F19,0) -> 0 | L19: =IF($G19<>0,VLOOKUP($G19,Fordeling,L$4+3,FALSE)*$F19,0) -> 0 | M19: =IF($G19<>0,VLOOKUP($G19,Fordeling,M$4+3,FALSE)*$F19,0) -> 0 | N19: =IF($G19<>0,VLOOKUP($G19,Fordeling,N$4+3,FALSE)*$F19,0) -> 0 | O19: =IF($G19<>0,VLOOKUP($G19,Fordeling,O$4+3,FALSE)*$F19,0) -> 0 | ... S19: =IF($G19<>0,VLOOKUP($G19,Fordeling,S$4+3,FALSE)*$F19,0) -> 0
B20: 3445 | C20: Tilsskudd andre | D20: 6 | E20: 602 | G20: 1 | H20: =IF($G20<>0,VLOOKUP($G20,Fordeling,H$4+3,FALSE)*$F20,0) -> 0 | I20: =IF($G20<>0,VLOOKUP($G20,Fordeling,I$4+3,FALSE)*$F20,0) -> 0 | J20: =IF($G20<>0,VLOOKUP($G20,Fordeling,J$4+3,FALSE)*$F20,0) -> 0 | K20: =IF($G20<>0,VLOOKUP($G20,Fordeling,K$4+3,FALSE)*$F20,0) -> 0 | L20: =IF($G20<>0,VLOOKUP($G20,Fordeling,L$4+3,FALSE)*$F20,0) -> 0 | M20: =IF($G20<>0,VLOOKUP($G20,Fordeling,M$4+3,FALSE)*$F20,0) -> 0 | N20: =IF($G20<>0,VLOOKUP($G20,Fordeling,N$4+3,FALSE)*$F20,0) -> 0 | O20: =IF($G20<>0,VLOOKUP($G20,Fordeling,O$4+3,FALSE)*$F20,0) -> 0 | ... S20: =IF($G20<>0,VLOOKUP($G20,Fordeling,S$4+3,FALSE)*$F20,0) -> 0
B21: 3450 | C21: Støtte løyper | D21: 6 | E21: 602 | G21: 1 | H21: =IF($G21<>0,VLOOKUP($G21,Fordeling,H$4+3,FALSE)*$F21,0) -> 0 | I21: =IF($G21<>0,VLOOKUP($G21,Fordeling,I$4+3,FALSE)*$F21,0) -> 0 | J21: =IF($G21<>0,VLOOKUP($G21,Fordeling,J$4+3,FALSE)*$F21,0) -> 0 | K21: =IF($G21<>0,VLOOKUP($G21,Fordeling,K$4+3,FALSE)*$F21,0) -> 0 | L21: =IF($G21<>0,VLOOKUP($G21,Fordeling,L$4+3,FALSE)*$F21,0) -> 0 | M21: =IF($G21<>0,VLOOKUP($G21,Fordeling,M$4+3,FALSE)*$F21,0) -> 0 | N21: =IF($G21<>0,VLOOKUP($G21,Fordeling,N$4+3,FALSE)*$F21,0) -> 0 | O21: =IF($G21<>0,VLOOKUP($G21,Fordeling,O$4+3,FALSE)*$F21,0) -> 0 | ... S21: =IF($G21<>0,VLOOKUP($G21,Fordeling,S$4+3,FALSE)*$F21,0) -> 0
B22: 3455 | C22: Inntekt Enjoyguide | D22: 6 | E22: 602 | G22: 1 | H22: =IF($G22<>0,VLOOKUP($G22,Fordeling,H$4+3,FALSE)*$F22,0) -> 0 | I22: =IF($G22<>0,VLOOKUP($G22,Fordeling,I$4+3,FALSE)*$F22,0) -> 0 | J22: =IF($G22<>0,VLOOKUP($G22,Fordeling,J$4+3,FALSE)*$F22,0) -> 0 | K22: =IF($G22<>0,VLOOKUP($G22,Fordeling,K$4+3,FALSE)*$F22,0) -> 0 | L22: =IF($G22<>0,VLOOKUP($G22,Fordeling,L$4+3,FALSE)*$F22,0) -> 0 | M22: =IF($G22<>0,VLOOKUP($G22,Fordeling,M$4+3,FALSE)*$F22,0) -> 0 | N22: =IF($G22<>0,VLOOKUP($G22,Fordeling,N$4+3,FALSE)*$F22,0) -> 0 | O22: =IF($G22<>0,VLOOKUP($G22,Fordeling,O$4+3,FALSE)*$F22,0) -> 0 | ... S22: =IF($G22<>0,VLOOKUP($G22,Fordeling,S$4+3,FALSE)*$F22,0) -> 0
