Workbook
Name AGA: 'Hjelpeark lønnsbudsjett'!$H$3
Name Bud_år: #REF!
Name Bud_år: #REF!
Name Bud_år: #REF!
Name Bud_år: #REF!
Name Bud_år: #REF!
Name Bud_år: #REF!
Name Dato_lønn: 'Hjelpeark lønnsbudsjett'!$L$2
Name Fordeling: Fordelingsnøkler!$A$4:$P$24
Name FP: 'Hjelpeark lønnsbudsjett'!$H$2
Name Lønnsforhøyelse: 'Hjelpeark lønnsbudsjett'!$L$3
Name Månedstabell: #REF!
Name Månedstabell: #REF!
Name Månedstabell: #REF!
Name Månedstabell: #REF!
Name Månedstabell: #REF!
Name Månedstabell: #REF!
Name Navn: #REF!
Name Navn: #REF!
Name Navn: #REF!
Name Navn: #REF!
Name Navn: #REF!
Name Navn: #REF!

Sheet OIL SKI TOTALT
G1: AUTOMATISK SUMMERING!!
G2: HER SUMMERES ALLE PROSJEKTER OPP I EN TOTAL!
G3: IKKE LEGG INN TALL MANUELT I DETTE ARKET!
H4: 1 | I4: 2 | J4: 3 | K4: 4 | L4: 5 | M4: 6 | N4: 7 | O4: 8 | P4: 9 | Q4: 10 | R4: 11 | S4: 12 | T4: 12
B5: Kontonr | C5: Kontonavn | D5: Avdeling | F5: TOTAL | G5: Fordeling | H5: Januar | I5: Februar | J5: Mars | K5: April | L5: Mai | M5: Juni | N5: Juli | O5: August | P5: September | Q5: Oktober | R5: November | S5: Desember | T5: Sum
B7: 3000 | C7: Salg, avgiftspliktig | D7: 6 | F7: ='Input 601 - Administrasjon'!F7+'Input 602 - Helt konge'!F7+'Input 603 - Ottestadrennet'!F7+' Input 607 - Snøproduksjon'!F7+'Input 604 - Ottestadstien'!F7 -> 51000 | G7: 1 | H7: =IF($G7<>0,VLOOKUP($G7,Fordeling,H$4+3,FALSE)*$F7,0) -> 4250 | I7: =IF($G7<>0,VLOOKUP($G7,Fordeling,I$4+3,FALSE)*$F7,0) -> 4250 | J7: =IF($G7<>0,VLOOKUP($G7,Fordeling,J$4+3,FALSE)*$F7,0) -> 4250 | K7: =IF($G7<>0,VLOOKUP($G7,Fordeling,K$4+3,FALSE)*$F7,0) -> 4250 | L7: =IF($G7<>0,VLOOKUP($G7,Fordeling,L$4+3,FALSE)*$F7,0) -> 4250 | M7: =IF($G7<>0,VLOOKUP($G7,Fordeling,M$4+3,FALSE)*$F7,0) -> 4250 | N7: =IF($G7<>0,VLOOKUP($G7,Fordeling,N$4+3,FALSE)*$F7,0) -> 4250 | O7: =IF($G7<>0,VLOOKUP($G7,Fordeling,O$4+3,FALSE)*$F7,0) -> 4250 | ... S7: =IF($G7<>0,VLOOKUP($G7,Fordeling,S$4+3,FALSE)*$F7,0) -> 4250
B8: 3010 | C8: Billettinntekter | D8: 6 | F8: ='Input 601 - Administrasjon'!F8+'Input 602 - Helt konge'!F8+'Input 603 - Ottestadrennet'!F8+' Input 607 - Snøproduksjon'!F8+'Input 604 - Ottestadstien'!F8 -> 0 | G8: 1 | H8: =IF($G8<>0,VLOOKUP($G8,Fordeling,H$4+3,FALSE)*$F8,0) -> 0 | I8: =IF($G8<>0,VLOOKUP($G8,Fordeling,I$4+3,FALSE)*$F8,0) -> 0 | J8: =IF($G8<>0,VLOOKUP($G8,Fordeling,J$4+3,FALSE)*$F8,0) -> 0 | K8: =IF($G8<>0,VLOOKUP($G8,Fordeling,K$4+3,FALSE)*$F8,0) -> 0 | L8: =IF($G8<>0,VLOOKUP($G8,Fordeling,L$4+3,FALSE)*$F8,0) -> 0 | M8: =IF($G8<>0,VLOOKUP($G8,Fordeling,M$4+3,FALSE)*$F8,0) -> 0 | N8: =IF($G8<>0,VLOOKUP($G8,Fordeling,N$4+3,FALSE)*$F8,0) -> 0 | O8: =IF($G8<>0,VLOOKUP($G8,Fordeling,O$4+3,FALSE)*$F8,0) -> 0 | ... S8: =IF($G8<>0,VLOOKUP($G8,Fordeling,S$4+3,FALSE)*$F8,0) -> 0
B9: 3020 | C9: Reklameinntekter avg.pliktig | D9: 6 | F9: ='Input 601 - Administrasjon'!F9+'Input 602 - Helt konge'!F9+'Input 603 - Ottestadrennet'!F9+' Input 607 - Snøproduksjon'!F9+'Input 604 - Ottestadstien'!F9 -> 115000 | G9: 1 | H9: =IF($G9<>0,VLOOKUP($G9,Fordeling,H$4+3,FALSE)*$F9,0) -> 9583.3333 | I9: =IF($G9<>0,VLOOKUP($G9,Fordeling,I$4+3,FALSE)*$F9,0) -> 9583.3333 | J9: =IF($G9<>0,VLOOKUP($G9,Fordeling,J$4+3,FALSE)*$F9,0) -> 9583.3333 | K9: =IF($G9<>0,VLOOKUP($G9,Fordeling,K$4+3,FALSE)*$F9,0) -> 9583.3333 | L9: =IF($G9<>0,VLOOKUP($G9,Fordeling,L$4+3,FALSE)*$F9,0) -> 9583.3333 | M9: =IF($G9<>0,VLOOKUP($G9,Fordeling,M$4+3,FALSE)*$F9,0) -> 9583.3333 | N9: =IF($G9<>0,VLOOKUP($G9,Fordeling,N$4+3,FALSE)*$F9,0) -> 9583.3333 | O9: =IF($G9<>0,VLOOKUP($G9,Fordeling,O$4+3,FALSE)*$F9,0) -> 9583.3333 | ... S9: =IF($G9<>0,VLOOKUP($G9,Fordeling,S$4+3,FALSE)*$F9,0) -> 9583.3333
B10: 3030 | C10: Salg, avgiftspliktig middels sats | D10: 6 | F10: ='Input 601 - Administrasjon'!F10+'Input 602 - Helt konge'!F10+'Input 603 - Ottestadrennet'!F10+' Input 607 - Snøproduksjon'!F10+'Input 604 - Ottestadstien'!F10 -> 0 | G10: 1 | H10: =IF($G10<>0,VLOOKUP($G10,Fordeling,H$4+3,FALSE)*$F10,0) -> 0 | I10: =IF($G10<>0,VLOOKUP($G10,Fordeling,I$4+3,FALSE)*$F10,0) -> 0 | J10: =IF($G10<>0,VLOOKUP($G10,Fordeling,J$4+3,FALSE)*$F10,0) -> 0 | K10: =IF($G10<>0,VLOOKUP($G10,Fordeling,K$4+3,FALSE)*$F10,0) -> 0 | L10: =IF($G10<>0,VLOOKUP($G10,Fordeling,L$4+3,FALSE)*$F10,0) -> 0 | M10: =IF($G10<>0,VLOOKUP($G10,Fordeling,M$4+3,FALSE)*$F10,0) -> 0 | N10: =IF($G10<>0,VLOOKUP($G10,Fordeling,N$4+3,FALSE)*$F10,0) -> 0 | O10: =IF($G10<>0,VLOOKUP($G10,Fordeling,O$4+3,FALSE)*$F10,0) -> 0 | ... S10: =IF($G10<>0,VLOOKUP($G10,Fordeling,S$4+3,FALSE)*$F10,0) -> 0
B11: 3050 | C11: Salg, avgiftspliktig lav sats | D11: 6 | F11: ='Input 601 - Administrasjon'!F11+'Input 602 - Helt konge'!F11+'Input 603 - Ottestadrennet'!F11+' Input 607 - Snøproduksjon'!F11+'Input 604 - Ottestadstien'!F11 -> 0 | G11: 1 | H11: =IF($G11<>0,VLOOKUP($G11,Fordeling,H$4+3,FALSE)*$F11,0) -> 0 | I11: =IF($G11<>0,VLOOKUP($G11,Fordeling,I$4+3,FALSE)*$F11,0) -> 0 | J11: =IF($G11<>0,VLOOKUP($G11,Fordeling,J$4+3,FALSE)*$F11,0) -> 0 | K11: =IF($G11<>0,VLOOKUP($G11,Fordeling,K$4+3,FALSE)*$F11,0) -> 0 | L11: =IF($G11<>0,VLOOKUP($G11,Fordeling,L$4+3,FALSE)*$F11,0) -> 0 | M11: =IF($G11<>0,VLOOKUP($G11,Fordeling,M$4+3,FALSE)*$F11,0) -> 0 | N11: =IF($G11<>0,VLOOKUP($G11,Fordeling,N$4+3,FALSE)*$F11,0) -> 0 | O11: =IF($G11<>0,VLOOKUP($G11,Fordeling,O$4+3,FALSE)*$F11,0) -> 0 | ... S11: =IF($G11<>0,VLOOKUP($G11,Fordeling,S$4+3,FALSE)*$F11,0) -> 0
B12: 3081 | C12: Kontantrabatter, avgiftspliktige | D12: 6 | F12: ='Input 601 - Administrasjon'!F12+'Input 602 - Helt konge'!F12+'Input 603 - Ottestadrennet'!F12+' Input 607 - Snøproduksjon'!F12+'Input 604 - Ottestadstien'!F12 -> 0 | G12: 1 | H12: =IF($G12<>0,VLOOKUP($G12,Fordeling,H$4+3,FALSE)*$F12,0) -> 0 | I12: =IF($G12<>0,VLOOKUP($G12,Fordeling,I$4+3,FALSE)*$F12,0) -> 0 | J12: =IF($G12<>0,VLOOKUP($G12,Fordeling,J$4+3,FALSE)*$F12,0) -> 0 | K12: =IF($G12<>0,VLOOKUP($G12,Fordeling,K$4+3,FALSE)*$F12,0) -> 0 | L12: =IF($G12<>0,VLOOKUP($G12,Fordeling,L$4+3,FALSE)*$F12,0) -> 0 | M12: =IF($G12<>0,VLOOKUP($G12,Fordeling,M$4+3,FALSE)*$F12,0) -> 0 | N12: =IF($G12<>0,VLOOKUP($G12,Fordeling,N$4+3,FALSE)*$F12,0) -> 0 | O12: =IF($G12<>0,VLOOKUP($G12,Fordeling,O$4+3,FALSE)*$F12,0) -> 0 | ... S12: =IF($G12<>0,VLOOKUP($G12,Fordeling,S$4+3,FALSE)*$F12,0) -> 0
B13: 3100 | C13: Salg, avgiftsfritt | D13: 6 | F13: ='Input 601 - Administrasjon'!F13+'Input 602 - Helt konge'!F13+'Input 603 - Ottestadrennet'!F13+' Input 607 - Snøproduksjon'!F13+'Input 604 - Ottestadstien'!F13 -> 0 | G13: 1 | H13: =IF($G13<>0,VLOOKUP($G13,Fordeling,H$4+3,FALSE)*$F13,0) -> 0 | I13: =IF($G13<>0,VLOOKUP($G13,Fordeling,I$4+3,FALSE)*$F13,0) -> 0 | J13: =IF($G13<>0,VLOOKUP($G13,Fordeling,J$4+3,FALSE)*$F13,0) -> 0 | K13: =IF($G13<>0,VLOOKUP($G13,Fordeling,K$4+3,FALSE)*$F13,0) -> 0 | L13: =IF($G13<>0,VLOOKUP($G13,Fordeling,L$4+3,FALSE)*$F13,0) -> 0 | M13: =IF($G13<>0,VLOOKUP($G13,Fordeling,M$4+3,FALSE)*$F13,0) -> 0 | N13: =IF($G13<>0,VLOOKUP($G13,Fordeling,N$4+3,FALSE)*$F13,0) -> 0 | O13: =IF($G13<>0,VLOOKUP($G13,Fordeling,O$4+3,FALSE)*$F13,0) -> 0 | ... S13: =IF($G13<>0,VLOOKUP($G13,Fordeling,S$4+3,FALSE)*$F13,0) -> 0
B14: 3120 | C14: Reklameinntekter avg.fritt | D14: 6 | F14: ='Input 601 - Administrasjon'!F14+'Input 602 - Helt konge'!F14+'Input 603 - Ottestadrennet'!F14+' Input 607 - Snøproduksjon'!F14+'Input 604 - Ottestadstien'!F14 -> 0 | G14: 1 | H14: =IF($G14<>0,VLOOKUP($G14,Fordeling,H$4+3,FALSE)*$F14,0) -> 0 | I14: =IF($G14<>0,VLOOKUP($G14,Fordeling,I$4+3,FALSE)*$F14,0) -> 0 | J14: =IF($G14<>0,VLOOKUP($G14,Fordeling,J$4+3,FALSE)*$F14,0) -> 0 | K14: =IF($G14<>0,VLOOKUP($G14,Fordeling,K$4+3,FALSE)*$F14,0) -> 0 | L14: =IF($G14<>0,VLOOKUP($G14,Fordeling,L$4+3,FALSE)*$F14,0) -> 0 | M14: =IF($G14<>0,VLOOKUP($G14,Fordeling,M$4+3,FALSE)*$F14,0) -> 0 | N14: =IF($G14<>0,VLOOKUP($G14,Fordeling,N$4+3,FALSE)*$F14,0) -> 0 | O14: =IF($G14<>0,VLOOKUP($G14,Fordeling,O$4+3,FALSE)*$F14,0) -> 0 | ... S14: =IF($G14<>0,VLOOKUP($G14,Fordeling,S$4+3,FALSE)*$F14,0) -> 0
B15: 3181 | C15: Kontantrabatter, avg.fri. | D15: 6 | F15: ='Input 601 - Administrasjon'!F15+'Input 602 - Helt konge'!F15+'Input 603 - Ottestadrennet'!F15+' Input 607 - Snøproduksjon'!F15+'Input 604 - Ottestadstien'!F15 -> 0 | G15: 1 | H15: =IF($G15<>0,VLOOKUP($G15,Fordeling,H$4+3,FALSE)*$F15,0) -> 0 | I15: =IF($G15<>0,VLOOKUP($G15,Fordeling,I$4+3,FALSE)*$F15,0) -> 0 | J15: =IF($G15<>0,VLOOKUP($G15,Fordeling,J$4+3,FALSE)*$F15,0) -> 0 | K15: =IF($G15<>0,VLOOKUP($G15,Fordeling,K$4+3,FALSE)*$F15,0) -> 0 | L15: =IF($G15<>0,VLOOKUP($G15,Fordeling,L$4+3,FALSE)*$F15,0) -> 0 | M15: =IF($G15<>0,VLOOKUP($G15,Fordeling,M$4+3,FALSE)*$F15,0) -> 0 | N15: =IF($G15<>0,VLOOKUP($G15,Fordeling,N$4+3,FALSE)*$F15,0) -> 0 | O15: =IF($G15<>0,VLOOKUP($G15,Fordeling,O$4+3,FALSE)*$F15,0) -> 0 | ... S15: =IF($G15<>0,VLOOKUP($G15,Fordeling,S$4+3,FALSE)*$F15,0) -> 0
B16: 3200 | C16: Salg utenfor avgiftsområdet | D16: 6 | F16: ='Input 601 - Administrasjon'!F16+'Input 602 - Helt konge'!F16+'Input 603 - Ottestadrennet'!F16+' Input 607 - Snøproduksjon'!F16+'Input 604 - Ottestadstien'!F16 -> 0 | G16: 1 | H16: =IF($G16<>0,VLOOKUP($G16,Fordeling,H$4+3,FALSE)*$F16,0) -> 0 | I16: =IF($G16<>0,VLOOKUP($G16,Fordeling,I$4+3,FALSE)*$F16,0) -> 0 | J16: =IF($G16<>0,VLOOKUP($G16,Fordeling,J$4+3,FALSE)*$F16,0) -> 0 | K16: =IF($G16<>0,VLOOKUP($G16,Fordeling,K$4+3,FALSE)*$F16,0) -> 0 | L16: =IF($G16<>0,VLOOKUP($G16,Fordeling,L$4+3,FALSE)*$F16,0) -> 0 | M16: =IF($G16<>0,VLOOKUP($G16,Fordeling,M$4+3,FALSE)*$F16,0) -> 0 | N16: =IF($G16<>0,VLOOKUP($G16,Fordeling,N$4+3,FALSE)*$F16,0) -> 0 | O16: =IF($G16<>0,VLOOKUP($G16,Fordeling,O$4+3,FALSE)*$F16,0) -> 0 | ... S16: =IF($G16<>0,VLOOKUP($G16,Fordeling,S$4+3,FALSE)*$F16,0) -> 0
B17: 3210 | C17: Inntekt deltakeravgift | D17: 6 | F17: ='Input 601 - Administrasjon'!F17+'Input 602 - Helt konge'!F17+'Input 603 - Ottestadrennet'!F17+' Input 607 - Snøproduksjon'!F17+'Input 604 - Ottestadstien'!F17 -> 135000 | G17: 1 | H17: =IF($G17<>0,VLOOKUP($G17,Fordeling,H$4+3,FALSE)*$F17,0) -> 11250 | I17: =IF($G17<>0,VLOOKUP($G17,Fordeling,I$4+3,FALSE)*$F17,0) -> 11250 | J17: =IF($G17<>0,VLOOKUP($G17,Fordeling,J$4+3,FALSE)*$F17,0) -> 11250 | K17: =IF($G17<>0,VLOOKUP($G17,Fordeling,K$4+3,FALSE)*$F17,0) -> 11250 | L17: =IF($G17<>0,VLOOKUP($G17,Fordeling,L$4+3,FALSE)*$F17,0) -> 11250 | M17: =IF($G17<>0,VLOOKUP($G17,Fordeling,M$4+3,FALSE)*$F17,0) -> 11250 | N17: =IF($G17<>0,VLOOKUP($G17,Fordeling,N$4+3,FALSE)*$F17,0) -> 11250 | O17: =IF($G17<>0,VLOOKUP($G17,Fordeling,O$4+3,FALSE)*$F17,0) -> 11250 | ... S17: =IF($G17<>0,VLOOKUP($G17,Fordeling,S$4+3,FALSE)*$F17,0) -> 11250
B18: 3400 | C18: Offentlig tilskudd/refusjon | D18: 6 | F18: ='Input 601 - Administrasjon'!F18+'Input 602 - Helt konge'!F18+'Input 603 - Ottestadrennet'!F18+' Input 607 - Snøproduksjon'!F18+'Input 604 - Ottestadstien'!F18 -> 30000 | G18: 1 | H18: =IF($G18<>0,VLOOKUP($G18,Fordeling,H$4+3,FALSE)*$F18,0) -> 2500 | I18: =IF($G18<>0,VLOOKUP($G18,Fordeling,I$4+3,FALSE)*$F18,0) -> 2500 | J18: =IF($G18<>0,VLOOKUP($G18,Fordeling,J$4+3,FALSE)*$F18,0) -> 2500 | K18: =IF($G18<>0,VLOOKUP($G18,Fordeling,K$4+3,FALSE)*$F18,0) -> 2500 | L18: =IF($G18<>0,VLOOKUP($G18,Fordeling,L$4+3,FALSE)*$F18,0) -> 2500 | M18: =IF($G18<>0,VLOOKUP($G18,Fordeling,M$4+3,FALSE)*$F18,0) -> 2500 | N18: =IF($G18<>0,VLOOKUP($G18,Fordeling,N$4+3,FALSE)*$F18,0) -> 2500 | O18: =IF($G18<>0,VLOOKUP($G18,Fordeling,O$4+3,FALSE)*$F18,0) -> 2500 | ... S18: =IF($G18<>0,VLOOKUP($G18,Fordeling,S$4+3,FALSE)*$F18,0) -> 2500
... B98: 7770 | C98: Bank og kortgebyrer | D98: 6 | F98: ='Input 601 - Administrasjon'!F98+'Input 602 - Helt konge'!F98+'Input 603 - Ottestadrennet'!F98+' Input 607 - Snøproduksjon'!F98+'Input 604 - Ottestadstien'!F98 -> 0 | G98: 1 | H98: =IF($G98<>0,VLOOKUP($G98,Fordeling,H$4+3,FALSE)*$F98,0) -> 0 | I98: =IF($G98<>0,VLOOKUP($G98,Fordeling,I$4+3,FALSE)*$F98,0) -> 0 | J98: =IF($G98<>0,VLOOKUP($G98,Fordeling,J$4+3,FALSE)*$F98,0) -> 0 | K98: =IF($G98<>0,VLOOKUP($G98,Fordeling,K$4+3,FALSE)*$F98,0) -> 0 | L98: =IF($G98<>0,VLOOKUP($G98,Fordeling,L$4+3,FALSE)*$F98,0) -> 0 | M98: =IF($G98<>0,VLOOKUP($G98,Fordeling,M$4+3,FALSE)*$F98,0) -> 0 | N98: =IF($G98<>0,VLOOKUP($G98,Fordeling,N$4+3,FALSE)*$F98,0) -> 0 | O98: =IF($G98<>0,VLOOKUP($G98,Fordeling,O$4+3,FALSE)*$F98,0) -> 0 | ... S98: =IF($G98<>0,VLOOKUP($G98,Fordeling,S$4+3,FALSE)*$F98,0) -> 0
B99: 7771 | C99: Øreavrunding | D99: 6 | F99: ='Input 601 - Administrasjon'!F99+'Input 602 - Helt konge'!F99+'Input 603 - Ottestadrennet'!F99+' Input 607 - Snøproduksjon'!F99+'Input 604 - Ottestadstien'!F99 -> 0 | G99: 1 | H99: =IF($G99<>0,VLOOKUP($G99,Fordeling,H$4+3,FALSE)*$F99,0) -> 0 | I99: =IF($G99<>0,VLOOKUP($G99,Fordeling,I$4+3,FALSE)*$F99,0) -> 0 | J99: =IF($G99<>0,VLOOKUP($G99,Fordeling,J$4+3,FALSE)*$F99,0) -> 0 | K99: =IF($G99<>0,VLOOKUP($G99,Fordeling,K$4+3,FALSE)*$F99,0) -> 0 | L99: =IF($G99<>0,VLOOKUP($G99,Fordeling,L$4+3,FALSE)*$F99,0) -> 0 | M99: =IF($G99<>0,VLOOKUP($G99,Fordeling,M$4+3,FALSE)*$F99,0) -> 0 | N99: =IF($G99<>0,VLOOKUP($G99,Fordeling,N$4+3,FALSE)*$F99,0) -> 0 | O99: =IF($G99<>0,VLOOKUP($G99,Fordeling,O$4+3,FALSE)*$F99,0) -> 0 | ... S99: =IF($G99<>0,VLOOKUP($G99,Fordeling,S$4+3,FALSE)*$F99,0) -> 0 | U99: =SUM(F7:F32) -> 513000
B100: 7798 | C100: Diverse kostnader | D100: 6 | F100: ='Input 601 - Administrasjon'!F100+'Input 602 - Helt konge'!F100+'Input 603 - Ottestadrennet'!F100+' Input 607 - Snøproduksjon'!F100+'Input 604 - Ottestadstien'!F100 -> 5000 | G100: 1 | H100: =IF($G100<>0,VLOOKUP($G100,Fordeling,H$4+3,FALSE)*$F100,0) -> 416.66667 | I100: =IF($G100<>0,VLOOKUP($G100,Fordeling,I$4+3,FALSE)*$F100,0) -> 416.66667 | J100: =IF($G100<>0,VLOOKUP($G100,Fordeling,J$4+3,FALSE)*$F100,0) -> 416.66667 | K100: =IF($G100<>0,VLOOKUP($G100,Fordeling,K$4+3,FALSE)*$F100,0) -> 416.66667 | L100: =IF($G100<>0,VLOOKUP($G100,Fordeling,L$4+3,FALSE)*$F100,0) -> 416.66667 | M100: =IF($G100<>0,VLOOKUP($G100,Fordeling,M$4+3,FALSE)*$F100,0) -> 416.66667 | N100: =IF($G100<>0,VLOOKUP($G100,Fordeling,N$4+3,FALSE)*$F100,0) -> 416.66667 | O100: =IF($G100<>0,VLOOKUP($G100,Fordeling,O$4+3,FALSE)*$F100,0) -> 416.66667 | ... S100: =IF($G100<>0,VLOOKUP($G100,Fordeling,S$4+3,FALSE)*$F100,0) -> 416.66667
B101: 7830 | C101: Tap på fordringer | D101: 6 | F101: ='Input 601 - Administrasjon'!F101+'Input 602 - Helt konge'!F101+'Input 603 - Ottestadrennet'!F101+' Input 607 - Snøproduksjon'!F101+'Input 604 - Ottestadstien'!F101 -> 0 | G101: 1 | H101: =IF($G101<>0,VLOOKUP($G101,Fordeling,H$4+3,FALSE)*$F101,0) -> 0 | I101: =IF($G101<>0,VLOOKUP($G101,Fordeling,I$4+3,FALSE)*$F101,0) -> 0 | J101: =IF($G101<>0,VLOOKUP($G101,Fordeling,J$4+3,FALSE)*$F101,0) -> 0 | K101: =IF($G101<>0,VLOOKUP($G101,Fordeling,K$4+3,FALSE)*$F101,0) -> 0 | L101: =IF($G101<>0,VLOOKUP($G101,Fordeling,L$4+3,FALSE)*$F101,0) -> 0 | M101: =IF($G101<>0,VLOOKUP($G101,Fordeling,M$4+3,FALSE)*$F101,0) -> 0 | N101: =IF($G101<>0,VLOOKUP($G101,Fordeling,N$4+3,FALSE)*$F101,0) -> 0 | O101: =IF($G101<>0,VLOOKUP($G101,Fordeling,O$4+3,FALSE)*$F101,0) -> 0 | ... S101: =IF($G101<>0,VLOOKUP($G101,Fordeling,S$4+3,FALSE)*$F101,0) -> 0
B102: 8040 | C102: Renteinntekter, bank | D102: 6 | F102: ='Input 601 - Administrasjon'!F102+'Input 602 - Helt konge'!F102+'Input 603 - Ottestadrennet'!F102+' Input 607 - Snøproduksjon'!F102+'Input 604 - Ottestadstien'!F102 -> 0 | G102: 1 | H102: =IF($G102<>0,VLOOKUP($G102,Fordeling,H$4+3,FALSE)*$F102,0) -> 0 | I102: =IF($G102<>0,VLOOKUP($G102,Fordeling,I$4+3,FALSE)*$F102,0) -> 0 | J102: =IF($G102<>0,VLOOKUP($G102,Fordeling,J$4+3,FALSE)*$F102,0) -> 0 | K102: =IF($G102<>0,VLOOKUP($G102,Fordeling,K$4+3,FALSE)*$F102,0) -> 0 | L102: =IF($G102<>0,VLOOKUP($G102,Fordeling,L$4+3,FALSE)*$F102,0) -> 0 | M102: =IF($G102<>0,VLOOKUP($G102,Fordeling,M$4+3,FALSE)*$F102,0) -> 0 | N102: =IF($G102<>0,VLOOKUP($G102,Fordeling,N$4+3,FALSE)*$F102,0) -> 0 | O102: =IF($G102<>0,VLOOKUP($G102,Fordeling,O$4+3,FALSE)*$F102,0) -> 0 | ... S102: =IF($G102<>0,VLOOKUP($G102,Fordeling,S$4+3,FALSE)*$F102,0) -> 0
B103: 8055 | C103: Renteinntekter, kunder | D103: 6 | F103: ='Input 601 - Administrasjon'!F103+'Input 602 - Helt konge'!F103+'Input 603 - Ottestadrennet'!F103+' Input 607 - Snøproduksjon'!F103+'Input 604 - Ottestadstien'!F103 -> 0 | G103: 1 | H103: =IF($G103<>0,VLOOKUP($G103,Fordeling,H$4+3,FALSE)*$F103,0) -> 0 | I103: =IF($G103<>0,VLOOKUP($G103,Fordeling,I$4+3,FALSE)*$F103,0) -> 0 | J103: =IF($G103<>0,VLOOKUP($G103,Fordeling,J$4+3,FALSE)*$F103,0) -> 0 | K103: =IF($G103<>0,VLOOKUP($G103,Fordeling,K$4+3,FALSE)*$F103,0) -> 0 | L103: =IF($G103<>0,VLOOKUP($G103,Fordeling,L$4+3,FALSE)*$F103,0) -> 0 | M103: =IF($G103<>0,VLOOKUP($G103,Fordeling,M$4+3,FALSE)*$F103,0) -> 0 | N103: =IF($G103<>0,VLOOKUP($G103,Fordeling,N$4+3,FALSE)*$F103,0) -> 0 | O103: =IF($G103<>0,VLOOKUP($G103,Fordeling,O$4+3,FALSE)*$F103,0) -> 0 | ... S103: =IF($G103<>0,VLOOKUP($G103,Fordeling,S$4+3,FALSE)*$F103,0) -> 0
B104: 8060 | C104: Agio | D104: 6 | F104: ='Input 601 - Administrasjon'!F104+'Input 602 - Helt konge'!F104+'Input 603 - Ottestadrennet'!F104+' Input 607 - Snøproduksjon'!F104+'Input 604 - Ottestadstien'!F104 -> 0 | G104: 1 | H104: =IF($G104<>0,VLOOKUP($G104,Fordeling,H$4+3,FALSE)*$F104,0) -> 0 | I104: =IF($G104<>0,VLOOKUP($G104,Fordeling,I$4+3,FALSE)*$F104,0) -> 0 | J104: =IF($G104<>0,VLOOKUP($G104,Fordeling,J$4+3,FALSE)*$F104,0) -> 0 | K104: =IF($G104<>0,VLOOKUP($G104,Fordeling,K$4+3,FALSE)*$F104,0) -> 0 | L104: =IF($G104<>0,VLOOKUP($G104,Fordeling,L$4+3,FALSE)*$F104,0) -> 0 | M104: =IF($G104<>0,VLOOKUP($G104,Fordeling,M$4+3,FALSE)*$F104,0) -> 0 | N104: =IF($G104<>0,VLOOKUP($G104,Fordeling,N$4+3,FALSE)*$F104,0) -> 0 | O104: =IF($G104<>0,VLOOKUP($G104,Fordeling,O$4+3,FALSE)*$F104,0) -> 0 | ... S104: =IF($G104<>0,VLOOKUP($G104,Fordeling,S$4+3,FALSE)*$F104,0) -> 0
B105: 8140 | C105: Rente og term.kostn.banklån | D105: 6 | F105: ='Input 601 - Administrasjon'!F105+'Input 602 - Helt konge'!F105+'Input 603 - Ottestadrennet'!F105+' Input 607 - Snøproduksjon'!F105+'Input 604 - Ottestadstien'!F105 -> 0 | G105: 1 | H105: =IF($G105<>0,VLOOKUP($G105,Fordeling,H$4+3,FALSE)*$F105,0) -> 0 | I105: =IF($G105<>0,VLOOKUP($G105,Fordeling,I$4+3,FALSE)*$F105,0) -> 0 | J105: =IF($G105<>0,VLOOKUP($G105,Fordeling,J$4+3,FALSE)*$F105,0) -> 0 | K105: =IF($G105<>0,VLOOKUP($G105,Fordeling,K$4+3,FALSE)*$F105,0) -> 0 | L105: =IF($G105<>0,VLOOKUP($G105,Fordeling,L$4+3,FALSE)*$F105,0) -> 0 | M105: =IF($G105<>0,VLOOKUP($G105,Fordeling,M$4+3,FALSE)*$F105,0) -> 0 | N105: =IF($G105<>0,VLOOKUP($G105,Fordeling,N$4+3,FALSE)*$F105,0) -> 0 | O105: =IF($G105<>0,VLOOKUP($G105,Fordeling,O$4+3,FALSE)*$F105,0) -> 0 | ... S105: =IF($G105<>0,VLOOKUP($G105,Fordeling,S$4+3,FALSE)*$F105,0) -> 0
B106: 8155 | C106: Rentekostnad leverandørgjeld | D106: 6 | F106: ='Input 601 - Administrasjon'!F106+'Input 602 - Helt konge'!F106+'Input 603 - Ottestadrennet'!F106+' Input 607 - Snøproduksjon'!F106+'Input 604 - Ottestadstien'!F106 -> 0 | G106: 1 | H106: =IF($G106<>0,VLOOKUP($G106,Fordeling,H$4+3,FALSE)*$F106,0) -> 0 | I106: =IF($G106<>0,VLOOKUP($G106,Fordeling,I$4+3,FALSE)*$F106,0) -> 0 | J106: =IF($G106<>0,VLOOKUP($G106,Fordeling,J$4+3,FALSE)*$F106,0) -> 0 | K106: =IF($G106<>0,VLOOKUP($G106,Fordeling,K$4+3,FALSE)*$F106,0) -> 0 | L106: =IF($G106<>0,VLOOKUP($G106,Fordeling,L$4+3,FALSE)*$F106,0) -> 0 | M106: =IF($G106<>0,VLOOKUP($G106,Fordeling,M$4+3,FALSE)*$F106,0) -> 0 | N106: =IF($G106<>0,VLOOKUP($G106,Fordeling,N$4+3,FALSE)*$F106,0) -> 0 | O106: =IF($G106<>0,VLOOKUP($G106,Fordeling,O$4+3,FALSE)*$F106,0) -> 0 | ... S106: =IF($G106<>0,VLOOKUP($G106,Fordeling,S$4+3,FALSE)*$F106,0) -> 0
B107: 8160 | C107: Valutatap (disagio) | D107: 6 | F107: ='Input 601 - Administrasjon'!F107+'Input 602 - Helt konge'!F107+'Input 603 - Ottestadrennet'!F107+' Input 607 - Snøproduksjon'!F107+'Input 604 - Ottestadstien'!F107 -> 0 | G107: 1 | H107: =IF($G107<>0,VLOOKUP($G107,Fordeling,H$4+3,FALSE)*$F107,0) -> 0 | I107: =IF($G107<>0,VLOOKUP($G107,Fordeling,I$4+3,FALSE)*$F107,0) -> 0 | J107: =IF($G107<>0,VLOOKUP($G107,Fordeling,J$4+3,FALSE)*$F107,0) -> 0 | K107: =IF($G107<>0,VLOOKUP($G107,Fordeling,K$4+3,FALSE)*$F107,0) -> 0 | L107: =IF($G107<>0,VLOOKUP($G107,Fordeling,L$4+3,FALSE)*$F107,0) -> 0 | M107: =IF($G107<>0,VLOOKUP($G107,Fordeling,M$4+3,FALSE)*$F107,0) -> 0 | N107: =IF($G107<>0,VLOOKUP($G107,Fordeling,N$4+3,FALSE)*$F107,0) -> 0 | O107: =IF($G107<>0,VLOOKUP($G107,Fordeling,O$4+3,FALSE)*$F107,0) -> 0 | ... S107: =IF($G107<>0,VLOOKUP($G107,Fordeling,S$4+3,FALSE)*$F107,0) -> 0
B108: 8800 | C108: Årsresultat | D108: 6 | F108: ='Input 601 - Administrasjon'!F108+'Input 602 - Helt konge'!F108+'Input 603 - Ottestadrennet'!F108+' Input 607 - Snøproduksjon'!F108+'Input 604 - Ottestadstien'!F108 -> 0 | G108: 1 | H108: =IF($G108<>0,VLOOKUP($G108,Fordeling,H$4+3,FALSE)*$F108,0) -> 0 | I108: =IF($G108<>0,VLOOKUP($G108,Fordeling,I$4+3,FALSE)*$F108,0) -> 0 | J108: =IF($G108<>0,VLOOKUP($G108,Fordeling,J$4+3,FALSE)*$F108,0) -> 0 | K108: =IF($G108<>0,VLOOKUP($G108,Fordeling,K$4+3,FALSE)*$F108,0) -> 0 | L108: =IF($G108<>0,VLOOKUP($G108,Fordeling,L$4+3,FALSE)*$F108,0) -> 0 | M108: =IF($G108<>0,VLOOKUP($G108,Fordeling,M$4+3,FALSE)*$F108,0) -> 0 | N108: =IF($G108<>0,VLOOKUP($G108,Fordeling,N$4+3,FALSE)*$F108,0) -> 0 | O108: =IF($G108<>0,VLOOKUP($G108,Fordeling,O$4+3,FALSE)*$F108,0) -> 0 | ... S108: =IF($G108<>0,VLOOKUP($G108,Fordeling,S$4+3,FALSE)*$F108,0) -> 0
B109: 8961 | C109: Overføring annen egenkapital | D109: 6 | F109: ='Input 601 - Administrasjon'!F109+'Input 602 - Helt konge'!F109+'Input 603 - Ottestadrennet'!F109+' Input 607 - Snøproduksjon'!F109+'Input 604 - Ottestadstien'!F109 -> 0 | G109: 1 | H109: =IF($G109<>0,VLOOKUP($G109,Fordeling,H$4+3,FALSE)*$F109,0) -> 0 | I109: =IF($G109<>0,VLOOKUP($G109,Fordeling,I$4+3,FALSE)*$F109,0) -> 0 | J109: =IF($G109<>0,VLOOKUP($G109,Fordeling,J$4+3,FALSE)*$F109,0) -> 0 | K109: =IF($G109<>0,VLOOKUP($G109,Fordeling,K$4+3,FALSE)*$F109,0) -> 0 | L109: =IF($G109<>0,VLOOKUP($G109,Fordeling,L$4+3,FALSE)*$F109,0) -> 0 | M109: =IF($G109<>0,VLOOKUP($G109,Fordeling,M$4+3,FALSE)*$F109,0) -> 0 | N109: =IF($G109<>0,VLOOKUP($G109,Fordeling,N$4+3,FALSE)*$F109,0) -> 0 | O109: =IF($G109<>0,VLOOKUP($G109,Fordeling,O$4+3,FALSE)*$F109,0) -> 0 | ... S109: =IF($G109<>0,VLOOKUP($G109,Fordeling,S$4+3,FALSE)*$F109,0) -> 0

Sheet Input 601 - Administrasjon
G2: LEGG INN TALL I FELTET "Totalt"
G3: TALLET VI FORDELE SEG LIKT UT I HVER MÅNED
H4: 1 | I4: 2 | J4: 3 | K4: 4 | L4: 5 | M4: 6 | N4: 7 | O4: 8 | P4: 9 | Q4: 10 | R4: 11 | S4: 12 | T4: 12
B5: Kontonr | C5: Kontonavn | D5: Avdeling | E5: Prosjekt | F5: Totalt | G5: Fordeling | H5: Januar | I5: Februar | J5: Mars | K5: April | L5: Mai | M5: Juni | N5: Juli | O5: August | P5: September | Q5: Oktober | R5: November | S5: Desember | T5: Sum
B7: 3000 | C7: Salg, avgiftspliktig | D7: 6 | E7: 601 | F7: 20000 | G7: 1 | H7: =IF($G7<>0,VLOOKUP($G7,Fordeling,H$4+3,FALSE)*$F7,0) -> 1666.6667 | I7: =IF($G7<>0,VLOOKUP($G7,Fordeling,I$4+3,FALSE)*$F7,0) -> 1666.6667 | J7: =IF($G7<>0,VLOOKUP($G7,Fordeling,J$4+3,FALSE)*$F7,0) -> 1666.6667 | K7: =IF($G7<>0,VLOOKUP($G7,Fordeling,K$4+3,FALSE)*$F7,0) -> 1666.6667 | L7: =IF($G7<>0,VLOOKUP($G7,Fordeling,L$4+3,FALSE)*$F7,0) -> 1666.6667 | M7: =IF($G7<>0,VLOOKUP($G7,Fordeling,M$4+3,FALSE)*$F7,0) -> 1666.6667 | N7: =IF($G7<>0,VLOOKUP($G7,Fordeling,N$4+3,FALSE)*$F7,0) -> 1666.6667 | O7: =IF($G7<>0,VLOOKUP($G7,Fordeling,O$4+3,FALSE)*$F7,0) -> 1666.6667 | ... S7: =IF($G7<>0,VLOOKUP($G7,Fordeling,S$4+3,FALSE)*$F7,0) -> 1666.6667
B8: 3010 | C8: Billettinntekter | D8: 6 | E8: 601 | G8: 1 | H8: =IF($G8<>0,VLOOKUP($G8,Fordeling,H$4+3,FALSE)*$F8,0) -> 0 | I8: =IF($G8<>0,VLOOKUP($G8,Fordeling,I$4+3,FALSE)*$F8,0) -> 0 | J8: =IF($G8<>0,VLOOKUP($G8,Fordeling,J$4+3,FALSE)*$F8,0) -> 0 | K8: =IF($G8<>0,VLOOKUP($G8,Fordeling,K$4+3,FALSE)*$F8,0) -> 0 | L8: =IF($G8<>0,VLOOKUP($G8,Fordeling,L$4+3,FALSE)*$F8,0) -> 0 | M8: =IF($G8<>0,VLOOKUP($G8,Fordeling,M$4+3,FALSE)*$F8,0) -> 0 | N8: =IF($G8<>0,VLOOKUP($G8,Fordeling,N$4+3,FALSE)*$F8,0) -> 0 | O8: =IF($G8<>0,VLOOKUP($G8,Fordeling,O$4+3,FALSE)*$F8,0) -> 0 | ... S8: =IF($G8<>0,VLOOKUP($G8,Fordeling,S$4+3,FALSE)*$F8,0) -> 0
B9: 3020 | C9: Reklameinntekter avg.pliktig | D9: 6 | E9: 601 | F9: 75000 | G9: 1 | H9: =IF($G9<>0,VLOOKUP($G9,Fordeling,H$4+3,FALSE)*$F9,0) -> 6250 | I9: =IF($G9<>0,VLOOKUP($G9,Fordeling,I$4+3,FALSE)*$F9,0) -> 6250 | J9: =IF($G9<>0,VLOOKUP($G9,Fordeling,J$4+3,FALSE)*$F9,0) -> 6250 | K9: =IF($G9<>0,VLOOKUP($G9,Fordeling,K$4+3,FALSE)*$F9,0) -> 6250 | L9: =IF($G9<>0,VLOOKUP($G9,Fordeling,L$4+3,FALSE)*$F9,0) -> 6250 | M9: =IF($G9<>0,VLOOKUP($G9,Fordeling,M$4+3,FALSE)*$F9,0) -> 6250 | N9: =IF($G9<>0,VLOOKUP($G9,Fordeling,N$4+3,FALSE)*$F9,0) -> 6250 | O9: =IF($G9<>0,VLOOKUP($G9,Fordeling,O$4+3,FALSE)*$F9,0) -> 6250 | ... S9: =IF($G9<>0,VLOOKUP($G9,Fordeling,S$4+3,FALSE)*$F9,0) -> 6250
B10: 3030 | C10: Salg, avgiftspliktig middels sats | D10: 6 | E10: 601 | G10: 1 | H10: =IF($G10<>0,VLOOKUP($G10,Fordeling,H$4+3,FALSE)*$F10,0) -> 0 | I10: =IF($G10<>0,VLOOKUP($G10,Fordeling,I$4+3,FALSE)*$F10,0) -> 0 | J10: =IF($G10<>0,VLOOKUP($G10,Fordeling,J$4+3,FALSE)*$F10,0) -> 0 | K10: =IF($G10<>0,VLOOKUP($G10,Fordeling,K$4+3,FALSE)*$F10,0) -> 0 | L10: =IF($G10<>0,VLOOKUP($G10,Fordeling,L$4+3,FALSE)*$F10,0) -> 0 | M10: =IF($G10<>0,VLOOKUP($G10,Fordeling,M$4+3,FALSE)*$F10,0) -> 0 | N10: =IF($G10<>0,VLOOKUP($G10,Fordeling,N$4+3,FALSE)*$F10,0) -> 0 | O10: =IF($G10<>0,VLOOKUP($G10,Fordeling,O$4+3,FALSE)*$F10,0) -> 0 | ... S10: =IF($G10<>0,VLOOKUP($G10,Fordeling,S$4+3,FALSE)*$F10,0) -> 0
B11: 3050 | C11: Salg, avgiftspliktig lav sats | D11: 6 | E11: 601 | G11: 1 | H11: =IF($G11<>0,VLOOKUP($G11,Fordeling,H$4+3,FALSE)*$F11,0) -> 0 | I11: =IF($G11<>0,VLOOKUP($G11,Fordeling,I$4+3,FALSE)*$F11,0) -> 0 | J11: =IF($G11<>0,VLOOKUP($G11,Fordeling,J$4+3,FALSE)*$F11,0) -> 0 | K11: =IF($G11<>0,VLOOKUP($G11,Fordeling,K$4+3,FALSE)*$F11,0) -> 0 | L11: =IF($G11<>0,VLOOKUP($G11,Fordeling,L$4+3,FALSE)*$F11,0) -> 0 | M11: =IF($G11<>0,VLOOKUP($G11,Fordeling,M$4+3,FALSE)*$F11,0) -> 0 | N11: =IF($G11<>0,VLOOKUP($G11,Fordeling,N$4+3,FALSE)*$F11,0) -> 0 | O11: =IF($G11<>0,VLOOKUP($G11,Fordeling,O$4+3,FALSE)*$F11,0) -> 0 | ... S11: =IF($G11<>0,VLOOKUP($G11,Fordeling,S$4+3,FALSE)*$F11,0) -> 0
B12: 3081 | C12: Kontantrabatter, avgiftspliktige | D12: 6 | E12: 601 | G12: 1 | H12: =IF($G12<>0,VLOOKUP($G12,Fordeling,H$4+3,FALSE)*$F12,0) -> 0 | I12: =IF($G12<>0,VLOOKUP($G12,Fordeling,I$4+3,FALSE)*$F12,0) -> 0 | J12: =IF($G12<>0,VLOOKUP($G12,Fordeling,J$4+3,FALSE)*$F12,0) -> 0 | K12: =IF($G12<>0,VLOOKUP($G12,Fordeling,K$4+3,FALSE)*$F12,0) -> 0 | L12: =IF($G12<>0,VLOOKUP($G12,Fordeling,L$4+3,FALSE)*$F12,0) -> 0 | M12: =IF($G12<>0,VLOOKUP($G12,Fordeling,M$4+3,FALSE)*$F12,0) -> 0 | N12: =IF($G12<>0,VLOOKUP($G12,Fordeling,N$4+3,FALSE)*$F12,0) -> 0 | O12: =IF($G12<>0,VLOOKUP($G12,Fordeling,O$4+3,FALSE)*$F12,0) -> 0 | ... S12: =IF($G12<>0,VLOOKUP($G12,Fordeling,S$4+3,FALSE)*$F12,0) -> 0
B13: 3100 | C13: Salg, avgiftsfritt | D13: 6 | E13: 601 | G13: 1 | H13: =IF($G13<>0,VLOOKUP($G13,Fordeling,H$4+3,FALSE)*$F13,0) -> 0 | I13: =IF($G13<>0,VLOOKUP($G13,Fordeling,I$4+3,FALSE)*$F13,0) -> 0 | J13: =IF($G13<>0,VLOOKUP($G13,Fordeling,J$4+3,FALSE)*$F13,0) -> 0 | K13: =IF($G13<>0,VLOOKUP($G13,Fordeling,K$4+3,FALSE)*$F13,0) -> 0 | L13: =IF($G13<>0,VLOOKUP($G13,Fordeling,L$4+3,FALSE)*$F13,0) -> 0 | M13: =IF($G13<>0,VLOOKUP($G13,Fordeling,M$4+3,FALSE)*$F13,0) -> 0 | N13: =IF($G13<>0,VLOOKUP($G13,Fordeling,N$4+3,FALSE)*$F13,0) -> 0 | O13: =IF($G13<>0,VLOOKUP($G13,Fordeling,O$4+3,FALSE)*$F13,0) -> 0 | ... S13: =IF($G13<>0,VLOOKUP($G13,Fordeling,S$4+3,FALSE)*$F13,0) -> 0
B14: 3120 | C14: Reklameinntekter avg.fritt | D14: 6 | E14: 601 | G14: 1 | H14: =IF($G14<>0,VLOOKUP($G14,Fordeling,H$4+3,FALSE)*$F14,0) -> 0 | I14: =IF($G14<>0,VLOOKUP($G14,Fordeling,I$4+3,FALSE)*$F14,0) -> 0 | J14: =IF($G14<>0,VLOOKUP($G14,Fordeling,J$4+3,FALSE)*$F14,0) -> 0 | K14: =IF($G14<>0,VLOOKUP($G14,Fordeling,K$4+3,FALSE)*$F14,0) -> 0 | L14: =IF($G14<>0,VLOOKUP($G14,Fordeling,L$4+3,FALSE)*$F14,0) -> 0 | M14: =IF($G14<>0,VLOOKUP($G14,Fordeling,M$4+3,FALSE)*$F14,0) -> 0 | N14: =IF($G14<>0,VLOOKUP($G14,Fordeling,N$4+3,FALSE)*$F14,0) -> 0 | O14: =IF($G14<>0,VLOOKUP($G14,Fordeling,O$4+3,FALSE)*$F14,0) -> 0 | ... S14: =IF($G14<>0,VLOOKUP($G14,Fordeling,S$4+3,FALSE)*$F14,0) -> 0
B15: 3181 | C15: Kontantrabatter, avg.fri. | D15: 6 | E15: 601 | G15: 1 | H15: =IF($G15<>0,VLOOKUP($G15,Fordeling,H$4+3,FALSE)*$F15,0) -> 0 | I15: =IF($G15<>0,VLOOKUP($G15,Fordeling,I$4+3,FALSE)*$F15,0) -> 0 | J15: =IF($G15<>0,VLOOKUP($G15,Fordeling,J$4+3,FALSE)*$F15,0) -> 0 | K15: =IF($G15<>0,VLOOKUP($G15,Fordeling,K$4+3,FALSE)*$F15,0) -> 0 | L15: =IF($G15<>0,VLOOKUP($G15,Fordeling,L$4+3,FALSE)*$F15,0) -> 0 | M15: =IF($G15<>0,VLOOKUP($G15,Fordeling,M$4+3,FALSE)*$F15,0) -> 0 | N15: =IF($G15<>0,VLOOKUP($G15,Fordeling,N$4+3,FALSE)*$F15,0) -> 0 | O15: =IF($G15<>0,VLOOKUP($G15,Fordeling,O$4+3,FALSE)*$F15,0) -> 0 | ... S15: =IF($G15<>0,VLOOKUP($G15,Fordeling,S$4+3,FALSE)*$F15,0) -> 0
B16: 3200 | C16: Salg utenfor avgiftsområdet | D16: 6 | E16: 601 | G16: 1 | H16: =IF($G16<>0,VLOOKUP($G16,Fordeling,H$4+3,FALSE)*$F16,0) -> 0 | I16: =IF($G16<>0,VLOOKUP($G16,Fordeling,I$4+3,FALSE)*$F16,0) -> 0 | J16: =IF($G16<>0,VLOOKUP($G16,Fordeling,J$4+3,FALSE)*$F16,0) -> 0 | K16: =IF($G16<>0,VLOOKUP($G16,Fordeling,K$4+3,FALSE)*$F16,0) -> 0 | L16: =IF($G16<>0,VLOOKUP($G16,Fordeling,L$4+3,FALSE)*$F16,0) -> 0 | M16: =IF($G16<>0,VLOOKUP($G16,Fordeling,M$4+3,FALSE)*$F16,0) -> 0 | N16: =IF($G16<>0,VLOOKUP($G16,Fordeling,N$4+3,FALSE)*$F16,0) -> 0 | O16: =IF($G16<>0,VLOOKUP($G16,Fordeling,O$4+3,FALSE)*$F16,0) -> 0 | ... S16: =IF($G16<>0,VLOOKUP($G16,Fordeling,S$4+3,FALSE)*$F16,0) -> 0
B17: 3210 | C17: Inntekt deltakeravgift | D17: 6 | E17: 601 | G17: 1 | H17: =IF($G17<>0,VLOOKUP($G17,Fordeling,H$4+3,FALSE)*$F17,0) -> 0 | I17: =IF($G17<>0,VLOOKUP($G17,Fordeling,I$4+3,FALSE)*$F17,0) -> 0 | J17: =IF($G17<>0,VLOOKUP($G17,Fordeling,J$4+3,FALSE)*$F17,0) -> 0 | K17: =IF($G17<>0,VLOOKUP($G17,Fordeling,K$4+3,FALSE)*$F17,0) -> 0 | L17: =IF($G17<>0,VLOOKUP($G17,Fordeling,L$4+3,FALSE)*$F17,0) -> 0 | M17: =IF($G17<>0,VLOOKUP($G17,Fordeling,M$4+3,FALSE)*$F17,0) -> 0 | N17: =IF($G17<>0,VLOOKUP($G17,Fordeling,N$4+3,FALSE)*$F17,0) -> 0 | O17: =IF($G17<>0,VLOOKUP($G17,Fordeling,O$4+3,FALSE)*$F17,0) -> 0 | ... S17: =IF($G17<>0,VLOOKUP($G17,Fordeling,S$4+3,FALSE)*$F17,0) -> 0
B18: 3400 | C18: Offentlig tilskudd/refusjon | D18: 6 | E18: 601 | F18: 30000 | G18: 1 | H18: =IF($G18<>0,VLOOKUP($G18,Fordeling,H$4+3,FALSE)*$F18,0) -> 2500 | I18: =IF($G18<>0,VLOOKUP($G18,Fordeling,I$4+3,FALSE)*$F18,0) -> 2500 | J18: =IF($G18<>0,VLOOKUP($G18,Fordeling,J$4+3,FALSE)*$F18,0) -> 2500 | K18: =IF($G18<>0,VLOOKUP($G18,Fordeling,K$4+3,FALSE)*$F18,0) -> 2500 | L18: =IF($G18<>0,VLOOKUP($G18,Fordeling,L$4+3,FALSE)*$F18,0) -> 2500 | M18: =IF($G18<>0,VLOOKUP($G18,Fordeling,M$4+3,FALSE)*$F18,0) -> 2500 | N18: =IF($G18<>0,VLOOKUP($G18,Fordeling,N$4+3,FALSE)*$F18,0) -> 2500 | O18: =IF($G18<>0,VLOOKUP($G18,Fordeling,O$4+3,FALSE)*$F18,0) -> 2500 | ... S18: =IF($G18<>0,VLOOKUP($G18,Fordeling,S$4+3,FALSE)*$F18,0) -> 2500
B19: 3442 | C19: Tilskudd øremerkede | D19: 6 | E19: 601 | F19: 10000 | G19: 1 | H19: =IF($G19<>0,VLOOKUP($G19,Fordeling,H$4+3,FALSE)*$F19,0) -> 833.33333 | I19: =IF($G19<>0,VLOOKUP($G19,Fordeling,I$4+3,FALSE)*$F19,0) -> 833.33333 | J19: =IF($G19<>0,VLOOKUP($G19,Fordeling,J$4+3,FALSE)*$F19,0) -> 833.33333 | K19: =IF($G19<>0,VLOOKUP($G19,Fordeling,K$4+3,FALSE)*$F19,0) -> 833.33333 | L19: =IF($G19<>0,VLOOKUP($G19,Fordeling,L$4+3,FALSE)*$F19,0) -> 833.33333 | M19: =IF($G19<>0,VLOOKUP($G19,Fordeling,M$4+3,FALSE)*$F19,0) -> 833.33333 | N19: =IF($G19<>0,VLOOKUP($G19,Fordeling,N$4+3,FALSE)*$F19,0) -> 833.33333 | O19: =IF($G19<>0,VLOOKUP($G19,Fordeling,O$4+3,FALSE)*$F19,0) -> 833.33333 | ... S19: =IF($G19<>0,VLOOKUP($G19,Fordeling,S$4+3,FALSE)*$F19,0) -> 833.33333
B20: 3445 | C20: Tilsskudd andre | D20: 6 | E20: 601 | G20: 1 | H20: =IF($G20<>0,VLOOKUP($G20,Fordeling,H$4+3,FALSE)*$F20,0) -> 0 | I20: =IF($G20<>0,VLOOKUP($G20,Fordeling,I$4+3,FALSE)*$F20,0) -> 0 | J20: =IF($G20<>0,VLOOKUP($G20,Fordeling,J$4+3,FALSE)*$F20,0) -> 0 | K20: =IF($G20<>0,VLOOKUP($G20,Fordeling,K$4+3,FALSE)*$F20,0) -> 0 | L20: =IF($G20<>0,VLOOKUP($G20,Fordeling,L$4+3,FALSE)*$F20,0) -> 0 | M20: =IF($G20<>0,VLOOKUP($G20,Fordeling,M$4+3,FALSE)*$F20,0) -> 0 | N20: =IF($G20<>0,VLOOKUP($G20,Fordeling,N$4+3,FALSE)*$F20,0) -> 0 | O20: =IF($G20<>0,VLOOKUP($G20,Fordeling,O$4+3,FALSE)*$F20,0) -> 0 | ... S20: =IF($G20<>0,VLOOKUP($G20,Fordeling,S$4+3,FALSE)*$F20,0) -> 0
B21: 3450 | C21: Støtte løyper | D21: 6 | E21: 601 | G21: 1 | H21: =IF($G21<>0,VLOOKUP($G21,Fordeling,H$4+3,FALSE)*$F21,0) -> 0 | I21: =IF($G21<>0,VLOOKUP($G21,Fordeling,I$4+3,FALSE)*$F21,0) -> 0 | J21: =IF($G21<>0,VLOOKUP($G21,Fordeling,J$4+3,FALSE)*$F21,0) -> 0 | K21: =IF($G21<>0,VLOOKUP($G21,Fordeling,K$4+3,FALSE)*$F21,0) -> 0 | L21: =IF($G21<>0,VLOOKUP($G21,Fordeling,L$4+3,FALSE)*$F21,0) -> 0 | M21: =IF($G21<>0,VLOOKUP($G21,Fordeling,M$4+3,FALSE)*$F21,0) -> 0 | N21: =IF($G21<>0,VLOOKUP($G21,Fordeling,N$4+3,FALSE)*$F21,0) -> 0 | O21: =IF($G21<>0,VLOOKUP($G21,Fordeling,O$4+3,FALSE)*$F21,0) -> 0 | ... S21: =IF($G21<>0,VLOOKUP($G21,Fordeling,S$4+3,FALSE)*$F21,0) -> 0
B22: 3455 | C22: Inntekt Enjoyguide | D22: 6 | E22: 601 | G22: 1 | H22: =IF($G22<>0,VLOOKUP($G22,Fordeling,H$4+3,FALSE)*$F22,0) -> 0 | I22: =IF($G22<>0,VLOOKUP($G22,Fordeling,I$4+3,FALSE)*$F22,0) -> 0 | J22: =IF($G22<>0,VLOOKUP($G22,Fordeling,J$4+3,FALSE)*$F22,0) -> 0 | K22: =IF($G22<>0,VLOOKUP($G22,Fordeling,K$4+3,FALSE)*$F22,0) -> 0 | L22: =IF($G22<>0,VLOOKUP($G22,Fordeling,L$4+3,FALSE)*$F22,0) -> 0 | M22: =IF($G22<>0,VLOOKUP($G22,Fordeling,M$4+3,FALSE)*$F22,0) -> 0 | N22: =IF($G22<>0,VLOOKUP($G22,Fordeling,N$4+3,FALSE)*$F22,0) -> 0 | O22: =IF($G22<>0,VLOOKUP($G22,Fordeling,O$4+3,FALSE)*$F22,0) -> 0 | ... S22: =IF($G22<>0,VLOOKUP($G22,Fordeling,S$4+3,FALSE)*$F22,0) -> 0
B23: 3601 | C23: Leieinntekter HIAS | D23: 6 | E23: 601 | G23: 1 | H23: =IF($G23<>0,VLOOKUP($G23,Fordeling,H$4+3,FALSE)*$F23,0) -> 0 | I23: =IF($G23<>0,VLOOKUP($G23,Fordeling,I$4+3,FALSE)*$F23,0) -> 0 | J23: =IF($G23<>0,VLOOKUP($G23,Fordeling,J$4+3,FALSE)*$F23,0) -> 0 | K23: =IF($G23<>0,VLOOKUP($G23,Fordeling,K$4+3,FALSE)*$F23,0) -> 0 | L23: =IF($G23<>0,VLOOKUP($G23,Fordeling,L$4+3,FALSE)*$F23,0) -> 0 | M23: =IF($G23<>0,VLOOKUP($G23,Fordeling,M$4+3,FALSE)*$F23,0) -> 0 | N23: =IF($G23<>0,VLOOKUP($G23,Fordeling,N$4+3,FALSE)*$F23,0) -> 0 | O23: =IF($G23<>0,VLOOKUP($G23,Fordeling,O$4+3,FALSE)*$F23,0) -> 0 | ... S23: =IF($G23<>0,VLOOKUP($G23,Fordeling,S$4+3,FALSE)*$F23,0) -> 0
B24: 3602 | C24: Leieinntekter klubbhus/idrettsparken | D24: 6 | E24: 601 | G24: 1 | H24: =IF($G24<>0,VLOOKUP($G24,Fordeling,H$4+3,FALSE)*$F24,0) -> 0 | I24: =IF($G24<>0,VLOOKUP($G24,Fordeling,I$4+3,FALSE)*$F24,0) -> 0 | J24: =IF($G24<>0,VLOOKUP($G24,Fordeling,J$4+3,FALSE)*$F24,0) -> 0 | K24: =IF($G24<>0,VLOOKUP($G24,Fordeling,K$4+3,FALSE)*$F24,0) -> 0 | L24: =IF($G24<>0,VLOOKUP($G24,Fordeling,L$4+3,FALSE)*$F24,0) -> 0 | M24: =IF($G24<>0,VLOOKUP($G24,Fordeling,M$4+3,FALSE)*$F24,0) -> 0 | N24: =IF($G24<>0,VLOOKUP($G24,Fordeling,N$4+3,FALSE)*$F24,0) -> 0 | O24: =IF($G24<>0,VLOOKUP($G24,Fordeling,O$4+3,FALSE)*$F24,0) -> 0 | ... S24: =IF($G24<>0,VLOOKUP($G24,Fordeling,S$4+3,FALSE)*$F24,0) -> 0
B25: 3700 | C25: Provisjonsinntekter, avgiftspliktig | D25: 6 | E25: 601 | G25: 1 | H25: =IF($G25<>0,VLOOKUP($G25,Fordeling,H$4+3,FALSE)*$F25,0) -> 0 | I25: =IF($G25<>0,VLOOKUP($G25,Fordeling,I$4+3,FALSE)*$F25,0) -> 0 | J25: =IF($G25<>0,VLOOKUP($G25,Fordeling,J$4+3,FALSE)*$F25,0) -> 0 | K25: =IF($G25<>0,VLOOKUP($G25,Fordeling,K$4+3,FALSE)*$F25,0) -> 0 | L25: =IF($G25<>0,VLOOKUP($G25,Fordeling,L$4+3,FALSE)*$F25,0) -> 0 | M25: =IF($G25<>0,VLOOKUP($G25,Fordeling,M$4+3,FALSE)*$F25,0) -> 0 | N25: =IF($G25<>0,VLOOKUP($G25,Fordeling,N$4+3,FALSE)*$F25,0) -> 0 | O25: =IF($G25<>0,VLOOKUP($G25,Fordeling,O$4+3,FALSE)*$F25,0) -> 0 | ... S25: =IF($G25<>0,VLOOKUP($G25,Fordeling,S$4+3,FALSE)*$F25,0) -> 0
B26: 3900 | C26: Annen inntekt | D26: 6 | E26: 601 | G26: 1 | H26: =IF($G26<>0,VLOOKUP($G26,Fordeling,H$4+3,FALSE)*$F26,0) -> 0 | I26: =IF($G26<>0,VLOOKUP($G26,Fordeling,I$4+3,FALSE)*$F26,0) -> 0 | J26: =IF($G26<>0,VLOOKUP($G26,Fordeling,J$4+3,FALSE)*$F26,0) -> 0 | K26: =IF($G26<>0,VLOOKUP($G26,Fordeling,K$4+3,FALSE)*$F26,0) -> 0 | L26: =IF($G26<>0,VLOOKUP($G26,Fordeling,L$4+3,FALSE)*$F26,0) -> 0 | M26: =IF($G26<>0,VLOOKUP($G26,Fordeling,M$4+3,FALSE)*$F26,0) -> 0 | N26: =IF($G26<>0,VLOOKUP($G26,Fordeling,N$4+3,FALSE)*$F26,0) -> 0 | O26: =IF($G26<>0,VLOOKUP($G26,Fordeling,O$4+3,FALSE)*$F26,0) -> 0 | ... S26: =IF($G26<>0,VLOOKUP($G26,Fordeling,S$4+3,FALSE)*$F26,0) -> 0
B27: 3910 | C27: Inntekter kiosk/kafé | D27: 6 | E27: 601 | G27: 1 | H27: =IF($G27<>0,VLOOKUP($G27,Fordeling,H$4+3,FALSE)*$F27,0) -> 0 | I27: =IF($G27<>0,VLOOKUP($G27,Fordeling,I$4+3,FALSE)*$F27,0) -> 0 | J27: =IF($G27<>0,VLOOKUP($G27,Fordeling,J$4+3,FALSE)*$F27,0) -> 0 | K27: =IF($G27<>0,VLOOKUP($G27,Fordeling,K$4+3,FALSE)*$F27,0) -> 0 | L27: =IF($G27<>0,VLOOKUP($G27,Fordeling,L$4+3,FALSE)*$F27,0) -> 0 | M27: =IF($G27<>0,VLOOKUP($G27,Fordeling,M$4+3,FALSE)*$F27,0) -> 0 | N27: =IF($G27<>0,VLOOKUP($G27,Fordeling,N$4+3,FALSE)*$F27,0) -> 0 | O27: =IF($G27<>0,VLOOKUP($G27,Fordeling,O$4+3,FALSE)*$F27,0) -> 0 | ... S27: =IF($G27<>0,VLOOKUP($G27,Fordeling,S$4+3,FALSE)*$F27,0) -> 0
B28: 3920 | C28: Årskontingenter | D28: 6 | E28: 601 | G28: 1 | H28: =IF($G28<>0,VLOOKUP($G28,Fordeling,H$4+3,FALSE)*$F28,0) -> 0 | I28: =IF($G28<>0,VLOOKUP($G28,Fordeling,I$4+3,FALSE)*$F28,0) -> 0 | J28: =IF($G28<>0,VLOOKUP($G28,Fordeling,J$4+3,FALSE)*$F28,0) -> 0 | K28: =IF($G28<>0,VLOOKUP($G28,Fordeling,K$4+3,FALSE)*$F28,0) -> 0 | L28: =IF($G28<>0,VLOOKUP($G28,Fordeling,L$4+3,FALSE)*$F28,0) -> 0 | M28: =IF($G28<>0,VLOOKUP($G28,Fordeling,M$4+3,FALSE)*$F28,0) -> 0 | N28: =IF($G28<>0,VLOOKUP($G28,Fordeling,N$4+3,FALSE)*$F28,0) -> 0 | O28: =IF($G28<>0,VLOOKUP($G28,Fordeling,O$4+3,FALSE)*$F28,0) -> 0 | ... S28: =IF($G28<>0,VLOOKUP($G28,Fordeling,S$4+3,FALSE)*$F28,0) -> 0
B29: 3930 | C29: Treningsavgifter | D29: 6 | E29: 601 | F29: 150000 | G29: 1 | H29: =IF($G29<>0,VLOOKUP($G29,Fordeling,H$4+3,FALSE)*$F29,0) -> 12500 | I29: =IF($G29<>0,VLOOKUP($G29,Fordeling,I$4+3,FALSE)*$F29,0) -> 12500 | J29: =IF($G29<>0,VLOOKUP($G29,Fordeling,J$4+3,FALSE)*$F29,0) -> 12500 | K29: =IF($G29<>0,VLOOKUP($G29,Fordeling,K$4+3,FALSE)*$F29,0) -> 12500 | L29: =IF($G29<>0,VLOOKUP($G29,Fordeling,L$4+3,FALSE)*$F29,0) -> 12500 | M29: =IF($G29<>0,VLOOKUP($G29,Fordeling,M$4+3,FALSE)*$F29,0) -> 12500 | N29: =IF($G29<>0,VLOOKUP($G29,Fordeling,N$4+3,FALSE)*$F29,0) -> 12500 | O29: =IF($G29<>0,VLOOKUP($G29,Fordeling,O$4+3,FALSE)*$F29,0) -> 12500 | ... S29: =IF($G29<>0,VLOOKUP($G29,Fordeling,S$4+3,FALSE)*$F29,0) -> 12500
B30: 3960 | C30: Bingodrift | D30: 6 | E30: 601 | G30: 1 | H30: =IF($G30<>0,VLOOKUP($G30,Fordeling,H$4+3,FALSE)*$F30,0) -> 0 | I30: =IF($G30<>0,VLOOKUP($G30,Fordeling,I$4+3,FALSE)*$F30,0) -> 0 | J30: =IF($G30<>0,VLOOKUP($G30,Fordeling,J$4+3,FALSE)*$F30,0) -> 0 | K30: =IF($G30<>0,VLOOKUP($G30,Fordeling,K$4+3,FALSE)*$F30,0) -> 0 | L30: =IF($G30<>0,VLOOKUP($G30,Fordeling,L$4+3,FALSE)*$F30,0) -> 0 | M30: =IF($G30<>0,VLOOKUP($G30,Fordeling,M$4+3,FALSE)*$F30,0) -> 0 | N30: =IF($G30<>0,VLOOKUP($G30,Fordeling,N$4+3,FALSE)*$F30,0) -> 0 | O30: =IF($G30<>0,VLOOKUP($G30,Fordeling,O$4+3,FALSE)*$F30,0) -> 0 | ... S30: =IF($G30<>0,VLOOKUP($G30,Fordeling,S$4+3,FALSE)*$F30,0) -> 0
B31: 3970 | C31: Grasrotandel | D31: 6 | E31: 601 | G31: 1 | H31: =IF($G31<>0,VLOOKUP($G31,Fordeling,H$4+3,FALSE)*$F31,0) -> 0 | I31: =IF($G31<>0,VLOOKUP($G31,Fordeling,I$4+3,FALSE)*$F31,0) -> 0 | J31: =IF($G31<>0,VLOOKUP($G31,Fordeling,J$4+3,FALSE)*$F31,0) -> 0 | K31: =IF($G31<>0,VLOOKUP($G31,Fordeling,K$4+3,FALSE)*$F31,0) -> 0 | L31: =IF($G31<>0,VLOOKUP($G31,Fordeling,L$4+3,FALSE)*$F31,0) -> 0 | M31: =IF($G31<>0,VLOOKUP($G31,Fordeling,M$4+3,FALSE)*$F31,0) -> 0 | N31: =IF($G31<>0,VLOOKUP($G31,Fordeling,N$4+3,FALSE)*$F31,0) -> 0 | O31: =IF($G31<>0,VLOOKUP($G31,Fordeling,O$4+3,FALSE)*$F31,0) -> 0 | ... S31: =IF($G31<>0,VLOOKUP($G31,Fordeling,S$4+3,FALSE)*$F31,0) -> 0
B32: 3997 | C32: Dugnadsinntekter | D32: 6 | E32: 601 | F32: 10000 | G32: 1 | H32: =IF($G32<>0,VLOOKUP($G32,Fordeling,H$4+3,FALSE)*$F32,0) -> 833.33333 | I32: =IF($G32<>0,VLOOKUP($G32,Fordeling,I$4+3,FALSE)*$F32,0) -> 833.33333 | J32: =IF($G32<>0,VLOOKUP($G32,Fordeling,J$4+3,FALSE)*$F32,0) -> 833.33333 | K32: =IF($G32<>0,VLOOKUP($G32,Fordeling,K$4+3,FALSE)*$F32,0) -> 833.33333 | L32: =IF($G32<>0,VLOOKUP($G32,Fordeling,L$4+3,FALSE)*$F32,0) -> 833.33333 | M32: =IF($G32<>0,VLOOKUP($G32,Fordeling,M$4+3,FALSE)*$F32,0) -> 833.33333 | N32: =IF($G32<>0,VLOOKUP($G32,Fordeling,N$4+3,FALSE)*$F32,0) -> 833.33333 | O32: =IF($G32<>0,VLOOKUP($G32,Fordeling,O$4+3,FALSE)*$F32,0) -> 833.33333 | ... S32: =IF($G32<>0,VLOOKUP($G32,Fordeling,S$4+3,FALSE)*$F32,0) -> 833.33333
B33: 3998 | C33: Inntekter fra grupper | D33: 6 | E33: 601 | G33: 1 | H33: =IF($G33<>0,VLOOKUP($G33,Fordeling,H$4+3,FALSE)*$F33,0) -> 0 | I33: =IF($G33<>0,VLOOKUP($G33,Fordeling,I$4+3,FALSE)*$F33,0) -> 0 | J33: =IF($G33<>0,VLOOKUP($G33,Fordeling,J$4+3,FALSE)*$F33,0) -> 0 | K33: =IF($G33<>0,VLOOKUP($G33,Fordeling,K$4+3,FALSE)*$F33,0) -> 0 | L33: =IF($G33<>0,VLOOKUP($G33,Fordeling,L$4+3,FALSE)*$F33,0) -> 0 | M33: =IF($G33<>0,VLOOKUP($G33,Fordeling,M$4+3,FALSE)*$F33,0) -> 0 | N33: =IF($G33<>0,VLOOKUP($G33,Fordeling,N$4+3,FALSE)*$F33,0) -> 0 | O33: =IF($G33<>0,VLOOKUP($G33,Fordeling,O$4+3,FALSE)*$F33,0) -> 0 | ... S33: =IF($G33<>0,VLOOKUP($G33,Fordeling,S$4+3,FALSE)*$F33,0) -> 0
B34: 4071 | C34: Kontantrabatt, råvarer og halvfabrikata | D34: 6 | E34: 601 | G34: 1 | H34: =IF($G34<>0,VLOOKUP($G34,Fordeling,H$4+3,FALSE)*$F34,0) -> 0 | I34: =IF($G34<>0,VLOOKUP($G34,Fordeling,I$4+3,FALSE)*$F34,0) -> 0 | J34: =IF($G34<>0,VLOOKUP($G34,Fordeling,J$4+3,FALSE)*$F34,0) -> 0 | K34: =IF($G34<>0,VLOOKUP($G34,Fordeling,K$4+3,FALSE)*$F34,0) -> 0 | L34: =IF($G34<>0,VLOOKUP($G34,Fordeling,L$4+3,FALSE)*$F34,0) -> 0 | M34: =IF($G34<>0,VLOOKUP($G34,Fordeling,M$4+3,FALSE)*$F34,0) -> 0 | N34: =IF($G34<>0,VLOOKUP($G34,Fordeling,N$4+3,FALSE)*$F34,0) -> 0 | O34: =IF($G34<>0,VLOOKUP($G34,Fordeling,O$4+3,FALSE)*$F34,0) -> 0 | ... S34: =IF($G34<>0,VLOOKUP($G34,Fordeling,S$4+3,FALSE)*$F34,0) -> 0
B35: 4100 | C35: Arenaleie | D35: 6 | E35: 601 | F35: 5000 | G35: 1 | H35: =IF($G35<>0,VLOOKUP($G35,Fordeling,H$4+3,FALSE)*$F35,0) -> 416.66667 | I35: =IF($G35<>0,VLOOKUP($G35,Fordeling,I$4+3,FALSE)*$F35,0) -> 416.66667 | J35: =IF($G35<>0,VLOOKUP($G35,Fordeling,J$4+3,FALSE)*$F35,0) -> 416.66667 | K35: =IF($G35<>0,VLOOKUP($G35,Fordeling,K$4+3,FALSE)*$F35,0) -> 416.66667 | L35: =IF($G35<>0,VLOOKUP($G35,Fordeling,L$4+3,FALSE)*$F35,0) -> 416.66667 | M35: =IF($G35<>0,VLOOKUP($G35,Fordeling,M$4+3,FALSE)*$F35,0) -> 416.66667 | N35: =IF($G35<>0,VLOOKUP($G35,Fordeling,N$4+3,FALSE)*$F35,0) -> 416.66667 | O35: =IF($G35<>0,VLOOKUP($G35,Fordeling,O$4+3,FALSE)*$F35,0) -> 416.66667 | ... S35: =IF($G35<>0,VLOOKUP($G35,Fordeling,S$4+3,FALSE)*$F35,0) -> 416.66667
B36: 4150 | C36: Utgifter arrangement egne | D36: 6 | E36: 601 | G36: 1 | H36: =IF($G36<>0,VLOOKUP($G36,Fordeling,H$4+3,FALSE)*$F36,0) -> 0 | I36: =IF($G36<>0,VLOOKUP($G36,Fordeling,I$4+3,FALSE)*$F36,0) -> 0 | J36: =IF($G36<>0,VLOOKUP($G36,Fordeling,J$4+3,FALSE)*$F36,0) -> 0 | K36: =IF($G36<>0,VLOOKUP($G36,Fordeling,K$4+3,FALSE)*$F36,0) -> 0 | L36: =IF($G36<>0,VLOOKUP($G36,Fordeling,L$4+3,FALSE)*$F36,0) -> 0 | M36: =IF($G36<>0,VLOOKUP($G36,Fordeling,M$4+3,FALSE)*$F36,0) -> 0 | N36: =IF($G36<>0,VLOOKUP($G36,Fordeling,N$4+3,FALSE)*$F36,0) -> 0 | O36: =IF($G36<>0,VLOOKUP($G36,Fordeling,O$4+3,FALSE)*$F36,0) -> 0 | ... S36: =IF($G36<>0,VLOOKUP($G36,Fordeling,S$4+3,FALSE)*$F36,0) -> 0
B37: 4160 | C37: Deltakeravgift arrangementer | D37: 6 | E37: 601 | F37: 80000 | G37: 1 | H37: =IF($G37<>0,VLOOKUP($G37,Fordeling,H$4+3,FALSE)*$F37,0) -> 6666.6667 | I37: =IF($G37<>0,VLOOKUP($G37,Fordeling,I$4+3,FALSE)*$F37,0) -> 6666.6667 | J37: =IF($G37<>0,VLOOKUP($G37,Fordeling,J$4+3,FALSE)*$F37,0) -> 6666.6667 | K37: =IF($G37<>0,VLOOKUP($G37,Fordeling,K$4+3,FALSE)*$F37,0) -> 6666.6667 | L37: =IF($G37<>0,VLOOKUP($G37,Fordeling,L$4+3,FALSE)*$F37,0) -> 6666.6667 | M37: =IF($G37<>0,VLOOKUP($G37,Fordeling,M$4+3,FALSE)*$F37,0) -> 6666.6667 | N37: =IF($G37<>0,VLOOKUP($G37,Fordeling,N$4+3,FALSE)*$F37,0) -> 6666.6667 | O37: =IF($G37<>0,VLOOKUP($G37,Fordeling,O$4+3,FALSE)*$F37,0) -> 6666.6667 | ... S37: =IF($G37<>0,VLOOKUP($G37,Fordeling,S$4+3,FALSE)*$F37,0) -> 6666.6667
B38: 4170 | C38: Treningssamlinger/samarbeid | D38: 6 | E38: 601 | F38: 45000 | G38: 1 | H38: =IF($G38<>0,VLOOKUP($G38,Fordeling,H$4+3,FALSE)*$F38,0) -> 3750 | I38: =IF($G38<>0,VLOOKUP($G38,Fordeling,I$4+3,FALSE)*$F38,0) -> 3750 | J38: =IF($G38<>0,VLOOKUP($G38,Fordeling,J$4+3,FALSE)*$F38,0) -> 3750 | K38: =IF($G38<>0,VLOOKUP($G38,Fordeling,K$4+3,FALSE)*$F38,0) -> 3750 | L38: =IF($G38<>0,VLOOKUP($G38,Fordeling,L$4+3,FALSE)*$F38,0) -> 3750 | M38: =IF($G38<>0,VLOOKUP($G38,Fordeling,M$4+3,FALSE)*$F38,0) -> 3750 | N38: =IF($G38<>0,VLOOKUP($G38,Fordeling,N$4+3,FALSE)*$F38,0) -> 3750 | O38: =IF($G38<>0,VLOOKUP($G38,Fordeling,O$4+3,FALSE)*$F38,0) -> 3750 | ... S38: =IF($G38<>0,VLOOKUP($G38,Fordeling,S$4+3,FALSE)*$F38,0) -> 3750
B39: 4175 | C39: Miljøsamlinger | D39: 6 | E39: 601 | F39: 25000 | G39: 1 | H39: =IF($G39<>0,VLOOKUP($G39,Fordeling,H$4+3,FALSE)*$F39,0) -> 2083.3333 | I39: =IF($G39<>0,VLOOKUP($G39,Fordeling,I$4+3,FALSE)*$F39,0) -> 2083.3333 | J39: =IF($G39<>0,VLOOKUP($G39,Fordeling,J$4+3,FALSE)*$F39,0) -> 2083.3333 | K39: =IF($G39<>0,VLOOKUP($G39,Fordeling,K$4+3,FALSE)*$F39,0) -> 2083.3333 | L39: =IF($G39<>0,VLOOKUP($G39,Fordeling,L$4+3,FALSE)*$F39,0) -> 2083.3333 | M39: =IF($G39<>0,VLOOKUP($G39,Fordeling,M$4+3,FALSE)*$F39,0) -> 2083.3333 | N39: =IF($G39<>0,VLOOKUP($G39,Fordeling,N$4+3,FALSE)*$F39,0) -> 2083.3333 | O39: =IF($G39<>0,VLOOKUP($G39,Fordeling,O$4+3,FALSE)*$F39,0) -> 2083.3333 | ... S39: =IF($G39<>0,VLOOKUP($G39,Fordeling,S$4+3,FALSE)*$F39,0) -> 2083.3333
B40: 4300 | C40: Innkjøp varer for videresalg | D40: 6 | E40: 601 | F40: 30000 | G40: 1 | H40: =IF($G40<>0,VLOOKUP($G40,Fordeling,H$4+3,FALSE)*$F40,0) -> 2500 | I40: =IF($G40<>0,VLOOKUP($G40,Fordeling,I$4+3,FALSE)*$F40,0) -> 2500 | J40: =IF($G40<>0,VLOOKUP($G40,Fordeling,J$4+3,FALSE)*$F40,0) -> 2500 | K40: =IF($G40<>0,VLOOKUP($G40,Fordeling,K$4+3,FALSE)*$F40,0) -> 2500 | L40: =IF($G40<>0,VLOOKUP($G40,Fordeling,L$4+3,FALSE)*$F40,0) -> 2500 | M40: =IF($G40<>0,VLOOKUP($G40,Fordeling,M$4+3,FALSE)*$F40,0) -> 2500 | N40: =IF($G40<>0,VLOOKUP($G40,Fordeling,N$4+3,FALSE)*$F40,0) -> 2500 | O40: =IF($G40<>0,VLOOKUP($G40,Fordeling,O$4+3,FALSE)*$F40,0) -> 2500 | ... S40: =IF($G40<>0,VLOOKUP($G40,Fordeling,S$4+3,FALSE)*$F40,0) -> 2500
B41: 5001 | C41: Lønn til ansatte | D41: 6 | E41: 601 | G41: 1 | H41: =IF($G41<>0,VLOOKUP($G41,Fordeling,H$4+3,FALSE)*$F41,0) -> 0 | I41: =IF($G41<>0,VLOOKUP($G41,Fordeling,I$4+3,FALSE)*$F41,0) -> 0 | J41: =IF($G41<>0,VLOOKUP($G41,Fordeling,J$4+3,FALSE)*$F41,0) -> 0 | K41: =IF($G41<>0,VLOOKUP($G41,Fordeling,K$4+3,FALSE)*$F41,0) -> 0 | L41: =IF($G41<>0,VLOOKUP($G41,Fordeling,L$4+3,FALSE)*$F41,0) -> 0 | M41: =IF($G41<>0,VLOOKUP($G41,Fordeling,M$4+3,FALSE)*$F41,0) -> 0 | N41: =IF($G41<>0,VLOOKUP($G41,Fordeling,N$4+3,FALSE)*$F41,0) -> 0 | O41: =IF($G41<>0,VLOOKUP($G41,Fordeling,O$4+3,FALSE)*$F41,0) -> 0 | ... S41: =IF($G41<>0,VLOOKUP($G41,Fordeling,S$4+3,FALSE)*$F41,0) -> 0
B42: 5009 | C42: Honorar, inkl.feriepenger | D42: 6 | E42: 601 | G42: 1 | H42: =IF($G42<>0,VLOOKUP($G42,Fordeling,H$4+3,FALSE)*$F42,0) -> 0 | I42: =IF($G42<>0,VLOOKUP($G42,Fordeling,I$4+3,FALSE)*$F42,0) -> 0 | J42: =IF($G42<>0,VLOOKUP($G42,Fordeling,J$4+3,FALSE)*$F42,0) -> 0 | K42: =IF($G42<>0,VLOOKUP($G42,Fordeling,K$4+3,FALSE)*$F42,0) -> 0 | L42: =IF($G42<>0,VLOOKUP($G42,Fordeling,L$4+3,FALSE)*$F42,0) -> 0 | M42: =IF($G42<>0,VLOOKUP($G42,Fordeling,M$4+3,FALSE)*$F42,0) -> 0 | N42: =IF($G42<>0,VLOOKUP($G42,Fordeling,N$4+3,FALSE)*$F42,0) -> 0 | O42: =IF($G42<>0,VLOOKUP($G42,Fordeling,O$4+3,FALSE)*$F42,0) -> 0 | ... S42: =IF($G42<>0,VLOOKUP($G42,Fordeling,S$4+3,FALSE)*$F42,0) -> 0
B43: 5092 | C43: Avsatte feriepenger | D43: 6 | E43: 601 | G43: 1 | H43: =IF($G43<>0,VLOOKUP($G43,Fordeling,H$4+3,FALSE)*$F43,0) -> 0 | I43: =IF($G43<>0,VLOOKUP($G43,Fordeling,I$4+3,FALSE)*$F43,0) -> 0 | J43: =IF($G43<>0,VLOOKUP($G43,Fordeling,J$4+3,FALSE)*$F43,0) -> 0 | K43: =IF($G43<>0,VLOOKUP($G43,Fordeling,K$4+3,FALSE)*$F43,0) -> 0 | L43: =IF($G43<>0,VLOOKUP($G43,Fordeling,L$4+3,FALSE)*$F43,0) -> 0 | M43: =IF($G43<>0,VLOOKUP($G43,Fordeling,M$4+3,FALSE)*$F43,0) -> 0 | N43: =IF($G43<>0,VLOOKUP($G43,Fordeling,N$4+3,FALSE)*$F43,0) -> 0 | O43: =IF($G43<>0,VLOOKUP($G43,Fordeling,O$4+3,FALSE)*$F43,0) -> 0 | ... S43: =IF($G43<>0,VLOOKUP($G43,Fordeling,S$4+3,FALSE)*$F43,0) -> 0
B44: 5210 | C44: Fri telefon | D44: 6 | E44: 601 | G44: 1 | H44: =IF($G44<>0,VLOOKUP($G44,Fordeling,H$4+3,FALSE)*$F44,0) -> 0 | I44: =IF($G44<>0,VLOOKUP($G44,Fordeling,I$4+3,FALSE)*$F44,0) -> 0 | J44: =IF($G44<>0,VLOOKUP($G44,Fordeling,J$4+3,FALSE)*$F44,0) -> 0 | K44: =IF($G44<>0,VLOOKUP($G44,Fordeling,K$4+3,FALSE)*$F44,0) -> 0 | L44: =IF($G44<>0,VLOOKUP($G44,Fordeling,L$4+3,FALSE)*$F44,0) -> 0 | M44: =IF($G44<>0,VLOOKUP($G44,Fordeling,M$4+3,FALSE)*$F44,0) -> 0 | N44: =IF($G44<>0,VLOOKUP($G44,Fordeling,N$4+3,FALSE)*$F44,0) -> 0 | O44: =IF($G44<>0,VLOOKUP($G44,Fordeling,O$4+3,FALSE)*$F44,0) -> 0 | ... S44: =IF($G44<>0,VLOOKUP($G44,Fordeling,S$4+3,FALSE)*$F44,0) -> 0
B45: 5280 | C45: Annen fordel i arbeidsforhold | D45: 6 | E45: 601 | G45: 1 | H45: =IF($G45<>0,VLOOKUP($G45,Fordeling,H$4+3,FALSE)*$F45,0) -> 0 | I45: =IF($G45<>0,VLOOKUP($G45,Fordeling,I$4+3,FALSE)*$F45,0) -> 0 | J45: =IF($G45<>0,VLOOKUP($G45,Fordeling,J$4+3,FALSE)*$F45,0) -> 0 | K45: =IF($G45<>0,VLOOKUP($G45,Fordeling,K$4+3,FALSE)*$F45,0) -> 0 | L45: =IF($G45<>0,VLOOKUP($G45,Fordeling,L$4+3,FALSE)*$F45,0) -> 0 | M45: =IF($G45<>0,VLOOKUP($G45,Fordeling,M$4+3,FALSE)*$F45,0) -> 0 | N45: =IF($G45<>0,VLOOKUP($G45,Fordeling,N$4+3,FALSE)*$F45,0) -> 0 | O45: =IF($G45<>0,VLOOKUP($G45,Fordeling,O$4+3,FALSE)*$F45,0) -> 0 | ... S45: =IF($G45<>0,VLOOKUP($G45,Fordeling,S$4+3,FALSE)*$F45,0) -> 0
B46: 5290 | C46: Motkonto fordeler | D46: 6 | E46: 601 | G46: 1 | H46: =IF($G46<>0,VLOOKUP($G46,Fordeling,H$4+3,FALSE)*$F46,0) -> 0 | I46: =IF($G46<>0,VLOOKUP($G46,Fordeling,I$4+3,FALSE)*$F46,0) -> 0 | J46: =IF($G46<>0,VLOOKUP($G46,Fordeling,J$4+3,FALSE)*$F46,0) -> 0 | K46: =IF($G46<>0,VLOOKUP($G46,Fordeling,K$4+3,FALSE)*$F46,0) -> 0 | L46: =IF($G46<>0,VLOOKUP($G46,Fordeling,L$4+3,FALSE)*$F46,0) -> 0 | M46: =IF($G46<>0,VLOOKUP($G46,Fordeling,M$4+3,FALSE)*$F46,0) -> 0 | N46: =IF($G46<>0,VLOOKUP($G46,Fordeling,N$4+3,FALSE)*$F46,0) -> 0 | O46: =IF($G46<>0,VLOOKUP($G46,Fordeling,O$4+3,FALSE)*$F46,0) -> 0 | ... S46: =IF($G46<>0,VLOOKUP($G46,Fordeling,S$4+3,FALSE)*$F46,0) -> 0
B47: 5331 | C47: Styrehonorar | D47: 6 | E47: 601 | G47: 1 | H47: =IF($G47<>0,VLOOKUP($G47,Fordeling,H$4+3,FALSE)*$F47,0) -> 0 | I47: =IF($G47<>0,VLOOKUP($G47,Fordeling,I$4+3,FALSE)*$F47,0) -> 0 | J47: =IF($G47<>0,VLOOKUP($G47,Fordeling,J$4+3,FALSE)*$F47,0) -> 0 | K47: =IF($G47<>0,VLOOKUP($G47,Fordeling,K$4+3,FALSE)*$F47,0) -> 0 | L47: =IF($G47<>0,VLOOKUP($G47,Fordeling,L$4+3,FALSE)*$F47,0) -> 0 | M47: =IF($G47<>0,VLOOKUP($G47,Fordeling,M$4+3,FALSE)*$F47,0) -> 0 | N47: =IF($G47<>0,VLOOKUP($G47,Fordeling,N$4+3,FALSE)*$F47,0) -> 0 | O47: =IF($G47<>0,VLOOKUP($G47,Fordeling,O$4+3,FALSE)*$F47,0) -> 0 | ... S47: =IF($G47<>0,VLOOKUP($G47,Fordeling,S$4+3,FALSE)*$F47,0) -> 0
B48: 5390 | C48: Annen oppg.pl. godtgjørelse | D48: 6 | E48: 601 | G48: 1 | H48: =IF($G48<>0,VLOOKUP($G48,Fordeling,H$4+3,FALSE)*$F48,0) -> 0 | I48: =IF($G48<>0,VLOOKUP($G48,Fordeling,I$4+3,FALSE)*$F48,0) -> 0 | J48: =IF($G48<>0,VLOOKUP($G48,Fordeling,J$4+3,FALSE)*$F48,0) -> 0 | K48: =IF($G48<>0,VLOOKUP($G48,Fordeling,K$4+3,FALSE)*$F48,0) -> 0 | L48: =IF($G48<>0,VLOOKUP($G48,Fordeling,L$4+3,FALSE)*$F48,0) -> 0 | M48: =IF($G48<>0,VLOOKUP($G48,Fordeling,M$4+3,FALSE)*$F48,0) -> 0 | N48: =IF($G48<>0,VLOOKUP($G48,Fordeling,N$4+3,FALSE)*$F48,0) -> 0 | O48: =IF($G48<>0,VLOOKUP($G48,Fordeling,O$4+3,FALSE)*$F48,0) -> 0 | ... S48: =IF($G48<>0,VLOOKUP($G48,Fordeling,S$4+3,FALSE)*$F48,0) -> 0
B49: 5401 | C49: Arbeidsgiveravgift | D49: 6 | E49: 601 | G49: 1 | H49: =IF($G49<>0,VLOOKUP($G49,Fordeling,H$4+3,FALSE)*$F49,0) -> 0 | I49: =IF($G49<>0,VLOOKUP($G49,Fordeling,I$4+3,FALSE)*$F49,0) -> 0 | J49: =IF($G49<>0,VLOOKUP($G49,Fordeling,J$4+3,FALSE)*$F49,0) -> 0 | K49: =IF($G49<>0,VLOOKUP($G49,Fordeling,K$4+3,FALSE)*$F49,0) -> 0 | L49: =IF($G49<>0,VLOOKUP($G49,Fordeling,L$4+3,FALSE)*$F49,0) -> 0 | M49: =IF($G49<>0,VLOOKUP($G49,Fordeling,M$4+3,FALSE)*$F49,0) -> 0 | N49: =IF($G49<>0,VLOOKUP($G49,Fordeling,N$4+3,FALSE)*$F49,0) -> 0 | O49: =IF($G49<>0,VLOOKUP($G49,Fordeling,O$4+3,FALSE)*$F49,0) -> 0 | ... S49: =IF($G49<>0,VLOOKUP($G49,Fordeling,S$4+3,FALSE)*$F49,0) -> 0
B50: 5405 | C50: Avsatt arb.g.avg. av feriepenger | D50: 6 | E50: 601 | G50: 1 | H50: =IF($G50<>0,VLOOKUP($G50,Fordeling,H$4+3,FALSE)*$F50,0) -> 0 | I50: =IF($G50<>0,VLOOKUP($G50,Fordeling,I$4+3,FALSE)*$F50,0) -> 0 | J50: =IF($G50<>0,VLOOKUP($G50,Fordeling,J$4+3,FALSE)*$F50,0) -> 0 | K50: =IF($G50<>0,VLOOKUP($G50,Fordeling,K$4+3,FALSE)*$F50,0) -> 0 | L50: =IF($G50<>0,VLOOKUP($G50,Fordeling,L$4+3,FALSE)*$F50,0) -> 0 | M50: =IF($G50<>0,VLOOKUP($G50,Fordeling,M$4+3,FALSE)*$F50,0) -> 0 | N50: =IF($G50<>0,VLOOKUP($G50,Fordeling,N$4+3,FALSE)*$F50,0) -> 0 | O50: =IF($G50<>0,VLOOKUP($G50,Fordeling,O$4+3,FALSE)*$F50,0) -> 0 | ... S50: =IF($G50<>0,VLOOKUP($G50,Fordeling,S$4+3,FALSE)*$F50,0) -> 0
B51: 5600 | C51: Dommerhonorar | D51: 6 | E51: 601 | G51: 1 | H51: =IF($G51<>0,VLOOKUP($G51,Fordeling,H$4+3,FALSE)*$F51,0) -> 0 | I51: =IF($G51<>0,VLOOKUP($G51,Fordeling,I$4+3,FALSE)*$F51,0) -> 0 | J51: =IF($G51<>0,VLOOKUP($G51,Fordeling,J$4+3,FALSE)*$F51,0) -> 0 | K51: =IF($G51<>0,VLOOKUP($G51,Fordeling,K$4+3,FALSE)*$F51,0) -> 0 | L51: =IF($G51<>0,VLOOKUP($G51,Fordeling,L$4+3,FALSE)*$F51,0) -> 0 | M51: =IF($G51<>0,VLOOKUP($G51,Fordeling,M$4+3,FALSE)*$F51,0) -> 0 | N51: =IF($G51<>0,VLOOKUP($G51,Fordeling,N$4+3,FALSE)*$F51,0) -> 0 | O51: =IF($G51<>0,VLOOKUP($G51,Fordeling,O$4+3,FALSE)*$F51,0) -> 0 | ... S51: =IF($G51<>0,VLOOKUP($G51,Fordeling,S$4+3,FALSE)*$F51,0) -> 0
B52: 5900 | C52: Gaver, sosiale kostnader ansatte | D52: 6 | E52: 601 | F52: 20000 | G52: 1 | H52: =IF($G52<>0,VLOOKUP($G52,Fordeling,H$4+3,FALSE)*$F52,0) -> 1666.6667 | I52: =IF($G52<>0,VLOOKUP($G52,Fordeling,I$4+3,FALSE)*$F52,0) -> 1666.6667 | J52: =IF($G52<>0,VLOOKUP($G52,Fordeling,J$4+3,FALSE)*$F52,0) -> 1666.6667 | K52: =IF($G52<>0,VLOOKUP($G52,Fordeling,K$4+3,FALSE)*$F52,0) -> 1666.6667 | L52: =IF($G52<>0,VLOOKUP($G52,Fordeling,L$4+3,FALSE)*$F52,0) -> 1666.6667 | M52: =IF($G52<>0,VLOOKUP($G52,Fordeling,M$4+3,FALSE)*$F52,0) -> 1666.6667 | N52: =IF($G52<>0,VLOOKUP($G52,Fordeling,N$4+3,FALSE)*$F52,0) -> 1666.6667 | O52: =IF($G52<>0,VLOOKUP($G52,Fordeling,O$4+3,FALSE)*$F52,0) -> 1666.6667 | ... S52: =IF($G52<>0,VLOOKUP($G52,Fordeling,S$4+3,FALSE)*$F52,0) -> 1666.6667
B53: 5930 | C53: Pensjonsforsikring | D53: 6 | E53: 601 | G53: 1 | H53: =IF($G53<>0,VLOOKUP($G53,Fordeling,H$4+3,FALSE)*$F53,0) -> 0 | I53: =IF($G53<>0,VLOOKUP($G53,Fordeling,I$4+3,FALSE)*$F53,0) -> 0 | J53: =IF($G53<>0,VLOOKUP($G53,Fordeling,J$4+3,FALSE)*$F53,0) -> 0 | K53: =IF($G53<>0,VLOOKUP($G53,Fordeling,K$4+3,FALSE)*$F53,0) -> 0 | L53: =IF($G53<>0,VLOOKUP($G53,Fordeling,L$4+3,FALSE)*$F53,0) -> 0 | M53: =IF($G53<>0,VLOOKUP($G53,Fordeling,M$4+3,FALSE)*$F53,0) -> 0 | N53: =IF($G53<>0,VLOOKUP($G53,Fordeling,N$4+3,FALSE)*$F53,0) -> 0 | O53: =IF($G53<>0,VLOOKUP($G53,Fordeling,O$4+3,FALSE)*$F53,0) -> 0 | ... S53: =IF($G53<>0,VLOOKUP($G53,Fordeling,S$4+3,FALSE)*$F53,0) -> 0
B54: 6015 | C54: Avskrivning | D54: 6 | E54: 601 | G54: 1 | H54: =IF($G54<>0,VLOOKUP($G54,Fordeling,H$4+3,FALSE)*$F54,0) -> 0 | I54: =IF($G54<>0,VLOOKUP($G54,Fordeling,I$4+3,FALSE)*$F54,0) -> 0 | J54: =IF($G54<>0,VLOOKUP($G54,Fordeling,J$4+3,FALSE)*$F54,0) -> 0 | K54: =IF($G54<>0,VLOOKUP($G54,Fordeling,K$4+3,FALSE)*$F54,0) -> 0 | L54: =IF($G54<>0,VLOOKUP($G54,Fordeling,L$4+3,FALSE)*$F54,0) -> 0 | M54: =IF($G54<>0,VLOOKUP($G54,Fordeling,M$4+3,FALSE)*$F54,0) -> 0 | N54: =IF($G54<>0,VLOOKUP($G54,Fordeling,N$4+3,FALSE)*$F54,0) -> 0 | O54: =IF($G54<>0,VLOOKUP($G54,Fordeling,O$4+3,FALSE)*$F54,0) -> 0 | ... S54: =IF($G54<>0,VLOOKUP($G54,Fordeling,S$4+3,FALSE)*$F54,0) -> 0
B55: 6300 | C55: Leie lokaler | D55: 6 | E55: 601 | F55: 25000 | G55: 1 | H55: =IF($G55<>0,VLOOKUP($G55,Fordeling,H$4+3,FALSE)*$F55,0) -> 2083.3333 | I55: =IF($G55<>0,VLOOKUP($G55,Fordeling,I$4+3,FALSE)*$F55,0) -> 2083.3333 | J55: =IF($G55<>0,VLOOKUP($G55,Fordeling,J$4+3,FALSE)*$F55,0) -> 2083.3333 | K55: =IF($G55<>0,VLOOKUP($G55,Fordeling,K$4+3,FALSE)*$F55,0) -> 2083.3333 | L55: =IF($G55<>0,VLOOKUP($G55,Fordeling,L$4+3,FALSE)*$F55,0) -> 2083.3333 | M55: =IF($G55<>0,VLOOKUP($G55,Fordeling,M$4+3,FALSE)*$F55,0) -> 2083.3333 | N55: =IF($G55<>0,VLOOKUP($G55,Fordeling,N$4+3,FALSE)*$F55,0) -> 2083.3333 | O55: =IF($G55<>0,VLOOKUP($G55,Fordeling,O$4+3,FALSE)*$F55,0) -> 2083.3333 | ... S55: =IF($G55<>0,VLOOKUP($G55,Fordeling,S$4+3,FALSE)*$F55,0) -> 2083.3333
B56: 6320 | C56: Renovasjonskostnader | D56: 6 | E56: 601 | G56: 1 | H56: =IF($G56<>0,VLOOKUP($G56,Fordeling,H$4+3,FALSE)*$F56,0) -> 0 | I56: =IF($G56<>0,VLOOKUP($G56,Fordeling,I$4+3,FALSE)*$F56,0) -> 0 | J56: =IF($G56<>0,VLOOKUP($G56,Fordeling,J$4+3,FALSE)*$F56,0) -> 0 | K56: =IF($G56<>0,VLOOKUP($G56,Fordeling,K$4+3,FALSE)*$F56,0) -> 0 | L56: =IF($G56<>0,VLOOKUP($G56,Fordeling,L$4+3,FALSE)*$F56,0) -> 0 | M56: =IF($G56<>0,VLOOKUP($G56,Fordeling,M$4+3,FALSE)*$F56,0) -> 0 | N56: =IF($G56<>0,VLOOKUP($G56,Fordeling,N$4+3,FALSE)*$F56,0) -> 0 | O56: =IF($G56<>0,VLOOKUP($G56,Fordeling,O$4+3,FALSE)*$F56,0) -> 0 | ... S56: =IF($G56<>0,VLOOKUP($G56,Fordeling,S$4+3,FALSE)*$F56,0) -> 0
B57: 6321 | C57: Kommunale eiendomsavgifter | D57: 6 | E57: 601 | G57: 1 | H57: =IF($G57<>0,VLOOKUP($G57,Fordeling,H$4+3,FALSE)*$F57,0) -> 0 | I57: =IF($G57<>0,VLOOKUP($G57,Fordeling,I$4+3,FALSE)*$F57,0) -> 0 | J57: =IF($G57<>0,VLOOKUP($G57,Fordeling,J$4+3,FALSE)*$F57,0) -> 0 | K57: =IF($G57<>0,VLOOKUP($G57,Fordeling,K$4+3,FALSE)*$F57,0) -> 0 | L57: =IF($G57<>0,VLOOKUP($G57,Fordeling,L$4+3,FALSE)*$F57,0) -> 0 | M57: =IF($G57<>0,VLOOKUP($G57,Fordeling,M$4+3,FALSE)*$F57,0) -> 0 | N57: =IF($G57<>0,VLOOKUP($G57,Fordeling,N$4+3,FALSE)*$F57,0) -> 0 | O57: =IF($G57<>0,VLOOKUP($G57,Fordeling,O$4+3,FALSE)*$F57,0) -> 0 | ... S57: =IF($G57<>0,VLOOKUP($G57,Fordeling,S$4+3,FALSE)*$F57,0) -> 0
B58: 6340 | C58: Strøm og varme | D58: 6 | E58: 601 | G58: 1 | H58: =IF($G58<>0,VLOOKUP($G58,Fordeling,H$4+3,FALSE)*$F58,0) -> 0 | I58: =IF($G58<>0,VLOOKUP($G58,Fordeling,I$4+3,FALSE)*$F58,0) -> 0 | J58: =IF($G58<>0,VLOOKUP($G58,Fordeling,J$4+3,FALSE)*$F58,0) -> 0 | K58: =IF($G58<>0,VLOOKUP($G58,Fordeling,K$4+3,FALSE)*$F58,0) -> 0 | L58: =IF($G58<>0,VLOOKUP($G58,Fordeling,L$4+3,FALSE)*$F58,0) -> 0 | M58: =IF($G58<>0,VLOOKUP($G58,Fordeling,M$4+3,FALSE)*$F58,0) -> 0 | N58: =IF($G58<>0,VLOOKUP($G58,Fordeling,N$4+3,FALSE)*$F58,0) -> 0 | O58: =IF($G58<>0,VLOOKUP($G58,Fordeling,O$4+3,FALSE)*$F58,0) -> 0 | ... S58: =IF($G58<>0,VLOOKUP($G58,Fordeling,S$4+3,FALSE)*$F58,0) -> 0
B59: 6360 | C59: Renholdskostnader | D59: 6 | E59: 601 | G59: 1 | H59: =IF($G59<>0,VLOOKUP($G59,Fordeling,H$4+3,FALSE)*$F59,0) -> 0 | I59: =IF($G59<>0,VLOOKUP($G59,Fordeling,I$4+3,FALSE)*$F59,0) -> 0 | J59: =IF($G59<>0,VLOOKUP($G59,Fordeling,J$4+3,FALSE)*$F59,0) -> 0 | K59: =IF($G59<>0,VLOOKUP($G59,Fordeling,K$4+3,FALSE)*$F59,0) -> 0 | L59: =IF($G59<>0,VLOOKUP($G59,Fordeling,L$4+3,FALSE)*$F59,0) -> 0 | M59: =IF($G59<>0,VLOOKUP($G59,Fordeling,M$4+3,FALSE)*$F59,0) -> 0 | N59: =IF($G59<>0,VLOOKUP($G59,Fordeling,N$4+3,FALSE)*$F59,0) -> 0 | O59: =IF($G59<>0,VLOOKUP($G59,Fordeling,O$4+3,FALSE)*$F59,0) -> 0 | ... S59: =IF($G59<>0,VLOOKUP($G59,Fordeling,S$4+3,FALSE)*$F59,0) -> 0
B60: 6390 | C60: Annen kostnad lokaler | D60: 6 | E60: 601 | G60: 1 | H60: =IF($G60<>0,VLOOKUP($G60,Fordeling,H$4+3,FALSE)*$F60,0) -> 0 | I60: =IF($G60<>0,VLOOKUP($G60,Fordeling,I$4+3,FALSE)*$F60,0) -> 0 | J60: =IF($G60<>0,VLOOKUP($G60,Fordeling,J$4+3,FALSE)*$F60,0) -> 0 | K60: =IF($G60<>0,VLOOKUP($G60,Fordeling,K$4+3,FALSE)*$F60,0) -> 0 | L60: =IF($G60<>0,VLOOKUP($G60,Fordeling,L$4+3,FALSE)*$F60,0) -> 0 | M60: =IF($G60<>0,VLOOKUP($G60,Fordeling,M$4+3,FALSE)*$F60,0) -> 0 | N60: =IF($G60<>0,VLOOKUP($G60,Fordeling,N$4+3,FALSE)*$F60,0) -> 0 | O60: =IF($G60<>0,VLOOKUP($G60,Fordeling,O$4+3,FALSE)*$F60,0) -> 0 | ... S60: =IF($G60<>0,VLOOKUP($G60,Fordeling,S$4+3,FALSE)*$F60,0) -> 0
B61: 6410 | C61: Leie inventar | D61: 6 | E61: 601 | G61: 1 | H61: =IF($G61<>0,VLOOKUP($G61,Fordeling,H$4+3,FALSE)*$F61,0) -> 0 | I61: =IF($G61<>0,VLOOKUP($G61,Fordeling,I$4+3,FALSE)*$F61,0) -> 0 | J61: =IF($G61<>0,VLOOKUP($G61,Fordeling,J$4+3,FALSE)*$F61,0) -> 0 | K61: =IF($G61<>0,VLOOKUP($G61,Fordeling,K$4+3,FALSE)*$F61,0) -> 0 | L61: =IF($G61<>0,VLOOKUP($G61,Fordeling,L$4+3,FALSE)*$F61,0) -> 0 | M61: =IF($G61<>0,VLOOKUP($G61,Fordeling,M$4+3,FALSE)*$F61,0) -> 0 | N61: =IF($G61<>0,VLOOKUP($G61,Fordeling,N$4+3,FALSE)*$F61,0) -> 0 | O61: =IF($G61<>0,VLOOKUP($G61,Fordeling,O$4+3,FALSE)*$F61,0) -> 0 | ... S61: =IF($G61<>0,VLOOKUP($G61,Fordeling,S$4+3,FALSE)*$F61,0) -> 0
B62: 6440 | C62: Leie transportmidler | D62: 6 | E62: 601 | G62: 1 | H62: =IF($G62<>0,VLOOKUP($G62,Fordeling,H$4+3,FALSE)*$F62,0) -> 0 | I62: =IF($G62<>0,VLOOKUP($G62,Fordeling,I$4+3,FALSE)*$F62,0) -> 0 | J62: =IF($G62<>0,VLOOKUP($G62,Fordeling,J$4+3,FALSE)*$F62,0) -> 0 | K62: =IF($G62<>0,VLOOKUP($G62,Fordeling,K$4+3,FALSE)*$F62,0) -> 0 | L62: =IF($G62<>0,VLOOKUP($G62,Fordeling,L$4+3,FALSE)*$F62,0) -> 0 | M62: =IF($G62<>0,VLOOKUP($G62,Fordeling,M$4+3,FALSE)*$F62,0) -> 0 | N62: =IF($G62<>0,VLOOKUP($G62,Fordeling,N$4+3,FALSE)*$F62,0) -> 0 | O62: =IF($G62<>0,VLOOKUP($G62,Fordeling,O$4+3,FALSE)*$F62,0) -> 0 | ... S62: =IF($G62<>0,VLOOKUP($G62,Fordeling,S$4+3,FALSE)*$F62,0) -> 0
B63: 6510 | C63: Driftsmateriale | D63: 6 | E63: 601 | F63: 10000 | G63: 1 | H63: =IF($G63<>0,VLOOKUP($G63,Fordeling,H$4+3,FALSE)*$F63,0) -> 833.33333 | I63: =IF($G63<>0,VLOOKUP($G63,Fordeling,I$4+3,FALSE)*$F63,0) -> 833.33333 | J63: =IF($G63<>0,VLOOKUP($G63,Fordeling,J$4+3,FALSE)*$F63,0) -> 833.33333 | K63: =IF($G63<>0,VLOOKUP($G63,Fordeling,K$4+3,FALSE)*$F63,0) -> 833.33333 | L63: =IF($G63<>0,VLOOKUP($G63,Fordeling,L$4+3,FALSE)*$F63,0) -> 833.33333 | M63: =IF($G63<>0,VLOOKUP($G63,Fordeling,M$4+3,FALSE)*$F63,0) -> 833.33333 | N63: =IF($G63<>0,VLOOKUP($G63,Fordeling,N$4+3,FALSE)*$F63,0) -> 833.33333 | O63: =IF($G63<>0,VLOOKUP($G63,Fordeling,O$4+3,FALSE)*$F63,0) -> 833.33333 | ... S63: =IF($G63<>0,VLOOKUP($G63,Fordeling,S$4+3,FALSE)*$F63,0) -> 833.33333
B64: 6540 | C64: Inventar | D64: 6 | E64: 601 | G64: 1 | H64: =IF($G64<>0,VLOOKUP($G64,Fordeling,H$4+3,FALSE)*$F64,0) -> 0 | I64: =IF($G64<>0,VLOOKUP($G64,Fordeling,I$4+3,FALSE)*$F64,0) -> 0 | J64: =IF($G64<>0,VLOOKUP($G64,Fordeling,J$4+3,FALSE)*$F64,0) -> 0 | K64: =IF($G64<>0,VLOOKUP($G64,Fordeling,K$4+3,FALSE)*$F64,0) -> 0 | L64: =IF($G64<>0,VLOOKUP($G64,Fordeling,L$4+3,FALSE)*$F64,0) -> 0 | M64: =IF($G64<>0,VLOOKUP($G64,Fordeling,M$4+3,FALSE)*$F64,0) -> 0 | N64: =IF($G64<>0,VLOOKUP($G64,Fordeling,N$4+3,FALSE)*$F64,0) -> 0 | O64: =IF($G64<>0,VLOOKUP($G64,Fordeling,O$4+3,FALSE)*$F64,0) -> 0 | ... S64: =IF($G64<>0,VLOOKUP($G64,Fordeling,S$4+3,FALSE)*$F64,0) -> 0
B65: 6552 | C65: Programvareanskaffelser | D65: 6 | E65: 601 | G65: 1 | H65: =IF($G65<>0,VLOOKUP($G65,Fordeling,H$4+3,FALSE)*$F65,0) -> 0 | I65: =IF($G65<>0,VLOOKUP($G65,Fordeling,I$4+3,FALSE)*$F65,0) -> 0 | J65: =IF($G65<>0,VLOOKUP($G65,Fordeling,J$4+3,FALSE)*$F65,0) -> 0 | K65: =IF($G65<>0,VLOOKUP($G65,Fordeling,K$4+3,FALSE)*$F65,0) -> 0 | L65: =IF($G65<>0,VLOOKUP($G65,Fordeling,L$4+3,FALSE)*$F65,0) -> 0 | M65: =IF($G65<>0,VLOOKUP($G65,Fordeling,M$4+3,FALSE)*$F65,0) -> 0 | N65: =IF($G65<>0,VLOOKUP($G65,Fordeling,N$4+3,FALSE)*$F65,0) -> 0 | O65: =IF($G65<>0,VLOOKUP($G65,Fordeling,O$4+3,FALSE)*$F65,0) -> 0 | ... S65: =IF($G65<>0,VLOOKUP($G65,Fordeling,S$4+3,FALSE)*$F65,0) -> 0
B66: 6560 | C66: Idrettsutstyr | D66: 6 | E66: 601 | F66: 15000 | G66: 1 | H66: =IF($G66<>0,VLOOKUP($G66,Fordeling,H$4+3,FALSE)*$F66,0) -> 1250 | I66: =IF($G66<>0,VLOOKUP($G66,Fordeling,I$4+3,FALSE)*$F66,0) -> 1250 | J66: =IF($G66<>0,VLOOKUP($G66,Fordeling,J$4+3,FALSE)*$F66,0) -> 1250 | K66: =IF($G66<>0,VLOOKUP($G66,Fordeling,K$4+3,FALSE)*$F66,0) -> 1250 | L66: =IF($G66<>0,VLOOKUP($G66,Fordeling,L$4+3,FALSE)*$F66,0) -> 1250 | M66: =IF($G66<>0,VLOOKUP($G66,Fordeling,M$4+3,FALSE)*$F66,0) -> 1250 | N66: =IF($G66<>0,VLOOKUP($G66,Fordeling,N$4+3,FALSE)*$F66,0) -> 1250 | O66: =IF($G66<>0,VLOOKUP($G66,Fordeling,O$4+3,FALSE)*$F66,0) -> 1250 | ... S66: =IF($G66<>0,VLOOKUP($G66,Fordeling,S$4+3,FALSE)*$F66,0) -> 1250
B67: 6600 | C67: Rep. og vedlikehold klubbhus | D67: 6 | E67: 601 | G67: 1 | H67: =IF($G67<>0,VLOOKUP($G67,Fordeling,H$4+3,FALSE)*$F67,0) -> 0 | I67: =IF($G67<>0,VLOOKUP($G67,Fordeling,I$4+3,FALSE)*$F67,0) -> 0 | J67: =IF($G67<>0,VLOOKUP($G67,Fordeling,J$4+3,FALSE)*$F67,0) -> 0 | K67: =IF($G67<>0,VLOOKUP($G67,Fordeling,K$4+3,FALSE)*$F67,0) -> 0 | L67: =IF($G67<>0,VLOOKUP($G67,Fordeling,L$4+3,FALSE)*$F67,0) -> 0 | M67: =IF($G67<>0,VLOOKUP($G67,Fordeling,M$4+3,FALSE)*$F67,0) -> 0 | N67: =IF($G67<>0,VLOOKUP($G67,Fordeling,N$4+3,FALSE)*$F67,0) -> 0 | O67: =IF($G67<>0,VLOOKUP($G67,Fordeling,O$4+3,FALSE)*$F67,0) -> 0 | ... S67: =IF($G67<>0,VLOOKUP($G67,Fordeling,S$4+3,FALSE)*$F67,0) -> 0
B68: 6610 | C68: Rep. og vedlikehold baneanlegg | D68: 6 | E68: 601 | G68: 1 | H68: =IF($G68<>0,VLOOKUP($G68,Fordeling,H$4+3,FALSE)*$F68,0) -> 0 | I68: =IF($G68<>0,VLOOKUP($G68,Fordeling,I$4+3,FALSE)*$F68,0) -> 0 | J68: =IF($G68<>0,VLOOKUP($G68,Fordeling,J$4+3,FALSE)*$F68,0) -> 0 | K68: =IF($G68<>0,VLOOKUP($G68,Fordeling,K$4+3,FALSE)*$F68,0) -> 0 | L68: =IF($G68<>0,VLOOKUP($G68,Fordeling,L$4+3,FALSE)*$F68,0) -> 0 | M68: =IF($G68<>0,VLOOKUP($G68,Fordeling,M$4+3,FALSE)*$F68,0) -> 0 | N68: =IF($G68<>0,VLOOKUP($G68,Fordeling,N$4+3,FALSE)*$F68,0) -> 0 | O68: =IF($G68<>0,VLOOKUP($G68,Fordeling,O$4+3,FALSE)*$F68,0) -> 0 | ... S68: =IF($G68<>0,VLOOKUP($G68,Fordeling,S$4+3,FALSE)*$F68,0) -> 0
B69: 6611 | C69: Riving lysløype/hoppbakke | D69: 6 | E69: 601 | G69: 1 | H69: =IF($G69<>0,VLOOKUP($G69,Fordeling,H$4+3,FALSE)*$F69,0) -> 0 | I69: =IF($G69<>0,VLOOKUP($G69,Fordeling,I$4+3,FALSE)*$F69,0) -> 0 | J69: =IF($G69<>0,VLOOKUP($G69,Fordeling,J$4+3,FALSE)*$F69,0) -> 0 | K69: =IF($G69<>0,VLOOKUP($G69,Fordeling,K$4+3,FALSE)*$F69,0) -> 0 | L69: =IF($G69<>0,VLOOKUP($G69,Fordeling,L$4+3,FALSE)*$F69,0) -> 0 | M69: =IF($G69<>0,VLOOKUP($G69,Fordeling,M$4+3,FALSE)*$F69,0) -> 0 | N69: =IF($G69<>0,VLOOKUP($G69,Fordeling,N$4+3,FALSE)*$F69,0) -> 0 | O69: =IF($G69<>0,VLOOKUP($G69,Fordeling,O$4+3,FALSE)*$F69,0) -> 0 | ... S69: =IF($G69<>0,VLOOKUP($G69,Fordeling,S$4+3,FALSE)*$F69,0) -> 0
B70: 6620 | C70: Rep. og vedlikehold utstyr | D70: 6 | E70: 601 | F70: 15000 | G70: 1 | H70: =IF($G70<>0,VLOOKUP($G70,Fordeling,H$4+3,FALSE)*$F70,0) -> 1250 | I70: =IF($G70<>0,VLOOKUP($G70,Fordeling,I$4+3,FALSE)*$F70,0) -> 1250 | J70: =IF($G70<>0,VLOOKUP($G70,Fordeling,J$4+3,FALSE)*$F70,0) -> 1250 | K70: =IF($G70<>0,VLOOKUP($G70,Fordeling,K$4+3,FALSE)*$F70,0) -> 1250 | L70: =IF($G70<>0,VLOOKUP($G70,Fordeling,L$4+3,FALSE)*$F70,0) -> 1250 | M70: =IF($G70<>0,VLOOKUP($G70,Fordeling,M$4+3,FALSE)*$F70,0) -> 1250 | N70: =IF($G70<>0,VLOOKUP($G70,Fordeling,N$4+3,FALSE)*$F70,0) -> 1250 | O70: =IF($G70<>0,VLOOKUP($G70,Fordeling,O$4+3,FALSE)*$F70,0) -> 1250 | ... S70: =IF($G70<>0,VLOOKUP($G70,Fordeling,S$4+3,FALSE)*$F70,0) -> 1250
B71: 6625 | C71: Løype/snøkjøring | D71: 6 | E71: 601 | G71: 1 | H71: =IF($G71<>0,VLOOKUP($G71,Fordeling,H$4+3,FALSE)*$F71,0) -> 0 | I71: =IF($G71<>0,VLOOKUP($G71,Fordeling,I$4+3,FALSE)*$F71,0) -> 0 | J71: =IF($G71<>0,VLOOKUP($G71,Fordeling,J$4+3,FALSE)*$F71,0) -> 0 | K71: =IF($G71<>0,VLOOKUP($G71,Fordeling,K$4+3,FALSE)*$F71,0) -> 0 | L71: =IF($G71<>0,VLOOKUP($G71,Fordeling,L$4+3,FALSE)*$F71,0) -> 0 | M71: =IF($G71<>0,VLOOKUP($G71,Fordeling,M$4+3,FALSE)*$F71,0) -> 0 | N71: =IF($G71<>0,VLOOKUP($G71,Fordeling,N$4+3,FALSE)*$F71,0) -> 0 | O71: =IF($G71<>0,VLOOKUP($G71,Fordeling,O$4+3,FALSE)*$F71,0) -> 0 | ... S71: =IF($G71<>0,VLOOKUP($G71,Fordeling,S$4+3,FALSE)*$F71,0) -> 0
B72: 6630 | C72: Reklameskilt og flaggstenger | D72: 6 | E72: 601 | G72: 1 | H72: =IF($G72<>0,VLOOKUP($G72,Fordeling,H$4+3,FALSE)*$F72,0) -> 0 | I72: =IF($G72<>0,VLOOKUP($G72,Fordeling,I$4+3,FALSE)*$F72,0) -> 0 | J72: =IF($G72<>0,VLOOKUP($G72,Fordeling,J$4+3,FALSE)*$F72,0) -> 0 | K72: =IF($G72<>0,VLOOKUP($G72,Fordeling,K$4+3,FALSE)*$F72,0) -> 0 | L72: =IF($G72<>0,VLOOKUP($G72,Fordeling,L$4+3,FALSE)*$F72,0) -> 0 | M72: =IF($G72<>0,VLOOKUP($G72,Fordeling,M$4+3,FALSE)*$F72,0) -> 0 | N72: =IF($G72<>0,VLOOKUP($G72,Fordeling,N$4+3,FALSE)*$F72,0) -> 0 | O72: =IF($G72<>0,VLOOKUP($G72,Fordeling,O$4+3,FALSE)*$F72,0) -> 0 | ... S72: =IF($G72<>0,VLOOKUP($G72,Fordeling,S$4+3,FALSE)*$F72,0) -> 0
B73: 6705 | C73: Regnskapshonorar | D73: 6 | E73: 601 | F73: 20000 | G73: 1 | H73: =IF($G73<>0,VLOOKUP($G73,Fordeling,H$4+3,FALSE)*$F73,0) -> 1666.6667 | I73: =IF($G73<>0,VLOOKUP($G73,Fordeling,I$4+3,FALSE)*$F73,0) -> 1666.6667 | J73: =IF($G73<>0,VLOOKUP($G73,Fordeling,J$4+3,FALSE)*$F73,0) -> 1666.6667 | K73: =IF($G73<>0,VLOOKUP($G73,Fordeling,K$4+3,FALSE)*$F73,0) -> 1666.6667 | L73: =IF($G73<>0,VLOOKUP($G73,Fordeling,L$4+3,FALSE)*$F73,0) -> 1666.6667 | M73: =IF($G73<>0,VLOOKUP($G73,Fordeling,M$4+3,FALSE)*$F73,0) -> 1666.6667 | N73: =IF($G73<>0,VLOOKUP($G73,Fordeling,N$4+3,FALSE)*$F73,0) -> 1666.6667 | O73: =IF($G73<>0,VLOOKUP($G73,Fordeling,O$4+3,FALSE)*$F73,0) -> 1666.6667 | ... S73: =IF($G73<>0,VLOOKUP($G73,Fordeling,S$4+3,FALSE)*$F73,0) -> 1666.6667
B74: 6710 | C74: Konsulenttjeneste/honorar andre/trenerhon. | D74: 6 | E74: 601 | G74: 1 | H74: =IF($G74<>0,VLOOKUP($G74,Fordeling,H$4+3,FALSE)*$F74,0) -> 0 | I74: =IF($G74<>0,VLOOKUP($G74,Fordeling,I$4+3,FALSE)*$F74,0) -> 0 | J74: =IF($G74<>0,VLOOKUP($G74,Fordeling,J$4+3,FALSE)*$F74,0) -> 0 | K74: =IF($G74<>0,VLOOKUP($G74,Fordeling,K$4+3,FALSE)*$F74,0) -> 0 | L74: =IF($G74<>0,VLOOKUP($G74,Fordeling,L$4+3,FALSE)*$F74,0) -> 0 | M74: =IF($G74<>0,VLOOKUP($G74,Fordeling,M$4+3,FALSE)*$F74,0) -> 0 | N74: =IF($G74<>0,VLOOKUP($G74,Fordeling,N$4+3,FALSE)*$F74,0) -> 0 | O74: =IF($G74<>0,VLOOKUP($G74,Fordeling,O$4+3,FALSE)*$F74,0) -> 0 | ... S74: =IF($G74<>0,VLOOKUP($G74,Fordeling,S$4+3,FALSE)*$F74,0) -> 0
B75: 6800 | C75: Kontorrekvisita | D75: 6 | E75: 601 | G75: 1 | H75: =IF($G75<>0,VLOOKUP($G75,Fordeling,H$4+3,FALSE)*$F75,0) -> 0 | I75: =IF($G75<>0,VLOOKUP($G75,Fordeling,I$4+3,FALSE)*$F75,0) -> 0 | J75: =IF($G75<>0,VLOOKUP($G75,Fordeling,J$4+3,FALSE)*$F75,0) -> 0 | K75: =IF($G75<>0,VLOOKUP($G75,Fordeling,K$4+3,FALSE)*$F75,0) -> 0 | L75: =IF($G75<>0,VLOOKUP($G75,Fordeling,L$4+3,FALSE)*$F75,0) -> 0 | M75: =IF($G75<>0,VLOOKUP($G75,Fordeling,M$4+3,FALSE)*$F75,0) -> 0 | N75: =IF($G75<>0,VLOOKUP($G75,Fordeling,N$4+3,FALSE)*$F75,0) -> 0 | O75: =IF($G75<>0,VLOOKUP($G75,Fordeling,O$4+3,FALSE)*$F75,0) -> 0 | ... S75: =IF($G75<>0,VLOOKUP($G75,Fordeling,S$4+3,FALSE)*$F75,0) -> 0
B76: 6820 | C76: Kopiering,trykksaker | D76: 6 | E76: 601 | G76: 1 | H76: =IF($G76<>0,VLOOKUP($G76,Fordeling,H$4+3,FALSE)*$F76,0) -> 0 | I76: =IF($G76<>0,VLOOKUP($G76,Fordeling,I$4+3,FALSE)*$F76,0) -> 0 | J76: =IF($G76<>0,VLOOKUP($G76,Fordeling,J$4+3,FALSE)*$F76,0) -> 0 | K76: =IF($G76<>0,VLOOKUP($G76,Fordeling,K$4+3,FALSE)*$F76,0) -> 0 | L76: =IF($G76<>0,VLOOKUP($G76,Fordeling,L$4+3,FALSE)*$F76,0) -> 0 | M76: =IF($G76<>0,VLOOKUP($G76,Fordeling,M$4+3,FALSE)*$F76,0) -> 0 | N76: =IF($G76<>0,VLOOKUP($G76,Fordeling,N$4+3,FALSE)*$F76,0) -> 0 | O76: =IF($G76<>0,VLOOKUP($G76,Fordeling,O$4+3,FALSE)*$F76,0) -> 0 | ... S76: =IF($G76<>0,VLOOKUP($G76,Fordeling,S$4+3,FALSE)*$F76,0) -> 0
B77: 6830 | C77: Annonseutgifter | D77: 6 | E77: 601 | G77: 1 | H77: =IF($G77<>0,VLOOKUP($G77,Fordeling,H$4+3,FALSE)*$F77,0) -> 0 | I77: =IF($G77<>0,VLOOKUP($G77,Fordeling,I$4+3,FALSE)*$F77,0) -> 0 | J77: =IF($G77<>0,VLOOKUP($G77,Fordeling,J$4+3,FALSE)*$F77,0) -> 0 | K77: =IF($G77<>0,VLOOKUP($G77,Fordeling,K$4+3,FALSE)*$F77,0) -> 0 | L77: =IF($G77<>0,VLOOKUP($G77,Fordeling,L$4+3,FALSE)*$F77,0) -> 0 | M77: =IF($G77<>0,VLOOKUP($G77,Fordeling,M$4+3,FALSE)*$F77,0) -> 0 | N77: =IF($G77<>0,VLOOKUP($G77,Fordeling,N$4+3,FALSE)*$F77,0) -> 0 | O77: =IF($G77<>0,VLOOKUP($G77,Fordeling,O$4+3,FALSE)*$F77,0) -> 0 | ... S77: =IF($G77<>0,VLOOKUP($G77,Fordeling,S$4+3,FALSE)*$F77,0) -> 0
B78: 6850 | C78: Møtekostnader/bevertning | D78: 6 | E78: 601 | G78: 1 | H78: =IF($G78<>0,VLOOKUP($G78,Fordeling,H$4+3,FALSE)*$F78,0) -> 0 | I78: =IF($G78<>0,VLOOKUP($G78,Fordeling,I$4+3,FALSE)*$F78,0) -> 0 | J78: =IF($G78<>0,VLOOKUP($G78,Fordeling,J$4+3,FALSE)*$F78,0) -> 0 | K78: =IF($G78<>0,VLOOKUP($G78,Fordeling,K$4+3,FALSE)*$F78,0) -> 0 | L78: =IF($G78<>0,VLOOKUP($G78,Fordeling,L$4+3,FALSE)*$F78,0) -> 0 | M78: =IF($G78<>0,VLOOKUP($G78,Fordeling,M$4+3,FALSE)*$F78,0) -> 0 | N78: =IF($G78<>0,VLOOKUP($G78,Fordeling,N$4+3,FALSE)*$F78,0) -> 0 | O78: =IF($G78<>0,VLOOKUP($G78,Fordeling,O$4+3,FALSE)*$F78,0) -> 0 | ... S78: =IF($G78<>0,VLOOKUP($G78,Fordeling,S$4+3,FALSE)*$F78,0) -> 0
B79: 6860 | C79: Trenerkurs/kurs/oppdatering | D79: 6 | E79: 601 | G79: 1 | H79: =IF($G79<>0,VLOOKUP($G79,Fordeling,H$4+3,FALSE)*$F79,0) -> 0 | I79: =IF($G79<>0,VLOOKUP($G79,Fordeling,I$4+3,FALSE)*$F79,0) -> 0 | J79: =IF($G79<>0,VLOOKUP($G79,Fordeling,J$4+3,FALSE)*$F79,0) -> 0 | K79: =IF($G79<>0,VLOOKUP($G79,Fordeling,K$4+3,FALSE)*$F79,0) -> 0 | L79: =IF($G79<>0,VLOOKUP($G79,Fordeling,L$4+3,FALSE)*$F79,0) -> 0 | M79: =IF($G79<>0,VLOOKUP($G79,Fordeling,M$4+3,FALSE)*$F79,0) -> 0 | N79: =IF($G79<>0,VLOOKUP($G79,Fordeling,N$4+3,FALSE)*$F79,0) -> 0 | O79: =IF($G79<>0,VLOOKUP($G79,Fordeling,O$4+3,FALSE)*$F79,0) -> 0 | ... S79: =IF($G79<>0,VLOOKUP($G79,Fordeling,S$4+3,FALSE)*$F79,0) -> 0
B80: 6900 | C80: Telefon klubbhuset | D80: 6 | E80: 601 | G80: 1 | H80: =IF($G80<>0,VLOOKUP($G80,Fordeling,H$4+3,FALSE)*$F80,0) -> 0 | I80: =IF($G80<>0,VLOOKUP($G80,Fordeling,I$4+3,FALSE)*$F80,0) -> 0 | J80: =IF($G80<>0,VLOOKUP($G80,Fordeling,J$4+3,FALSE)*$F80,0) -> 0 | K80: =IF($G80<>0,VLOOKUP($G80,Fordeling,K$4+3,FALSE)*$F80,0) -> 0 | L80: =IF($G80<>0,VLOOKUP($G80,Fordeling,L$4+3,FALSE)*$F80,0) -> 0 | M80: =IF($G80<>0,VLOOKUP($G80,Fordeling,M$4+3,FALSE)*$F80,0) -> 0 | N80: =IF($G80<>0,VLOOKUP($G80,Fordeling,N$4+3,FALSE)*$F80,0) -> 0 | O80: =IF($G80<>0,VLOOKUP($G80,Fordeling,O$4+3,FALSE)*$F80,0) -> 0 | ... S80: =IF($G80<>0,VLOOKUP($G80,Fordeling,S$4+3,FALSE)*$F80,0) -> 0
B81: 6902 | C81: Telefon ansatte - statens satser | D81: 6 | E81: 601 | G81: 1 | H81: =IF($G81<>0,VLOOKUP($G81,Fordeling,H$4+3,FALSE)*$F81,0) -> 0 | I81: =IF($G81<>0,VLOOKUP($G81,Fordeling,I$4+3,FALSE)*$F81,0) -> 0 | J81: =IF($G81<>0,VLOOKUP($G81,Fordeling,J$4+3,FALSE)*$F81,0) -> 0 | K81: =IF($G81<>0,VLOOKUP($G81,Fordeling,K$4+3,FALSE)*$F81,0) -> 0 | L81: =IF($G81<>0,VLOOKUP($G81,Fordeling,L$4+3,FALSE)*$F81,0) -> 0 | M81: =IF($G81<>0,VLOOKUP($G81,Fordeling,M$4+3,FALSE)*$F81,0) -> 0 | N81: =IF($G81<>0,VLOOKUP($G81,Fordeling,N$4+3,FALSE)*$F81,0) -> 0 | O81: =IF($G81<>0,VLOOKUP($G81,Fordeling,O$4+3,FALSE)*$F81,0) -> 0 | ... S81: =IF($G81<>0,VLOOKUP($G81,Fordeling,S$4+3,FALSE)*$F81,0) -> 0
B82: 6907 | C82: Bredbånd, TV og sentralbord | D82: 6 | E82: 601 | G82: 1 | H82: =IF($G82<>0,VLOOKUP($G82,Fordeling,H$4+3,FALSE)*$F82,0) -> 0 | I82: =IF($G82<>0,VLOOKUP($G82,Fordeling,I$4+3,FALSE)*$F82,0) -> 0 | J82: =IF($G82<>0,VLOOKUP($G82,Fordeling,J$4+3,FALSE)*$F82,0) -> 0 | K82: =IF($G82<>0,VLOOKUP($G82,Fordeling,K$4+3,FALSE)*$F82,0) -> 0 | L82: =IF($G82<>0,VLOOKUP($G82,Fordeling,L$4+3,FALSE)*$F82,0) -> 0 | M82: =IF($G82<>0,VLOOKUP($G82,Fordeling,M$4+3,FALSE)*$F82,0) -> 0 | N82: =IF($G82<>0,VLOOKUP($G82,Fordeling,N$4+3,FALSE)*$F82,0) -> 0 | O82: =IF($G82<>0,VLOOKUP($G82,Fordeling,O$4+3,FALSE)*$F82,0) -> 0 | ... S82: =IF($G82<>0,VLOOKUP($G82,Fordeling,S$4+3,FALSE)*$F82,0) -> 0
B83: 6940 | C83: Porto | D83: 6 | E83: 601 | G83: 1 | H83: =IF($G83<>0,VLOOKUP($G83,Fordeling,H$4+3,FALSE)*$F83,0) -> 0 | I83: =IF($G83<>0,VLOOKUP($G83,Fordeling,I$4+3,FALSE)*$F83,0) -> 0 | J83: =IF($G83<>0,VLOOKUP($G83,Fordeling,J$4+3,FALSE)*$F83,0) -> 0 | K83: =IF($G83<>0,VLOOKUP($G83,Fordeling,K$4+3,FALSE)*$F83,0) -> 0 | L83: =IF($G83<>0,VLOOKUP($G83,Fordeling,L$4+3,FALSE)*$F83,0) -> 0 | M83: =IF($G83<>0,VLOOKUP($G83,Fordeling,M$4+3,FALSE)*$F83,0) -> 0 | N83: =IF($G83<>0,VLOOKUP($G83,Fordeling,N$4+3,FALSE)*$F83,0) -> 0 | O83: =IF($G83<>0,VLOOKUP($G83,Fordeling,O$4+3,FALSE)*$F83,0) -> 0 | ... S83: =IF($G83<>0,VLOOKUP($G83,Fordeling,S$4+3,FALSE)*$F83,0) -> 0
B84: 7000 | C84: Drifstoff snøskuter | D84: 6 | E84: 601 | F84: 5000 | G84: 1 | H84: =IF($G84<>0,VLOOKUP($G84,Fordeling,H$4+3,FALSE)*$F84,0) -> 416.66667 | I84: =IF($G84<>0,VLOOKUP($G84,Fordeling,I$4+3,FALSE)*$F84,0) -> 416.66667 | J84: =IF($G84<>0,VLOOKUP($G84,Fordeling,J$4+3,FALSE)*$F84,0) -> 416.66667 | K84: =IF($G84<>0,VLOOKUP($G84,Fordeling,K$4+3,FALSE)*$F84,0) -> 416.66667 | L84: =IF($G84<>0,VLOOKUP($G84,Fordeling,L$4+3,FALSE)*$F84,0) -> 416.66667 | M84: =IF($G84<>0,VLOOKUP($G84,Fordeling,M$4+3,FALSE)*$F84,0) -> 416.66667 | N84: =IF($G84<>0,VLOOKUP($G84,Fordeling,N$4+3,FALSE)*$F84,0) -> 416.66667 | O84: =IF($G84<>0,VLOOKUP($G84,Fordeling,O$4+3,FALSE)*$F84,0) -> 416.66667 | ... S84: =IF($G84<>0,VLOOKUP($G84,Fordeling,S$4+3,FALSE)*$F84,0) -> 416.66667
B85: 7040 | C85: Forsikring og avgifter kjøretøy | D85: 6 | E85: 601 | G85: 1 | H85: =IF($G85<>0,VLOOKUP($G85,Fordeling,H$4+3,FALSE)*$F85,0) -> 0 | I85: =IF($G85<>0,VLOOKUP($G85,Fordeling,I$4+3,FALSE)*$F85,0) -> 0 | J85: =IF($G85<>0,VLOOKUP($G85,Fordeling,J$4+3,FALSE)*$F85,0) -> 0 | K85: =IF($G85<>0,VLOOKUP($G85,Fordeling,K$4+3,FALSE)*$F85,0) -> 0 | L85: =IF($G85<>0,VLOOKUP($G85,Fordeling,L$4+3,FALSE)*$F85,0) -> 0 | M85: =IF($G85<>0,VLOOKUP($G85,Fordeling,M$4+3,FALSE)*$F85,0) -> 0 | N85: =IF($G85<>0,VLOOKUP($G85,Fordeling,N$4+3,FALSE)*$F85,0) -> 0 | O85: =IF($G85<>0,VLOOKUP($G85,Fordeling,O$4+3,FALSE)*$F85,0) -> 0 | ... S85: =IF($G85<>0,VLOOKUP($G85,Fordeling,S$4+3,FALSE)*$F85,0) -> 0
B86: 7100 | C86: Bilgodtgjørelse, oppgavepliktig | D86: 6 | E86: 601 | G86: 1 | H86: =IF($G86<>0,VLOOKUP($G86,Fordeling,H$4+3,FALSE)*$F86,0) -> 0 | I86: =IF($G86<>0,VLOOKUP($G86,Fordeling,I$4+3,FALSE)*$F86,0) -> 0 | J86: =IF($G86<>0,VLOOKUP($G86,Fordeling,J$4+3,FALSE)*$F86,0) -> 0 | K86: =IF($G86<>0,VLOOKUP($G86,Fordeling,K$4+3,FALSE)*$F86,0) -> 0 | L86: =IF($G86<>0,VLOOKUP($G86,Fordeling,L$4+3,FALSE)*$F86,0) -> 0 | M86: =IF($G86<>0,VLOOKUP($G86,Fordeling,M$4+3,FALSE)*$F86,0) -> 0 | N86: =IF($G86<>0,VLOOKUP($G86,Fordeling,N$4+3,FALSE)*$F86,0) -> 0 | O86: =IF($G86<>0,VLOOKUP($G86,Fordeling,O$4+3,FALSE)*$F86,0) -> 0 | ... S86: =IF($G86<>0,VLOOKUP($G86,Fordeling,S$4+3,FALSE)*$F86,0) -> 0
B87: 7140 | C87: Reisekostnad, ikke oppg.pliktig | D87: 6 | E87: 601 | F87: 10000 | G87: 1 | H87: =IF($G87<>0,VLOOKUP($G87,Fordeling,H$4+3,FALSE)*$F87,0) -> 833.33333 | I87: =IF($G87<>0,VLOOKUP($G87,Fordeling,I$4+3,FALSE)*$F87,0) -> 833.33333 | J87: =IF($G87<>0,VLOOKUP($G87,Fordeling,J$4+3,FALSE)*$F87,0) -> 833.33333 | K87: =IF($G87<>0,VLOOKUP($G87,Fordeling,K$4+3,FALSE)*$F87,0) -> 833.33333 | L87: =IF($G87<>0,VLOOKUP($G87,Fordeling,L$4+3,FALSE)*$F87,0) -> 833.33333 | M87: =IF($G87<>0,VLOOKUP($G87,Fordeling,M$4+3,FALSE)*$F87,0) -> 833.33333 | N87: =IF($G87<>0,VLOOKUP($G87,Fordeling,N$4+3,FALSE)*$F87,0) -> 833.33333 | O87: =IF($G87<>0,VLOOKUP($G87,Fordeling,O$4+3,FALSE)*$F87,0) -> 833.33333 | ... S87: =IF($G87<>0,VLOOKUP($G87,Fordeling,S$4+3,FALSE)*$F87,0) -> 833.33333
B88: 7150 | C88: Diettkostnad, oppgavepliktig | D88: 6 | E88: 601 | G88: 1 | H88: =IF($G88<>0,VLOOKUP($G88,Fordeling,H$4+3,FALSE)*$F88,0) -> 0 | I88: =IF($G88<>0,VLOOKUP($G88,Fordeling,I$4+3,FALSE)*$F88,0) -> 0 | J88: =IF($G88<>0,VLOOKUP($G88,Fordeling,J$4+3,FALSE)*$F88,0) -> 0 | K88: =IF($G88<>0,VLOOKUP($G88,Fordeling,K$4+3,FALSE)*$F88,0) -> 0 | L88: =IF($G88<>0,VLOOKUP($G88,Fordeling,L$4+3,FALSE)*$F88,0) -> 0 | M88: =IF($G88<>0,VLOOKUP($G88,Fordeling,M$4+3,FALSE)*$F88,0) -> 0 | N88: =IF($G88<>0,VLOOKUP($G88,Fordeling,N$4+3,FALSE)*$F88,0) -> 0 | O88: =IF($G88<>0,VLOOKUP($G88,Fordeling,O$4+3,FALSE)*$F88,0) -> 0 | ... S88: =IF($G88<>0,VLOOKUP($G88,Fordeling,S$4+3,FALSE)*$F88,0) -> 0
B89: 7192 | C89: Skattefrie kjøregodtgjørelser mm | D89: 6 | E89: 601 | G89: 1 | H89: =IF($G89<>0,VLOOKUP($G89,Fordeling,H$4+3,FALSE)*$F89,0) -> 0 | I89: =IF($G89<>0,VLOOKUP($G89,Fordeling,I$4+3,FALSE)*$F89,0) -> 0 | J89: =IF($G89<>0,VLOOKUP($G89,Fordeling,J$4+3,FALSE)*$F89,0) -> 0 | K89: =IF($G89<>0,VLOOKUP($G89,Fordeling,K$4+3,FALSE)*$F89,0) -> 0 | L89: =IF($G89<>0,VLOOKUP($G89,Fordeling,L$4+3,FALSE)*$F89,0) -> 0 | M89: =IF($G89<>0,VLOOKUP($G89,Fordeling,M$4+3,FALSE)*$F89,0) -> 0 | N89: =IF($G89<>0,VLOOKUP($G89,Fordeling,N$4+3,FALSE)*$F89,0) -> 0 | O89: =IF($G89<>0,VLOOKUP($G89,Fordeling,O$4+3,FALSE)*$F89,0) -> 0 | ... S89: =IF($G89<>0,VLOOKUP($G89,Fordeling,S$4+3,FALSE)*$F89,0) -> 0
B90: 7320 | C90: Sponsor/støtte idr.lag m.m | D90: 6 | E90: 601 | G90: 1 | H90: =IF($G90<>0,VLOOKUP($G90,Fordeling,H$4+3,FALSE)*$F90,0) -> 0 | I90: =IF($G90<>0,VLOOKUP($G90,Fordeling,I$4+3,FALSE)*$F90,0) -> 0 | J90: =IF($G90<>0,VLOOKUP($G90,Fordeling,J$4+3,FALSE)*$F90,0) -> 0 | K90: =IF($G90<>0,VLOOKUP($G90,Fordeling,K$4+3,FALSE)*$F90,0) -> 0 | L90: =IF($G90<>0,VLOOKUP($G90,Fordeling,L$4+3,FALSE)*$F90,0) -> 0 | M90: =IF($G90<>0,VLOOKUP($G90,Fordeling,M$4+3,FALSE)*$F90,0) -> 0 | N90: =IF($G90<>0,VLOOKUP($G90,Fordeling,N$4+3,FALSE)*$F90,0) -> 0 | O90: =IF($G90<>0,VLOOKUP($G90,Fordeling,O$4+3,FALSE)*$F90,0) -> 0 | ... S90: =IF($G90<>0,VLOOKUP($G90,Fordeling,S$4+3,FALSE)*$F90,0) -> 0
B91: 7323 | C91: Reklameartikler og klubbutstyr, giveaways | D91: 6 | E91: 601 | G91: 1 | H91: =IF($G91<>0,VLOOKUP($G91,Fordeling,H$4+3,FALSE)*$F91,0) -> 0 | I91: =IF($G91<>0,VLOOKUP($G91,Fordeling,I$4+3,FALSE)*$F91,0) -> 0 | J91: =IF($G91<>0,VLOOKUP($G91,Fordeling,J$4+3,FALSE)*$F91,0) -> 0 | K91: =IF($G91<>0,VLOOKUP($G91,Fordeling,K$4+3,FALSE)*$F91,0) -> 0 | L91: =IF($G91<>0,VLOOKUP($G91,Fordeling,L$4+3,FALSE)*$F91,0) -> 0 | M91: =IF($G91<>0,VLOOKUP($G91,Fordeling,M$4+3,FALSE)*$F91,0) -> 0 | N91: =IF($G91<>0,VLOOKUP($G91,Fordeling,N$4+3,FALSE)*$F91,0) -> 0 | O91: =IF($G91<>0,VLOOKUP($G91,Fordeling,O$4+3,FALSE)*$F91,0) -> 0 | ... S91: =IF($G91<>0,VLOOKUP($G91,Fordeling,S$4+3,FALSE)*$F91,0) -> 0
B92: 7360 | C92: Representasjon, ikke fradragsberettiget | D92: 6 | E92: 601 | G92: 1 | H92: =IF($G92<>0,VLOOKUP($G92,Fordeling,H$4+3,FALSE)*$F92,0) -> 0 | I92: =IF($G92<>0,VLOOKUP($G92,Fordeling,I$4+3,FALSE)*$F92,0) -> 0 | J92: =IF($G92<>0,VLOOKUP($G92,Fordeling,J$4+3,FALSE)*$F92,0) -> 0 | K92: =IF($G92<>0,VLOOKUP($G92,Fordeling,K$4+3,FALSE)*$F92,0) -> 0 | L92: =IF($G92<>0,VLOOKUP($G92,Fordeling,L$4+3,FALSE)*$F92,0) -> 0 | M92: =IF($G92<>0,VLOOKUP($G92,Fordeling,M$4+3,FALSE)*$F92,0) -> 0 | N92: =IF($G92<>0,VLOOKUP($G92,Fordeling,N$4+3,FALSE)*$F92,0) -> 0 | O92: =IF($G92<>0,VLOOKUP($G92,Fordeling,O$4+3,FALSE)*$F92,0) -> 0 | ... S92: =IF($G92<>0,VLOOKUP($G92,Fordeling,S$4+3,FALSE)*$F92,0) -> 0
B93: 7410 | C93: Kontingent/gebyr krets/forbund | D93: 6 | E93: 601 | G93: 1 | H93: =IF($G93<>0,VLOOKUP($G93,Fordeling,H$4+3,FALSE)*$F93,0) -> 0 | I93: =IF($G93<>0,VLOOKUP($G93,Fordeling,I$4+3,FALSE)*$F93,0) -> 0 | J93: =IF($G93<>0,VLOOKUP($G93,Fordeling,J$4+3,FALSE)*$F93,0) -> 0 | K93: =IF($G93<>0,VLOOKUP($G93,Fordeling,K$4+3,FALSE)*$F93,0) -> 0 | L93: =IF($G93<>0,VLOOKUP($G93,Fordeling,L$4+3,FALSE)*$F93,0) -> 0 | M93: =IF($G93<>0,VLOOKUP($G93,Fordeling,M$4+3,FALSE)*$F93,0) -> 0 | N93: =IF($G93<>0,VLOOKUP($G93,Fordeling,N$4+3,FALSE)*$F93,0) -> 0 | O93: =IF($G93<>0,VLOOKUP($G93,Fordeling,O$4+3,FALSE)*$F93,0) -> 0 | ... S93: =IF($G93<>0,VLOOKUP($G93,Fordeling,S$4+3,FALSE)*$F93,0) -> 0
B94: 7420 | C94: Sosiale kostnader | D94: 6 | E94: 601 | G94: 1 | H94: =IF($G94<>0,VLOOKUP($G94,Fordeling,H$4+3,FALSE)*$F94,0) -> 0 | I94: =IF($G94<>0,VLOOKUP($G94,Fordeling,I$4+3,FALSE)*$F94,0) -> 0 | J94: =IF($G94<>0,VLOOKUP($G94,Fordeling,J$4+3,FALSE)*$F94,0) -> 0 | K94: =IF($G94<>0,VLOOKUP($G94,Fordeling,K$4+3,FALSE)*$F94,0) -> 0 | L94: =IF($G94<>0,VLOOKUP($G94,Fordeling,L$4+3,FALSE)*$F94,0) -> 0 | M94: =IF($G94<>0,VLOOKUP($G94,Fordeling,M$4+3,FALSE)*$F94,0) -> 0 | N94: =IF($G94<>0,VLOOKUP($G94,Fordeling,N$4+3,FALSE)*$F94,0) -> 0 | O94: =IF($G94<>0,VLOOKUP($G94,Fordeling,O$4+3,FALSE)*$F94,0) -> 0 | ... S94: =IF($G94<>0,VLOOKUP($G94,Fordeling,S$4+3,FALSE)*$F94,0) -> 0
B95: 7430 | C95: Gaver,premier | D95: 6 | E95: 601 | F95: 5000 | G95: 1 | H95: =IF($G95<>0,VLOOKUP($G95,Fordeling,H$4+3,FALSE)*$F95,0) -> 416.66667 | I95: =IF($G95<>0,VLOOKUP($G95,Fordeling,I$4+3,FALSE)*$F95,0) -> 416.66667 | J95: =IF($G95<>0,VLOOKUP($G95,Fordeling,J$4+3,FALSE)*$F95,0) -> 416.66667 | K95: =IF($G95<>0,VLOOKUP($G95,Fordeling,K$4+3,FALSE)*$F95,0) -> 416.66667 | L95: =IF($G95<>0,VLOOKUP($G95,Fordeling,L$4+3,FALSE)*$F95,0) -> 416.66667 | M95: =IF($G95<>0,VLOOKUP($G95,Fordeling,M$4+3,FALSE)*$F95,0) -> 416.66667 | N95: =IF($G95<>0,VLOOKUP($G95,Fordeling,N$4+3,FALSE)*$F95,0) -> 416.66667 | O95: =IF($G95<>0,VLOOKUP($G95,Fordeling,O$4+3,FALSE)*$F95,0) -> 416.66667 | ... S95: =IF($G95<>0,VLOOKUP($G95,Fordeling,S$4+3,FALSE)*$F95,0) -> 416.66667
B96: 7500 | C96: Forsikringspremie | D96: 6 | E96: 601 | G96: 1 | H96: =IF($G96<>0,VLOOKUP($G96,Fordeling,H$4+3,FALSE)*$F96,0) -> 0 | I96: =IF($G96<>0,VLOOKUP($G96,Fordeling,I$4+3,FALSE)*$F96,0) -> 0 | J96: =IF($G96<>0,VLOOKUP($G96,Fordeling,J$4+3,FALSE)*$F96,0) -> 0 | K96: =IF($G96<>0,VLOOKUP($G96,Fordeling,K$4+3,FALSE)*$F96,0) -> 0 | L96: =IF($G96<>0,VLOOKUP($G96,Fordeling,L$4+3,FALSE)*$F96,0) -> 0 | M96: =IF($G96<>0,VLOOKUP($G96,Fordeling,M$4+3,FALSE)*$F96,0) -> 0 | N96: =IF($G96<>0,VLOOKUP($G96,Fordeling,N$4+3,FALSE)*$F96,0) -> 0 | O96: =IF($G96<>0,VLOOKUP($G96,Fordeling,O$4+3,FALSE)*$F96,0) -> 0 | ... S96: =IF($G96<>0,VLOOKUP($G96,Fordeling,S$4+3,FALSE)*$F96,0) -> 0
B97: 7600 | C97: Lisenser/overganger | D97: 6 | E97: 601 | G97: 1 | H97: =IF($G97<>0,VLOOKUP($G97,Fordeling,H$4+3,FALSE)*$F97,0) -> 0 | I97: =IF($G97<>0,VLOOKUP($G97,Fordeling,I$4+3,FALSE)*$F97,0) -> 0 | J97: =IF($G97<>0,VLOOKUP($G97,Fordeling,J$4+3,FALSE)*$F97,0) -> 0 | K97: =IF($G97<>0,VLOOKUP($G97,Fordeling,K$4+3,FALSE)*$F97,0) -> 0 | L97: =IF($G97<>0,VLOOKUP($G97,Fordeling,L$4+3,FALSE)*$F97,0) -> 0 | M97: =IF($G97<>0,VLOOKUP($G97,Fordeling,M$4+3,FALSE)*$F97,0) -> 0 | N97: =IF($G97<>0,VLOOKUP($G97,Fordeling,N$4+3,FALSE)*$F97,0) -> 0 | O97: =IF($G97<>0,VLOOKUP($G97,Fordeling,O$4+3,FALSE)*$F97,0) -> 0 | ... S97: =IF($G97<>0,VLOOKUP($G97,Fordeling,S$4+3,FALSE)*$F97,0) -> 0
B98: 7770 | C98: Bank og kortgebyrer | D98: 6 | E98: 601 | G98: 1 | H98: =IF($G98<>0,VLOOKUP($G98,Fordeling,H$4+3,FALSE)*$F98,0) -> 0 | I98: =IF($G98<>0,VLOOKUP($G98,Fordeling,I$4+3,FALSE)*$F98,0) -> 0 | J98: =IF($G98<>0,VLOOKUP($G98,Fordeling,J$4+3,FALSE)*$F98,0) -> 0 | K98: =IF($G98<>0,VLOOKUP($G98,Fordeling,K$4+3,FALSE)*$F98,0) -> 0 | L98: =IF($G98<>0,VLOOKUP($G98,Fordeling,L$4+3,FALSE)*$F98,0) -> 0 | M98: =IF($G98<>0,VLOOKUP($G98,Fordeling,M$4+3,FALSE)*$F98,0) -> 0 | N98: =IF($G98<>0,VLOOKUP($G98,Fordeling,N$4+3,FALSE)*$F98,0) -> 0 | O98: =IF($G98<>0,VLOOKUP($G98,Fordeling,O$4+3,FALSE)*$F98,0) -> 0 | ... S98: =IF($G98<>0,VLOOKUP($G98,Fordeling,S$4+3,FALSE)*$F98,0) -> 0
B99: 7771 | C99: Øreavrunding | D99: 6 | E99: 601 | G99: 1 | H99: =IF($G99<>0,VLOOKUP($G99,Fordeling,H$4+3,FALSE)*$F99,0) -> 0 | I99: =IF($G99<>0,VLOOKUP($G99,Fordeling,I$4+3,FALSE)*$F99,0) -> 0 | J99: =IF($G99<>0,VLOOKUP($G99,Fordeling,J$4+3,FALSE)*$F99,0) -> 0 | K99: =IF($G99<>0,VLOOKUP($G99,Fordeling,K$4+3,FALSE)*$F99,0) -> 0 | L99: =IF($G99<>0,VLOOKUP($G99,Fordeling,L$4+3,FALSE)*$F99,0) -> 0 | M99: =IF($G99<>0,VLOOKUP($G99,Fordeling,M$4+3,FALSE)*$F99,0) -> 0 | N99: =IF($G99<>0,VLOOKUP($G99,Fordeling,N$4+3,FALSE)*$F99,0) -> 0 | O99: =IF($G99<>0,VLOOKUP($G99,Fordeling,O$4+3,FALSE)*$F99,0) -> 0 | ... S99: =IF($G99<>0,VLOOKUP($G99,Fordeling,S$4+3,FALSE)*$F99,0) -> 0
B100: 7798 | C100: Diverse kostnader | D100: 6 | E100: 601 | F100: 5000 | G100: 1 | H100: =IF($G100<>0,VLOOKUP($G100,Fordeling,H$4+3,FALSE)*$F100,0) -> 416.66667 | I100: =IF($G100<>0,VLOOKUP($G100,Fordeling,I$4+3,FALSE)*$F100,0) -> 416.66667 | J100: =IF($G100<>0,VLOOKUP($G100,Fordeling,J$4+3,FALSE)*$F100,0) -> 416.66667 | K100: =IF($G100<>0,VLOOKUP($G100,Fordeling,K$4+3,FALSE)*$F100,0) -> 416.66667 | L100: =IF($G100<>0,VLOOKUP($G100,Fordeling,L$4+3,FALSE)*$F100,0) -> 416.66667 | M100: =IF($G100<>0,VLOOKUP($G100,Fordeling,M$4+3,FALSE)*$F100,0) -> 416.66667 | N100: =IF($G100<>0,VLOOKUP($G100,Fordeling,N$4+3,FALSE)*$F100,0) -> 416.66667 | O100: =IF($G100<>0,VLOOKUP($G100,Fordeling,O$4+3,FALSE)*$F100,0) -> 416.66667 | ... S100: =IF($G100<>0,VLOOKUP($G100,Fordeling,S$4+3,FALSE)*$F100,0) -> 416.66667
B101: 7830 | C101: Tap på fordringer | D101: 6 | E101: 601 | G101: 1 | H101: =IF($G101<>0,VLOOKUP($G101,Fordeling,H$4+3,FALSE)*$F101,0) -> 0 | I101: =IF($G101<>0,VLOOKUP($G101,Fordeling,I$4+3,FALSE)*$F101,0) -> 0 | J101: =IF($G101<>0,VLOOKUP($G101,Fordeling,J$4+3,FALSE)*$F101,0) -> 0 | K101: =IF($G101<>0,VLOOKUP($G101,Fordeling,K$4+3,FALSE)*$F101,0) -> 0 | L101: =IF($G101<>0,VLOOKUP($G101,Fordeling,L$4+3,FALSE)*$F101,0) -> 0 | M101: =IF($G101<>0,VLOOKUP($G101,Fordeling,M$4+3,FALSE)*$F101,0) -> 0 | N101: =IF($G101<>0,VLOOKUP($G101,Fordeling,N$4+3,FALSE)*$F101,0) -> 0 | O101: =IF($G101<>0,VLOOKUP($G101,Fordeling,O$4+3,FALSE)*$F101,0) -> 0 | ... S101: =IF($G101<>0,VLOOKUP($G101,Fordeling,S$4+3,FALSE)*$F101,0) -> 0
B102: 8040 | C102: Renteinntekter, bank | D102: 6 | E102: 601 | G102: 1 | H102: =IF($G102<>0,VLOOKUP($G102,Fordeling,H$4+3,FALSE)*$F102,0) -> 0 | I102: =IF($G102<>0,VLOOKUP($G102,Fordeling,I$4+3,FALSE)*$F102,0) -> 0 | J102: =IF($G102<>0,VLOOKUP($G102,Fordeling,J$4+3,FALSE)*$F102,0) -> 0 | K102: =IF($G102<>0,VLOOKUP($G102,Fordeling,K$4+3,FALSE)*$F102,0) -> 0 | L102: =IF($G102<>0,VLOOKUP($G102,Fordeling,L$4+3,FALSE)*$F102,0) -> 0 | M102: =IF($G102<>0,VLOOKUP($G102,Fordeling,M$4+3,FALSE)*$F102,0) -> 0 | N102: =IF($G102<>0,VLOOKUP($G102,Fordeling,N$4+3,FALSE)*$F102,0) -> 0 | O102: =IF($G102<>0,VLOOKUP($G102,Fordeling,O$4+3,FALSE)*$F102,0) -> 0 | ... S102: =IF($G102<>0,VLOOKUP($G102,Fordeling,S$4+3,FALSE)*$F102,0) -> 0
...

Sheet Input 602 - Helt konge
G2: LEGG INN TALL I FELTET "Totalt"
G3: TALLET VI FORDELE SEG LIKT UT I HVER MÅNED
H4: 1 | I4: 2 | J4: 3 | K4: 4 | L4: 5 | M4: 6 | N4: 7 | O4: 8 | P4: 9 | Q4: 10 | R4: 11 | S4: 12 | T4: 12
B5: Kontonr | C5: Kontonavn | D5: Avdeling | E5: Prosjekt | F5: Totalt | G5: Fordeling | H5: Januar | I5: Februar | J5: Mars | K5: April | L5: Mai | M5: Juni | N5: Juli | O5: August | P5: September | Q5: Oktober | R5: November | S5: Desember | T5: Sum
B7: 3000 | C7: Salg, avgiftspliktig | D7: 6 | E7: 602 | G7: 1 | H7: =IF($G7<>0,VLOOKUP($G7,Fordeling,H$4+3,FALSE)*$F7,0) -> 0 | I7: =IF($G7<>0,VLOOKUP($G7,Fordeling,I$4+3,FALSE)*$F7,0) -> 0 | J7: =IF($G7<>0,VLOOKUP($G7,Fordeling,J$4+3,FALSE)*$F7,0) -> 0 | L7: =IF($G7<>0,VLOOKUP($G7,Fordeling,L$4+3,FALSE)*$F7,0) -> 0 | M7: =IF($G7<>0,VLOOKUP($G7,Fordeling,M$4+3,FALSE)*$F7,0) -> 0 | N7: =IF($G7<>0,VLOOKUP($G7,Fordeling,N$4+3,FALSE)*$F7,0) -> 0 | O7: =IF($G7<>0,VLOOKUP($G7,Fordeling,O$4+3,FALSE)*$F7,0) -> 0 | P7: =IF($G7<>0,VLOOKUP($G7,Fordeling,P$4+3,FALSE)*$F7,0) -> 0 | Q7: =IF($G7<>0,VLOOKUP($G7,Fordeling,Q$4+3,FALSE)*$F7,0) -> 0 | R7: =IF($G7<>0,VLOOKUP($G7,Fordeling,R$4+3,FALSE)*$F7,0) -> 0 | S7: =IF($G7<>0,VLOOKUP($G7,Fordeling,S$4+3,FALSE)*$F7,0) -> 0
B8: 3010 | C8: Billettinntekter | D8: 6 | E8: 602 | G8: 1 | H8: =IF($G8<>0,VLOOKUP($G8,Fordeling,H$4+3,FALSE)*$F8,0) -> 0 | I8: =IF($G8<>0,VLOOKUP($G8,Fordeling,I$4+3,FALSE)*$F8,0) -> 0 | J8: =IF($G8<>0,VLOOKUP($G8,Fordeling,J$4+3,FALSE)*$F8,0) -> 0 | K8: =IF($G8<>0,VLOOKUP($G8,Fordeling,K$4+3,FALSE)*$F8,0) -> 0 | L8: =IF($G8<>0,VLOOKUP($G8,Fordeling,L$4+3,FALSE)*$F8,0) -> 0 | M8: =IF($G8<>0,VLOOKUP($G8,Fordeling,M$4+3,FALSE)*$F8,0) -> 0 | N8: =IF($G8<>0,VLOOKUP($G8,Fordeling,N$4+3,FALSE)*$F8,0) -> 0 | O8: =IF($G8<>0,VLOOKUP($G8,Fordeling,O$4+3,FALSE)*$F8,0) -> 0 | ... S8: =IF($G8<>0,VLOOKUP($G8,Fordeling,S$4+3,FALSE)*$F8,0) -> 0
B9: 3020 | C9: Reklameinntekter avg.pliktig | D9: 6 | E9: 602 | F9: 20000 | G9: 1 | H9: =IF($G9<>0,VLOOKUP($G9,Fordeling,H$4+3,FALSE)*$F9,0) -> 1666.6667 | I9: =IF($G9<>0,VLOOKUP($G9,Fordeling,I$4+3,FALSE)*$F9,0) -> 1666.6667 | J9: =IF($G9<>0,VLOOKUP($G9,Fordeling,J$4+3,FALSE)*$F9,0) -> 1666.6667 | K9: =IF($G9<>0,VLOOKUP($G9,Fordeling,K$4+3,FALSE)*$F9,0) -> 1666.6667 | L9: =IF($G9<>0,VLOOKUP($G9,Fordeling,L$4+3,FALSE)*$F9,0) -> 1666.6667 | M9: =IF($G9<>0,VLOOKUP($G9,Fordeling,M$4+3,FALSE)*$F9,0) -> 1666.6667 | N9: =IF($G9<>0,VLOOKUP($G9,Fordeling,N$4+3,FALSE)*$F9,0) -> 1666.6667 | O9: =IF($G9<>0,VLOOKUP($G9,Fordeling,O$4+3,FALSE)*$F9,0) -> 1666.6667 | ... S9: =IF($G9<>0,VLOOKUP($G9,Fordeling,S$4+3,FALSE)*$F9,0) -> 1666.6667
B10: 3030 | C10: Salg, avgiftspliktig middels sats | D10: 6 | E10: 602 | G10: 1 | H10: =IF($G10<>0,VLOOKUP($G10,Fordeling,H$4+3,FALSE)*$F10,0) -> 0 | I10: =IF($G10<>0,VLOOKUP($G10,Fordeling,I$4+3,FALSE)*$F10,0) -> 0 | J10: =IF($G10<>0,VLOOKUP($G10,Fordeling,J$4+3,FALSE)*$F10,0) -> 0 | K10: =IF($G10<>0,VLOOKUP($G10,Fordeling,K$4+3,FALSE)*$F10,0) -> 0 | L10: =IF($G10<>0,VLOOKUP($G10,Fordeling,L$4+3,FALSE)*$F10,0) -> 0 | M10: =IF($G10<>0,VLOOKUP($G10,Fordeling,M$4+3,FALSE)*$F10,0) -> 0 | N10: =IF($G10<>0,VLOOKUP($G10,Fordeling,N$4+3,FALSE)*$F10,0) -> 0 | O10: =IF($G10<>0,VLOOKUP($G10,Fordeling,O$4+3,FALSE)*$F10,0) -> 0 | ... S10: =IF($G10<>0,VLOOKUP($G10,Fordeling,S$4+3,FALSE)*$F10,0) -> 0
B11: 3050 | C11: Salg, avgiftspliktig lav sats | D11: 6 | E11: 602 | G11: 1 | H11: =IF($G11<>0,VLOOKUP($G11,Fordeling,H$4+3,FALSE)*$F11,0) -> 0 | I11: =IF($G11<>0,VLOOKUP($G11,Fordeling,I$4+3,FALSE)*$F11,0) -> 0 | J11: =IF($G11<>0,VLOOKUP($G11,Fordeling,J$4+3,FALSE)*$F11,0) -> 0 | K11: =IF($G11<>0,VLOOKUP($G11,Fordeling,K$4+3,FALSE)*$F11,0) -> 0 | L11: =IF($G11<>0,VLOOKUP($G11,Fordeling,L$4+3,FALSE)*$F11,0) -> 0 | M11: =IF($G11<>0,VLOOKUP($G11,Fordeling,M$4+3,FALSE)*$F11,0) -> 0 | N11: =IF($G11<>0,VLOOKUP($G11,Fordeling,N$4+3,FALSE)*$F11,0) -> 0 | O11: =IF($G11<>0,VLOOKUP($G11,Fordeling,O$4+3,FALSE)*$F11,0) -> 0 | ... S11: =IF($G11<>0,VLOOKUP($G11,Fordeling,S$4+3,FALSE)*$F11,0) -> 0
B12: 3081 | C12: Kontantrabatter, avgiftspliktige | D12: 6 | E12: 602 | G12: 1 | H12: =IF($G12<>0,VLOOKUP($G12,Fordeling,H$4+3,FALSE)*$F12,0) -> 0 | I12: =IF($G12<>0,VLOOKUP($G12,Fordeling,I$4+3,FALSE)*$F12,0) -> 0 | J12: =IF($G12<>0,VLOOKUP($G12,Fordeling,J$4+3,FALSE)*$F12,0) -> 0 | K12: =IF($G12<>0,VLOOKUP($G12,Fordeling,K$4+3,FALSE)*$F12,0) -> 0 | L12: =IF($G12<>0,VLOOKUP($G12,Fordeling,L$4+3,FALSE)*$F12,0) -> 0 | M12: =IF($G12<>0,VLOOKUP($G12,Fordeling,M$4+3,FALSE)*$F12,0) -> 0 | N12: =IF($G12<>0,VLOOKUP($G12,Fordeling,N$4+3,FALSE)*$F12,0) -> 0 | O12: =IF($G12<>0,VLOOKUP($G12,Fordeling,O$4+3,FALSE)*$F12,0) -> 0 | ... S12: =IF($G12<>0,VLOOKUP($G12,Fordeling,S$4+3,FALSE)*$F12,0) -> 0
B13: 3100 | C13: Salg, avgiftsfritt | D13: 6 | E13: 602 | G13: 1 | H13: =IF($G13<>0,VLOOKUP($G13,Fordeling,H$4+3,FALSE)*$F13,0) -> 0 | I13: =IF($G13<>0,VLOOKUP($G13,Fordeling,I$4+3,FALSE)*$F13,0) -> 0 | J13: =IF($G13<>0,VLOOKUP($G13,Fordeling,J$4+3,FALSE)*$F13,0) -> 0 | K13: =IF($G13<>0,VLOOKUP($G13,Fordeling,K$4+3,FALSE)*$F13,0) -> 0 | L13: =IF($G13<>0,VLOOKUP($G13,Fordeling,L$4+3,FALSE)*$F13,0) -> 0 | M13: =IF($G13<>0,VLOOKUP($G13,Fordeling,M$4+3,FALSE)*$F13,0) -> 0 | N13: =IF($G13<>0,VLOOKUP($G13,Fordeling,N$4+3,FALSE)*$F13,0) -> 0 | O13: =IF($G13<>0,VLOOKUP($G13,Fordeling,O$4+3,FALSE)*$F13,0) -> 0 | ... S13: =IF($G13<>0,VLOOKUP($G13,Fordeling,S$4+3,FALSE)*$F13,0) -> 0
B14: 3120 | C14: Reklameinntekter avg.fritt | D14: 6 | E14: 602 | G14: 1 | H14: =IF($G14<>0,VLOOKUP($G14,Fordeling,H$4+3,FALSE)*$F14,0) -> 0 | I14: =IF($G14<>0,VLOOKUP($G14,Fordeling,I$4+3,FALSE)*$F14,0) -> 0 | J14: =IF($G14<>0,VLOOKUP($G14,Fordeling,J$4+3,FALSE)*$F14,0) -> 0 | K14: =IF($G14<>0,VLOOKUP($G14,Fordeling,K$4+3,FALSE)*$F14,0) -> 0 | L14: =IF($G14<>0,VLOOKUP($G14,Fordeling,L$4+3,FALSE)*$F14,0) -> 0 | M14: =IF($G14<>0,VLOOKUP($G14,Fordeling,M$4+3,FALSE)*$F14,0) -> 0 | N14: =IF($G14<>0,VLOOKUP($G14,Fordeling,N$4+3,FALSE)*$F14,0) -> 0 | O14: =IF($G14<>0,VLOOKUP($G14,Fordeling,O$4+3,FALSE)*$F14,0) -> 0 | ... S14: =IF($G14<>0,VLOOKUP($G14,Fordeling,S$4+3,FALSE)*$F14,0) -> 0
B15: 3181 | C15: Kontantrabatter, avg.fri. | D15: 6 | E15: 602 | G15: 1 | H15: =IF($G15<>0,VLOOKUP($G15,Fordeling,H$4+3,FALSE)*$F15,0) -> 0 | I15: =IF($G15<>0,VLOOKUP($G15,Fordeling,I$4+3,FALSE)*$F15,0) -> 0 | J15: =IF($G15<>0,VLOOKUP($G15,Fordeling,J$4+3,FALSE)*$F15,0) -> 0 | K15: =IF($G15<>0,VLOOKUP($G15,Fordeling,K$4+3,FALSE)*$F15,0) -> 0 | L15: =IF($G15<>0,VLOOKUP($G15,Fordeling,L$4+3,FALSE)*$F15,0) -> 0 | M15: =IF($G15<>0,VLOOKUP($G15,Fordeling,M$4+3,FALSE)*$F15,0) -> 0 | N15: =IF($G15<>0,VLOOKUP($G15,Fordeling,N$4+3,FALSE)*$F15,0) -> 0 | O15: =IF($G15<>0,VLOOKUP($G15,Fordeling,O$4+3,FALSE)*$F15,0) -> 0 | ... S15: =IF($G15<>0,VLOOKUP($G15,Fordeling,S$4+3,FALSE)*$F15,0) -> 0
B16: 3200 | C16: Salg utenfor avgiftsområdet | D16: 6 | E16: 602 | G16: 1 | H16: =IF($G16<>0,VLOOKUP($G16,Fordeling,H$4+3,FALSE)*$F16,0) -> 0 | I16: =IF($G16<>0,VLOOKUP($G16,Fordeling,I$4+3,FALSE)*$F16,0) -> 0 | J16: =IF($G16<>0,VLOOKUP($G16,Fordeling,J$4+3,FALSE)*$F16,0) -> 0 | K16: =IF($G16<>0,VLOOKUP($G16,Fordeling,K$4+3,FALSE)*$F16,0) -> 0 | L16: =IF($G16<>0,VLOOKUP($G16,Fordeling,L$4+3,FALSE)*$F16,0) -> 0 | M16: =IF($G16<>0,VLOOKUP($G16,Fordeling,M$4+3,FALSE)*$F16,0) -> 0 | N16: =IF($G16<>0,VLOOKUP($G16,Fordeling,N$4+3,FALSE)*$F16,0) -> 0 | O16: =IF($G16<>0,VLOOKUP($G16,Fordeling,O$4+3,FALSE)*$F16,0) -> 0 | ... S16: =IF($G16<>0,VLOOKUP($G16,Fordeling,S$4+3,FALSE)*$F16,0) -> 0
B17: 3210 | C17: Inntekt deltakeravgift | D17: 6 | E17: 602 | F17: 55000 | G17: 1 | H17: =IF($G17<>0,VLOOKUP($G17,Fordeling,H$4+3,FALSE)*$F17,0) -> 4583.3333 | I17: =IF($G17<>0,VLOOKUP($G17,Fordeling,I$4+3,FALSE)*$F17,0) -> 4583.3333 | J17: =IF($G17<>0,VLOOKUP($G17,Fordeling,J$4+3,FALSE)*$F17,0) -> 4583.3333 | K17: =IF($G17<>0,VLOOKUP($G17,Fordeling,K$4+3,FALSE)*$F17,0) -> 4583.3333 | L17: =IF($G17<>0,VLOOKUP($G17,Fordeling,L$4+3,FALSE)*$F17,0) -> 4583.3333 | M17: =IF($G17<>0,VLOOKUP($G17,Fordeling,M$4+3,FALSE)*$F17,0) -> 4583.3333 | N17: =IF($G17<>0,VLOOKUP($G17,Fordeling,N$4+3,FALSE)*$F17,0) -> 4583.3333 | O17: =IF($G17<>0,VLOOKUP($G17,Fordeling,O$4+3,FALSE)*$F17,0) -> 4583.3333 | ... S17: =IF($G17<>0,VLOOKUP($G17,Fordeling,S$4+3,FALSE)*$F17,0) -> 4583.3333
B18: 3400 | C18: Offentlig tilskudd/refusjon | D18: 6 | E18: 602 | G18: 1 | H18: =IF($G18<>0,VLOOKUP($G18,Fordeling,H$4+3,FALSE)*$F18,0) -> 0 | I18: =IF($G18<>0,VLOOKUP($G18,Fordeling,I$4+3,FALSE)*$F18,0) -> 0 | J18: =IF($G18<>0,VLOOKUP($G18,Fordeling,J$4+3,FALSE)*$F18,0) -> 0 | K18: =IF($G18<>0,VLOOKUP($G18,Fordeling,K$4+3,FALSE)*$F18,0) -> 0 | L18: =IF($G18<>0,VLOOKUP($G18,Fordeling,L$4+3,FALSE)*$F18,0) -> 0 | M18: =IF($G18<>0,VLOOKUP($G18,Fordeling,M$4+3,FALSE)*$F18,0) -> 0 | N18: =IF($G18<>0,VLOOKUP($G18,Fordeling,N$4+3,FALSE)*$F18,0) -> 0 | O18: =IF($G18<>0,VLOOKUP($G18,Fordeling,O$4+3,FALSE)*$F18,0) -> 0 | ... S18: =IF($G18<>0,VLOOKUP($G18,Fordeling,S$4+3,FALSE)*$F18,0) -> 0
B19: 3442 | C19: Tilskudd øremerkede | D19: 6 | E19: 602 | G19: 1 | H19: =IF($G19<>0,VLOOKUP($G19,Fordeling,H$4+3,FALSE)*$F19,0) -> 0 | I19: =IF($G19<>0,VLOOKUP($G19,Fordeling,I$4+3,FALSE)*$F19,0) -> 0 | J19: =IF($G19<>0,VLOOKUP($G19,Fordeling,J$4+3,FALSE)*$F19,0) -> 0 | K19: =IF($G19<>0,VLOOKUP($G19,Fordeling,K$4+3,FALSE)*$F19,0) -> 0 | L19: =IF($G19<>0,VLOOKUP($G19,Fordeling,L$4+3,FALSE)*$F19,0) -> 0 | M19: =IF($G19<>0,VLOOKUP($G19,Fordeling,M$4+3,FALSE)*$F19,0) -> 0 | N19: =IF($G19<>0,VLOOKUP($G19,Fordeling,N$4+3,FALSE)*$F19,0) -> 0 | O19: =IF($G19<>0,VLOOKUP($G19,Fordeling,O$4+3,FALSE)*$F19,0) -> 0 | ... S19: =IF($G19<>0,VLOOKUP($G19,Fordeling,S$4+3,FALSE)*$F19,0) -> 0
B20: 3445 | C20: Tilsskudd andre | D20: 6 | E20: 602 | G20: 1 | H20: =IF($G20<>0,VLOOKUP($G20,Fordeling,H$4+3,FALSE)*$F20,0) -> 0 | I20: =IF($G20<>0,VLOOKUP($G20,Fordeling,I$4+3,FALSE)*$F20,0) -> 0 | J20: =IF($G20<>0,VLOOKUP($G20,Fordeling,J$4+3,FALSE)*$F20,0) -> 0 | K20: =IF($G20<>0,VLOOKUP($G20,Fordeling,K$4+3,FALSE)*$F20,0) -> 0 | L20: =IF($G20<>0,VLOOKUP($G20,Fordeling,L$4+3,FALSE)*$F20,0) -> 0 | M20: =IF($G20<>0,VLOOKUP($G20,Fordeling,M$4+3,FALSE)*$F20,0) -> 0 | N20: =IF($G20<>0,VLOOKUP($G20,Fordeling,N$4+3,FALSE)*$F20,0) -> 0 | O20: =IF($G20<>0,VLOOKUP($G20,Fordeling,O$4+3,FALSE)*$F20,0) -> 0 | ... S20: =IF($G20<>0,VLOOKUP($G20,Fordeling,S$4+3,FALSE)*$F20,0) -> 0
B21: 3450 | C21: Støtte løyper | D21: 6 | E21: 602 | G21: 1 | H21: =IF($G21<>0,VLOOKUP($G21,Fordeling,H$4+3,FALSE)*$F21,0) -> 0 | I21: =IF($G21<>0,VLOOKUP($G21,Fordeling,I$4+3,FALSE)*$F21,0) -> 0 | J21: =IF($G21<>0,VLOOKUP($G21,Fordeling,J$4+3,FALSE)*$F21,0) -> 0 | K21: =IF($G21<>0,VLOOKUP($G21,Fordeling,K$4+3,FALSE)*$F21,0) -> 0 | L21: =IF($G21<>0,VLOOKUP($G21,Fordeling,L$4+3,FALSE)*$F21,0) -> 0 | M21: =IF($G21<>0,VLOOKUP($G21,Fordeling,M$4+3,FALSE)*$F21,0) -> 0 | N21: =IF($G21<>0,VLOOKUP($G21,Fordeling,N$4+3,FALSE)*$F21,0) -> 0 | O21: =IF($G21<>0,VLOOKUP($G21,Fordeling,O$4+3,FALSE)*$F21,0) -> 0 | ... S21: =IF($G21<>0,VLOOKUP($G21,Fordeling,S$4+3,FALSE)*$F21,0) -> 0
B22: 3455 | C22: Inntekt Enjoyguide | D22: 6 | E22: 602 | G22: 1 | H22: =IF($G22<>0,VLOOKUP($G22,Fordeling,H$4+3,FALSE)*$F22,0) -> 0 | I22: =IF($G22<>0,VLOOKUP($G22,Fordeling,I$4+3,FALSE)*$F22,0) -> 0 | J22: =IF($G22<>0,VLOOKUP($G22,Fordeling,J$4+3,FALSE)*$F22,0) -> 0 | K22: =IF($G22<>0,VLOOKUP($G22,Fordeling,K$4+3,FALSE)*$F22,0) -> 0 | L22: =IF($G22<>0,VLOOKUP($G22,Fordeling,L$4+3,FALSE)*$F22,0) -> 0 | M22: =IF($G22<>0,VLOOKUP($G22,Fordeling,M$4+3,FALSE)*$F22,0) -> 0 | N22: =IF($G22<>0,VLOOKUP($G22,Fordeling,N$4+3,FALSE)*$F22,0) -> 0 | O22: =IF($G22<>0,VLOOKUP($G22,Fordeling,O$4+3,FALSE)*$F22,0) -> 0 | ... S22: =IF($G22<>0,VLOOKUP($G22,Fordeling,S$4+3,FALSE)*$F22,0) -> 0
B23: 3601 | C23: Leieinntekter HIAS | D23: 6 | E23: 602 | G23: 1 | H23: =IF($G23<>0,VLOOKUP($G23,Fordeling,H$4+3,FALSE)*$F23,0) -> 0 | I23: =IF($G23<>0,VLOOKUP($G23,Fordeling,I$4+3,FALSE)*$F23,0) -> 0 | J23: =IF($G23<>0,VLOOKUP($G23,Fordeling,J$4+3,FALSE)*$F23,0) -> 0 | K23: =IF($G23<>0,VLOOKUP($G23,Fordeling,K$4+3,FALSE)*$F23,0) -> 0 | L23: =IF($G23<>0,VLOOKUP($G23,Fordeling,L$4+3,FALSE)*$F23,0) -> 0 | M23: =IF($G23<>0,VLOOKUP($G23,Fordeling,M$4+3,FALSE)*$F23,0) -> 0 | N23: =IF($G23<>0,VLOOKUP($G23,Fordeling,N$4+3,FALSE)*$F23,0) -> 0 | O23: =IF($G23<>0,VLOOKUP($G23,Fordeling,O$4+3,FALSE)*$F23,0) -> 0 | ... S23: =IF($G23<>0,VLOOKUP($G23,Fordeling,S$4+3,FALSE)*$F23,0) -> 0
B24: 3602 | C24: Leieinntekter klubbhus/idrettsparken | D24: 6 | E24: 602 | G24: 1 | H24: =IF($G24<>0,VLOOKUP($G24,Fordeling,H$4+3,FALSE)*$F24,0) -> 0 | I24: =IF($G24<>0,VLOOKUP($G24,Fordeling,I$4+3,FALSE)*$F24,0) -> 0 | J24: =IF($G24<>0,VLOOKUP($G24,Fordeling,J$4+3,FALSE)*$F24,0) -> 0 | K24: =IF($G24<>0,VLOOKUP($G24,Fordeling,K$4+3,FALSE)*$F24,0) -> 0 | L24: =IF($G24<>0,VLOOKUP($G24,Fordeling,L$4+3,FALSE)*$F24,0) -> 0 | M24: =IF($G24<>0,VLOOKUP($G24,Fordeling,M$4+3,FALSE)*$F24,0) -> 0 | N24: =IF($G24<>0,VLOOKUP($G24,Fordeling,N$4+3,FALSE)*$F24,0) -> 0 | O24: =IF($G24<>0,VLOOKUP($G24,Fordeling,O$4+3,FALSE)*$F24,0) -> 0 | ... S24: =IF($G24<>0,VLOOKUP($G24,Fordeling,S$4+3,FALSE)*$F24,0) -> 0
B25: 3700 | C25: Provisjonsinntekter, avgiftspliktig | D25: 6 | E25: 602 | G25: 1 | H25: =IF($G25<>0,VLOOKUP($G25,Fordeling,H$4+3,FALSE)*$F25,0) -> 0 | I25: =IF($G25<>0,VLOOKUP($G25,Fordeling,I$4+3,FALSE)*$F25,0) -> 0 | J25: =IF($G25<>0,VLOOKUP($G25,Fordeling,J$4+3,FALSE)*$F25,0) -> 0 | K25: =IF($G25<>0,VLOOKUP($G25,Fordeling,K$4+3,FALSE)*$F25,0) -> 0 | L25: =IF($G25<>0,VLOOKUP($G25,Fordeling,L$4+3,FALSE)*$F25,0) -> 0 | M25: =IF($G25<>0,VLOOKUP($G25,Fordeling,M$4+3,FALSE)*$F25,0) -> 0 | N25: =IF($G25<>0,VLOOKUP($G25,Fordeling,N$4+3,FALSE)*$F25,0) -> 0 | O25: =IF($G25<>0,VLOOKUP($G25,Fordeling,O$4+3,FALSE)*$F25,0) -> 0 | ... S25: =IF($G25<>0,VLOOKUP($G25,Fordeling,S$4+3,FALSE)*$F25,0) -> 0
B26: 3900 | C26: Annen inntekt | D26: 6 | E26: 602 | G26: 1 | H26: =IF($G26<>0,VLOOKUP($G26,Fordeling,H$4+3,FALSE)*$F26,0) -> 0 | I26: =IF($G26<>0,VLOOKUP($G26,Fordeling,I$4+3,FALSE)*$F26,0) -> 0 | J26: =IF($G26<>0,VLOOKUP($G26,Fordeling,J$4+3,FALSE)*$F26,0) -> 0 | K26: =IF($G26<>0,VLOOKUP($G26,Fordeling,K$4+3,FALSE)*$F26,0) -> 0 | L26: =IF($G26<>0,VLOOKUP($G26,Fordeling,L$4+3,FALSE)*$F26,0) -> 0 | M26: =IF($G26<>0,VLOOKUP($G26,Fordeling,M$4+3,FALSE)*$F26,0) -> 0 | N26: =IF($G26<>0,VLOOKUP($G26,Fordeling,N$4+3,FALSE)*$F26,0) -> 0 | O26: =IF($G26<>0,VLOOKUP($G26,Fordeling,O$4+3,FALSE)*$F26,0) -> 0 | ... S26: =IF($G26<>0,VLOOKUP($G26,Fordeling,S$4+3,FALSE)*$F26,0) -> 0
B27: 3910 | C27: Inntekter kiosk/kafé | D27: 6 | E27: 602 | F27: 8000 | G27: 1 | H27: =IF($G27<>0,VLOOKUP($G27,Fordeling,H$4+3,FALSE)*$F27,0) -> 666.66667 | I27: =IF($G27<>0,VLOOKUP($G27,Fordeling,I$4+3,FALSE)*$F27,0) -> 666.66667 | J27: =IF($G27<>0,VLOOKUP($G27,Fordeling,J$4+3,FALSE)*$F27,0) -> 666.66667 | K27: =IF($G27<>0,VLOOKUP($G27,Fordeling,K$4+3,FALSE)*$F27,0) -> 666.66667 | L27: =IF($G27<>0,VLOOKUP($G27,Fordeling,L$4+3,FALSE)*$F27,0) -> 666.66667 | M27: =IF($G27<>0,VLOOKUP($G27,Fordeling,M$4+3,FALSE)*$F27,0) -> 666.66667 | N27: =IF($G27<>0,VLOOKUP($G27,Fordeling,N$4+3,FALSE)*$F27,0) -> 666.66667 | O27: =IF($G27<>0,VLOOKUP($G27,Fordeling,O$4+3,FALSE)*$F27,0) -> 666.66667 | ... S27: =IF($G27<>0,VLOOKUP($G27,Fordeling,S$4+3,FALSE)*$F27,0) -> 666.66667
B28: 3920 | C28: Årskontingenter | D28: 6 | E28: 602 | G28: 1 | H28: =IF($G28<>0,VLOOKUP($G28,Fordeling,H$4+3,FALSE)*$F28,0) -> 0 | I28: =IF($G28<>0,VLOOKUP($G28,Fordeling,I$4+3,FALSE)*$F28,0) -> 0 | J28: =IF($G28<>0,VLOOKUP($G28,Fordeling,J$4+3,FALSE)*$F28,0) -> 0 | K28: =IF($G28<>0,VLOOKUP($G28,Fordeling,K$4+3,FALSE)*$F28,0) -> 0 | L28: =IF($G28<>0,VLOOKUP($G28,Fordeling,L$4+3,FALSE)*$F28,0) -> 0 | M28: =IF($G28<>0,VLOOKUP($G28,Fordeling,M$4+3,FALSE)*$F28,0) -> 0 | N28: =IF($G28<>0,VLOOKUP($G28,Fordeling,N$4+3,FALSE)*$F28,0) -> 0 | O28: =IF($G28<>0,VLOOKUP($G28,Fordeling,O$4+3,FALSE)*$F28,0) -> 0 | ... S28: =IF($G28<>0,VLOOKUP($G28,Fordeling,S$4+3,FALSE)*$F28,0) -> 0
B29: 3930 | C29: Treningsavgifter | D29: 6 | E29: 602 | G29: 1 | H29: =IF($G29<>0,VLOOKUP($G29,Fordeling,H$4+3,FALSE)*$F29,0) -> 0 | I29: =IF($G29<>0,VLOOKUP($G29,Fordeling,I$4+3,FALSE)*$F29,0) -> 0 | J29: =IF($G29<>0,VLOOKUP($G29,Fordeling,J$4+3,FALSE)*$F29,0) -> 0 | K29: =IF($G29<>0,VLOOKUP($G29,Fordeling,K$4+3,FALSE)*$F29,0) -> 0 | L29: =IF($G29<>0,VLOOKUP($G29,Fordeling,L$4+3,FALSE)*$F29,0) -> 0 | M29: =IF($G29<>0,VLOOKUP($G29,Fordeling,M$4+3,FALSE)*$F29,0) -> 0 | N29: =IF($G29<>0,VLOOKUP($G29,Fordeling,N$4+3,FALSE)*$F29,0) -> 0 | O29: =IF($G29<>0,VLOOKUP($G29,Fordeling,O$4+3,FALSE)*$F29,0) -> 0 | ... S29: =IF($G29<>0,VLOOKUP($G29,Fordeling,S$4+3,FALSE)*$F29,0) -> 0
B30: 3960 | C30: Bingodrift | D30: 6 | E30: 602 | G30: 1 | H30: =IF($G30<>0,VLOOKUP($G30,Fordeling,H$4+3,FALSE)*$F30,0) -> 0 | I30: =IF($G30<>0,VLOOKUP($G30,Fordeling,I$4+3,FALSE)*$F30,0) -> 0 | J30: =IF($G30<>0,VLOOKUP($G30,Fordeling,J$4+3,FALSE)*$F30,0) -> 0 | K30: =IF($G30<>0,VLOOKUP($G30,Fordeling,K$4+3,FALSE)*$F30,0) -> 0 | L30: =IF($G30<>0,VLOOKUP($G30,Fordeling,L$4+3,FALSE)*$F30,0) -> 0 | M30: =IF($G30<>0,VLOOKUP($G30,Fordeling,M$4+3,FALSE)*$F30,0) -> 0 | N30: =IF($G30<>0,VLOOKUP($G30,Fordeling,N$4+3,FALSE)*$F30,0) -> 0 | O30: =IF($G30<>0,VLOOKUP($G30,Fordeling,O$4+3,FALSE)*$F30,0) -> 0 | ... S30: =IF($G30<>0,VLOOKUP($G30,Fordeling,S$4+3,FALSE)*$F30,0) -> 0
B31: 3970 | C31: Grasrotandel | D31: 6 | E31: 602 | G31: 1 | H31: =IF($G31<>0,VLOOKUP($G31,Fordeling,H$4+3,FALSE)*$F31,0) -> 0 | I31: =IF($G31<>0,VLOOKUP($G31,Fordeling,I$4+3,FALSE)*$F31,0) -> 0 | J31: =IF($G31<>0,VLOOKUP($G31,Fordeling,J$4+3,FALSE)*$F31,0) -> 0 | K31: =IF($G31<>0,VLOOKUP($G31,Fordeling,K$4+3,FALSE)*$F31,0) -> 0 | L31: =IF($G31<>0,VLOOKUP($G31,Fordeling,L$4+3,FALSE)*$F31,0) -> 0 | M31: =IF($G31<>0,VLOOKUP($G31,Fordeling,M$4+3,FALSE)*$F31,0) -> 0 | N31: =IF($G31<>0,VLOOKUP($G31,Fordeling,N$4+3,FALSE)*$F31,0) -> 0 | O31: =IF($G31<>0,VLOOKUP($G31,Fordeling,O$4+3,FALSE)*$F31,0) -> 0 | ... S31: =IF($G31<>0,VLOOKUP($G31,Fordeling,S$4+3,FALSE)*$F31,0) -> 0
B32: 3997 | C32: Dugnadsinntekter | D32: 6 | E32: 602 | G32: 1 | H32: =IF($G32<>0,VLOOKUP($G32,Fordeling,H$4+3,FALSE)*$F32,0) -> 0 | I32: =IF($G32<>0,VLOOKUP($G32,Fordeling,I$4+3,FALSE)*$F32,0) -> 0 | J32: =IF($G32<>0,VLOOKUP($G32,Fordeling,J$4+3,FALSE)*$F32,0) -> 0 | K32: =IF($G32<>0,VLOOKUP($G32,Fordeling,K$4+3,FALSE)*$F32,0) -> 0 | L32: =IF($G32<>0,VLOOKUP($G32,Fordeling,L$4+3,FALSE)*$F32,0) -> 0 | M32: =IF($G32<>0,VLOOKUP($G32,Fordeling,M$4+3,FALSE)*$F32,0) -> 0 | N32: =IF($G32<>0,VLOOKUP($G32,Fordeling,N$4+3,FALSE)*$F32,0) -> 0 | O32: =IF($G32<>0,VLOOKUP($G32,Fordeling,O$4+3,FALSE)*$F32,0) -> 0 | ... S32: =IF($G32<>0,VLOOKUP($G32,Fordeling,S$4+3,FALSE)*$F32,0) -> 0
B33: 3998 | C33: Inntekter fra grupper | D33: 6 | E33: 602 | G33: 1 | H33: =IF($G33<>0,VLOOKUP($G33,Fordeling,H$4+3,FALSE)*$F33,0) -> 0 | I33: =IF($G33<>0,VLOOKUP($G33,Fordeling,I$4+3,FALSE)*$F33,0) -> 0 | J33: =IF($G33<>0,VLOOKUP($G33,Fordeling,J$4+3,FALSE)*$F33,0) -> 0 | K33: =IF($G33<>0,VLOOKUP($G33,Fordeling,K$4+3,FALSE)*$F33,0) -> 0 | L33: =IF($G33<>0,VLOOKUP($G33,Fordeling,L$4+3,FALSE)*$F33,0) -> 0 | M33: =IF($G33<>0,VLOOKUP($G33,Fordeling,M$4+3,FALSE)*$F33,0) -> 0 | N33: =IF($G33<>0,VLOOKUP($G33,Fordeling,N$4+3,FALSE)*$F33,0) -> 0 | O33: =IF($G33<>0,VLOOKUP($G33,Fordeling,O$4+3,FALSE)*$F33,0) -> 0 | ... S33: =IF($G33<>0,VLOOKUP($G33,Fordeling,S$4+3,FALSE)*$F33,0) -> 0
B34: 4071 | C34: Kontantrabatt, råvarer og halvfabrikata | D34: 6 | E34: 602 | G34: 1 | H34: =IF($G34<>0,VLOOKUP($G34,Fordeling,H$4+3,FALSE)*$F34,0) -> 0 | I34: =IF($G34<>0,VLOOKUP($G34,Fordeling,I$4+3,FALSE)*$F34,0) -> 0 | J34: =IF($G34<>0,VLOOKUP($G34,Fordeling,J$4+3,FALSE)*$F34,0) -> 0 | K34: =IF($G34<>0,VLOOKUP($G34,Fordeling,K$4+3,FALSE)*$F34,0) -> 0 | L34: =IF($G34<>0,VLOOKUP($G34,Fordeling,L$4+3,FALSE)*$F34,0) -> 0 | M34: =IF($G34<>0,VLOOKUP($G34,Fordeling,M$4+3,FALSE)*$F34,0) -> 0 | N34: =IF($G34<>0,VLOOKUP($G34,Fordeling,N$4+3,FALSE)*$F34,0) -> 0 | O34: =IF($G34<>0,VLOOKUP($G34,Fordeling,O$4+3,FALSE)*$F34,0) -> 0 | ... S34: =IF($G34<>0,VLOOKUP($G34,Fordeling,S$4+3,FALSE)*$F34,0) -> 0
B35: 4100 | C35: Arenaleie | D35: 6 | E35: 602 | F35: 5000 | G35: 1 | H35: =IF($G35<>0,VLOOKUP($G35,Fordeling,H$4+3,FALSE)*$F35,0) -> 416.66667 | I35: =IF($G35<>0,VLOOKUP($G35,Fordeling,I$4+3,FALSE)*$F35,0) -> 416.66667 | J35: =IF($G35<>0,VLOOKUP($G35,Fordeling,J$4+3,FALSE)*$F35,0) -> 416.66667 | K35: =IF($G35<>0,VLOOKUP($G35,Fordeling,K$4+3,FALSE)*$F35,0) -> 416.66667 | L35: =IF($G35<>0,VLOOKUP($G35,Fordeling,L$4+3,FALSE)*$F35,0) -> 416.66667 | M35: =IF($G35<>0,VLOOKUP($G35,Fordeling,M$4+3,FALSE)*$F35,0) -> 416.66667 | N35: =IF($G35<>0,VLOOKUP($G35,Fordeling,N$4+3,FALSE)*$F35,0) -> 416.66667 | O35: =IF($G35<>0,VLOOKUP($G35,Fordeling,O$4+3,FALSE)*$F35,0) -> 416.66667 | ... S35: =IF($G35<>0,VLOOKUP($G35,Fordeling,S$4+3,FALSE)*$F35,0) -> 416.66667
B36: 4150 | C36: Utgifter arrangement egne | D36: 6 | E36: 602 | F36: 7000 | G36: 1 | H36: =IF($G36<>0,VLOOKUP($G36,Fordeling,H$4+3,FALSE)*$F36,0) -> 583.33333 | I36: =IF($G36<>0,VLOOKUP($G36,Fordeling,I$4+3,FALSE)*$F36,0) -> 583.33333 | J36: =IF($G36<>0,VLOOKUP($G36,Fordeling,J$4+3,FALSE)*$F36,0) -> 583.33333 | K36: =IF($G36<>0,VLOOKUP($G36,Fordeling,K$4+3,FALSE)*$F36,0) -> 583.33333 | L36: =IF($G36<>0,VLOOKUP($G36,Fordeling,L$4+3,FALSE)*$F36,0) -> 583.33333 | M36: =IF($G36<>0,VLOOKUP($G36,Fordeling,M$4+3,FALSE)*$F36,0) -> 583.33333 | N36: =IF($G36<>0,VLOOKUP($G36,Fordeling,N$4+3,FALSE)*$F36,0) -> 583.33333 | O36: =IF($G36<>0,VLOOKUP($G36,Fordeling,O$4+3,FALSE)*$F36,0) -> 583.33333 | ... S36: =IF($G36<>0,VLOOKUP($G36,Fordeling,S$4+3,FALSE)*$F36,0) -> 583.33333
B37: 4160 | C37: Deltakeravgift arrangementer | D37: 6 | E37: 602 | G37: 1 | H37: =IF($G37<>0,VLOOKUP($G37,Fordeling,H$4+3,FALSE)*$F37,0) -> 0 | I37: =IF($G37<>0,VLOOKUP($G37,Fordeling,I$4+3,FALSE)*$F37,0) -> 0 | J37: =IF($G37<>0,VLOOKUP($G37,Fordeling,J$4+3,FALSE)*$F37,0) -> 0 | K37: =IF($G37<>0,VLOOKUP($G37,Fordeling,K$4+3,FALSE)*$F37,0) -> 0 | L37: =IF($G37<>0,VLOOKUP($G37,Fordeling,L$4+3,FALSE)*$F37,0) -> 0 | M37: =IF($G37<>0,VLOOKUP($G37,Fordeling,M$4+3,FALSE)*$F37,0) -> 0 | N37: =IF($G37<>0,VLOOKUP($G37,Fordeling,N$4+3,FALSE)*$F37,0) -> 0 | O37: =IF($G37<>0,VLOOKUP($G37,Fordeling,O$4+3,FALSE)*$F37,0) -> 0 | ... S37: =IF($G37<>0,VLOOKUP($G37,Fordeling,S$4+3,FALSE)*$F37,0) -> 0
B38: 4170 | C38: Treningssamlinger/samarbeid | D38: 6 | E38: 602 | G38: 1 | H38: =IF($G38<>0,VLOOKUP($G38,Fordeling,H$4+3,FALSE)*$F38,0) -> 0 | I38: =IF($G38<>0,VLOOKUP($G38,Fordeling,I$4+3,FALSE)*$F38,0) -> 0 | J38: =IF($G38<>0,VLOOKUP($G38,Fordeling,J$4+3,FALSE)*$F38,0) -> 0 | K38: =IF($G38<>0,VLOOKUP($G38,Fordeling,K$4+3,FALSE)*$F38,0) -> 0 | L38: =IF($G38<>0,VLOOKUP($G38,Fordeling,L$4+3,FALSE)*$F38,0) -> 0 | M38: =IF($G38<>0,VLOOKUP($G38,Fordeling,M$4+3,FALSE)*$F38,0) -> 0 | N38: =IF($G38<>0,VLOOKUP($G38,Fordeling,N$4+3,FALSE)*$F38,0) -> 0 | O38: =IF($G38<>0,VLOOKUP($G38,Fordeling,O$4+3,FALSE)*$F38,0) -> 0 | ... S38: =IF($G38<>0,VLOOKUP($G38,Fordeling,S$4+3,FALSE)*$F38,0) -> 0
B39: 4175 | C39: Miljøsamlinger | D39: 6 | E39: 602 | G39: 1 | H39: =IF($G39<>0,VLOOKUP($G39,Fordeling,H$4+3,FALSE)*$F39,0) -> 0 | I39: =IF($G39<>0,VLOOKUP($G39,Fordeling,I$4+3,FALSE)*$F39,0) -> 0 | J39: =IF($G39<>0,VLOOKUP($G39,Fordeling,J$4+3,FALSE)*$F39,0) -> 0 | K39: =IF($G39<>0,VLOOKUP($G39,Fordeling,K$4+3,FALSE)*$F39,0) -> 0 | L39: =IF($G39<>0,VLOOKUP($G39,Fordeling,L$4+3,FALSE)*$F39,0) -> 0 | M39: =IF($G39<>0,VLOOKUP($G39,Fordeling,M$4+3,FALSE)*$F39,0) -> 0 | N39: =IF($G39<>0,VLOOKUP($G39,Fordeling,N$4+3,FALSE)*$F39,0) -> 0 | O39: =IF($G39<>0,VLOOKUP($G39,Fordeling,O$4+3,FALSE)*$F39,0) -> 0 | ... S39: =IF($G39<>0,VLOOKUP($G39,Fordeling,S$4+3,FALSE)*$F39,0) -> 0
B40: 4300 | C40: Innkjøp varer for videresalg | D40: 6 | E40: 602 | F40: 5000 | G40: 1 | H40: =IF($G40<>0,VLOOKUP($G40,Fordeling,H$4+3,FALSE)*$F40,0) -> 416.66667 | I40: =IF($G40<>0,VLOOKUP($G40,Fordeling,I$4+3,FALSE)*$F40,0) -> 416.66667 | J40: =IF($G40<>0,VLOOKUP($G40,Fordeling,J$4+3,FALSE)*$F40,0) -> 416.66667 | K40: =IF($G40<>0,VLOOKUP($G40,Fordeling,K$4+3,FALSE)*$F40,0) -> 416.66667 | L40: =IF($G40<>0,VLOOKUP($G40,Fordeling,L$4+3,FALSE)*$F40,0) -> 416.66667 | M40: =IF($G40<>0,VLOOKUP($G40,Fordeling,M$4+3,FALSE)*$F40,0) -> 416.66667 | N40: =IF($G40<>0,VLOOKUP($G40,Fordeling,N$4+3,FALSE)*$F40,0) -> 416.66667 | O40: =IF($G40<>0,VLOOKUP($G40,Fordeling,O$4+3,FALSE)*$F40,0) -> 416.66667 | ... S40: =IF($G40<>0,VLOOKUP($G40,Fordeling,S$4+3,FALSE)*$F40,0) -> 416.66667
B41: 5001 | C41: Lønn til ansatte | D41: 6 | E41: 602 | G41: 1 | H41: =IF($G41<>0,VLOOKUP($G41,Fordeling,H$4+3,FALSE)*$F41,0) -> 0 | I41: =IF($G41<>0,VLOOKUP($G41,Fordeling,I$4+3,FALSE)*$F41,0) -> 0 | J41: =IF($G41<>0,VLOOKUP($G41,Fordeling,J$4+3,FALSE)*$F41,0) -> 0 | K41: =IF($G41<>0,VLOOKUP($G41,Fordeling,K$4+3,FALSE)*$F41,0) -> 0 | L41: =IF($G41<>0,VLOOKUP($G41,Fordeling,L$4+3,FALSE)*$F41,0) -> 0 | M41: =IF($G41<>0,VLOOKUP($G41,Fordeling,M$4+3,FALSE)*$F41,0) -> 0 | N41: =IF($G41<>0,VLOOKUP($G41,Fordeling,N$4+3,FALSE)*$F41,0) -> 0 | O41: =IF($G41<>0,VLOOKUP($G41,Fordeling,O$4+3,FALSE)*$F41,0) -> 0 | ... S41: =IF($G41<>0,VLOOKUP($G41,Fordeling,S$4+3,FALSE)*$F41,0) -> 0
B42: 5009 | C42: Honorar, inkl.feriepenger | D42: 6 | E42: 602 | G42: 1 | H42: =IF($G42<>0,VLOOKUP($G42,Fordeling,H$4+3,FALSE)*$F42,0) -> 0 | I42: =IF($G42<>0,VLOOKUP($G42,Fordeling,I$4+3,FALSE)*$F42,0) -> 0 | J42: =IF($G42<>0,VLOOKUP($G42,Fordeling,J$4+3,FALSE)*$F42,0) -> 0 | K42: =IF($G42<>0,VLOOKUP($G42,Fordeling,K$4+3,FALSE)*$F42,0) -> 0 | L42: =IF($G42<>0,VLOOKUP($G42,Fordeling,L$4+3,FALSE)*$F42,0) -> 0 | M42: =IF($G42<>0,VLOOKUP($G42,Fordeling,M$4+3,FALSE)*$F42,0) -> 0 | N42: =IF($G42<>0,VLOOKUP($G42,Fordeling,N$4+3,FALSE)*$F42,0) -> 0 | O42: =IF($G42<>0,VLOOKUP($G42,Fordeling,O$4+3,FALSE)*$F42,0) -> 0 | ... S42: =IF($G42<>0,VLOOKUP($G42,Fordeling,S$4+3,FALSE)*$F42,0) -> 0
B43: 5092 | C43: Avsatte feriepenger | D43: 6 | E43: 602 | G43: 1 | H43: =IF($G43<>0,VLOOKUP($G43,Fordeling,H$4+3,FALSE)*$F43,0) -> 0 | I43: =IF($G43<>0,VLOOKUP($G43,Fordeling,I$4+3,FALSE)*$F43,0) -> 0 | J43: =IF($G43<>0,VLOOKUP($G43,Fordeling,J$4+3,FALSE)*$F43,0) -> 0 | K43: =IF($G43<>0,VLOOKUP($G43,Fordeling,K$4+3,FALSE)*$F43,0) -> 0 | L43: =IF($G43<>0,VLOOKUP($G43,Fordeling,L$4+3,FALSE)*$F43,0) -> 0 | M43: =IF($G43<>0,VLOOKUP($G43,Fordeling,M$4+3,FALSE)*$F43,0) -> 0 | N43: =IF($G43<>0,VLOOKUP($G43,Fordeling,N$4+3,FALSE)*$F43,0) -> 0 | O43: =IF($G43<>0,VLOOKUP($G43,Fordeling,O$4+3,FALSE)*$F43,0) -> 0 | ... S43: =IF($G43<>0,VLOOKUP($G43,Fordeling,S$4+3,FALSE)*$F43,0) -> 0
B44: 5210 | C44: Fri telefon | D44: 6 | E44: 602 | G44: 1 | H44: =IF($G44<>0,VLOOKUP($G44,Fordeling,H$4+3,FALSE)*$F44,0) -> 0 | I44: =IF($G44<>0,VLOOKUP($G44,Fordeling,I$4+3,FALSE)*$F44,0) -> 0 | J44: =IF($G44<>0,VLOOKUP($G44,Fordeling,J$4+3,FALSE)*$F44,0) -> 0 | K44: =IF($G44<>0,VLOOKUP($G44,Fordeling,K$4+3,FALSE)*$F44,0) -> 0 | L44: =IF($G44<>0,VLOOKUP($G44,Fordeling,L$4+3,FALSE)*$F44,0) -> 0 | M44: =IF($G44<>0,VLOOKUP($G44,Fordeling,M$4+3,FALSE)*$F44,0) -> 0 | N44: =IF($G44<>0,VLOOKUP($G44,Fordeling,N$4+3,FALSE)*$F44,0) -> 0 | O44: =IF($G44<>0,VLOOKUP($G44,Fordeling,O$4+3,FALSE)*$F44,0) -> 0 | ... S44: =IF($G44<>0,VLOOKUP($G44,Fordeling,S$4+3,FALSE)*$F44,0) -> 0
B45: 5280 | C45: Annen fordel i arbeidsforhold | D45: 6 | E45: 602 | G45: 1 | H45: =IF($G45<>0,VLOOKUP($G45,Fordeling,H$4+3,FALSE)*$F45,0) -> 0 | I45: =IF($G45<>0,VLOOKUP($G45,Fordeling,I$4+3,FALSE)*$F45,0) -> 0 | J45: =IF($G45<>0,VLOOKUP($G45,Fordeling,J$4+3,FALSE)*$F45,0) -> 0 | K45: =IF($G45<>0,VLOOKUP($G45,Fordeling,K$4+3,FALSE)*$F45,0) -> 0 | L45: =IF($G45<>0,VLOOKUP($G45,Fordeling,L$4+3,FALSE)*$F45,0) -> 0 | M45: =IF($G45<>0,VLOOKUP($G45,Fordeling,M$4+3,FALSE)*$F45,0) -> 0 | N45: =IF($G45<>0,VLOOKUP($G45,Fordeling,N$4+3,FALSE)*$F45,0) -> 0 | O45: =IF($G45<>0,VLOOKUP($G45,Fordeling,O$4+3,FALSE)*$F45,0) -> 0 | ... S45: =IF($G45<>0,VLOOKUP($G45,Fordeling,S$4+3,FALSE)*$F45,0) -> 0
B46: 5290 | C46: Motkonto fordeler | D46: 6 | E46: 602 | G46: 1 | H46: =IF($G46<>0,VLOOKUP($G46,Fordeling,H$4+3,FALSE)*$F46,0) -> 0 | I46: =IF($G46<>0,VLOOKUP($G46,Fordeling,I$4+3,FALSE)*$F46,0) -> 0 | J46: =IF($G46<>0,VLOOKUP($G46,Fordeling,J$4+3,FALSE)*$F46,0) -> 0 | K46: =IF($G46<>0,VLOOKUP($G46,Fordeling,K$4+3,FALSE)*$F46,0) -> 0 | L46: =IF($G46<>0,VLOOKUP($G46,Fordeling,L$4+3,FALSE)*$F46,0) -> 0 | M46: =IF($G46<>0,VLOOKUP($G46,Fordeling,M$4+3,FALSE)*$F46,0) -> 0 | N46: =IF($G46<>0,VLOOKUP($G46,Fordeling,N$4+3,FALSE)*$F46,0) -> 0 | O46: =IF($G46<>0,VLOOKUP($G46,Fordeling,O$4+3,FALSE)*$F46,0) -> 0 | ... S46: =IF($G46<>0,VLOOKUP($G46,Fordeling,S$4+3,FALSE)*$F46,0) -> 0
B47: 5331 | C47: Styrehonorar | D47: 6 | E47: 602 | G47: 1 | H47: =IF($G47<>0,VLOOKUP($G47,Fordeling,H$4+3,FALSE)*$F47,0) -> 0 | I47: =IF($G47<>0,VLOOKUP($G47,Fordeling,I$4+3,FALSE)*$F47,0) -> 0 | J47: =IF($G47<>0,VLOOKUP($G47,Fordeling,J$4+3,FALSE)*$F47,0) -> 0 | K47: =IF($G47<>0,VLOOKUP($G47,Fordeling,K$4+3,FALSE)*$F47,0) -> 0 | L47: =IF($G47<>0,VLOOKUP($G47,Fordeling,L$4+3,FALSE)*$F47,0) -> 0 | M47: =IF($G47<>0,VLOOKUP($G47,Fordeling,M$4+3,FALSE)*$F47,0) -> 0 | N47: =IF($G47<>0,VLOOKUP($G47,Fordeling,N$4+3,FALSE)*$F47,0) -> 0 | O47: =IF($G47<>0,VLOOKUP($G47,Fordeling,O$4+3,FALSE)*$F47,0) -> 0 | ... S47: =IF($G47<>0,VLOOKUP($G47,Fordeling,S$4+3,FALSE)*$F47,0) -> 0
B48: 5390 | C48: Annen oppg.pl. godtgjørelse | D48: 6 | E48: 602 | G48: 1 | H48: =IF($G48<>0,VLOOKUP($G48,Fordeling,H$4+3,FALSE)*$F48,0) -> 0 | I48: =IF($G48<>0,VLOOKUP($G48,Fordeling,I$4+3,FALSE)*$F48,0) -> 0 | J48: =IF($G48<>0,VLOOKUP($G48,Fordeling,J$4+3,FALSE)*$F48,0) -> 0 | K48: =IF($G48<>0,VLOOKUP($G48,Fordeling,K$4+3,FALSE)*$F48,0) -> 0 | L48: =IF($G48<>0,VLOOKUP($G48,Fordeling,L$4+3,FALSE)*$F48,0) -> 0 | M48: =IF($G48<>0,VLOOKUP($G48,Fordeling,M$4+3,FALSE)*$F48,0) -> 0 | N48: =IF($G48<>0,VLOOKUP($G48,Fordeling,N$4+3,FALSE)*$F48,0) -> 0 | O48: =IF($G48<>0,VLOOKUP($G48,Fordeling,O$4+3,FALSE)*$F48,0) -> 0 | ... S48: =IF($G48<>0,VLOOKUP($G48,Fordeling,S$4+3,FALSE)*$F48,0) -> 0
B49: 5401 | C49: Arbeidsgiveravgift | D49: 6 | E49: 602 | G49: 1 | H49: =IF($G49<>0,VLOOKUP($G49,Fordeling,H$4+3,FALSE)*$F49,0) -> 0 | I49: =IF($G49<>0,VLOOKUP($G49,Fordeling,I$4+3,FALSE)*$F49,0) -> 0 | J49: =IF($G49<>0,VLOOKUP($G49,Fordeling,J$4+3,FALSE)*$F49,0) -> 0 | K49: =IF($G49<>0,VLOOKUP($G49,Fordeling,K$4+3,FALSE)*$F49,0) -> 0 | L49: =IF($G49<>0,VLOOKUP($G49,Fordeling,L$4+3,FALSE)*$F49,0) -> 0 | M49: =IF($G49<>0,VLOOKUP($G49,Fordeling,M$4+3,FALSE)*$F49,0) -> 0 | N49: =IF($G49<>0,VLOOKUP($G49,Fordeling,N$4+3,FALSE)*$F49,0) -> 0 | O49: =IF($G49<>0,VLOOKUP($G49,Fordeling,O$4+3,FALSE)*$F49,0) -> 0 | ... S49: =IF($G49<>0,VLOOKUP($G49,Fordeling,S$4+3,FALSE)*$F49,0) -> 0
B50: 5405 | C50: Avsatt arb.g.avg. av feriepenger | D50: 6 | E50: 602 | G50: 1 | H50: =IF($G50<>0,VLOOKUP($G50,Fordeling,H$4+3,FALSE)*$F50,0) -> 0 | I50: =IF($G50<>0,VLOOKUP($G50,Fordeling,I$4+3,FALSE)*$F50,0) -> 0 | J50: =IF($G50<>0,VLOOKUP($G50,Fordeling,J$4+3,FALSE)*$F50,0) -> 0 | K50: =IF($G50<>0,VLOOKUP($G50,Fordeling,K$4+3,FALSE)*$F50,0) -> 0 | L50: =IF($G50<>0,VLOOKUP($G50,Fordeling,L$4+3,FALSE)*$F50,0) -> 0 | M50: =IF($G50<>0,VLOOKUP($G50,Fordeling,M$4+3,FALSE)*$F50,0) -> 0 | N50: =IF($G50<>0,VLOOKUP($G50,Fordeling,N$4+3,FALSE)*$F50,0) -> 0 | O50: =IF($G50<>0,VLOOKUP($G50,Fordeling,O$4+3,FALSE)*$F50,0) -> 0 | ... S50: =IF($G50<>0,VLOOKUP($G50,Fordeling,S$4+3,FALSE)*$F50,0) -> 0
B51: 5600 | C51: Dommerhonorar | D51: 6 | E51: 602 | G51: 1 | H51: =IF($G51<>0,VLOOKUP($G51,Fordeling,H$4+3,FALSE)*$F51,0) -> 0 | I51: =IF($G51<>0,VLOOKUP($G51,Fordeling,I$4+3,FALSE)*$F51,0) -> 0 | J51: =IF($G51<>0,VLOOKUP($G51,Fordeling,J$4+3,FALSE)*$F51,0) -> 0 | K51: =IF($G51<>0,VLOOKUP($G51,Fordeling,K$4+3,FALSE)*$F51,0) -> 0 | L51: =IF($G51<>0,VLOOKUP($G51,Fordeling,L$4+3,FALSE)*$F51,0) -> 0 | M51: =IF($G51<>0,VLOOKUP($G51,Fordeling,M$4+3,FALSE)*$F51,0) -> 0 | N51: =IF($G51<>0,VLOOKUP($G51,Fordeling,N$4+3,FALSE)*$F51,0) -> 0 | O51: =IF($G51<>0,VLOOKUP($G51,Fordeling,O$4+3,FALSE)*$F51,0) -> 0 | ... S51: =IF($G51<>0,VLOOKUP($G51,Fordeling,S$4+3,FALSE)*$F51,0) -> 0
B52: 5900 | C52: Gaver, sosiale kostnader ansatte | D52: 6 | E52: 602 | G52: 1 | H52: =IF($G52<>0,VLOOKUP($G52,Fordeling,H$4+3,FALSE)*$F52,0) -> 0 | I52: =IF($G52<>0,VLOOKUP($G52,Fordeling,I$4+3,FALSE)*$F52,0) -> 0 | J52: =IF($G52<>0,VLOOKUP($G52,Fordeling,J$4+3,FALSE)*$F52,0) -> 0 | K52: =IF($G52<>0,VLOOKUP($G52,Fordeling,K$4+3,FALSE)*$F52,0) -> 0 | L52: =IF($G52<>0,VLOOKUP($G52,Fordeling,L$4+3,FALSE)*$F52,0) -> 0 | M52: =IF($G52<>0,VLOOKUP($G52,Fordeling,M$4+3,FALSE)*$F52,0) -> 0 | N52: =IF($G52<>0,VLOOKUP($G52,Fordeling,N$4+3,FALSE)*$F52,0) -> 0 | O52: =IF($G52<>0,VLOOKUP($G52,Fordeling,O$4+3,FALSE)*$F52,0) -> 0 | ... S52: =IF($G52<>0,VLOOKUP($G52,Fordeling,S$4+3,FALSE)*$F52,0) -> 0
... B75: 6800 | C75: Kontorrekvisita | D75: 6 | E75: 602 | G75: 1 | H75: =IF($G75<>0,VLOOKUP($G75,Fordeling,H$4+3,FALSE)*$F75,0) -> 0 | I75: =IF($G75<>0,VLOOKUP($G75,Fordeling,I$4+3,FALSE)*$F75,0) -> 0 | J75: =IF($G75<>0,VLOOKUP($G75,Fordeling,J$4+3,FALSE)*$F75,0) -> 0 | K75: =IF($G75<>0,VLOOKUP($G75,Fordeling,K$4+3,FALSE)*$F75,0) -> 0 | L75: =IF($G75<>0,VLOOKUP($G75,Fordeling,L$4+3,FALSE)*$F75,0) -> 0 | M75: =IF($G75<>0,VLOOKUP($G75,Fordeling,M$4+3,FALSE)*$F75,0) -> 0 | N75: =IF($G75<>0,VLOOKUP($G75,Fordeling,N$4+3,FALSE)*$F75,0) -> 0 | O75: =IF($G75<>0,VLOOKUP($G75,Fordeling,O$4+3,FALSE)*$F75,0) -> 0 | ... S75: =IF($G75<>0,VLOOKUP($G75,Fordeling,S$4+3,FALSE)*$F75,0) -> 0
B76: 6820 | C76: Kopiering,trykksaker | D76: 6 | E76: 602 | F76: 500 | G76: 1 | H76: =IF($G76<>0,VLOOKUP($G76,Fordeling,H$4+3,FALSE)*$F76,0) -> 41.666667 | I76: =IF($G76<>0,VLOOKUP($G76,Fordeling,I$4+3,FALSE)*$F76,0) -> 41.666667 | J76: =IF($G76<>0,VLOOKUP($G76,Fordeling,J$4+3,FALSE)*$F76,0) -> 41.666667 | K76: =IF($G76<>0,VLOOKUP($G76,Fordeling,K$4+3,FALSE)*$F76,0) -> 41.666667 | L76: =IF($G76<>0,VLOOKUP($G76,Fordeling,L$4+3,FALSE)*$F76,0) -> 41.666667 | M76: =IF($G76<>0,VLOOKUP($G76,Fordeling,M$4+3,FALSE)*$F76,0) -> 41.666667 | N76: =IF($G76<>0,VLOOKUP($G76,Fordeling,N$4+3,FALSE)*$F76,0) -> 41.666667 | O76: =IF($G76<>0,VLOOKUP($G76,Fordeling,O$4+3,FALSE)*$F76,0) -> 41.666667 | ... S76: =IF($G76<>0,VLOOKUP($G76,Fordeling,S$4+3,FALSE)*$F76,0) -> 41.666667
B77: 6830 | C77: Annonseutgifter | D77: 6 | E77: 602 | F77: 2000 | G77: 1 | H77: =IF($G77<>0,VLOOKUP($G77,Fordeling,H$4+3,FALSE)*$F77,0) -> 166.66667 | I77: =IF($G77<>0,VLOOKUP($G77,Fordeling,I$4+3,FALSE)*$F77,0) -> 166.66667 | J77: =IF($G77<>0,VLOOKUP($G77,Fordeling,J$4+3,FALSE)*$F77,0) -> 166.66667 | K77: =IF($G77<>0,VLOOKUP($G77,Fordeling,K$4+3,FALSE)*$F77,0) -> 166.66667 | L77: =IF($G77<>0,VLOOKUP($G77,Fordeling,L$4+3,FALSE)*$F77,0) -> 166.66667 | M77: =IF($G77<>0,VLOOKUP($G77,Fordeling,M$4+3,FALSE)*$F77,0) -> 166.66667 | N77: =IF($G77<>0,VLOOKUP($G77,Fordeling,N$4+3,FALSE)*$F77,0) -> 166.66667 | O77: =IF($G77<>0,VLOOKUP($G77,Fordeling,O$4+3,FALSE)*$F77,0) -> 166.66667 | ... S77: =IF($G77<>0,VLOOKUP($G77,Fordeling,S$4+3,FALSE)*$F77,0) -> 166.66667
B78: 6850 | C78: Møtekostnader/bevertning | D78: 6 | E78: 602 | G78: 1 | H78: =IF($G78<>0,VLOOKUP($G78,Fordeling,H$4+3,FALSE)*$F78,0) -> 0 | I78: =IF($G78<>0,VLOOKUP($G78,Fordeling,I$4+3,FALSE)*$F78,0) -> 0 | J78: =IF($G78<>0,VLOOKUP($G78,Fordeling,J$4+3,FALSE)*$F78,0) -> 0 | K78: =IF($G78<>0,VLOOKUP($G78,Fordeling,K$4+3,FALSE)*$F78,0) -> 0 | L78: =IF($G78<>0,VLOOKUP($G78,Fordeling,L$4+3,FALSE)*$F78,0) -> 0 | M78: =IF($G78<>0,VLOOKUP($G78,Fordeling,M$4+3,FALSE)*$F78,0) -> 0 | N78: =IF($G78<>0,VLOOKUP($G78,Fordeling,N$4+3,FALSE)*$F78,0) -> 0 | O78: =IF($G78<>0,VLOOKUP($G78,Fordeling,O$4+3,FALSE)*$F78,0) -> 0 | ... S78: =IF($G78<>0,VLOOKUP($G78,Fordeling,S$4+3,FALSE)*$F78,0) -> 0
B79: 6860 | C79: Trenerkurs/kurs/oppdatering | D79: 6 | E79: 602 | G79: 1 | H79: =IF($G79<>0,VLOOKUP($G79,Fordeling,H$4+3,FALSE)*$F79,0) -> 0 | I79: =IF($G79<>0,VLOOKUP($G79,Fordeling,I$4+3,FALSE)*$F79,0) -> 0 | J79: =IF($G79<>0,VLOOKUP($G79,Fordeling,J$4+3,FALSE)*$F79,0) -> 0 | K79: =IF($G79<>0,VLOOKUP($G79,Fordeling,K$4+3,FALSE)*$F79,0) -> 0 | L79: =IF($G79<>0,VLOOKUP($G79,Fordeling,L$4+3,FALSE)*$F79,0) -> 0 | M79: =IF($G79<>0,VLOOKUP($G79,Fordeling,M$4+3,FALSE)*$F79,0) -> 0 | N79: =IF($G79<>0,VLOOKUP($G79,Fordeling,N$4+3,FALSE)*$F79,0) -> 0 | O79: =IF($G79<>0,VLOOKUP($G79,Fordeling,O$4+3,FALSE)*$F79,0) -> 0 | ... S79: =IF($G79<>0,VLOOKUP($G79,Fordeling,S$4+3,FALSE)*$F79,0) -> 0
B80: 6900 | C80: Telefon klubbhuset | D80: 6 | E80: 602 | G80: 1 | H80: =IF($G80<>0,VLOOKUP($G80,Fordeling,H$4+3,FALSE)*$F80,0) -> 0 | I80: =IF($G80<>0,VLOOKUP($G80,Fordeling,I$4+3,FALSE)*$F80,0) -> 0 | J80: =IF($G80<>0,VLOOKUP($G80,Fordeling,J$4+3,FALSE)*$F80,0) -> 0 | K80: =IF($G80<>0,VLOOKUP($G80,Fordeling,K$4+3,FALSE)*$F80,0) -> 0 | L80: =IF($G80<>0,VLOOKUP($G80,Fordeling,L$4+3,FALSE)*$F80,0) -> 0 | M80: =IF($G80<>0,VLOOKUP($G80,Fordeling,M$4+3,FALSE)*$F80,0) -> 0 | N80: =IF($G80<>0,VLOOKUP($G80,Fordeling,N$4+3,FALSE)*$F80,0) -> 0 | O80: =IF($G80<>0,VLOOKUP($G80,Fordeling,O$4+3,FALSE)*$F80,0) -> 0 | ... S80: =IF($G80<>0,VLOOKUP($G80,Fordeling,S$4+3,FALSE)*$F80,0) -> 0
B81: 6902 | C81: Telefon ansatte - statens satser | D81: 6 | E81: 602 | G81: 1 | H81: =IF($G81<>0,VLOOKUP($G81,Fordeling,H$4+3,FALSE)*$F81,0) -> 0 | I81: =IF($G81<>0,VLOOKUP($G81,Fordeling,I$4+3,FALSE)*$F81,0) -> 0 | J81: =IF($G81<>0,VLOOKUP($G81,Fordeling,J$4+3,FALSE)*$F81,0) -> 0 | K81: =IF($G81<>0,VLOOKUP($G81,Fordeling,K$4+3,FALSE)*$F81,0) -> 0 | L81: =IF($G81<>0,VLOOKUP($G81,Fordeling,L$4+3,FALSE)*$F81,0) -> 0 | M81: =IF($G81<>0,VLOOKUP($G81,Fordeling,M$4+3,FALSE)*$F81,0) -> 0 | N81: =IF($G81<>0,VLOOKUP($G81,Fordeling,N$4+3,FALSE)*$F81,0) -> 0 | O81: =IF($G81<>0,VLOOKUP($G81,Fordeling,O$4+3,FALSE)*$F81,0) -> 0 | ... S81: =IF($G81<>0,VLOOKUP($G81,Fordeling,S$4+3,FALSE)*$F81,0) -> 0
B82: 6907 | C82: Bredbånd, TV og sentralbord | D82: 6 | E82: 602 | G82: 1 | H82: =IF($G82<>0,VLOOKUP($G82,Fordeling,H$4+3,FALSE)*$F82,0) -> 0 | I82: =IF($G82<>0,VLOOKUP($G82,Fordeling,I$4+3,FALSE)*$F82,0) -> 0 | J82: =IF($G82<>0,VLOOKUP($G82,Fordeling,J$4+3,FALSE)*$F82,0) -> 0 | K82: =IF($G82<>0,VLOOKUP($G82,Fordeling,K$4+3,FALSE)*$F82,0) -> 0 | L82: =IF($G82<>0,VLOOKUP($G82,Fordeling,L$4+3,FALSE)*$F82,0) -> 0 | M82: =IF($G82<>0,VLOOKUP($G82,Fordeling,M$4+3,FALSE)*$F82,0) -> 0 | N82: =IF($G82<>0,VLOOKUP($G82,Fordeling,N$4+3,FALSE)*$F82,0) -> 0 | O82: =IF($G82<>0,VLOOKUP($G82,Fordeling,O$4+3,FALSE)*$F82,0) -> 0 | ... S82: =IF($G82<>0,VLOOKUP($G82,Fordeling,S$4+3,FALSE)*$F82,0) -> 0
B83: 6940 | C83: Porto | D83: 6 | E83: 602 | G83: 1 | H83: =IF($G83<>0,VLOOKUP($G83,Fordeling,H$4+3,FALSE)*$F83,0) -> 0 | I83: =IF($G83<>0,VLOOKUP($G83,Fordeling,I$4+3,FALSE)*$F83,0) -> 0 | J83: =IF($G83<>0,VLOOKUP($G83,Fordeling,J$4+3,FALSE)*$F83,0) -> 0 | K83: =IF($G83<>0,VLOOKUP($G83,Fordeling,K$4+3,FALSE)*$F83,0) -> 0 | L83: =IF($G83<>0,VLOOKUP($G83,Fordeling,L$4+3,FALSE)*$F83,0) -> 0 | M83: =IF($G83<>0,VLOOKUP($G83,Fordeling,M$4+3,FALSE)*$F83,0) -> 0 | N83: =IF($G83<>0,VLOOKUP($G83,Fordeling,N$4+3,FALSE)*$F83,0) -> 0 | O83: =IF($G83<>0,VLOOKUP($G83,Fordeling,O$4+3,FALSE)*$F83,0) -> 0 | ... S83: =IF($G83<>0,VLOOKUP($G83,Fordeling,S$4+3,FALSE)*$F83,0) -> 0
B84: 7000 | C84: Drifstoff snøskuter | D84: 6 | E84: 602 | G84: 1 | H84: =IF($G84<>0,VLOOKUP($G84,Fordeling,H$4+3,FALSE)*$F84,0) -> 0 | I84: =IF($G84<>0,VLOOKUP($G84,Fordeling,I$4+3,FALSE)*$F84,0) -> 0 | J84: =IF($G84<>0,VLOOKUP($G84,Fordeling,J$4+3,FALSE)*$F84,0) -> 0 | K84: =IF($G84<>0,VLOOKUP($G84,Fordeling,K$4+3,FALSE)*$F84,0) -> 0 | L84: =IF($G84<>0,VLOOKUP($G84,Fordeling,L$4+3,FALSE)*$F84,0) -> 0 | M84: =IF($G84<>0,VLOOKUP($G84,Fordeling,M$4+3,FALSE)*$F84,0) -> 0 | N84: =IF($G84<>0,VLOOKUP($G84,Fordeling,N$4+3,FALSE)*$F84,0) -> 0 | O84: =IF($G84<>0,VLOOKUP($G84,Fordeling,O$4+3,FALSE)*$F84,0) -> 0 | ... S84: =IF($G84<>0,VLOOKUP($G84,Fordeling,S$4+3,FALSE)*$F84,0) -> 0
B85: 7040 | C85: Forsikring og avgifter kjøretøy | D85: 6 | E85: 602 | G85: 1 | H85: =IF($G85<>0,VLOOKUP($G85,Fordeling,H$4+3,FALSE)*$F85,0) -> 0 | I85: =IF($G85<>0,VLOOKUP($G85,Fordeling,I$4+3,FALSE)*$F85,0) -> 0 | J85: =IF($G85<>0,VLOOKUP($G85,Fordeling,J$4+3,FALSE)*$F85,0) -> 0 | K85: =IF($G85<>0,VLOOKUP($G85,Fordeling,K$4+3,FALSE)*$F85,0) -> 0 | L85: =IF($G85<>0,VLOOKUP($G85,Fordeling,L$4+3,FALSE)*$F85,0) -> 0 | M85: =IF($G85<>0,VLOOKUP($G85,Fordeling,M$4+3,FALSE)*$F85,0) -> 0 | N85: =IF($G85<>0,VLOOKUP($G85,Fordeling,N$4+3,FALSE)*$F85,0) -> 0 | O85: =IF($G85<>0,VLOOKUP($G85,Fordeling,O$4+3,FALSE)*$F85,0) -> 0 | ... S85: =IF($G85<>0,VLOOKUP($G85,Fordeling,S$4+3,FALSE)*$F85,0) -> 0
B86: 7100 | C86: Bilgodtgjørelse, oppgavepliktig | D86: 6 | E86: 602 | G86: 1 | H86: =IF($G86<>0,VLOOKUP($G86,Fordeling,H$4+3,FALSE)*$F86,0) -> 0 | I86: =IF($G86<>0,VLOOKUP($G86,Fordeling,I$4+3,FALSE)*$F86,0) -> 0 | J86: =IF($G86<>0,VLOOKUP($G86,Fordeling,J$4+3,FALSE)*$F86,0) -> 0 | K86: =IF($G86<>0,VLOOKUP($G86,Fordeling,K$4+3,FALSE)*$F86,0) -> 0 | L86: =IF($G86<>0,VLOOKUP($G86,Fordeling,L$4+3,FALSE)*$F86,0) -> 0 | M86: =IF($G86<>0,VLOOKUP($G86,Fordeling,M$4+3,FALSE)*$F86,0) -> 0 | N86: =IF($G86<>0,VLOOKUP($G86,Fordeling,N$4+3,FALSE)*$F86,0) -> 0 | O86: =IF($G86<>0,VLOOKUP($G86,Fordeling,O$4+3,FALSE)*$F86,0) -> 0 | ... S86: =IF($G86<>0,VLOOKUP($G86,Fordeling,S$4+3,FALSE)*$F86,0) -> 0
B87: 7140 | C87: Reisekostnad, ikke oppg.pliktig | D87: 6 | E87: 602 | G87: 1 | H87: =IF($G87<>0,VLOOKUP($G87,Fordeling,H$4+3,FALSE)*$F87,0) -> 0 | I87: =IF($G87<>0,VLOOKUP($G87,Fordeling,I$4+3,FALSE)*$F87,0) -> 0 | J87: =IF($G87<>0,VLOOKUP($G87,Fordeling,J$4+3,FALSE)*$F87,0) -> 0 | K87: =IF($G87<>0,VLOOKUP($G87,Fordeling,K$4+3,FALSE)*$F87,0) -> 0 | L87: =IF($G87<>0,VLOOKUP($G87,Fordeling,L$4+3,FALSE)*$F87,0) -> 0 | M87: =IF($G87<>0,VLOOKUP($G87,Fordeling,M$4+3,FALSE)*$F87,0) -> 0 | N87: =IF($G87<>0,VLOOKUP($G87,Fordeling,N$4+3,FALSE)*$F87,0) -> 0 | O87: =IF($G87<>0,VLOOKUP($G87,Fordeling,O$4+3,FALSE)*$F87,0) -> 0 | ... S87: =IF($G87<>0,VLOOKUP($G87,Fordeling,S$4+3,FALSE)*$F87,0) -> 0
B88: 7150 | C88: Diettkostnad, oppgavepliktig | D88: 6 | E88: 602 | G88: 1 | H88: =IF($G88<>0,VLOOKUP($G88,Fordeling,H$4+3,FALSE)*$F88,0) -> 0 | I88: =IF($G88<>0,VLOOKUP($G88,Fordeling,I$4+3,FALSE)*$F88,0) -> 0 | J88: =IF($G88<>0,VLOOKUP($G88,Fordeling,J$4+3,FALSE)*$F88,0) -> 0 | K88: =IF($G88<>0,VLOOKUP($G88,Fordeling,K$4+3,FALSE)*$F88,0) -> 0 | L88: =IF($G88<>0,VLOOKUP($G88,Fordeling,L$4+3,FALSE)*$F88,0) -> 0 | M88: =IF($G88<>0,VLOOKUP($G88,Fordeling,M$4+3,FALSE)*$F88,0) -> 0 | N88: =IF($G88<>0,VLOOKUP($G88,Fordeling,N$4+3,FALSE)*$F88,0) -> 0 | O88: =IF($G88<>0,VLOOKUP($G88,Fordeling,O$4+3,FALSE)*$F88,0) -> 0 | ... S88: =IF($G88<>0,VLOOKUP($G88,Fordeling,S$4+3,FALSE)*$F88,0) -> 0
B89: 7192 | C89: Skattefrie kjøregodtgjørelser mm | D89: 6 | E89: 602 | G89: 1 | H89: =IF($G89<>0,VLOOKUP($G89,Fordeling,H$4+3,FALSE)*$F89,0) -> 0 | I89: =IF($G89<>0,VLOOKUP($G89,Fordeling,I$4+3,FALSE)*$F89,0) -> 0 | J89: =IF($G89<>0,VLOOKUP($G89,Fordeling,J$4+3,FALSE)*$F89,0) -> 0 | K89: =IF($G89<>0,VLOOKUP($G89,Fordeling,K$4+3,FALSE)*$F89,0) -> 0 | L89: =IF($G89<>0,VLOOKUP($G89,Fordeling,L$4+3,FALSE)*$F89,0) -> 0 | M89: =IF($G89<>0,VLOOKUP($G89,Fordeling,M$4+3,FALSE)*$F89,0) -> 0 | N89: =IF($G89<>0,VLOOKUP($G89,Fordeling,N$4+3,FALSE)*$F89,0) -> 0 | O89: =IF($G89<>0,VLOOKUP($G89,Fordeling,O$4+3,FALSE)*$F89,0) -> 0 | ... S89: =IF($G89<>0,VLOOKUP($G89,Fordeling,S$4+3,FALSE)*$F89,0) -> 0
... B94: 7420 | C94: Sosiale kostnader | D94: 6 | E94: 602 | G94: 1 | H94: =IF($G94<>0,VLOOKUP($G94,Fordeling,H$4+3,FALSE)*$F94,0) -> 0 | I94: =IF($G94<>0,VLOOKUP($G94,Fordeling,I$4+3,FALSE)*$F94,0) -> 0 | J94: =IF($G94<>0,VLOOKUP($G94,Fordeling,J$4+3,FALSE)*$F94,0) -> 0 | K94: =IF($G94<>0,VLOOKUP($G94,Fordeling,K$4+3,FALSE)*$F94,0) -> 0 | L94: =IF($G94<>0,VLOOKUP($G94,Fordeling,L$4+3,FALSE)*$F94,0) -> 0 | M94: =IF($G94<>0,VLOOKUP($G94,Fordeling,M$4+3,FALSE)*$F94,0) -> 0 | N94: =IF($G94<>0,VLOOKUP($G94,Fordeling,N$4+3,FALSE)*$F94,0) -> 0 | O94: =IF($G94<>0,VLOOKUP($G94,Fordeling,O$4+3,FALSE)*$F94,0) -> 0 | ... S94: =IF($G94<>0,VLOOKUP($G94,Fordeling,S$4+3,FALSE)*$F94,0) -> 0
B95: 7430 | C95: Gaver,premier | D95: 6 | E95: 602 | F95: 15000 | G95: 1 | H95: =IF($G95<>0,VLOOKUP($G95,Fordeling,H$4+3,FALSE)*$F95,0) -> 1250 | I95: =IF($G95<>0,VLOOKUP($G95,Fordeling,I$4+3,FALSE)*$F95,0) -> 1250 | J95: =IF($G95<>0,VLOOKUP($G95,Fordeling,J$4+3,FALSE)*$F95,0) -> 1250 | K95: =IF($G95<>0,VLOOKUP($G95,Fordeling,K$4+3,FALSE)*$F95,0) -> 1250 | L95: =IF($G95<>0,VLOOKUP($G95,Fordeling,L$4+3,FALSE)*$F95,0) -> 1250 | M95: =IF($G95<>0,VLOOKUP($G95,Fordeling,M$4+3,FALSE)*$F95,0) -> 1250 | N95: =IF($G95<>0,VLOOKUP($G95,Fordeling,N$4+3,FALSE)*$F95,0) -> 1250 | O95: =IF($G95<>0,VLOOKUP($G95,Fordeling,O$4+3,FALSE)*$F95,0) -> 1250 | ... S95: =IF($G95<>0,VLOOKUP($G95,Fordeling,S$4+3,FALSE)*$F95,0) -> 1250
B96: 7500 | C96: Forsikringspremie | D96: 6 | E96: 602 | G96: 1 | H96: =IF($G96<>0,VLOOKUP($G96,Fordeling,H$4+3,FALSE)*$F96,0) -> 0 | I96: =IF($G96<>0,VLOOKUP($G96,Fordeling,I$4+3,FALSE)*$F96,0) -> 0 | J96: =IF($G96<>0,VLOOKUP($G96,Fordeling,J$4+3,FALSE)*$F96,0) -> 0 | K96: =IF($G96<>0,VLOOKUP($G96,Fordeling,K$4+3,FALSE)*$F96,0) -> 0 | L96: =IF($G96<>0,VLOOKUP($G96,Fordeling,L$4+3,FALSE)*$F96,0) -> 0 | M96: =IF($G96<>0,VLOOKUP($G96,Fordeling,M$4+3,FALSE)*$F96,0) -> 0 | N96: =IF($G96<>0,VLOOKUP($G96,Fordeling,N$4+3,FALSE)*$F96,0) -> 0 | O96: =IF($G96<>0,VLOOKUP($G96,Fordeling,O$4+3,FALSE)*$F96,0) -> 0 | ... S96: =IF($G96<>0,VLOOKUP($G96,Fordeling,S$4+3,FALSE)*$F96,0) -> 0
B97: 7600 | C97: Lisenser/overganger | D97: 6 | E97: 602 | G97: 1 | H97: =IF($G97<>0,VLOOKUP($G97,Fordeling,H$4+3,FALSE)*$F97,0) -> 0 | I97: =IF($G97<>0,VLOOKUP($G97,Fordeling,I$4+3,FALSE)*$F97,0) -> 0 | J97: =IF($G97<>0,VLOOKUP($G97,Fordeling,J$4+3,FALSE)*$F97,0) -> 0 | K97: =IF($G97<>0,VLOOKUP($G97,Fordeling,K$4+3,FALSE)*$F97,0) -> 0 | L97: =IF($G97<>0,VLOOKUP($G97,Fordeling,L$4+3,FALSE)*$F97,0) -> 0 | M97: =IF($G97<>0,VLOOKUP($G97,Fordeling,M$4+3,FALSE)*$F97,0) -> 0 | N97: =IF($G97<>0,VLOOKUP($G97,Fordeling,N$4+3,FALSE)*$F97,0) -> 0 | O97: =IF($G97<>0,VLOOKUP($G97,Fordeling,O$4+3,FALSE)*$F97,0) -> 0 | ... S97: =IF($G97<>0,VLOOKUP($G97,Fordeling,S$4+3,FALSE)*$F97,0) -> 0
B98: 7770 | C98: Bank og kortgebyrer | D98: 6 | E98: 602 | G98: 1 | H98: =IF($G98<>0,VLOOKUP($G98,Fordeling,H$4+3,FALSE)*$F98,0) -> 0 | I98: =IF($G98<>0,VLOOKUP($G98,Fordeling,I$4+3,FALSE)*$F98,0) -> 0 | J98: =IF($G98<>0,VLOOKUP($G98,Fordeling,J$4+3,FALSE)*$F98,0) -> 0 | K98: =IF($G98<>0,VLOOKUP($G98,Fordeling,K$4+3,FALSE)*$F98,0) -> 0 | L98: =IF($G98<>0,VLOOKUP($G98,Fordeling,L$4+3,FALSE)*$F98,0) -> 0 | M98: =IF($G98<>0,VLOOKUP($G98,Fordeling,M$4+3,FALSE)*$F98,0) -> 0 | N98: =IF($G98<>0,VLOOKUP($G98,Fordeling,N$4+3,FALSE)*$F98,0) -> 0 | O98: =IF($G98<>0,VLOOKUP($G98,Fordeling,O$4+3,FALSE)*$F98,0) -> 0 | ... S98: =IF($G98<>0,VLOOKUP($G98,Fordeling,S$4+3,FALSE)*$F98,0) -> 0
B99: 7771 | C99: Øreavrunding | D99: 6 | E99: 602 | G99: 1 | H99: =IF($G99<>0,VLOOKUP($G99,Fordeling,H$4+3,FALSE)*$F99,0) -> 0 | I99: =IF($G99<>0,VLOOKUP($G99,Fordeling,I$4+3,FALSE)*$F99,0) -> 0 | J99: =IF($G99<>0,VLOOKUP($G99,Fordeling,J$4+3,FALSE)*$F99,0) -> 0 | K99: =IF($G99<>0,VLOOKUP($G99,Fordeling,K$4+3,FALSE)*$F99,0) -> 0 | L99: =IF($G99<>0,VLOOKUP($G99,Fordeling,L$4+3,FALSE)*$F99,0) -> 0 | M99: =IF($G99<>0,VLOOKUP($G99,Fordeling,M$4+3,FALSE)*$F99,0) -> 0 | N99: =IF($G99<>0,VLOOKUP($G99,Fordeling,N$4+3,FALSE)*$F99,0) -> 0 | O99: =IF($G99<>0,VLOOKUP($G99,Fordeling,O$4+3,FALSE)*$F99,0) -> 0 | ... S99: =IF($G99<>0,VLOOKUP($G99,Fordeling,S$4+3,FALSE)*$F99,0) -> 0
B100: 7798 | C100: Diverse kostnader | D100: 6 | E100: 602 | G100: 1 | H100: =IF($G100<>0,VLOOKUP($G100,Fordeling,H$4+3,FALSE)*$F100,0) -> 0 | I100: =IF($G100<>0,VLOOKUP($G100,Fordeling,I$4+3,FALSE)*$F100,0) -> 0 | J100: =IF($G100<>0,VLOOKUP($G100,Fordeling,J$4+3,FALSE)*$F100,0) -> 0 | K100: =IF($G100<>0,VLOOKUP($G100,Fordeling,K$4+3,FALSE)*$F100,0) -> 0 | L100: =IF($G100<>0,VLOOKUP($G100,Fordeling,L$4+3,FALSE)*$F100,0) -> 0 | M100: =IF($G100<>0,VLOOKUP($G100,Fordeling,M$4+3,FALSE)*$F100,0) -> 0 | N100: =IF($G100<>0,VLOOKUP($G100,Fordeling,N$4+3,FALSE)*$F100,0) -> 0 | O100: =IF($G100<>0,VLOOKUP($G100,Fordeling,O$4+3,FALSE)*$F100,0) -> 0 | ... S100: =IF($G100<>0,VLOOKUP($G100,Fordeling,S$4+3,FALSE)*$F100,0) -> 0
B101: 7830 | C101: Tap på fordringer | D101: 6 | E101: 602 | G101: 1 | H101: =IF($G101<>0,VLOOKUP($G101,Fordeling,H$4+3,FALSE)*$F101,0) -> 0 | I101: =IF($G101<>0,VLOOKUP($G101,Fordeling,I$4+3,FALSE)*$F101,0) -> 0 | J101: =IF($G101<>0,VLOOKUP($G101,Fordeling,J$4+3,FALSE)*$F101,0) -> 0 | K101: =IF($G101<>0,VLOOKUP($G101,Fordeling,K$4+3,FALSE)*$F101,0) -> 0 | L101: =IF($G101<>0,VLOOKUP($G101,Fordeling,L$4+3,FALSE)*$F101,0) -> 0 | M101: =IF($G101<>0,VLOOKUP($G101,Fordeling,M$4+3,FALSE)*$F101,0) -> 0 | N101: =IF($G101<>0,VLOOKUP($G101,Fordeling,N$4+3,FALSE)*$F101,0) -> 0 | O101: =IF($G101<>0,VLOOKUP($G101,Fordeling,O$4+3,FALSE)*$F101,0) -> 0 | ... S101: =IF($G101<>0,VLOOKUP($G101,Fordeling,S$4+3,FALSE)*$F101,0) -> 0
B102: 8040 | C102: Renteinntekter, bank | D102: 6 | E102: 602 | G102: 1 | H102: =IF($G102<>0,VLOOKUP($G102,Fordeling,H$4+3,FALSE)*$F102,0) -> 0 | I102: =IF($G102<>0,VLOOKUP($G102,Fordeling,I$4+3,FALSE)*$F102,0) -> 0 | J102: =IF($G102<>0,VLOOKUP($G102,Fordeling,J$4+3,FALSE)*$F102,0) -> 0 | K102: =IF($G102<>0,VLOOKUP($G102,Fordeling,K$4+3,FALSE)*$F102,0) -> 0 | L102: =IF($G102<>0,VLOOKUP($G102,Fordeling,L$4+3,FALSE)*$F102,0) -> 0 | M102: =IF($G102<>0,VLOOKUP($G102,Fordeling,M$4+3,FALSE)*$F102,0) -> 0 | N102: =IF($G102<>0,VLOOKUP($G102,Fordeling,N$4+3,FALSE)*$F102,0) -> 0 | O102: =IF($G102<>0,VLOOKUP($G102,Fordeling,O$4+3,FALSE)*$F102,0) -> 0 | ... S102: =IF($G102<>0,VLOOKUP($G102,Fordeling,S$4+3,FALSE)*$F102,0) -> 0
B103: 8055 | C103: Renteinntekter, kunder | D103: 6 | E103: 602 | G103: 1 | H103: =IF($G103<>0,VLOOKUP($G103,Fordeling,H$4+3,FALSE)*$F103,0) -> 0 | I103: =IF($G103<>0,VLOOKUP($G103,Fordeling,I$4+3,FALSE)*$F103,0) -> 0 | J103: =IF($G103<>0,VLOOKUP($G103,Fordeling,J$4+3,FALSE)*$F103,0) -> 0 | K103: =IF($G103<>0,VLOOKUP($G103,Fordeling,K$4+3,FALSE)*$F103,0) -> 0 | L103: =IF($G103<>0,VLOOKUP($G103,Fordeling,L$4+3,FALSE)*$F103,0) -> 0 | M103: =IF($G103<>0,VLOOKUP($G103,Fordeling,M$4+3,FALSE)*$F103,0) -> 0 | N103: =IF($G103<>0,VLOOKUP($G103,Fordeling,N$4+3,FALSE)*$F103,0) -> 0 | O103: =IF($G103<>0,VLOOKUP($G103,Fordeling,O$4+3,FALSE)*$F103,0) -> 0 | ... S103: =IF($G103<>0,VLOOKUP($G103,Fordeling,S$4+3,FALSE)*$F103,0) -> 0
B104: 8060 | C104: Agio | D104: 6 | E104: 602 | G104: 1 | H104: =IF($G104<>0,VLOOKUP($G104,Fordeling,H$4+3,FALSE)*$F104,0) -> 0 | I104: =IF($G104<>0,VLOOKUP($G104,Fordeling,I$4+3,FALSE)*$F104,0) -> 0 | J104: =IF($G104<>0,VLOOKUP($G104,Fordeling,J$4+3,FALSE)*$F104,0) -> 0 | K104: =IF($G104<>0,VLOOKUP($G104,Fordeling,K$4+3,FALSE)*$F104,0) -> 0 | L104: =IF($G104<>0,VLOOKUP($G104,Fordeling,L$4+3,FALSE)*$F104,0) -> 0 | M104: =IF($G104<>0,VLOOKUP($G104,Fordeling,M$4+3,FALSE)*$F104,0) -> 0 | N104: =IF($G104<>0,VLOOKUP($G104,Fordeling,N$4+3,FALSE)*$F104,0) -> 0 | O104: =IF($G104<>0,VLOOKUP($G104,Fordeling,O$4+3,FALSE)*$F104,0) -> 0 | ... S104: =IF($G104<>0,VLOOKUP($G104,Fordeling,S$4+3,FALSE)*$F104,0) -> 0
B105: 8140 | C105: Rente og term.kostn.banklån | D105: 6 | E105: 602 | G105: 1 | H105: =IF($G105<>0,VLOOKUP($G105,Fordeling,H$4+3,FALSE)*$F105,0) -> 0 | I105: =IF($G105<>0,VLOOKUP($G105,Fordeling,I$4+3,FALSE)*$F105,0) -> 0 | J105: =IF($G105<>0,VLOOKUP($G105,Fordeling,J$4+3,FALSE)*$F105,0) -> 0 | K105: =IF($G105<>0,VLOOKUP($G105,Fordeling,K$4+3,FALSE)*$F105,0) -> 0 | L105: =IF($G105<>0,VLOOKUP($G105,Fordeling,L$4+3,FALSE)*$F105,0) -> 0 | M105: =IF($G105<>0,VLOOKUP($G105,Fordeling,M$4+3,FALSE)*$F105,0) -> 0 | N105: =IF($G105<>0,VLOOKUP($G105,Fordeling,N$4+3,FALSE)*$F105,0) -> 0 | O105: =IF($G105<>0,VLOOKUP($G105,Fordeling,O$4+3,FALSE)*$F105,0) -> 0 | ... S105: =IF($G105<>0,VLOOKUP($G105,Fordeling,S$4+3,FALSE)*$F105,0) -> 0
B106: 8155 | C106: Rentekostnad leverandørgjeld | D106: 6 | E106: 602 | G106: 1 | H106: =IF($G106<>0,VLOOKUP($G106,Fordeling,H$4+3,FALSE)*$F106,0) -> 0 | I106: =IF($G106<>0,VLOOKUP($G106,Fordeling,I$4+3,FALSE)*$F106,0) -> 0 | J106: =IF($G106<>0,VLOOKUP($G106,Fordeling,J$4+3,FALSE)*$F106,0) -> 0 | K106: =IF($G106<>0,VLOOKUP($G106,Fordeling,K$4+3,FALSE)*$F106,0) -> 0 | L106: =IF($G106<>0,VLOOKUP($G106,Fordeling,L$4+3,FALSE)*$F106,0) -> 0 | M106: =IF($G106<>0,VLOOKUP($G106,Fordeling,M$4+3,FALSE)*$F106,0) -> 0 | N106: =IF($G106<>0,VLOOKUP($G106,Fordeling,N$4+3,FALSE)*$F106,0) -> 0 | O106: =IF($G106<>0,VLOOKUP($G106,Fordeling,O$4+3,FALSE)*$F106,0) -> 0 | ... S106: =IF($G106<>0,VLOOKUP($G106,Fordeling,S$4+3,FALSE)*$F106,0) -> 0
B107: 8160 | C107: Valutatap (disagio) | D107: 6 | E107: 602 | G107: 1 | H107: =IF($G107<>0,VLOOKUP($G107,Fordeling,H$4+3,FALSE)*$F107,0) -> 0 | I107: =IF($G107<>0,VLOOKUP($G107,Fordeling,I$4+3,FALSE)*$F107,0) -> 0 | J107: =IF($G107<>0,VLOOKUP($G107,Fordeling,J$4+3,FALSE)*$F107,0) -> 0 | K107: =IF($G107<>0,VLOOKUP($G107,Fordeling,K$4+3,FALSE)*$F107,0) -> 0 | L107: =IF($G107<>0,VLOOKUP($G107,Fordeling,L$4+3,FALSE)*$F107,0) -> 0 | M107: =IF($G107<>0,VLOOKUP($G107,Fordeling,M$4+3,FALSE)*$F107,0) -> 0 | N107: =IF($G107<>0,VLOOKUP($G107,Fordeling,N$4+3,FALSE)*$F107,0) -> 0 | O107: =IF($G107<>0,VLOOKUP($G107,Fordeling,O$4+3,FALSE)*$F107,0) -> 0 | ... S107: =IF($G107<>0,VLOOKUP($G107,Fordeling,S$4+3,FALSE)*$F107,0) -> 0
... B109: 8961 | C109: Overføring annen egenkapital | D109: 6 | E109: 602 | G109: 1 | H109: =IF($G109<>0,VLOOKUP($G109,Fordeling,H$4+3,FALSE)*$F109,0) -> 0 | I109: =IF($G109<>0,VLOOKUP($G109,Fordeling,I$4+3,FALSE)*$F109,0) -> 0 | J109: =IF($G109<>0,VLOOKUP($G109,Fordeling,J$4+3,FALSE)*$F109,0) -> 0 | K109: =IF($G109<>0,VLOOKUP($G109,Fordeling,K$4+3,FALSE)*$F109,0) -> 0 | L109: =IF($G109<>0,VLOOKUP($G109,Fordeling,L$4+3,FALSE)*$F109,0) -> 0 | M109: =IF($G109<>0,VLOOKUP($G109,Fordeling,M$4+3,FALSE)*$F109,0) -> 0 | N109: =IF($G109<>0,VLOOKUP($G109,Fordeling,N$4+3,FALSE)*$F109,0) -> 0 | O109: =IF($G109<>0,VLOOKUP($G109,Fordeling,O$4+3,FALSE)*$F109,0) -> 0 | ... S109: =IF($G109<>0,VLOOKUP($G109,Fordeling,S$4+3,FALSE)*$F109,0) -> 0

Sheet Input 603 - Ottestadrennet
G2: LEGG INN TALL I FELTET "Totalt"
G3: TALLET VI FORDELE SEG LIKT UT I HVER MÅNED
H4: 1 | I4: 2 | J4: 3 | K4: 4 | L4: 5 | M4: 6 | N4: 7 | O4: 8 | P4: 9 | Q4: 10 | R4: 11 | S4: 12 | T4: 12
B5: Kontonr | C5: Kontonavn | D5: Avdeling | E5: Prosjekt | F5: Totalt | G5: Fordeling | H5: Januar | I5: Februar | J5: Mars | K5: April | L5: Mai | M5: Juni | N5: Juli | O5: August | P5: September | Q5: Oktober | R5: November | S5: Desember | T5: Sum
B7: 3000 | C7: Salg, avgiftspliktig | D7: 6 | E7: 603 | F7: 21000 | G7: 1 | H7: =IF($G7<>0,VLOOKUP($G7,Fordeling,H$4+3,FALSE)*$F7,0) -> 1750 | I7: =IF($G7<>0,VLOOKUP($G7,Fordeling,I$4+3,FALSE)*$F7,0) -> 1750 | J7: =IF($G7<>0,VLOOKUP($G7,Fordeling,J$4+3,FALSE)*$F7,0) -> 1750 | K7: =IF($G7<>0,VLOOKUP($G7,Fordeling,K$4+3,FALSE)*$F7,0) -> 1750 | L7: =IF($G7<>0,VLOOKUP($G7,Fordeling,L$4+3,FALSE)*$F7,0) -> 1750 | M7: =IF($G7<>0,VLOOKUP($G7,Fordeling,M$4+3,FALSE)*$F7,0) -> 1750 | N7: =IF($G7<>0,VLOOKUP($G7,Fordeling,N$4+3,FALSE)*$F7,0) -> 1750 | O7: =IF($G7<>0,VLOOKUP($G7,Fordeling,O$4+3,FALSE)*$F7,0) -> 1750 | ... S7: =IF($G7<>0,VLOOKUP($G7,Fordeling,S$4+3,FALSE)*$F7,0) -> 1750
B8: 3010 | C8: Billettinntekter | D8: 6 | E8: 603 | G8: 1 | H8: =IF($G8<>0,VLOOKUP($G8,Fordeling,H$4+3,FALSE)*$F8,0) -> 0 | I8: =IF($G8<>0,VLOOKUP($G8,Fordeling,I$4+3,FALSE)*$F8,0) -> 0 | J8: =IF($G8<>0,VLOOKUP($G8,Fordeling,J$4+3,FALSE)*$F8,0) -> 0 | K8: =IF($G8<>0,VLOOKUP($G8,Fordeling,K$4+3,FALSE)*$F8,0) -> 0 | L8: =IF($G8<>0,VLOOKUP($G8,Fordeling,L$4+3,FALSE)*$F8,0) -> 0 | M8: =IF($G8<>0,VLOOKUP($G8,Fordeling,M$4+3,FALSE)*$F8,0) -> 0 | N8: =IF($G8<>0,VLOOKUP($G8,Fordeling,N$4+3,FALSE)*$F8,0) -> 0 | O8: =IF($G8<>0,VLOOKUP($G8,Fordeling,O$4+3,FALSE)*$F8,0) -> 0 | ... S8: =IF($G8<>0,VLOOKUP($G8,Fordeling,S$4+3,FALSE)*$F8,0) -> 0
B9: 3020 | C9: Reklameinntekter avg.pliktig | D9: 6 | E9: 603 | F9: 10000 | G9: 1 | H9: =IF($G9<>0,VLOOKUP($G9,Fordeling,H$4+3,FALSE)*$F9,0) -> 833.33333 | I9: =IF($G9<>0,VLOOKUP($G9,Fordeling,I$4+3,FALSE)*$F9,0) -> 833.33333 | J9: =IF($G9<>0,VLOOKUP($G9,Fordeling,J$4+3,FALSE)*$F9,0) -> 833.33333 | K9: =IF($G9<>0,VLOOKUP($G9,Fordeling,K$4+3,FALSE)*$F9,0) -> 833.33333 | L9: =IF($G9<>0,VLOOKUP($G9,Fordeling,L$4+3,FALSE)*$F9,0) -> 833.33333 | M9: =IF($G9<>0,VLOOKUP($G9,Fordeling,M$4+3,FALSE)*$F9,0) -> 833.33333 | N9: =IF($G9<>0,VLOOKUP($G9,Fordeling,N$4+3,FALSE)*$F9,0) -> 833.33333 | O9: =IF($G9<>0,VLOOKUP($G9,Fordeling,O$4+3,FALSE)*$F9,0) -> 833.33333 | ... S9: =IF($G9<>0,VLOOKUP($G9,Fordeling,S$4+3,FALSE)*$F9,0) -> 833.33333
B10: 3030 | C10: Salg, avgiftspliktig middels sats | D10: 6 | E10: 603 | G10: 1 | H10: =IF($G10<>0,VLOOKUP($G10,Fordeling,H$4+3,FALSE)*$F10,0) -> 0 | I10: =IF($G10<>0,VLOOKUP($G10,Fordeling,I$4+3,FALSE)*$F10,0) -> 0 | J10: =IF($G10<>0,VLOOKUP($G10,Fordeling,J$4+3,FALSE)*$F10,0) -> 0 | K10: =IF($G10<>0,VLOOKUP($G10,Fordeling,K$4+3,FALSE)*$F10,0) -> 0 | L10: =IF($G10<>0,VLOOKUP($G10,Fordeling,L$4+3,FALSE)*$F10,0) -> 0 | M10: =IF($G10<>0,VLOOKUP($G10,Fordeling,M$4+3,FALSE)*$F10,0) -> 0 | N10: =IF($G10<>0,VLOOKUP($G10,Fordeling,N$4+3,FALSE)*$F10,0) -> 0 | O10: =IF($G10<>0,VLOOKUP($G10,Fordeling,O$4+3,FALSE)*$F10,0) -> 0 | ... S10: =IF($G10<>0,VLOOKUP($G10,Fordeling,S$4+3,FALSE)*$F10,0) -> 0
B11: 3050 | C11: Salg, avgiftspliktig lav sats | D11: 6 | E11: 603 | G11: 1 | H11: =IF($G11<>0,VLOOKUP($G11,Fordeling,H$4+3,FALSE)*$F11,0) -> 0 | I11: =IF($G11<>0,VLOOKUP($G11,Fordeling,I$4+3,FALSE)*$F11,0) -> 0 | J11: =IF($G11<>0,VLOOKUP($G11,Fordeling,J$4+3,FALSE)*$F11,0) -> 0 | K11: =IF($G11<>0,VLOOKUP($G11,Fordeling,K$4+3,FALSE)*$F11,0) -> 0 | L11: =IF($G11<>0,VLOOKUP($G11,Fordeling,L$4+3,FALSE)*$F11,0) -> 0 | M11: =IF($G11<>0,VLOOKUP($G11,Fordeling,M$4+3,FALSE)*$F11,0) -> 0 | N11: =IF($G11<>0,VLOOKUP($G11,Fordeling,N$4+3,FALSE)*$F11,0) -> 0 | O11: =IF($G11<>0,VLOOKUP($G11,Fordeling,O$4+3,FALSE)*$F11,0) -> 0 | ... S11: =IF($G11<>0,VLOOKUP($G11,Fordeling,S$4+3,FALSE)*$F11,0) -> 0
B12: 3081 | C12: Kontantrabatter, avgiftspliktige | D12: 6 | E12: 603 | G12: 1 | H12: =IF($G12<>0,VLOOKUP($G12,Fordeling,H$4+3,FALSE)*$F12,0) -> 0 | I12: =IF($G12<>0,VLOOKUP($G12,Fordeling,I$4+3,FALSE)*$F12,0) -> 0 | J12: =IF($G12<>0,VLOOKUP($G12,Fordeling,J$4+3,FALSE)*$F12,0) -> 0 | K12: =IF($G12<>0,VLOOKUP($G12,Fordeling,K$4+3,FALSE)*$F12,0) -> 0 | L12: =IF($G12<>0,VLOOKUP($G12,Fordeling,L$4+3,FALSE)*$F12,0) -> 0 | M12: =IF($G12<>0,VLOOKUP($G12,Fordeling,M$4+3,FALSE)*$F12,0) -> 0 | N12: =IF($G12<>0,VLOOKUP($G12,Fordeling,N$4+3,FALSE)*$F12,0) -> 0 | O12: =IF($G12<>0,VLOOKUP($G12,Fordeling,O$4+3,FALSE)*$F12,0) -> 0 | ... S12: =IF($G12<>0,VLOOKUP($G12,Fordeling,S$4+3,FALSE)*$F12,0) -> 0
B13: 3100 | C13: Salg, avgiftsfritt | D13: 6 | E13: 603 | G13: 1 | H13: =IF($G13<>0,VLOOKUP($G13,Fordeling,H$4+3,FALSE)*$F13,0) -> 0 | I13: =IF($G13<>0,VLOOKUP($G13,Fordeling,I$4+3,FALSE)*$F13,0) -> 0 | J13: =IF($G13<>0,VLOOKUP($G13,Fordeling,J$4+3,FALSE)*$F13,0) -> 0 | K13: =IF($G13<>0,VLOOKUP($G13,Fordeling,K$4+3,FALSE)*$F13,0) -> 0 | L13: =IF($G13<>0,VLOOKUP($G13,Fordeling,L$4+3,FALSE)*$F13,0) -> 0 | M13: =IF($G13<>0,VLOOKUP($G13,Fordeling,M$4+3,FALSE)*$F13,0) -> 0 | N13: =IF($G13<>0,VLOOKUP($G13,Fordeling,N$4+3,FALSE)*$F13,0) -> 0 | O13: =IF($G13<>0,VLOOKUP($G13,Fordeling,O$4+3,FALSE)*$F13,0) -> 0 | ... S13: =IF($G13<>0,VLOOKUP($G13,Fordeling,S$4+3,FALSE)*$F13,0) -> 0
B14: 3120 | C14: Reklameinntekter avg.fritt | D14: 6 | E14: 603 | G14: 1 | H14: =IF($G14<>0,VLOOKUP($G14,Fordeling,H$4+3,FALSE)*$F14,0) -> 0 | I14: =IF($G14<>0,VLOOKUP($G14,Fordeling,I$4+3,FALSE)*$F14,0) -> 0 | J14: =IF($G14<>0,VLOOKUP($G14,Fordeling,J$4+3,FALSE)*$F14,0) -> 0 | K14: =IF($G14<>0,VLOOKUP($G14,Fordeling,K$4+3,FALSE)*$F14,0) -> 0 | L14: =IF($G14<>0,VLOOKUP($G14,Fordeling,L$4+3,FALSE)*$F14,0) -> 0 | M14: =IF($G14<>0,VLOOKUP($G14,Fordeling,M$4+3,FALSE)*$F14,0) -> 0 | N14: =IF($G14<>0,VLOOKUP($G14,Fordeling,N$4+3,FALSE)*$F14,0) -> 0 | O14: =IF($G14<>0,VLOOKUP($G14,Fordeling,O$4+3,FALSE)*$F14,0) -> 0 | ... S14: =IF($G14<>0,VLOOKUP($G14,Fordeling,S$4+3,FALSE)*$F14,0) -> 0
B15: 3181 | C15: Kontantrabatter, avg.fri. | D15: 6 | E15: 603 | G15: 1 | H15: =IF($G15<>0,VLOOKUP($G15,Fordeling,H$4+3,FALSE)*$F15,0) -> 0 | I15: =IF($G15<>0,VLOOKUP($G15,Fordeling,I$4+3,FALSE)*$F15,0) -> 0 | J15: =IF($G15<>0,VLOOKUP($G15,Fordeling,J$4+3,FALSE)*$F15,0) -> 0 | K15: =IF($G15<>0,VLOOKUP($G15,Fordeling,K$4+3,FALSE)*$F15,0) -> 0 | L15: =IF($G15<>0,VLOOKUP($G15,Fordeling,L$4+3,FALSE)*$F15,0) -> 0 | M15: =IF($G15<>0,VLOOKUP($G15,Fordeling,M$4+3,FALSE)*$F15,0) -> 0 | N15: =IF($G15<>0,VLOOKUP($G15,Fordeling,N$4+3,FALSE)*$F15,0) -> 0 | O15: =IF($G15<>0,VLOOKUP($G15,Fordeling,O$4+3,FALSE)*$F15,0) -> 0 | ... S15: =IF($G15<>0,VLOOKUP($G15,Fordeling,S$4+3,FALSE)*$F15,0) -> 0
B16: 3200 | C16: Salg utenfor avgiftsområdet | D16: 6 | E16: 603 | G16: 1 | H16: =IF($G16<>0,VLOOKUP($G16,Fordeling,H$4+3,FALSE)*$F16,0) -> 0 | I16: =IF($G16<>0,VLOOKUP($G16,Fordeling,I$4+3,FALSE)*$F16,0) -> 0 | J16: =IF($G16<>0,VLOOKUP($G16,Fordeling,J$4+3,FALSE)*$F16,0) -> 0 | K16: =IF($G16<>0,VLOOKUP($G16,Fordeling,K$4+3,FALSE)*$F16,0) -> 0 | L16: =IF($G16<>0,VLOOKUP($G16,Fordeling,L$4+3,FALSE)*$F16,0) -> 0 | M16: =IF($G16<>0,VLOOKUP($G16,Fordeling,M$4+3,FALSE)*$F16,0) -> 0 | N16: =IF($G16<>0,VLOOKUP($G16,Fordeling,N$4+3,FALSE)*$F16,0) -> 0 | O16: =IF($G16<>0,VLOOKUP($G16,Fordeling,O$4+3,FALSE)*$F16,0) -> 0 | ... S16: =IF($G16<>0,VLOOKUP($G16,Fordeling,S$4+3,FALSE)*$F16,0) -> 0
B17: 3210 | C17: Inntekt deltakeravgift | D17: 6 | E17: 603 | F17: 50000 | G17: 1 | H17: =IF($G17<>0,VLOOKUP($G17,Fordeling,H$4+3,FALSE)*$F17,0) -> 4166.6667 | I17: =IF($G17<>0,VLOOKUP($G17,Fordeling,I$4+3,FALSE)*$F17,0) -> 4166.6667 | J17: =IF($G17<>0,VLOOKUP($G17,Fordeling,J$4+3,FALSE)*$F17,0) -> 4166.6667 | K17: =IF($G17<>0,VLOOKUP($G17,Fordeling,K$4+3,FALSE)*$F17,0) -> 4166.6667 | L17: =IF($G17<>0,VLOOKUP($G17,Fordeling,L$4+3,FALSE)*$F17,0) -> 4166.6667 | M17: =IF($G17<>0,VLOOKUP($G17,Fordeling,M$4+3,FALSE)*$F17,0) -> 4166.6667 | N17: =IF($G17<>0,VLOOKUP($G17,Fordeling,N$4+3,FALSE)*$F17,0) -> 4166.6667 | O17: =IF($G17<>0,VLOOKUP($G17,Fordeling,O$4+3,FALSE)*$F17,0) -> 4166.6667 | ... S17: =IF($G17<>0,VLOOKUP($G17,Fordeling,S$4+3,FALSE)*$F17,0) -> 4166.6667
B18: 3400 | C18: Offentlig tilskudd/refusjon | D18: 6 | E18: 603 | G18: 1 | H18: =IF($G18<>0,VLOOKUP($G18,Fordeling,H$4+3,FALSE)*$F18,0) -> 0 | I18: =IF($G18<>0,VLOOKUP($G18,Fordeling,I$4+3,FALSE)*$F18,0) -> 0 | J18: =IF($G18<>0,VLOOKUP($G18,Fordeling,J$4+3,FALSE)*$F18,0) -> 0 | K18: =IF($G18<>0,VLOOKUP($G18,Fordeling,K$4+3,FALSE)*$F18,0) -> 0 | L18: =IF($G18<>0,VLOOKUP($G18,Fordeling,L$4+3,FALSE)*$F18,0) -> 0 | M18: =IF($G18<>0,VLOOKUP($G18,Fordeling,M$4+3,FALSE)*$F18,0) -> 0 | N18: =IF($G18<>0,VLOOKUP($G18,Fordeling,N$4+3,FALSE)*$F18,0) -> 0 | O18: =IF($G18<>0,VLOOKUP($G18,Fordeling,O$4+3,FALSE)*$F18,0) -> 0 | ... S18: =IF($G18<>0,VLOOKUP($G18,Fordeling,S$4+3,FALSE)*$F18,0) -> 0
B19: 3442 | C19: Tilskudd øremerkede | D19: 6 | E19: 603 | G19: 1 | H19: =IF($G19<>0,VLOOKUP($G19,Fordeling,H$4+3,FALSE)*$F19,0) -> 0 | I19: =IF($G19<>0,VLOOKUP($G19,Fordeling,I$4+3,FALSE)*$F19,0) -> 0 | J19: =IF($G19<>0,VLOOKUP($G19,Fordeling,J$4+3,FALSE)*$F19,0) -> 0 | K19: =IF($G19<>0,VLOOKUP($G19,Fordeling,K$4+3,FALSE)*$F19,0) -> 0 | L19: =IF($G19<>0,VLOOKUP($G19,Fordeling,L$4+3,FALSE)*$F19,0) -> 0 | M19: =IF($G19<>0,VLOOKUP($G19,Fordeling,M$4+3,FALSE)*$F19,0) -> 0 | N19: =IF($G19<>0,VLOOKUP($G19,Fordeling,N$4+3,FALSE)*$F19,0) -> 0 | O19: =IF($G19<>0,VLOOKUP($G19,Fordeling,O$4+3,FALSE)*$F19,0) -> 0 | ... S19: =IF($G19<>0,VLOOKUP($G19,Fordeling,S$4+3,FALSE)*$F19,0) -> 0
B20: 3445 | C20: Tilsskudd andre | D20: 6 | E20: 603 | G20: 1 | H20: =IF($G20<>0,VLOOKUP($G20,Fordeling,H$4+3,FALSE)*$F20,0) -> 0 | I20: =IF($G20<>0,VLOOKUP($G20,Fordeling,I$4+3,FALSE)*$F20,0) -> 0 | J20: =IF($G20<>0,VLOOKUP($G20,Fordeling,J$4+3,FALSE)*$F20,0) -> 0 | K20: =IF($G20<>0,VLOOKUP($G20,Fordeling,K$4+3,FALSE)*$F20,0) -> 0 | L20: =IF($G20<>0,VLOOKUP($G20,Fordeling,L$4+3,FALSE)*$F20,0) -> 0 | M20: =IF($G20<>0,VLOOKUP($G20,Fordeling,M$4+3,FALSE)*$F20,0) -> 0 | N20: =IF($G20<>0,VLOOKUP($G20,Fordeling,N$4+3,FALSE)*$F20,0) -> 0 | O20: =IF($G20<>0,VLOOKUP($G20,Fordeling,O$4+3,FALSE)*$F20,0) -> 0 | ... S20: =IF($G20<>0,VLOOKUP($G20,Fordeling,S$4+3,FALSE)*$F20,0) -> 0
B21: 3450 | C21: Støtte løyper | D21: 6 | E21: 603 | G21: 1 | H21: =IF($G21<>0,VLOOKUP($G21,Fordeling,H$4+3,FALSE)*$F21,0) -> 0 | I21: =IF($G21<>0,VLOOKUP($G21,Fordeling,I$4+3,FALSE)*$F21,0) -> 0 | J21: =IF($G21<>0,VLOOKUP($G21,Fordeling,J$4+3,FALSE)*$F21,0) -> 0 | K21: =IF($G21<>0,VLOOKUP($G21,Fordeling,K$4+3,FALSE)*$F21,0) -> 0 | L21: =IF($G21<>0,VLOOKUP($G21,Fordeling,L$4+3,FALSE)*$F21,0) -> 0 | M21: =IF($G21<>0,VLOOKUP($G21,Fordeling,M$4+3,FALSE)*$F21,0) -> 0 | N21: =IF($G21<>0,VLOOKUP($G21,Fordeling,N$4+3,FALSE)*$F21,0) -> 0 | O21: =IF($G21<>0,VLOOKUP($G21,Fordeling,O$4+3,FALSE)*$F21,0) -> 0 | ... S21: =IF($G21<>0,VLOOKUP($G21,Fordeling,S$4+3,FALSE)*$F21,0) -> 0
B22: 3455 | C22: Inntekt Enjoyguide | D22: 6 | E22: 603 | G22: 1 | H22: =IF($G22<>0,VLOOKUP($G22,Fordeling,H$4+3,FALSE)*$F22,0) -> 0 | I22: =IF($G22<>0,VLOOKUP($G22,Fordeling,I$4+3,FALSE)*$F22,0) -> 0 | J22: =IF($G22<>0,VLOOKUP($G22,Fordeling,J$4+3,FALSE)*$F22,0) -> 0 | K22: =IF($G22<>0,VLOOKUP($G22,Fordeling,K$4+3,FALSE)*$F22,0) -> 0 | L22: =IF($G22<>0,VLOOKUP($G22,Fordeling,L$4+3,FALSE)*$F22,0) -> 0 | M22: =IF($G22<>0,VLOOKUP($G22,Fordeling,M$4+3,FALSE)*$F22,0) -> 0 | N22: =IF($G22<>0,VLOOKUP($G22,Fordeling,N$4+3,FALSE)*$F22,0) -> 0 | O22: =IF($G22<>0,VLOOKUP($G22,Fordeling,O$4+3,FALSE)*$F22,0) -> 0 | ... S22: =IF($G22<>0,VLOOKUP($G22,Fordeling,S$4+3,FALSE)*$F22,0) -> 0
B23: 3601 | C23: Leieinntekter HIAS | D23: 6 | E23: 603 | G23: 1 | H23: =IF($G23<>0,VLOOKUP($G23,Fordeling,H$4+3,FALSE)*$F23,0) -> 0 | I23: =IF($G23<>0,VLOOKUP($G23,Fordeling,I$4+3,FALSE)*$F23,0) -> 0 | J23: =IF($G23<>0,VLOOKUP($G23,Fordeling,J$4+3,FALSE)*$F23,0) -> 0 | K23: =IF($G23<>0,VLOOKUP($G23,Fordeling,K$4+3,FALSE)*$F23,0) -> 0 | L23: =IF($G23<>0,VLOOKUP($G23,Fordeling,L$4+3,FALSE)*$F23,0) -> 0 | M23: =IF($G23<>0,VLOOKUP($G23,Fordeling,M$4+3,FALSE)*$F23,0) -> 0 | N23: =IF($G23<>0,VLOOKUP($G23,Fordeling,N$4+3,FALSE)*$F23,0) -> 0 | O23: =IF($G23<>0,VLOOKUP($G23,Fordeling,O$4+3,FALSE)*$F23,0) -> 0 | ... S23: =IF($G23<>0,VLOOKUP($G23,Fordeling,S$4+3,FALSE)*$F23,0) -> 0
B24: 3602 | C24: Leieinntekter klubbhus/idrettsparken | D24: 6 | E24: 603 | G24: 1 | H24: =IF($G24<>0,VLOOKUP($G24,Fordeling,H$4+3,FALSE)*$F24,0) -> 0 | I24: =IF($G24<>0,VLOOKUP($G24,Fordeling,I$4+3,FALSE)*$F24,0) -> 0 | J24: =IF($G24<>0,VLOOKUP($G24,Fordeling,J$4+3,FALSE)*$F24,0) -> 0 | K24: =IF($G24<>0,VLOOKUP($G24,Fordeling,K$4+3,FALSE)*$F24,0) -> 0 | L24: =IF($G24<>0,VLOOKUP($G24,Fordeling,L$4+3,FALSE)*$F24,0) -> 0 | M24: =IF($G24<>0,VLOOKUP($G24,Fordeling,M$4+3,FALSE)*$F24,0) -> 0 | N24: =IF($G24<>0,VLOOKUP($G24,Fordeling,N$4+3,FALSE)*$F24,0) -> 0 | O24: =IF($G24<>0,VLOOKUP($G24,Fordeling,O$4+3,FALSE)*$F24,0) -> 0 | ... S24: =IF($G24<>0,VLOOKUP($G24,Fordeling,S$4+3,FALSE)*$F24,0) -> 0
B25: 3700 | C25: Provisjonsinntekter, avgiftspliktig | D25: 6 | E25: 603 | G25: 1 | H25: =IF($G25<>0,VLOOKUP($G25,Fordeling,H$4+3,FALSE)*$F25,0) -> 0 | I25: =IF($G25<>0,VLOOKUP($G25,Fordeling,I$4+3,FALSE)*$F25,0) -> 0 | J25: =IF($G25<>0,VLOOKUP($G25,Fordeling,J$4+3,FALSE)*$F25,0) -> 0 | K25: =IF($G25<>0,VLOOKUP($G25,Fordeling,K$4+3,FALSE)*$F25,0) -> 0 | L25: =IF($G25<>0,VLOOKUP($G25,Fordeling,L$4+3,FALSE)*$F25,0) -> 0 | M25: =IF($G25<>0,VLOOKUP($G25,Fordeling,M$4+3,FALSE)*$F25,0) -> 0 | N25: =IF($G25<>0,VLOOKUP($G25,Fordeling,N$4+3,FALSE)*$F25,0) -> 0 | O25: =IF($G25<>0,VLOOKUP($G25,Fordeling,O$4+3,FALSE)*$F25,0) -> 0 | ... S25: =IF($G25<>0,VLOOKUP($G25,Fordeling,S$4+3,FALSE)*$F25,0) -> 0
B26: 3900 | C26: Annen inntekt | D26: 6 | E26: 603 | G26: 1 | H26: =IF($G26<>0,VLOOKUP($G26,Fordeling,H$4+3,FALSE)*$F26,0) -> 0 | I26: =IF($G26<>0,VLOOKUP($G26,Fordeling,I$4+3,FALSE)*$F26,0) -> 0 | J26: =IF($G26<>0,VLOOKUP($G26,Fordeling,J$4+3,FALSE)*$F26,0) -> 0 | K26: =IF($G26<>0,VLOOKUP($G26,Fordeling,K$4+3,FALSE)*$F26,0) -> 0 | L26: =IF($G26<>0,VLOOKUP($G26,Fordeling,L$4+3,FALSE)*$F26,0) -> 0 | M26: =IF($G26<>0,VLOOKUP($G26,Fordeling,M$4+3,FALSE)*$F26,0) -> 0 | N26: =IF($G26<>0,VLOOKUP($G26,Fordeling,N$4+3,FALSE)*$F26,0) -> 0 | O26: =IF($G26<>0,VLOOKUP($G26,Fordeling,O$4+3,FALSE)*$F26,0) -> 0 | ... S26: =IF($G26<>0,VLOOKUP($G26,Fordeling,S$4+3,FALSE)*$F26,0) -> 0
B27: 3910 | C27: Inntekter kiosk/kafé | D27: 6 | E27: 603 | G27: 1 | H27: =IF($G27<>0,VLOOKUP($G27,Fordeling,H$4+3,FALSE)*$F27,0) -> 0 | I27: =IF($G27<>0,VLOOKUP($G27,Fordeling,I$4+3,FALSE)*$F27,0) -> 0 | J27: =IF($G27<>0,VLOOKUP($G27,Fordeling,J$4+3,FALSE)*$F27,0) -> 0 | K27: =IF($G27<>0,VLOOKUP($G27,Fordeling,K$4+3,FALSE)*$F27,0) -> 0 | L27: =IF($G27<>0,VLOOKUP($G27,Fordeling,L$4+3,FALSE)*$F27,0) -> 0 | M27: =IF($G27<>0,VLOOKUP($G27,Fordeling,M$4+3,FALSE)*$F27,0) -> 0 | N27: =IF($G27<>0,VLOOKUP($G27,Fordeling,N$4+3,FALSE)*$F27,0) -> 0 | O27: =IF($G27<>0,VLOOKUP($G27,Fordeling,O$4+3,FALSE)*$F27,0) -> 0 | ... S27: =IF($G27<>0,VLOOKUP($G27,Fordeling,S$4+3,FALSE)*$F27,0) -> 0
B28: 3920 | C28: Årskontingenter | D28: 6 | E28: 603 | G28: 1 | H28: =IF($G28<>0,VLOOKUP($G28,Fordeling,H$4+3,FALSE)*$F28,0) -> 0 | I28: =IF($G28<>0,VLOOKUP($G28,Fordeling,I$4+3,FALSE)*$F28,0) -> 0 | J28: =IF($G28<>0,VLOOKUP($G28,Fordeling,J$4+3,FALSE)*$F28,0) -> 0 | K28: =IF($G28<>0,VLOOKUP($G28,Fordeling,K$4+3,FALSE)*$F28,0) -> 0 | L28: =IF($G28<>0,VLOOKUP($G28,Fordeling,L$4+3,FALSE)*$F28,0) -> 0 | M28: =IF($G28<>0,VLOOKUP($G28,Fordeling,M$4+3,FALSE)*$F28,0) -> 0 | N28: =IF($G28<>0,VLOOKUP($G28,Fordeling,N$4+3,FALSE)*$F28,0) -> 0 | O28: =IF($G28<>0,VLOOKUP($G28,Fordeling,O$4+3,FALSE)*$F28,0) -> 0 | ... S28: =IF($G28<>0,VLOOKUP($G28,Fordeling,S$4+3,FALSE)*$F28,0) -> 0
B29: 3930 | C29: Treningsavgifter | D29: 6 | E29: 603 | G29: 1 | H29: =IF($G29<>0,VLOOKUP($G29,Fordeling,H$4+3,FALSE)*$F29,0) -> 0 | I29: =IF($G29<>0,VLOOKUP($G29,Fordeling,I$4+3,FALSE)*$F29,0) -> 0 | J29: =IF($G29<>0,VLOOKUP($G29,Fordeling,J$4+3,FALSE)*$F29,0) -> 0 | K29: =IF($G29<>0,VLOOKUP($G29,Fordeling,K$4+3,FALSE)*$F29,0) -> 0 | L29: =IF($G29<>0,VLOOKUP($G29,Fordeling,L$4+3,FALSE)*$F29,0) -> 0 | M29: =IF($G29<>0,VLOOKUP($G29,Fordeling,M$4+3,FALSE)*$F29,0) -> 0 | N29: =IF($G29<>0,VLOOKUP($G29,Fordeling,N$4+3,FALSE)*$F29,0) -> 0 | O29: =IF($G29<>0,VLOOKUP($G29,Fordeling,O$4+3,FALSE)*$F29,0) -> 0 | ... S29: =IF($G29<>0,VLOOKUP($G29,Fordeling,S$4+3,FALSE)*$F29,0) -> 0
... B34: 4071 | C34: Kontantrabatt, råvarer og halvfabrikata | D34: 6 | E34: 603 | G34: 1 | H34: =IF($G34<>0,VLOOKUP($G34,Fordeling,H$4+3,FALSE)*$F34,0) -> 0 | I34: =IF($G34<>0,VLOOKUP($G34,Fordeling,I$4+3,FALSE)*$F34,0) -> 0 | J34: =IF($G34<>0,VLOOKUP($G34,Fordeling,J$4+3,FALSE)*$F34,0) -> 0 | K34: =IF($G34<>0,VLOOKUP($G34,Fordeling,K$4+3,FALSE)*$F34,0) -> 0 | L34: =IF($G34<>0,VLOOKUP($G34,Fordeling,L$4+3,FALSE)*$F34,0) -> 0 | M34: =IF($G34<>0,VLOOKUP($G34,Fordeling,M$4+3,FALSE)*$F34,0) -> 0 | N34: =IF($G34<>0,VLOOKUP($G34,Fordeling,N$4+3,FALSE)*$F34,0) -> 0 | O34: =IF($G34<>0,VLOOKUP($G34,Fordeling,O$4+3,FALSE)*$F34,0) -> 0 | ... S34: =IF($G34<>0,VLOOKUP($G34,Fordeling,S$4+3,FALSE)*$F34,0) -> 0
B35: 4100 | C35: Arenaleie | D35: 6 | E35: 603 | F35: 15000 | G35: 1 | H35: =IF($G35<>0,VLOOKUP($G35,Fordeling,H$4+3,FALSE)*$F35,0) -> 1250 | I35: =IF($G35<>0,VLOOKUP($G35,Fordeling,I$4+3,FALSE)*$F35,0) -> 1250 | J35: =IF($G35<>0,VLOOKUP($G35,Fordeling,J$4+3,FALSE)*$F35,0) -> 1250 | K35: =IF($G35<>0,VLOOKUP($G35,Fordeling,K$4+3,FALSE)*$F35,0) -> 1250 | L35: =IF($G35<>0,VLOOKUP($G35,Fordeling,L$4+3,FALSE)*$F35,0) -> 1250 | M35: =IF($G35<>0,VLOOKUP($G35,Fordeling,M$4+3,FALSE)*$F35,0) -> 1250 | N35: =IF($G35<>0,VLOOKUP($G35,Fordeling,N$4+3,FALSE)*$F35,0) -> 1250 | O35: =IF($G35<>0,VLOOKUP($G35,Fordeling,O$4+3,FALSE)*$F35,0) -> 1250 | ... S35: =IF($G35<>0,VLOOKUP($G35,Fordeling,S$4+3,FALSE)*$F35,0) -> 1250
B36: 4150 | C36: Utgifter arrangement egne | D36: 6 | E36: 603 | F36: 5000 | G36: 1 | H36: =IF($G36<>0,VLOOKUP($G36,Fordeling,H$4+3,FALSE)*$F36,0) -> 416.66667 | I36: =IF($G36<>0,VLOOKUP($G36,Fordeling,I$4+3,FALSE)*$F36,0) -> 416.66667 | J36: =IF($G36<>0,VLOOKUP($G36,Fordeling,J$4+3,FALSE)*$F36,0) -> 416.66667 | K36: =IF($G36<>0,VLOOKUP($G36,Fordeling,K$4+3,FALSE)*$F36,0) -> 416.66667 | L36: =IF($G36<>0,VLOOKUP($G36,Fordeling,L$4+3,FALSE)*$F36,0) -> 416.66667 | M36: =IF($G36<>0,VLOOKUP($G36,Fordeling,M$4+3,FALSE)*$F36,0) -> 416.66667 | N36: =IF($G36<>0,VLOOKUP($G36,Fordeling,N$4+3,FALSE)*$F36,0) -> 416.66667 | O36: =IF($G36<>0,VLOOKUP($G36,Fordeling,O$4+3,FALSE)*$F36,0) -> 416.66667 | ... S36: =IF($G36<>0,VLOOKUP($G36,Fordeling,S$4+3,FALSE)*$F36,0) -> 416.66667
B37: 4160 | C37: Deltakeravgift arrangementer | D37: 6 | E37: 603 | G37: 1 | H37: =IF($G37<>0,VLOOKUP($G37,Fordeling,H$4+3,FALSE)*$F37,0) -> 0 | I37: =IF($G37<>0,VLOOKUP($G37,Fordeling,I$4+3,FALSE)*$F37,0) -> 0 | J37: =IF($G37<>0,VLOOKUP($G37,Fordeling,J$4+3,FALSE)*$F37,0) -> 0 | K37: =IF($G37<>0,VLOOKUP($G37,Fordeling,K$4+3,FALSE)*$F37,0) -> 0 | L37: =IF($G37<>0,VLOOKUP($G37,Fordeling,L$4+3,FALSE)*$F37,0) -> 0 | M37: =IF($G37<>0,VLOOKUP($G37,Fordeling,M$4+3,FALSE)*$F37,0) -> 0 | N37: =IF($G37<>0,VLOOKUP($G37,Fordeling,N$4+3,FALSE)*$F37,0) -> 0 | O37: =IF($G37<>0,VLOOKUP($G37,Fordeling,O$4+3,FALSE)*$F37,0) -> 0 | ... S37: =IF($G37<>0,VLOOKUP($G37,Fordeling,S$4+3,FALSE)*$F37,0) -> 0
B38: 4170 | C38: Treningssamlinger/samarbeid | D38: 6 | E38: 603 | G38: 1 | H38: =IF($G38<>0,VLOOKUP($G38,Fordeling,H$4+3,FALSE)*$F38,0) -> 0 | I38: =IF($G38<>0,VLOOKUP($G38,Fordeling,I$4+3,FALSE)*$F38,0) -> 0 | J38: =IF($G38<>0,VLOOKUP($G38,Fordeling,J$4+3,FALSE)*$F38,0) -> 0 | K38: =IF($G38<>0,VLOOKUP($G38,Fordeling,K$4+3,FALSE)*$F38,0) -> 0 | L38: =IF($G38<>0,VLOOKUP($G38,Fordeling,L$4+3,FALSE)*$F38,0) -> 0 | M38: =IF($G38<>0,VLOOKUP($G38,Fordeling,M$4+3,FALSE)*$F38,0) -> 0 | N38: =IF($G38<>0,VLOOKUP($G38,Fordeling,N$4+3,FALSE)*$F38,0) -> 0 | O38: =IF($G38<>0,VLOOKUP($G38,Fordeling,O$4+3,FALSE)*$F38,0) -> 0 | ... S38: =IF($G38<>0,VLOOKUP($G38,Fordeling,S$4+3,FALSE)*$F38,0) -> 0
B39: 4175 | C39: Miljøsamlinger | D39: 6 | E39: 603 | G39: 1 | H39: =IF($G39<>0,VLOOKUP($G39,Fordeling,H$4+3,FALSE)*$F39,0) -> 0 | I39: =IF($G39<>0,VLOOKUP($G39,Fordeling,I$4+3,FALSE)*$F39,0) -> 0 | J39: =IF($G39<>0,VLOOKUP($G39,Fordeling,J$4+3,FALSE)*$F39,0) -> 0 | K39: =IF($G39<>0,VLOOKUP($G39,Fordeling,K$4+3,FALSE)*$F39,0) -> 0 | L39: =IF($G39<>0,VLOOKUP($G39,Fordeling,L$4+3,FALSE)*$F39,0) -> 0 | M39: =IF($G39<>0,VLOOKUP($G39,Fordeling,M$4+3,FALSE)*$F39,0) -> 0 | N39: =IF($G39<>0,VLOOKUP($G39,Fordeling,N$4+3,FALSE)*$F39,0) -> 0 | O39: =IF($G39<>0,VLOOKUP($G39,Fordeling,O$4+3,FALSE)*$F39,0) -> 0 | ... S39: =IF($G39<>0,VLOOKUP($G39,Fordeling,S$4+3,FALSE)*$F39,0) -> 0
B40: 4300 | C40: Innkjøp varer for videresalg | D40: 6 | E40: 603 | G40: 1 | H40: =IF($G40<>0,VLOOKUP($G40,Fordeling,H$4+3,FALSE)*$F40,0) -> 0 | I40: =IF($G40<>0,VLOOKUP($G40,Fordeling,I$4+3,FALSE)*$F40,0) -> 0 | J40: =IF($G40<>0,VLOOKUP($G40,Fordeling,J$4+3,FALSE)*$F40,0) -> 0 | K40: =IF($G40<>0,VLOOKUP($G40,Fordeling,K$4+3,FALSE)*$F40,0) -> 0 | L40: =IF($G40<>0,VLOOKUP($G40,Fordeling,L$4+3,FALSE)*$F40,0) -> 0 | M40: =IF($G40<>0,VLOOKUP($G40,Fordeling,M$4+3,FALSE)*$F40,0) -> 0 | N40: =IF($G40<>0,VLOOKUP($G40,Fordeling,N$4+3,FALSE)*$F40,0) -> 0 | O40: =IF($G40<>0,VLOOKUP($G40,Fordeling,O$4+3,FALSE)*$F40,0) -> 0 | ... S40: =IF($G40<>0,VLOOKUP($G40,Fordeling,S$4+3,FALSE)*$F40,0) -> 0
B41: 5001 | C41: Lønn til ansatte | D41: 6 | E41: 603 | G41: 1 | H41: =IF($G41<>0,VLOOKUP($G41,Fordeling,H$4+3,FALSE)*$F41,0) -> 0 | I41: =IF($G41<>0,VLOOKUP($G41,Fordeling,I$4+3,FALSE)*$F41,0) -> 0 | J41: =IF($G41<>0,VLOOKUP($G41,Fordeling,J$4+3,FALSE)*$F41,0) -> 0 | K41: =IF($G41<>0,VLOOKUP($G41,Fordeling,K$4+3,FALSE)*$F41,0) -> 0 | L41: =IF($G41<>0,VLOOKUP($G41,Fordeling,L$4+3,FALSE)*$F41,0) -> 0 | M41: =IF($G41<>0,VLOOKUP($G41,Fordeling,M$4+3,FALSE)*$F41,0) -> 0 | N41: =IF($G41<>0,VLOOKUP($G41,Fordeling,N$4+3,FALSE)*$F41,0) -> 0 | O41: =IF($G41<>0,VLOOKUP($G41,Fordeling,O$4+3,FALSE)*$F41,0) -> 0 | ... S41: =IF($G41<>0,VLOOKUP($G41,Fordeling,S$4+3,FALSE)*$F41,0) -> 0
B42: 5009 | C42: Honorar, inkl.feriepenger | D42: 6 | E42: 603 | G42: 1 | H42: =IF($G42<>0,VLOOKUP($G42,Fordeling,H$4+3,FALSE)*$F42,0) -> 0 | I42: =IF($G42<>0,VLOOKUP($G42,Fordeling,I$4+3,FALSE)*$F42,0) -> 0 | J42: =IF($G42<>0,VLOOKUP($G42,Fordeling,J$4+3,FALSE)*$F42,0) -> 0 | K42: =IF($G42<>0,VLOOKUP($G42,Fordeling,K$4+3,FALSE)*$F42,0) -> 0 | L42: =IF($G42<>0,VLOOKUP($G42,Fordeling,L$4+3,FALSE)*$F42,0) -> 0 | M42: =IF($G42<>0,VLOOKUP($G42,Fordeling,M$4+3,FALSE)*$F42,0) -> 0 | N42: =IF($G42<>0,VLOOKUP($G42,Fordeling,N$4+3,FALSE)*$F42,0) -> 0 | O42: =IF($G42<>0,VLOOKUP($G42,Fordeling,O$4+3,FALSE)*$F42,0) -> 0 | ... S42: =IF($G42<>0,VLOOKUP($G42,Fordeling,S$4+3,FALSE)*$F42,0) -> 0
B43: 5092 | C43: Avsatte feriepenger | D43: 6 | E43: 603 | G43: 1 | H43: =IF($G43<>0,VLOOKUP($G43,Fordeling,H$4+3,FALSE)*$F43,0) -> 0 | I43: =IF($G43<>0,VLOOKUP($G43,Fordeling,I$4+3,FALSE)*$F43,0) -> 0 | J43: =IF($G43<>0,VLOOKUP($G43,Fordeling,J$4+3,FALSE)*$F43,0) -> 0 | K43: =IF($G43<>0,VLOOKUP($G43,Fordeling,K$4+3,FALSE)*$F43,0) -> 0 | L43: =IF($G43<>0,VLOOKUP($G43,Fordeling,L$4+3,FALSE)*$F43,0) -> 0 | M43: =IF($G43<>0,VLOOKUP($G43,Fordeling,M$4+3,FALSE)*$F43,0) -> 0 | N43: =IF($G43<>0,VLOOKUP($G43,Fordeling,N$4+3,FALSE)*$F43,0) -> 0 | O43: =IF($G43<>0,VLOOKUP($G43,Fordeling,O$4+3,FALSE)*$F43,0) -> 0 | ... S43: =IF($G43<>0,VLOOKUP($G43,Fordeling,S$4+3,FALSE)*$F43,0) -> 0
B44: 5210 | C44: Fri telefon | D44: 6 | E44: 603 | G44: 1 | H44: =IF($G44<>0,VLOOKUP($G44,Fordeling,H$4+3,FALSE)*$F44,0) -> 0 | I44: =IF($G44<>0,VLOOKUP($G44,Fordeling,I$4+3,FALSE)*$F44,0) -> 0 | J44: =IF($G44<>0,VLOOKUP($G44,Fordeling,J$4+3,FALSE)*$F44,0) -> 0 | K44: =IF($G44<>0,VLOOKUP($G44,Fordeling,K$4+3,FALSE)*$F44,0) -> 0 | L44: =IF($G44<>0,VLOOKUP($G44,Fordeling,L$4+3,FALSE)*$F44,0) -> 0 | M44: =IF($G44<>0,VLOOKUP($G44,Fordeling,M$4+3,FALSE)*$F44,0) -> 0 | N44: =IF($G44<>0,VLOOKUP($G44,Fordeling,N$4+3,FALSE)*$F44,0) -> 0 | O44: =IF($G44<>0,VLOOKUP($G44,Fordeling,O$4+3,FALSE)*$F44,0) -> 0 | ... S44: =IF($G44<>0,VLOOKUP($G44,Fordeling,S$4+3,FALSE)*$F44,0) -> 0
B45: 5280 | C45: Annen fordel i arbeidsforhold | D45: 6 | E45: 603 | G45: 1 | H45: =IF($G45<>0,VLOOKUP($G45,Fordeling,H$4+3,FALSE)*$F45,0) -> 0 | I45: =IF($G45<>0,VLOOKUP($G45,Fordeling,I$4+3,FALSE)*$F45,0) -> 0 | J45: =IF($G45<>0,VLOOKUP($G45,Fordeling,J$4+3,FALSE)*$F45,0) -> 0 | K45: =IF($G45<>0,VLOOKUP($G45,Fordeling,K$4+3,FALSE)*$F45,0) -> 0 | L45: =IF($G45<>0,VLOOKUP($G45,Fordeling,L$4+3,FALSE)*$F45,0) -> 0 | M45: =IF($G45<>0,VLOOKUP($G45,Fordeling,M$4+3,FALSE)*$F45,0) -> 0 | N45: =IF($G45<>0,VLOOKUP($G45,Fordeling,N$4+3,FALSE)*$F45,0) -> 0 | O45: =IF($G45<>0,VLOOKUP($G45,Fordeling,O$4+3,FALSE)*$F45,0) -> 0 | ... S45: =IF($G45<>0,VLOOKUP($G45,Fordeling,S$4+3,FALSE)*$F45,0) -> 0
B46: 5290 | C46: Motkonto fordeler | D46: 6 | E46: 603 | G46: 1 | H46: =IF($G46<>0,VLOOKUP($G46,Fordeling,H$4+3,FALSE)*$F46,0) -> 0 | I46: =IF($G46<>0,VLOOKUP($G46,Fordeling,I$4+3,FALSE)*$F46,0) -> 0 | J46: =IF($G46<>0,VLOOKUP($G46,Fordeling,J$4+3,FALSE)*$F46,0) -> 0 | K46: =IF($G46<>0,VLOOKUP($G46,Fordeling,K$4+3,FALSE)*$F46,0) -> 0 | L46: =IF($G46<>0,VLOOKUP($G46,Fordeling,L$4+3,FALSE)*$F46,0) -> 0 | M46: =IF($G46<>0,VLOOKUP($G46,Fordeling,M$4+3,FALSE)*$F46,0) -> 0 | N46: =IF($G46<>0,VLOOKUP($G46,Fordeling,N$4+3,FALSE)*$F46,0) -> 0 | O46: =IF($G46<>0,VLOOKUP($G46,Fordeling,O$4+3,FALSE)*$F46,0) -> 0 | ... S46: =IF($G46<>0,VLOOKUP($G46,Fordeling,S$4+3,FALSE)*$F46,0) -> 0
B47: 5331 | C47: Styrehonorar | D47: 6 | E47: 603 | G47: 1 | H47: =IF($G47<>0,VLOOKUP($G47,Fordeling,H$4+3,FALSE)*$F47,0) -> 0 | I47: =IF($G47<>0,VLOOKUP($G47,Fordeling,I$4+3,FALSE)*$F47,0) -> 0 | J47: =IF($G47<>0,VLOOKUP($G47,Fordeling,J$4+3,FALSE)*$F47,0) -> 0 | K47: =IF($G47<>0,VLOOKUP($G47,Fordeling,K$4+3,FALSE)*$F47,0) -> 0 | L47: =IF($G47<>0,VLOOKUP($G47,Fordeling,L$4+3,FALSE)*$F47,0) -> 0 | M47: =IF($G47<>0,VLOOKUP($G47,Fordeling,M$4+3,FALSE)*$F47,0) -> 0 | N47: =IF($G47<>0,VLOOKUP($G47,Fordeling,N$4+3,FALSE)*$F47,0) -> 0 | O47: =IF($G47<>0,VLOOKUP($G47,Fordeling,O$4+3,FALSE)*$F47,0) -> 0 | ... S47: =IF($G47<>0,VLOOKUP($G47,Fordeling,S$4+3,FALSE)*$F47,0) -> 0
B48: 5390 | C48: Annen oppg.pl. godtgjørelse | D48: 6 | E48: 603 | G48: 1 | H48: =IF($G48<>0,VLOOKUP($G48,Fordeling,H$4+3,FALSE)*$F48,0) -> 0 | I48: =IF($G48<>0,VLOOKUP($G48,Fordeling,I$4+3,FALSE)*$F48,0) -> 0 | J48: =IF($G48<>0,VLOOKUP($G48,Fordeling,J$4+3,FALSE)*$F48,0) -> 0 | K48: =IF($G48<>0,VLOOKUP($G48,Fordeling,K$4+3,FALSE)*$F48,0) -> 0 | L48: =IF($G48<>0,VLOOKUP($G48,Fordeling,L$4+3,FALSE)*$F48,0) -> 0 | M48: =IF($G48<>0,VLOOKUP($G48,Fordeling,M$4+3,FALSE)*$F48,0) -> 0 | N48: =IF($G48<>0,VLOOKUP($G48,Fordeling,N$4+3,FALSE)*$F48,0) -> 0 | O48: =IF($G48<>0,VLOOKUP($G48,Fordeling,O$4+3,FALSE)*$F48,0) -> 0 | ... S48: =IF($G48<>0,VLOOKUP($G48,Fordeling,S$4+3,FALSE)*$F48,0) -> 0
... B94: 7420 | C94: Sosiale kostnader | D94: 6 | E94: 603 | G94: 1 | H94: =IF($G94<>0,VLOOKUP($G94,Fordeling,H$4+3,FALSE)*$F94,0) -> 0 | I94: =IF($G94<>0,VLOOKUP($G94,Fordeling,I$4+3,FALSE)*$F94,0) -> 0 | J94: =IF($G94<>0,VLOOKUP($G94,Fordeling,J$4+3,FALSE)*$F94,0) -> 0 | K94: =IF($G94<>0,VLOOKUP($G94,Fordeling,K$4+3,FALSE)*$F94,0) -> 0 | L94: =IF($G94<>0,VLOOKUP($G94,Fordeling,L$4+3,FALSE)*$F94,0) -> 0 | M94: =IF($G94<>0,VLOOKUP($G94,Fordeling,M$4+3,FALSE)*$F94,0) -> 0 | N94: =IF($G94<>0,VLOOKUP($G94,Fordeling,N$4+3,FALSE)*$F94,0) -> 0 | O94: =IF($G94<>0,VLOOKUP($G94,Fordeling,O$4+3,FALSE)*$F94,0) -> 0 | ... S94: =IF($G94<>0,VLOOKUP($G94,Fordeling,S$4+3,FALSE)*$F94,0) -> 0
B95: 7430 | C95: Gaver,premier | D95: 6 | E95: 603 | F95: 15000 | G95: 1 | H95: =IF($G95<>0,VLOOKUP($G95,Fordeling,H$4+3,FALSE)*$F95,0) -> 1250 | I95: =IF($G95<>0,VLOOKUP($G95,Fordeling,I$4+3,FALSE)*$F95,0) -> 1250 | J95: =IF($G95<>0,VLOOKUP($G95,Fordeling,J$4+3,FALSE)*$F95,0) -> 1250 | K95: =IF($G95<>0,VLOOKUP($G95,Fordeling,K$4+3,FALSE)*$F95,0) -> 1250 | L95: =IF($G95<>0,VLOOKUP($G95,Fordeling,L$4+3,FALSE)*$F95,0) -> 1250 | M95: =IF($G95<>0,VLOOKUP($G95,Fordeling,M$4+3,FALSE)*$F95,0) -> 1250 | N95: =IF($G95<>0,VLOOKUP($G95,Fordeling,N$4+3,FALSE)*$F95,0) -> 1250 | O95: =IF($G95<>0,VLOOKUP($G95,Fordeling,O$4+3,FALSE)*$F95,0) -> 1250 | ... S95: =IF($G95<>0,VLOOKUP($G95,Fordeling,S$4+3,FALSE)*$F95,0) -> 1250
B96: 7500 | C96: Forsikringspremie | D96: 6 | E96: 603 | G96: 1 | H96: =IF($G96<>0,VLOOKUP($G96,Fordeling,H$4+3,FALSE)*$F96,0) -> 0 | I96: =IF($G96<>0,VLOOKUP($G96,Fordeling,I$4+3,FALSE)*$F96,0) -> 0 | J96: =IF($G96<>0,VLOOKUP($G96,Fordeling,J$4+3,FALSE)*$F96,0) -> 0 | K96: =IF($G96<>0,VLOOKUP($G96,Fordeling,K$4+3,FALSE)*$F96,0) -> 0 | L96: =IF($G96<>0,VLOOKUP($G96,Fordeling,L$4+3,FALSE)*$F96,0) -> 0 | M96: =IF($G96<>0,VLOOKUP($G96,Fordeling,M$4+3,FALSE)*$F96,0) -> 0 | N96: =IF($G96<>0,VLOOKUP($G96,Fordeling,N$4+3,FALSE)*$F96,0) -> 0 | O96: =IF($G96<>0,VLOOKUP($G96,Fordeling,O$4+3,FALSE)*$F96,0) -> 0 | ... S96: =IF($G96<>0,VLOOKUP($G96,Fordeling,S$4+3,FALSE)*$F96,0) -> 0
B97: 7600 | C97: Lisenser/overganger | D97: 6 | E97: 603 | G97: 1 | H97: =IF($G97<>0,VLOOKUP($G97,Fordeling,H$4+3,FALSE)*$F97,0) -> 0 | I97: =IF($G97<>0,VLOOKUP($G97,Fordeling,I$4+3,FALSE)*$F97,0) -> 0 | J97: =IF($G97<>0,VLOOKUP($G97,Fordeling,J$4+3,FALSE)*$F97,0) -> 0 | K97: =IF($G97<>0,VLOOKUP($G97,Fordeling,K$4+3,FALSE)*$F97,0) -> 0 | L97: =IF($G97<>0,VLOOKUP($G97,Fordeling,L$4+3,FALSE)*$F97,0) -> 0 | M97: =IF($G97<>0,VLOOKUP($G97,Fordeling,M$4+3,FALSE)*$F97,0) -> 0 | N97: =IF($G97<>0,VLOOKUP($G97,Fordeling,N$4+3,FALSE)*$F97,0) -> 0 | O97: =IF($G97<>0,VLOOKUP($G97,Fordeling,O$4+3,FALSE)*$F97,0) -> 0 | ... S97: =IF($G97<>0,VLOOKUP($G97,Fordeling,S$4+3,FALSE)*$F97,0) -> 0
B98: 7770 | C98: Bank og kortgebyrer | D98: 6 | E98: 603 | G98: 1 | H98: =IF($G98<>0,VLOOKUP($G98,Fordeling,H$4+3,FALSE)*$F98,0) -> 0 | I98: =IF($G98<>0,VLOOKUP($G98,Fordeling,I$4+3,FALSE)*$F98,0) -> 0 | J98: =IF($G98<>0,VLOOKUP($G98,Fordeling,J$4+3,FALSE)*$F98,0) -> 0 | K98: =IF($G98<>0,VLOOKUP($G98,Fordeling,K$4+3,FALSE)*$F98,0) -> 0 | L98: =IF($G98<>0,VLOOKUP($G98,Fordeling,L$4+3,FALSE)*$F98,0) -> 0 | M98: =IF($G98<>0,VLOOKUP($G98,Fordeling,M$4+3,FALSE)*$F98,0) -> 0 | N98: =IF($G98<>0,VLOOKUP($G98,Fordeling,N$4+3,FALSE)*$F98,0) -> 0 | O98: =IF($G98<>0,VLOOKUP($G98,Fordeling,O$4+3,FALSE)*$F98,0) -> 0 | ... S98: =IF($G98<>0,VLOOKUP($G98,Fordeling,S$4+3,FALSE)*$F98,0) -> 0
B99: 7771 | C99: Øreavrunding | D99: 6 | E99: 603 | G99: 1 | H99: =IF($G99<>0,VLOOKUP($G99,Fordeling,H$4+3,FALSE)*$F99,0) -> 0 | I99: =IF($G99<>0,VLOOKUP($G99,Fordeling,I$4+3,FALSE)*$F99,0) -> 0 | J99: =IF($G99<>0,VLOOKUP($G99,Fordeling,J$4+3,FALSE)*$F99,0) -> 0 | K99: =IF($G99<>0,VLOOKUP($G99,Fordeling,K$4+3,FALSE)*$F99,0) -> 0 | L99: =IF($G99<>0,VLOOKUP($G99,Fordeling,L$4+3,FALSE)*$F99,0) -> 0 | M99: =IF($G99<>0,VLOOKUP($G99,Fordeling,M$4+3,FALSE)*$F99,0) -> 0 | N99: =IF($G99<>0,VLOOKUP($G99,Fordeling,N$4+3,FALSE)*$F99,0) -> 0 | O99: =IF($G99<>0,VLOOKUP($G99,Fordeling,O$4+3,FALSE)*$F99,0) -> 0 | ... S99: =IF($G99<>0,VLOOKUP($G99,Fordeling,S$4+3,FALSE)*$F99,0) -> 0
B100: 7798 | C100: Diverse kostnader | D100: 6 | E100: 603 | G100: 1 | H100: =IF($G100<>0,VLOOKUP($G100,Fordeling,H$4+3,FALSE)*$F100,0) -> 0 | I100: =IF($G100<>0,VLOOKUP($G100,Fordeling,I$4+3,FALSE)*$F100,0) -> 0 | J100: =IF($G100<>0,VLOOKUP($G100,Fordeling,J$4+3,FALSE)*$F100,0) -> 0 | K100: =IF($G100<>0,VLOOKUP($G100,Fordeling,K$4+3,FALSE)*$F100,0) -> 0 | L100: =IF($G100<>0,VLOOKUP($G100,Fordeling,L$4+3,FALSE)*$F100,0) -> 0 | M100: =IF($G100<>0,VLOOKUP($G100,Fordeling,M$4+3,FALSE)*$F100,0) -> 0 | N100: =IF($G100<>0,VLOOKUP($G100,Fordeling,N$4+3,FALSE)*$F100,0) -> 0 | O100: =IF($G100<>0,VLOOKUP($G100,Fordeling,O$4+3,FALSE)*$F100,0) -> 0 | ... S100: =IF($G100<>0,VLOOKUP($G100,Fordeling,S$4+3,FALSE)*$F100,0) -> 0
B101: 7830 | C101: Tap på fordringer | D101: 6 | E101: 603 | G101: 1 | H101: =IF($G101<>0,VLOOKUP($G101,Fordeling,H$4+3,FALSE)*$F101,0) -> 0 | I101: =IF($G101<>0,VLOOKUP($G101,Fordeling,I$4+3,FALSE)*$F101,0) -> 0 | J101: =IF($G101<>0,VLOOKUP($G101,Fordeling,J$4+3,FALSE)*$F101,0) -> 0 | K101: =IF($G101<>0,VLOOKUP($G101,Fordeling,K$4+3,FALSE)*$F101,0) -> 0 | L101: =IF($G101<>0,VLOOKUP($G101,Fordeling,L$4+3,FALSE)*$F101,0) -> 0 | M101: =IF($G101<>0,VLOOKUP($G101,Fordeling,M$4+3,FALSE)*$F101,0) -> 0 | N101: =IF($G101<>0,VLOOKUP($G101,Fordeling,N$4+3,FALSE)*$F101,0) -> 0 | O101: =IF($G101<>0,VLOOKUP($G101,Fordeling,O$4+3,FALSE)*$F101,0) -> 0 | ... S101: =IF($G101<>0,VLOOKUP($G101,Fordeling,S$4+3,FALSE)*$F101,0) -> 0
B102: 8040 | C102: Renteinntekter, bank | D102: 6 | E102: 603 | G102: 1 | H102: =IF($G102<>0,VLOOKUP($G102,Fordeling,H$4+3,FALSE)*$F102,0) -> 0 | I102: =IF($G102<>0,VLOOKUP($G102,Fordeling,I$4+3,FALSE)*$F102,0) -> 0 | J102: =IF($G102<>0,VLOOKUP($G102,Fordeling,J$4+3,FALSE)*$F102,0) -> 0 | K102: =IF($G102<>0,VLOOKUP($G102,Fordeling,K$4+3,FALSE)*$F102,0) -> 0 | L102: =IF($G102<>0,VLOOKUP($G102,Fordeling,L$4+3,FALSE)*$F102,0) -> 0 | M102: =IF($G102<>0,VLOOKUP($G102,Fordeling,M$4+3,FALSE)*$F102,0) -> 0 | N102: =IF($G102<>0,VLOOKUP($G102,Fordeling,N$4+3,FALSE)*$F102,0) -> 0 | O102: =IF($G102<>0,VLOOKUP($G102,Fordeling,O$4+3,FALSE)*$F102,0) -> 0 | ... S102: =IF($G102<>0,VLOOKUP($G102,Fordeling,S$4+3,FALSE)*$F102,0) -> 0
B103: 8055 | C103: Renteinntekter, kunder | D103: 6 | E103: 603 | G103: 1 | H103: =IF($G103<>0,VLOOKUP($G103,Fordeling,H$4+3,FALSE)*$F103,0) -> 0 | I103: =IF($G103<>0,VLOOKUP($G103,Fordeling,I$4+3,FALSE)*$F103,0) -> 0 | J103: =IF($G103<>0,VLOOKUP($G103,Fordeling,J$4+3,FALSE)*$F103,0) -> 0 | K103: =IF($G103<>0,VLOOKUP($G103,Fordeling,K$4+3,FALSE)*$F103,0) -> 0 | L103: =IF($G103<>0,VLOOKUP($G103,Fordeling,L$4+3,FALSE)*$F103,0) -> 0 | M103: =IF($G103<>0,VLOOKUP($G103,Fordeling,M$4+3,FALSE)*$F103,0) -> 0 | N103: =IF($G103<>0,VLOOKUP($G103,Fordeling,N$4+3,FALSE)*$F103,0) -> 0 | O103: =IF($G103<>0,VLOOKUP($G103,Fordeling,O$4+3,FALSE)*$F103,0) -> 0 | ... S103: =IF($G103<>0,VLOOKUP($G103,Fordeling,S$4+3,FALSE)*$F103,0) -> 0
B104: 8060 | C104: Agio | D104: 6 | E104: 603 | G104: 1 | H104: =IF($G104<>0,VLOOKUP($G104,Fordeling,H$4+3,FALSE)*$F104,0) -> 0 | I104: =IF($G104<>0,VLOOKUP($G104,Fordeling,I$4+3,FALSE)*$F104,0) -> 0 | J104: =IF($G104<>0,VLOOKUP($G104,Fordeling,J$4+3,FALSE)*$F104,0) -> 0 | K104: =IF($G104<>0,VLOOKUP($G104,Fordeling,K$4+3,FALSE)*$F104,0) -> 0 | L104: =IF($G104<>0,VLOOKUP($G104,Fordeling,L$4+3,FALSE)*$F104,0) -> 0 | M104: =IF($G104<>0,VLOOKUP($G104,Fordeling,M$4+3,FALSE)*$F104,0) -> 0 | N104: =IF($G104<>0,VLOOKUP($G104,Fordeling,N$4+3,FALSE)*$F104,0) -> 0 | O104: =IF($G104<>0,VLOOKUP($G104,Fordeling,O$4+3,FALSE)*$F104,0) -> 0 | ... S104: =IF($G104<>0,VLOOKUP($G104,Fordeling,S$4+3,FALSE)*$F104,0) -> 0
B105: 8140 | C105: Rente og term.kostn.banklån | D105: 6 | E105: 603 | G105: 1 | H105: =IF($G105<>0,VLOOKUP($G105,Fordeling,H$4+3,FALSE)*$F105,0) -> 0 | I105: =IF($G105<>0,VLOOKUP($G105,Fordeling,I$4+3,FALSE)*$F105,0) -> 0 | J105: =IF($G105<>0,VLOOKUP($G105,Fordeling,J$4+3,FALSE)*$F105,0) -> 0 | K105: =IF($G105<>0,VLOOKUP($G105,Fordeling,K$4+3,FALSE)*$F105,0) -> 0 | L105: =IF($G105<>0,VLOOKUP($G105,Fordeling,L$4+3,FALSE)*$F105,0) -> 0 | M105: =IF($G105<>0,VLOOKUP($G105,Fordeling,M$4+3,FALSE)*$F105,0) -> 0 | N105: =IF($G105<>0,VLOOKUP($G105,Fordeling,N$4+3,FALSE)*$F105,0) -> 0 | O105: =IF($G105<>0,VLOOKUP($G105,Fordeling,O$4+3,FALSE)*$F105,0) -> 0 | ... S105: =IF($G105<>0,VLOOKUP($G105,Fordeling,S$4+3,FALSE)*$F105,0) -> 0
B106: 8155 | C106: Rentekostnad leverandørgjeld | D106: 6 | E106: 603 | G106: 1 | H106: =IF($G106<>0,VLOOKUP($G106,Fordeling,H$4+3,FALSE)*$F106,0) -> 0 | I106: =IF($G106<>0,VLOOKUP($G106,Fordeling,I$4+3,FALSE)*$F106,0) -> 0 | J106: =IF($G106<>0,VLOOKUP($G106,Fordeling,J$4+3,FALSE)*$F106,0) -> 0 | K106: =IF($G106<>0,VLOOKUP($G106,Fordeling,K$4+3,FALSE)*$F106,0) -> 0 | L106: =IF($G106<>0,VLOOKUP($G106,Fordeling,L$4+3,FALSE)*$F106,0) -> 0 | M106: =IF($G106<>0,VLOOKUP($G106,Fordeling,M$4+3,FALSE)*$F106,0) -> 0 | N106: =IF($G106<>0,VLOOKUP($G106,Fordeling,N$4+3,FALSE)*$F106,0) -> 0 | O106: =IF($G106<>0,VLOOKUP($G106,Fordeling,O$4+3,FALSE)*$F106,0) -> 0 | ... S106: =IF($G106<>0,VLOOKUP($G106,Fordeling,S$4+3,FALSE)*$F106,0) -> 0
B107: 8160 | C107: Valutatap (disagio) | D107: 6 | E107: 603 | G107: 1 | H107: =IF($G107<>0,VLOOKUP($G107,Fordeling,H$4+3,FALSE)*$F107,0) -> 0 | I107: =IF($G107<>0,VLOOKUP($G107,Fordeling,I$4+3,FALSE)*$F107,0) -> 0 | J107: =IF($G107<>0,VLOOKUP($G107,Fordeling,J$4+3,FALSE)*$F107,0) -> 0 | K107: =IF($G107<>0,VLOOKUP($G107,Fordeling,K$4+3,FALSE)*$F107,0) -> 0 | L107: =IF($G107<>0,VLOOKUP($G107,Fordeling,L$4+3,FALSE)*$F107,0) -> 0 | M107: =IF($G107<>0,VLOOKUP($G107,Fordeling,M$4+3,FALSE)*$F107,0) -> 0 | N107: =IF($G107<>0,VLOOKUP($G107,Fordeling,N$4+3,FALSE)*$F107,0) -> 0 | O107: =IF($G107<>0,VLOOKUP($G107,Fordeling,O$4+3,FALSE)*$F107,0) -> 0 | ... S107: =IF($G107<>0,VLOOKUP($G107,Fordeling,S$4+3,FALSE)*$F107,0) -> 0
... B109: 8961 | C109: Overføring annen egenkapital | D109: 6 | E109: 603 | G109: 1 | H109: =IF($G109<>0,VLOOKUP($G109,Fordeling,H$4+3,FALSE)*$F109,0) -> 0 | I109: =IF($G109<>0,VLOOKUP($G109,Fordeling,I$4+3,FALSE)*$F109,0) -> 0 | J109: =IF($G109<>0,VLOOKUP($G109,Fordeling,J$4+3,FALSE)*$F109,0) -> 0 | K109: =IF($G109<>0,VLOOKUP($G109,Fordeling,K$4+3,FALSE)*$F109,0) -> 0 | L109: =IF($G109<>0,VLOOKUP($G109,Fordeling,L$4+3,FALSE)*$F109,0) -> 0 | M109: =IF($G109<>0,VLOOKUP($G109,Fordeling,M$4+3,FALSE)*$F109,0) -> 0 | N109: =IF($G109<>0,VLOOKUP($G109,Fordeling,N$4+3,FALSE)*$F109,0) -> 0 | O109: =IF($G109<>0,VLOOKUP($G109,Fordeling,O$4+3,FALSE)*$F109,0) -> 0 | ... S109: =IF($G109<>0,VLOOKUP($G109,Fordeling,S$4+3,FALSE)*$F109,0) -> 0

Sheet  Input 607 - Snøproduksjon
G2: LEGG INN TALL I FELTET "Totalt"
G3: TALLET VI FORDELE SEG LIKT UT I HVER MÅNED
D4: Navn på nytt prosjekt: | H4: 1 | I4: 2 | J4: 3 | K4: 4 | L4: 5 | M4: 6 | N4: 7 | O4: 8 | P4: 9 | Q4: 10 | R4: 11 | S4: 12 | T4: 12
B5: Kontonr | C5: Kontonavn | D5: Avdeling | E5: Prosjekt | F5: Totalt | G5: Fordeling | H5: Januar | I5: Februar | J5: Mars | K5: April | L5: Mai | M5: Juni | N5: Juli | O5: August | P5: September | Q5: Oktober | R5: November | S5: Desember | T5: Sum
B7: 3000 | C7: Salg, avgiftspliktig | D7: 6 | E7: Nytt nr | G7: 1 | H7: =IF($G7<>0,VLOOKUP($G7,Fordeling,H$4+3,FALSE)*$F7,0) -> 0 | I7: =IF($G7<>0,VLOOKUP($G7,Fordeling,I$4+3,FALSE)*$F7,0) -> 0 | J7: =IF($G7<>0,VLOOKUP($G7,Fordeling,J$4+3,FALSE)*$F7,0) -> 0 | K7: =IF($G7<>0,VLOOKUP($G7,Fordeling,K$4+3,FALSE)*$F7,0) -> 0 | L7: =IF($G7<>0,VLOOKUP($G7,Fordeling,L$4+3,FALSE)*$F7,0) -> 0 | M7: =IF($G7<>0,VLOOKUP($G7,Fordeling,M$4+3,FALSE)*$F7,0) -> 0 | N7: =IF($G7<>0,VLOOKUP($G7,Fordeling,N$4+3,FALSE)*$F7,0) -> 0 | O7: =IF($G7<>0,VLOOKUP($G7,Fordeling,O$4+3,FALSE)*$F7,0) -> 0 | ... S7: =IF($G7<>0,VLOOKUP($G7,Fordeling,S$4+3,FALSE)*$F7,0) -> 0
B8: 3010 | C8: Billettinntekter | D8: 6 | E8: Nytt nr | G8: 1 | H8: =IF($G8<>0,VLOOKUP($G8,Fordeling,H$4+3,FALSE)*$F8,0) -> 0 | I8: =IF($G8<>0,VLOOKUP($G8,Fordeling,I$4+3,FALSE)*$F8,0) -> 0 | J8: =IF($G8<>0,VLOOKUP($G8,Fordeling,J$4+3,FALSE)*$F8,0) -> 0 | K8: =IF($G8<>0,VLOOKUP($G8,Fordeling,K$4+3,FALSE)*$F8,0) -> 0 | L8: =IF($G8<>0,VLOOKUP($G8,Fordeling,L$4+3,FALSE)*$F8,0) -> 0 | M8: =IF($G8<>0,VLOOKUP($G8,Fordeling,M$4+3,FALSE)*$F8,0) -> 0 | N8: =IF($G8<>0,VLOOKUP($G8,Fordeling,N$4+3,FALSE)*$F8,0) -> 0 | O8: =IF($G8<>0,VLOOKUP($G8,Fordeling,O$4+3,FALSE)*$F8,0) -> 0 | ... S8: =IF($G8<>0,VLOOKUP($G8,Fordeling,S$4+3,FALSE)*$F8,0) -> 0
B9: 3020 | C9: Reklameinntekter avg.pliktig | D9: 6 | E9: Nytt nr | G9: 1 | H9: =IF($G9<>0,VLOOKUP($G9,Fordeling,H$4+3,FALSE)*$F9,0) -> 0 | I9: =IF($G9<>0,VLOOKUP($G9,Fordeling,I$4+3,FALSE)*$F9,0) -> 0 | J9: =IF($G9<>0,VLOOKUP($G9,Fordeling,J$4+3,FALSE)*$F9,0) -> 0 | K9: =IF($G9<>0,VLOOKUP($G9,Fordeling,K$4+3,FALSE)*$F9,0) -> 0 | L9: =IF($G9<>0,VLOOKUP($G9,Fordeling,L$4+3,FALSE)*$F9,0) -> 0 | M9: =IF($G9<>0,VLOOKUP($G9,Fordeling,M$4+3,FALSE)*$F9,0) -> 0 | N9: =IF($G9<>0,VLOOKUP($G9,Fordeling,N$4+3,FALSE)*$F9,0) -> 0 | O9: =IF($G9<>0,VLOOKUP($G9,Fordeling,O$4+3,FALSE)*$F9,0) -> 0 | ... S9: =IF($G9<>0,VLOOKUP($G9,Fordeling,S$4+3,FALSE)*$F9,0) -> 0
B10: 3030 | C10: Salg, avgiftspliktig middels sats | D10: 6 | E10: Nytt nr | G10: 1 | H10: =IF($G10<>0,VLOOKUP($G10,Fordeling,H$4+3,FALSE)*$F10,0) -> 0 | I10: =IF($G10<>0,VLOOKUP($G10,Fordeling,I$4+3,FALSE)*$F10,0) -> 0 | J10: =IF($G10<>0,VLOOKUP($G10,Fordeling,J$4+3,FALSE)*$F10,0) -> 0 | K10: =IF($G10<>0,VLOOKUP($G10,Fordeling,K$4+3,FALSE)*$F10,0) -> 0 | L10: =IF($G10<>0,VLOOKUP($G10,Fordeling,L$4+3,FALSE)*$F10,0) -> 0 | M10: =IF($G10<>0,VLOOKUP($G10,Fordeling,M$4+3,FALSE)*$F10,0) -> 0 | N10: =IF($G10<>0,VLOOKUP($G10,Fordeling,N$4+3,FALSE)*$F10,0) -> 0 | O10: =IF($G10<>0,VLOOKUP($G10,Fordeling,O$4+3,FALSE)*$F10,0) -> 0 | ... S10: =IF($G10<>0,VLOOKUP($G10,Fordeling,S$4+3,FALSE)*$F10,0) -> 0
B11: 3050 | C11: Salg, avgiftspliktig lav sats | D11: 6 | E11: Nytt nr | G11: 1 | H11: =IF($G11<>0,VLOOKUP($G11,Fordeling,H$4+3,FALSE)*$F11,0) -> 0 | I11: =IF($G11<>0,VLOOKUP($G11,Fordeling,I$4+3,FALSE)*$F11,0) -> 0 | J11: =IF($G11<>0,VLOOKUP($G11,Fordeling,J$4+3,FALSE)*$F11,0) -> 0 | K11: =IF($G11<>0,VLOOKUP($G11,Fordeling,K$4+3,FALSE)*$F11,0) -> 0 | L11: =IF($G11<>0,VLOOKUP($G11,Fordeling,L$4+3,FALSE)*$F11,0) -> 0 | M11: =IF($G11<>0,VLOOKUP($G11,Fordeling,M$4+3,FALSE)*$F11,0) -> 0 | N11: =IF($G11<>0,VLOOKUP($G11,Fordeling,N$4+3,FALSE)*$F11,0) -> 0 | O11: =IF($G11<>0,VLOOKUP($G11,Fordeling,O$4+3,FALSE)*$F11,0) -> 0 | ... S11: =IF($G11<>0,VLOOKUP($G11,Fordeling,S$4+3,FALSE)*$F11,0) -> 0
B12: 3081 | C12: Kontantrabatter, avgiftspliktige | D12: 6 | E12: Nytt nr | G12: 1 | H12: =IF($G12<>0,VLOOKUP($G12,Fordeling,H$4+3,FALSE)*$F12,0) -> 0 | I12: =IF($G12<>0,VLOOKUP($G12,Fordeling,I$4+3,FALSE)*$F12,0) -> 0 | J12: =IF($G12<>0,VLOOKUP($G12,Fordeling,J$4+3,FALSE)*$F12,0) -> 0 | K12: =IF($G12<>0,VLOOKUP($G12,Fordeling,K$4+3,FALSE)*$F12,0) -> 0 | L12: =IF($G12<>0,VLOOKUP($G12,Fordeling,L$4+3,FALSE)*$F12,0) -> 0 | M12: =IF($G12<>0,VLOOKUP($G12,Fordeling,M$4+3,FALSE)*$F12,0) -> 0 | N12: =IF($G12<>0,VLOOKUP($G12,Fordeling,N$4+3,FALSE)*$F12,0) -> 0 | O12: =IF($G12<>0,VLOOKUP($G12,Fordeling,O$4+3,FALSE)*$F12,0) -> 0 | ... S12: =IF($G12<>0,VLOOKUP($G12,Fordeling,S$4+3,FALSE)*$F12,0) -> 0
B13: 3100 | C13: Salg, avgiftsfritt | D13: 6 | E13: Nytt nr | G13: 1 | H13: =IF($G13<>0,VLOOKUP($G13,Fordeling,H$4+3,FALSE)*$F13,0) -> 0 | I13: =IF($G13<>0,VLOOKUP($G13,Fordeling,I$4+3,FALSE)*$F13,0) -> 0 | J13: =IF($G13<>0,VLOOKUP($G13,Fordeling,J$4+3,FALSE)*$F13,0) -> 0 | K13: =IF($G13<>0,VLOOKUP($G13,Fordeling,K$4+3,FALSE)*$F13,0) -> 0 | L13: =IF($G13<>0,VLOOKUP($G13,Fordeling,L$4+3,FALSE)*$F13,0) -> 0 | M13: =IF($G13<>0,VLOOKUP($G13,Fordeling,M$4+3,FALSE)*$F13,0) -> 0 | N13: =IF($G13<>0,VLOOKUP($G13,Fordeling,N$4+3,FALSE)*$F13,0) -> 0 | O13: =IF($G13<>0,VLOOKUP($G13,Fordeling,O$4+3,FALSE)*$F13,0) -> 0 | ... S13: =IF($G13<>0,VLOOKUP($G13,Fordeling,S$4+3,FALSE)*$F13,0) -> 0
B14: 3120 | C14: Reklameinntekter avg.fritt | D14: 6 | E14: Nytt nr | G14: 1 | H14: =IF($G14<>0,VLOOKUP($G14,Fordeling,H$4+3,FALSE)*$F14,0) -> 0 | I14: =IF($G14<>0,VLOOKUP($G14,Fordeling,I$4+3,FALSE)*$F14,0) -> 0 | J14: =IF($G14<>0,VLOOKUP($G14,Fordeling,J$4+3,FALSE)*$F14,0) -> 0 | K14: =IF($G14<>0,VLOOKUP($G14,Fordeling,K$4+3,FALSE)*$F14,0) -> 0 | L14: =IF($G14<>0,VLOOKUP($G14,Fordeling,L$4+3,FALSE)*$F14,0) -> 0 | M14: =IF($G14<>0,VLOOKUP($G14,Fordeling,M$4+3,FALSE)*$F14,0) -> 0 | N14: =IF($G14<>0,VLOOKUP($G14,Fordeling,N$4+3,FALSE)*$F14,0) -> 0 | O14: =IF($G14<>0,VLOOKUP($G14,Fordeling,O$4+3,FALSE)*$F14,0) -> 0 | ... S14: =IF($G14<>0,VLOOKUP($G14,Fordeling,S$4+3,FALSE)*$F14,0) -> 0
B15: 3181 | C15: Kontantrabatter, avg.fri. | D15: 6 | E15: Nytt nr | G15: 1 | H15: =IF($G15<>0,VLOOKUP($G15,Fordeling,H$4+3,FALSE)*$F15,0) -> 0 | I15: =IF($G15<>0,VLOOKUP($G15,Fordeling,I$4+3,FALSE)*$F15,0) -> 0 | J15: =IF($G15<>0,VLOOKUP($G15,Fordeling,J$4+3,FALSE)*$F15,0) -> 0 | K15: =IF($G15<>0,VLOOKUP($G15,Fordeling,K$4+3,FALSE)*$F15,0) -> 0 | L15: =IF($G15<>0,VLOOKUP($G15,Fordeling,L$4+3,FALSE)*$F15,0) -> 0 | M15: =IF($G15<>0,VLOOKUP($G15,Fordeling,M$4+3,FALSE)*$F15,0) -> 0 | N15: =IF($G15<>0,VLOOKUP($G15,Fordeling,N$4+3,FALSE)*$F15,0) -> 0 | O15: =IF($G15<>0,VLOOKUP($G15,Fordeling,O$4+3,FALSE)*$F15,0) -> 0 | ... S15: =IF($G15<>0,VLOOKUP($G15,Fordeling,S$4+3,FALSE)*$F15,0) -> 0
B16: 3200 | C16: Salg utenfor avgiftsområdet | D16: 6 | E16: Nytt nr | G16: 1 | H16: =IF($G16<>0,VLOOKUP($G16,Fordeling,H$4+3,FALSE)*$F16,0) -> 0 | I16: =IF($G16<>0,VLOOKUP($G16,Fordeling,I$4+3,FALSE)*$F16,0) -> 0 | J16: =IF($G16<>0,VLOOKUP($G16,Fordeling,J$4+3,FALSE)*$F16,0) -> 0 | K16: =IF($G16<>0,VLOOKUP($G16,Fordeling,K$4+3,FALSE)*$F16,0) -> 0 | L16: =IF($G16<>0,VLOOKUP($G16,Fordeling,L$4+3,FALSE)*$F16,0) -> 0 | M16: =IF($G16<>0,VLOOKUP($G16,Fordeling,M$4+3,FALSE)*$F16,0) -> 0 | N16: =IF($G16<>0,VLOOKUP($G16,Fordeling,N$4+3,FALSE)*$F16,0) -> 0 | O16: =IF($G16<>0,VLOOKUP($G16,Fordeling,O$4+3,FALSE)*$F16,0) -> 0 | ... S16: =IF($G16<>0,VLOOKUP($G16,Fordeling,S$4+3,FALSE)*$F16,0) -> 0
B17: 3210 | C17: Inntekt deltakeravgift | D17: 6 | E17: Nytt nr | G17: 1 | H17: =IF($G17<>0,VLOOKUP($G17,Fordeling,H$4+3,FALSE)*$F17,0) -> 0 | I17: =IF($G17<>0,VLOOKUP($G17,Fordeling,I$4+3,FALSE)*$F17,0) -> 0 | J17: =IF($G17<>0,VLOOKUP($G17,Fordeling,J$4+3,FALSE)*$F17,0) -> 0 | K17: =IF($G17<>0,VLOOKUP($G17,Fordeling,K$4+3,FALSE)*$F17,0) -> 0 | L17: =IF($G17<>0,VLOOKUP($G17,Fordeling,L$4+3,FALSE)*$F17,0) -> 0 | M17: =IF($G17<>0,VLOOKUP($G17,Fordeling,M$4+3,FALSE)*$F17,0) -> 0 | N17: =IF($G17<>0,VLOOKUP($G17,Fordeling,N$4+3,FALSE)*$F17,0) -> 0 | O17: =IF($G17<>0,VLOOKUP($G17,Fordeling,O$4+3,FALSE)*$F17,0) -> 0 | ... S17: =IF($G17<>0,VLOOKUP($G17,Fordeling,S$4+3,FALSE)*$F17,0) -> 0
B18: 3400 | C18: Offentlig tilskudd/refusjon | D18: 6 | E18: Nytt nr | G18: 1 | H18: =IF($G18<>0,VLOOKUP($G18,Fordeling,H$4+3,FALSE)*$F18,0) -> 0 | I18: =IF($G18<>0,VLOOKUP($G18,Fordeling,I$4+3,FALSE)*$F18,0) -> 0 | J18: =IF($G18<>0,VLOOKUP($G18,Fordeling,J$4+3,FALSE)*$F18,0) -> 0 | K18: =IF($G18<>0,VLOOKUP($G18,Fordeling,K$4+3,FALSE)*$F18,0) -> 0 | L18: =IF($G18<>0,VLOOKUP($G18,Fordeling,L$4+3,FALSE)*$F18,0) -> 0 | M18: =IF($G18<>0,VLOOKUP($G18,Fordeling,M$4+3,FALSE)*$F18,0) -> 0 | N18: =IF($G18<>0,VLOOKUP($G18,Fordeling,N$4+3,FALSE)*$F18,0) -> 0 | O18: =IF($G18<>0,VLOOKUP($G18,Fordeling,O$4+3,FALSE)*$F18,0) -> 0 | ... S18: =IF($G18<>0,VLOOKUP($G18,Fordeling,S$4+3,FALSE)*$F18,0) -> 0
... B56: 6320 | C56: Renovasjonskostnader | D56: 6 | E56: Nytt nr | G56: 1 | H56: =IF($G56<>0,VLOOKUP($G56,Fordeling,H$4+3,FALSE)*$F56,0) -> 0 | I56: =IF($G56<>0,VLOOKUP($G56,Fordeling,I$4+3,FALSE)*$F56,0) -> 0 | J56: =IF($G56<>0,VLOOKUP($G56,Fordeling,J$4+3,FALSE)*$F56,0) -> 0 | K56: =IF($G56<>0,VLOOKUP($G56,Fordeling,K$4+3,FALSE)*$F56,0) -> 0 | L56: =IF($G56<>0,VLOOKUP($G56,Fordeling,L$4+3,FALSE)*$F56,0) -> 0 | M56: =IF($G56<>0,VLOOKUP($G56,Fordeling,M$4+3,FALSE)*$F56,0) -> 0 | N56: =IF($G56<>0,VLOOKUP($G56,Fordeling,N$4+3,FALSE)*$F56,0) -> 0 | O56: =IF($G56<>0,VLOOKUP($G56,Fordeling,O$4+3,FALSE)*$F56,0) -> 0 | ... S56: =IF($G56<>0,VLOOKUP($G56,Fordeling,S$4+3,FALSE)*$F56,0) -> 0
B57: 6321 | C57: Kommunale eiendomsavgifter | D57: 6 | E57: Nytt nr | F57: 40000 | G57: 1 | H57: =IF($G57<>0,VLOOKUP($G57,Fordeling,H$4+3,FALSE)*$F57,0) -> 3333.3333 | I57: =IF($G57<>0,VLOOKUP($G57,Fordeling,I$4+3,FALSE)*$F57,0) -> 3333.3333 | J57: =IF($G57<>0,VLOOKUP($G57,Fordeling,J$4+3,FALSE)*$F57,0) -> 3333.3333 | K57: =IF($G57<>0,VLOOKUP($G57,Fordeling,K$4+3,FALSE)*$F57,0) -> 3333.3333 | L57: =IF($G57<>0,VLOOKUP($G57,Fordeling,L$4+3,FALSE)*$F57,0) -> 3333.3333 | M57: =IF($G57<>0,VLOOKUP($G57,Fordeling,M$4+3,FALSE)*$F57,0) -> 3333.3333 | N57: =IF($G57<>0,VLOOKUP($G57,Fordeling,N$4+3,FALSE)*$F57,0) -> 3333.3333 | O57: =IF($G57<>0,VLOOKUP($G57,Fordeling,O$4+3,FALSE)*$F57,0) -> 3333.3333 | ... S57: =IF($G57<>0,VLOOKUP($G57,Fordeling,S$4+3,FALSE)*$F57,0) -> 3333.3333
B58: 6340 | C58: Strøm og varme | D58: 6 | E58: Nytt nr | F58: 45000 | G58: 1 | H58: =IF($G58<>0,VLOOKUP($G58,Fordeling,H$4+3,FALSE)*$F58,0) -> 3750 | I58: =IF($G58<>0,VLOOKUP($G58,Fordeling,I$4+3,FALSE)*$F58,0) -> 3750 | J58: =IF($G58<>0,VLOOKUP($G58,Fordeling,J$4+3,FALSE)*$F58,0) -> 3750 | K58: =IF($G58<>0,VLOOKUP($G58,Fordeling,K$4+3,FALSE)*$F58,0) -> 3750 | L58: =IF($G58<>0,VLOOKUP($G58,Fordeling,L$4+3,FALSE)*$F58,0) -> 3750 | M58: =IF($G58<>0,VLOOKUP($G58,Fordeling,M$4+3,FALSE)*$F58,0) -> 3750 | N58: =IF($G58<>0,VLOOKUP($G58,Fordeling,N$4+3,FALSE)*$F58,0) -> 3750 | O58: =IF($G58<>0,VLOOKUP($G58,Fordeling,O$4+3,FALSE)*$F58,0) -> 3750 | ... S58: =IF($G58<>0,VLOOKUP($G58,Fordeling,S$4+3,FALSE)*$F58,0) -> 3750
B59: 6360 | C59: Renholdskostnader | D59: 6 | E59: Nytt nr | G59: 1 | H59: =IF($G59<>0,VLOOKUP($G59,Fordeling,H$4+3,FALSE)*$F59,0) -> 0 | I59: =IF($G59<>0,VLOOKUP($G59,Fordeling,I$4+3,FALSE)*$F59,0) -> 0 | J59: =IF($G59<>0,VLOOKUP($G59,Fordeling,J$4+3,FALSE)*$F59,0) -> 0 | K59: =IF($G59<>0,VLOOKUP($G59,Fordeling,K$4+3,FALSE)*$F59,0) -> 0 | L59: =IF($G59<>0,VLOOKUP($G59,Fordeling,L$4+3,FALSE)*$F59,0) -> 0 | M59: =IF($G59<>0,VLOOKUP($G59,Fordeling,M$4+3,FALSE)*$F59,0) -> 0 | N59: =IF($G59<>0,VLOOKUP($G59,Fordeling,N$4+3,FALSE)*$F59,0) -> 0 | O59: =IF($G59<>0,VLOOKUP($G59,Fordeling,O$4+3,FALSE)*$F59,0) -> 0 | ... S59: =IF($G59<>0,VLOOKUP($G59,Fordeling,S$4+3,FALSE)*$F59,0) -> 0
B60: 6390 | C60: Annen kostnad lokaler | D60: 6 | E60: Nytt nr | G60: 1 | H60: =IF($G60<>0,VLOOKUP($G60,Fordeling,H$4+3,FALSE)*$F60,0) -> 0 | I60: =IF($G60<>0,VLOOKUP($G60,Fordeling,I$4+3,FALSE)*$F60,0) -> 0 | J60: =IF($G60<>0,VLOOKUP($G60,Fordeling,J$4+3,FALSE)*$F60,0) -> 0 | K60: =IF($G60<>0,VLOOKUP($G60,Fordeling,K$4+3,FALSE)*$F60,0) -> 0 | L60: =IF($G60<>0,VLOOKUP($G60,Fordeling,L$4+3,FALSE)*$F60,0) -> 0 | M60: =IF($G60<>0,VLOOKUP($G60,Fordeling,M$4+3,FALSE)*$F60,0) -> 0 | N60: =IF($G60<>0,VLOOKUP($G60,Fordeling,N$4+3,FALSE)*$F60,0) -> 0 | O60: =IF($G60<>0,VLOOKUP($G60,Fordeling,O$4+3,FALSE)*$F60,0) -> 0 | ... S60: =IF($G60<>0,VLOOKUP($G60,Fordeling,S$4+3,FALSE)*$F60,0) -> 0
B61: 6410 | C61: Leie inventar | D61: 6 | E61: Nytt nr | G61: 1 | H61: =IF($G61<>0,VLOOKUP($G61,Fordeling,H$4+3,FALSE)*$F61,0) -> 0 | I61: =IF($G61<>0,VLOOKUP($G61,Fordeling,I$4+3,FALSE)*$F61,0) -> 0 | J61: =IF($G61<>0,VLOOKUP($G61,Fordeling,J$4+3,FALSE)*$F61,0) -> 0 | K61: =IF($G61<>0,VLOOKUP($G61,Fordeling,K$4+3,FALSE)*$F61,0) -> 0 | L61: =IF($G61<>0,VLOOKUP($G61,Fordeling,L$4+3,FALSE)*$F61,0) -> 0 | M61: =IF($G61<>0,VLOOKUP($G61,Fordeling,M$4+3,FALSE)*$F61,0) -> 0 | N61: =IF($G61<>0,VLOOKUP($G61,Fordeling,N$4+3,FALSE)*$F61,0) -> 0 | O61: =IF($G61<>0,VLOOKUP($G61,Fordeling,O$4+3,FALSE)*$F61,0) -> 0 | ... S61: =IF($G61<>0,VLOOKUP($G61,Fordeling,S$4+3,FALSE)*$F61,0) -> 0
B62: 6440 | C62: Leie transportmidler | D62: 6 | E62: Nytt nr | F62: 15000 | G62: 1 | H62: =IF($G62<>0,VLOOKUP($G62,Fordeling,H$4+3,FALSE)*$F62,0) -> 1250 | I62: =IF($G62<>0,VLOOKUP($G62,Fordeling,I$4+3,FALSE)*$F62,0) -> 1250 | J62: =IF($G62<>0,VLOOKUP($G62,Fordeling,J$4+3,FALSE)*$F62,0) -> 1250 | K62: =IF($G62<>0,VLOOKUP($G62,Fordeling,K$4+3,FALSE)*$F62,0) -> 1250 | L62: =IF($G62<>0,VLOOKUP($G62,Fordeling,L$4+3,FALSE)*$F62,0) -> 1250 | M62: =IF($G62<>0,VLOOKUP($G62,Fordeling,M$4+3,FALSE)*$F62,0) -> 1250 | N62: =IF($G62<>0,VLOOKUP($G62,Fordeling,N$4+3,FALSE)*$F62,0) -> 1250 | O62: =IF($G62<>0,VLOOKUP($G62,Fordeling,O$4+3,FALSE)*$F62,0) -> 1250 | ... S62: =IF($G62<>0,VLOOKUP($G62,Fordeling,S$4+3,FALSE)*$F62,0) -> 1250
B63: 6510 | C63: Driftsmateriale | D63: 6 | E63: Nytt nr | G63: 1 | H63: =IF($G63<>0,VLOOKUP($G63,Fordeling,H$4+3,FALSE)*$F63,0) -> 0 | I63: =IF($G63<>0,VLOOKUP($G63,Fordeling,I$4+3,FALSE)*$F63,0) -> 0 | J63: =IF($G63<>0,VLOOKUP($G63,Fordeling,J$4+3,FALSE)*$F63,0) -> 0 | K63: =IF($G63<>0,VLOOKUP($G63,Fordeling,K$4+3,FALSE)*$F63,0) -> 0 | L63: =IF($G63<>0,VLOOKUP($G63,Fordeling,L$4+3,FALSE)*$F63,0) -> 0 | M63: =IF($G63<>0,VLOOKUP($G63,Fordeling,M$4+3,FALSE)*$F63,0) -> 0 | N63: =IF($G63<>0,VLOOKUP($G63,Fordeling,N$4+3,FALSE)*$F63,0) -> 0 | O63: =IF($G63<>0,VLOOKUP($G63,Fordeling,O$4+3,FALSE)*$F63,0) -> 0 | ... S63: =IF($G63<>0,VLOOKUP($G63,Fordeling,S$4+3,FALSE)*$F63,0) -> 0
B64: 6540 | C64: Inventar | D64: 6 | E64: Nytt nr | G64: 1 | H64: =IF($G64<>0,VLOOKUP($G64,Fordeling,H$4+3,FALSE)*$F64,0) -> 0 | I64: =IF($G64<>0,VLOOKUP($G64,Fordeling,I$4+3,FALSE)*$F64,0) -> 0 | J64: =IF($G64<>0,VLOOKUP($G64,Fordeling,J$4+3,FALSE)*$F64,0) -> 0 | K64: =IF($G64<>0,VLOOKUP($G64,Fordeling,K$4+3,FALSE)*$F64,0) -> 0 | L64: =IF($G64<>0,VLOOKUP($G64,Fordeling,L$4+3,FALSE)*$F64,0) -> 0 | M64: =IF($G64<>0,VLOOKUP($G64,Fordeling,M$4+3,FALSE)*$F64,0) -> 0 | N64: =IF($G64<>0,VLOOKUP($G64,Fordeling,N$4+3,FALSE)*$F64,0) -> 0 | O64: =IF($G64<>0,VLOOKUP($G64,Fordeling,O$4+3,FALSE)*$F64,0) -> 0 | ... S64: =IF($G64<>0,VLOOKUP($G64,Fordeling,S$4+3,FALSE)*$F64,0) -> 0
B65: 6552 | C65: Programvareanskaffelser | D65: 6 | E65: Nytt nr | G65: 1 | H65: =IF($G65<>0,VLOOKUP($G65,Fordeling,H$4+3,FALSE)*$F65,0) -> 0 | I65: =IF($G65<>0,VLOOKUP($G65,Fordeling,I$4+3,FALSE)*$F65,0) -> 0 | J65: =IF($G65<>0,VLOOKUP($G65,Fordeling,J$4+3,FALSE)*$F65,0) -> 0 | K65: =IF($G65<>0,VLOOKUP($G65,Fordeling,K$4+3,FALSE)*$F65,0) -> 0 | L65: =IF($G65<>0,VLOOKUP($G65,Fordeling,L$4+3,FALSE)*$F65,0) -> 0 | M65: =IF($G65<>0,VLOOKUP($G65,Fordeling,M$4+3,FALSE)*$F65,0) -> 0 | N65: =IF($G65<>0,VLOOKUP($G65,Fordeling,N$4+3,FALSE)*$F65,0) -> 0 | O65: =IF($G65<>0,VLOOKUP($G65,Fordeling,O$4+3,FALSE)*$F65,0) -> 0 | ... S65: =IF($G65<>0,VLOOKUP($G65,Fordeling,S$4+3,FALSE)*$F65,0) -> 0
B66: 6560 | C66: Idrettsutstyr | D66: 6 | E66: Nytt nr | G66: 1 | H66: =IF($G66<>0,VLOOKUP($G66,Fordeling,H$4+3,FALSE)*$F66,0) -> 0 | I66: =IF($G66<>0,VLOOKUP($G66,Fordeling,I$4+3,FALSE)*$F66,0) -> 0 | J66: =IF($G66<>0,VLOOKUP($G66,Fordeling,J$4+3,FALSE)*$F66,0) -> 0 | K66: =IF($G66<>0,VLOOKUP($G66,Fordeling,K$4+3,FALSE)*$F66,0) -> 0 | L66: =IF($G66<>0,VLOOKUP($G66,Fordeling,L$4+3,FALSE)*$F66,0) -> 0 | M66: =IF($G66<>0,VLOOKUP($G66,Fordeling,M$4+3,FALSE)*$F66,0) -> 0 | N66: =IF($G66<>0,VLOOKUP($G66,Fordeling,N$4+3,FALSE)*$F66,0) -> 0 | O66: =IF($G66<>0,VLOOKUP($G66,Fordeling,O$4+3,FALSE)*$F66,0) -> 0 | ... S66: =IF($G66<>0,VLOOKUP($G66,Fordeling,S$4+3,FALSE)*$F66,0) -> 0
B67: 6600 | C67: Rep. og vedlikehold klubbhus | D67: 6 | E67: Nytt nr | G67: 1 | H67: =IF($G67<>0,VLOOKUP($G67,Fordeling,H$4+3,FALSE)*$F67,0) -> 0 | I67: =IF($G67<>0,VLOOKUP($G67,Fordeling,I$4+3,FALSE)*$F67,0) -> 0 | J67: =IF($G67<>0,VLOOKUP($G67,Fordeling,J$4+3,FALSE)*$F67,0) -> 0 | K67: =IF($G67<>0,VLOOKUP($G67,Fordeling,K$4+3,FALSE)*$F67,0) -> 0 | L67: =IF($G67<>0,VLOOKUP($G67,Fordeling,L$4+3,FALSE)*$F67,0) -> 0 | M67: =IF($G67<>0,VLOOKUP($G67,Fordeling,M$4+3,FALSE)*$F67,0) -> 0 | N67: =IF($G67<>0,VLOOKUP($G67,Fordeling,N$4+3,FALSE)*$F67,0) -> 0 | O67: =IF($G67<>0,VLOOKUP($G67,Fordeling,O$4+3,FALSE)*$F67,0) -> 0 | ... S67: =IF($G67<>0,VLOOKUP($G67,Fordeling,S$4+3,FALSE)*$F67,0) -> 0
B68: 6610 | C68: Rep. og vedlikehold baneanlegg | D68: 6 | E68: Nytt nr | G68: 1 | H68: =IF($G68<>0,VLOOKUP($G68,Fordeling,H$4+3,FALSE)*$F68,0) -> 0 | I68: =IF($G68<>0,VLOOKUP($G68,Fordeling,I$4+3,FALSE)*$F68,0) -> 0 | J68: =IF($G68<>0,VLOOKUP($G68,Fordeling,J$4+3,FALSE)*$F68,0) -> 0 | K68: =IF($G68<>0,VLOOKUP($G68,Fordeling,K$4+3,FALSE)*$F68,0) -> 0 | L68: =IF($G68<>0,VLOOKUP($G68,Fordeling,L$4+3,FALSE)*$F68,0) -> 0 | M68: =IF($G68<>0,VLOOKUP($G68,Fordeling,M$4+3,FALSE)*$F68,0) -> 0 | N68: =IF($G68<>0,VLOOKUP($G68,Fordeling,N$4+3,FALSE)*$F68,0) -> 0 | O68: =IF($G68<>0,VLOOKUP($G68,Fordeling,O$4+3,FALSE)*$F68,0) -> 0 | ... S68: =IF($G68<>0,VLOOKUP($G68,Fordeling,S$4+3,FALSE)*$F68,0) -> 0
B69: 6611 | C69: Riving lysløype/hoppbakke | D69: 6 | E69: Nytt nr | G69: 1 | H69: =IF($G69<>0,VLOOKUP($G69,Fordeling,H$4+3,FALSE)*$F69,0) -> 0 | I69: =IF($G69<>0,VLOOKUP($G69,Fordeling,I$4+3,FALSE)*$F69,0) -> 0 | J69: =IF($G69<>0,VLOOKUP($G69,Fordeling,J$4+3,FALSE)*$F69,0) -> 0 | K69: =IF($G69<>0,VLOOKUP($G69,Fordeling,K$4+3,FALSE)*$F69,0) -> 0 | L69: =IF($G69<>0,VLOOKUP($G69,Fordeling,L$4+3,FALSE)*$F69,0) -> 0 | M69: =IF($G69<>0,VLOOKUP($G69,Fordeling,M$4+3,FALSE)*$F69,0) -> 0 | N69: =IF($G69<>0,VLOOKUP($G69,Fordeling,N$4+3,FALSE)*$F69,0) -> 0 | O69: =IF($G69<>0,VLOOKUP($G69,Fordeling,O$4+3,FALSE)*$F69,0) -> 0 | ... S69: =IF($G69<>0,VLOOKUP($G69,Fordeling,S$4+3,FALSE)*$F69,0) -> 0
B70: 6620 | C70: Rep. og vedlikehold utstyr | D70: 6 | E70: Nytt nr | F70: 5000 | G70: 1 | H70: =IF($G70<>0,VLOOKUP($G70,Fordeling,H$4+3,FALSE)*$F70,0) -> 416.66667 | I70: =IF($G70<>0,VLOOKUP($G70,Fordeling,I$4+3,FALSE)*$F70,0) -> 416.66667 | J70: =IF($G70<>0,VLOOKUP($G70,Fordeling,J$4+3,FALSE)*$F70,0) -> 416.66667 | K70: =IF($G70<>0,VLOOKUP($G70,Fordeling,K$4+3,FALSE)*$F70,0) -> 416.66667 | L70: =IF($G70<>0,VLOOKUP($G70,Fordeling,L$4+3,FALSE)*$F70,0) -> 416.66667 | M70: =IF($G70<>0,VLOOKUP($G70,Fordeling,M$4+3,FALSE)*$F70,0) -> 416.66667 | N70: =IF($G70<>0,VLOOKUP($G70,Fordeling,N$4+3,FALSE)*$F70,0) -> 416.66667 | O70: =IF($G70<>0,VLOOKUP($G70,Fordeling,O$4+3,FALSE)*$F70,0) -> 416.66667 | ... S70: =IF($G70<>0,VLOOKUP($G70,Fordeling,S$4+3,FALSE)*$F70,0) -> 416.66667
